{"text_format":"3","workbook":"xlsx","n_sheets":28,"sheets":["Terugvordering reiskosten OAH","Blad23","Blad1","Blad2","Blad3","Blad4","Blad5","Blad6","Blad7","Blad8","Blad9","Blad10","Blad11","Blad12","Blad13","Blad14","Blad15","Blad16","Blad17","Blad18","Blad19","Blad20","Blad21","Blad22","gegevensblad samenvatting vord.","gegevensblad detail terugvord.","instellingsgegevens","km-vergoeding"],"not_rendered":{"images":1,"defined_names":1,"comments":1},"read":"whole","date_system":"1900"}

{"sheet":"Terugvordering reiskosten OAH","index":0,"n_rows":390,"n_cols":111,"rows_kept":390,"merged":[[300,69,300,76],[300,77,300,83],[300,84,300,89],[300,90,300,95],[300,96,300,101],[301,3,301,6],[302,3,302,6],[302,7,302,16],[302,17,302,22],[302,23,302,34],[302,35,302,42],[302,43,302,49],[302,50,302,53],[302,54,302,61],[302,62,302,68],[302,69,302,76],[302,77,302,83],[302,84,302,89],[302,90,302,95],[302,96,302,101],[303,3,303,6],[303,7,303,16],[303,17,303,22],[303,23,303,34],[303,35,303,42],[303,43,303,49],[303,50,303,53],[303,54,303,61],[303,62,303,68],[303,69,303,76],[303,77,303,83],[303,84,303,89],[303,90,303,95],[303,96,303,101],[304,3,304,6],[304,7,304,16],[304,17,304,22],[304,23,304,34],[304,35,304,42],[304,43,304,49],[304,50,304,53],[304,54,304,61],[304,62,304,68],[304,69,304,76],[304,77,304,83],[304,84,304,89],[304,90,304,95],[304,96,304,101],[305,3,305,6],[305,7,305,16],[305,17,305,22],[305,23,305,34],[305,35,305,42],[305,43,305,49],[305,50,305,53],[305,54,305,61],[305,62,305,68],[305,69,305,76],[305,77,305,83],[305,84,305,89],[305,90,305,95],[305,96,305,101],[306,3,306,6],[306,7,306,16],[306,17,306,22],[306,23,306,34],[306,35,306,42],[306,43,306,49],[306,50,306,53],[306,54,306,61],[306,62,306,68],[306,69,306,76],[306,77,306,83],[306,84,306,89],[306,90,306,95],[306,96,306,101],[307,3,307,6],[307,7,307,16],[307,17,307,22],[307,23,307,34],[307,35,307,42],[307,43,307,49],[307,50,307,53],[307,54,307,61],[307,62,307,68],[307,69,307,76],[307,77,307,83],[307,84,307,89],[307,90,307,95],[307,96,307,101],[308,3,308,6],[308,7,308,16],[308,17,308,22],[308,23,308,34],[308,35,308,42],[308,43,308,49],[308,50,308,53],[308,54,308,61],[308,62,308,68],[308,69,308,76],[308,77,308,83],[308,84,308,89],[308,90,308,95],[308,96,308,101],[309,3,309,6],[309,7,309,16],[309,17,309,22],[309,23,309,34],[309,35,309,42],[309,43,309,49],[309,50,309,53],[309,54,309,61],[309,62,309,68],[309,69,309,76],[309,77,309,83],[309,84,309,89],[309,90,309,95],[309,96,309,101],[310,3,310,6],[310,7,310,16],[310,17,310,22],[310,23,310,34],[310,35,310,42],[310,43,310,49],[310,50,310,53],[310,54,310,61],[310,62,310,68],[310,69,310,76],[310,77,310,83],[310,84,310,89],[310,90,310,95],[310,96,310,101],[311,3,311,6],[311,7,311,16],[311,17,311,22],[311,23,311,34],[311,35,311,42],[311,43,311,49],[311,50,311,53],[311,54,311,61],[311,62,311,68],[311,69,311,76],[311,77,311,83],[311,84,311,89],[311,90,311,95],[311,96,311,101],[312,3,312,6],[312,7,312,16],[312,17,312,22],[312,23,312,34],[312,35,312,42],[312,43,312,49],[312,50,312,53],[312,54,312,61],[312,62,312,68],[312,69,312,76],[312,77,312,83],[312,84,312,89],[312,90,312,95],[312,96,312,101],[313,3,313,6],[313,7,313,16],[313,17,313,22],[313,23,313,34],[313,35,313,42],[313,43,313,49],[313,50,313,53],[313,54,313,61],[313,62,313,68],[313,69,313,76],[313,77,313,83],[313,84,313,89],[313,90,313,95],[313,96,313,101],[314,3,314,6],[314,7,314,16],[314,17,314,22],[314,23,314,34],[314,35,314,42],[314,43,314,49],[314,50,314,53],[314,54,314,61],[314,62,314,68],[314,69,314,76],[314,77,314,83],[314,84,314,89],[314,90,314,95],[314,96,314,101],[315,3,315,6],[315,7,315,16],[315,17,315,22],[315,23,315,34],[315,35,315,42],[315,43,315,49],[315,50,315,53],[315,54,315,61],[315,62,315,68],[315,69,315,76],[315,77,315,83],[315,84,315,89],[315,90,315,95],[315,96,315,101],[316,3,316,6],[316,7,316,16],[316,17,316,22],[316,23,316,34],[316,35,316,42],[316,43,316,49],[316,50,316,53],[316,54,316,61],[316,62,316,68],[316,69,316,76],[316,77,316,83],[316,84,316,89],[316,90,316,95],[316,96,316,101],[317,3,317,6],[317,7,317,16],[317,17,317,22],[317,23,317,34],[317,35,317,42],[317,43,317,49],[317,50,317,53],[317,54,317,61],[317,62,317,68],[317,69,317,76],[317,77,317,83],[317,84,317,89],[317,90,317,95],[317,96,317,101],[318,3,318,6],[318,7,318,16],[318,17,318,22],[318,23,318,34],[318,35,318,42],[318,43,318,49],[318,50,318,53],[318,54,318,61],[318,62,318,68],[318,69,318,76],[318,77,318,83],[318,84,318,89],[318,90,318,95],[318,96,318,101],[319,3,319,6],[319,7,319,16],[319,17,319,22],[319,23,319,34],[319,35,319,42],[319,43,319,49],[319,50,319,53],[319,54,319,61],[319,62,319,68],[319,69,319,76],[319,77,319,83],[319,84,319,89],[319,90,319,95],[319,96,319,101],[320,3,320,6],[320,7,320,16],[320,17,320,22],[320,23,320,34],[320,35,320,42],[320,43,320,49],[320,50,320,53],[320,54,320,61],[320,62,320,68],[320,69,320,76],[320,77,320,83],[320,84,320,89],[320,90,320,95],[320,96,320,101],[321,3,321,6],[321,7,321,16],[321,17,321,22],[321,23,321,34],[321,35,321,42],[321,43,321,49],[321,50,321,53],[321,54,321,61],[321,62,321,68],[321,69,321,76],[321,77,321,83],[321,84,321,89],[321,90,321,95],[321,96,321,101],[322,3,322,6],[322,7,322,16],[322,17,322,22],[322,23,322,34],[322,35,322,42],[322,43,322,49],[322,50,322,53],[322,54,322,61],[322,62,322,68],[322,69,322,76],[322,77,322,83],[322,84,322,89],[322,90,322,95],[322,96,322,101],[323,3,323,6],[323,7,323,16],[323,17,323,22],[323,23,323,34],[323,35,323,42],[323,43,323,49],[323,50,323,53],[323,54,323,61],[323,62,323,68],[323,69,323,76],[323,77,323,83],[323,84,323,89],[323,90,323,95],[323,96,323,101],[324,3,324,6],[324,7,324,16],[324,17,324,22],[324,23,324,34],[324,35,324,42],[324,43,324,49],[324,50,324,53],[324,54,324,61],[324,62,324,68],[324,69,324,76],[324,77,324,83],[324,84,324,89],[324,90,324,95],[324,96,324,101],[325,3,325,6],[325,7,325,16],[325,17,325,22],[325,23,325,34],[325,35,325,42],[325,43,325,49],[325,50,325,53],[325,54,325,61],[325,62,325,68],[325,69,325,76],[325,77,325,83],[325,84,325,89],[325,90,325,95],[325,96,325,101],[326,3,326,6],[326,7,326,16],[326,17,326,22],[326,23,326,34],[326,35,326,42],[326,43,326,49],[326,50,326,53],[326,54,326,61],[326,62,326,68],[326,69,326,76],[326,77,326,83],[326,84,326,89],[326,90,326,95],[326,96,326,101],[327,3,327,6],[327,7,327,16],[327,17,327,22],[327,23,327,34],[327,35,327,42],[327,43,327,49],[327,50,327,53],[327,54,327,61],[327,62,327,68],[327,69,327,76],[327,77,327,83],[327,84,327,89],[327,90,327,95],[327,96,327,101],[328,3,328,6],[328,7,328,16],[328,17,328,22],[328,23,328,34],[328,35,328,42],[328,43,328,49],[328,50,328,53],[328,54,328,61],[328,62,328,68],[328,69,328,76],[328,77,328,83],[328,84,328,89],[328,90,328,95],[328,96,328,101],[329,3,329,6],[329,7,329,16],[329,17,329,22],[329,23,329,34],[329,35,329,42],[329,43,329,49],[329,50,329,53],[329,54,329,61],[329,62,329,68],[329,69,329,76],[329,77,329,83],[329,84,329,89],[329,90,329,95],[329,96,329,101],[330,3,330,6],[330,7,330,16],[330,17,330,22],[330,23,330,34],[330,35,330,42],[330,43,330,49],[330,50,330,53],[330,54,330,61],[330,62,330,68],[330,69,330,76],[330,77,330,83],[330,84,330,89],[330,90,330,95],[330,96,330,101],[331,3,331,6],[331,7,331,16],[331,17,331,22],[331,23,331,34],[331,35,331,42],[331,43,331,49],[331,50,331,53],[331,54,331,61],[331,62,331,68],[331,69,331,76],[331,77,331,83],[331,84,331,89],[331,90,331,95],[331,96,331,101],[332,3,332,6],[332,7,332,16],[332,17,332,22],[332,23,332,34],[332,35,332,42],[332,43,332,49],[332,50,332,53],[332,54,332,61],[332,62,332,68],[332,69,332,76],[332,77,332,83],[332,84,332,89],[332,90,332,95],[332,96,332,101],[333,3,333,6],[333,7,333,16],[333,17,333,22],[333,23,333,34],[333,35,333,42],[333,43,333,49],[333,50,333,53],[333,54,333,61],[333,62,333,68],[333,69,333,76],[333,77,333,83],[333,84,333,89],[333,90,333,95],[333,96,333,101],[334,3,334,6],[334,7,334,16],[334,17,334,22],[334,23,334,34],[334,35,334,42],[334,43,334,49],[334,50,334,53],[334,54,334,61],[334,62,334,68],[334,69,334,76],[334,77,334,83],[334,84,334,89],[334,90,334,95],[334,96,334,101],[335,3,335,6],[335,7,335,16],[335,17,335,22],[335,23,335,34],[335,35,335,42],[335,43,335,49],[335,50,335,53],[335,54,335,61],[335,62,335,68],[335,69,335,76],[335,77,335,83],[335,84,335,89],[335,90,335,95],[335,96,335,101],[336,3,336,6],[336,7,336,16],[336,17,336,22],[336,23,336,34],[336,35,336,42],[336,43,336,49],[336,50,336,53],[336,54,336,61],[336,62,336,68],[336,69,336,76],[336,77,336,83],[336,84,336,89],[336,90,336,95],[336,96,336,101],[337,3,337,6],[337,7,337,16],[337,17,337,22],[337,23,337,34],[337,35,337,42],[337,43,337,49],[337,50,337,53],[337,54,337,61],[337,62,337,68],[337,69,337,76],[337,77,337,83],[337,84,337,89],[337,90,337,95],[337,96,337,101],[338,3,338,6],[338,7,338,16],[338,17,338,22],[338,23,338,34],[338,35,338,42],[338,43,338,49],[338,50,338,53],[338,54,338,61],[338,62,338,68],[338,69,338,76],[338,77,338,83],[338,84,338,89],[338,90,338,95],[338,96,338,101],[339,3,339,6],[339,7,339,16],[339,17,339,22],[339,23,339,34],[339,35,339,42],[339,43,339,49],[339,50,339,53],[339,54,339,61],[339,62,339,68],[339,69,339,76],[339,77,339,83],[339,84,339,89],[339,90,339,95],[339,96,339,101],[340,3,340,6],[340,7,340,16],[340,17,340,22],[340,23,340,34],[340,35,340,42],[340,43,340,49],[340,50,340,53],[340,54,340,61],[340,62,340,68],[340,69,340,76],[340,77,340,83],[340,84,340,89],[340,90,340,95],[340,96,340,101],[341,3,341,6],[341,7,341,16],[341,17,341,22],[341,23,341,34],[341,35,341,42],[341,43,341,49],[341,50,341,53],[341,54,341,61],[341,62,341,68],[341,69,341,76],[341,77,341,83],[341,84,341,89],[341,90,341,95],[341,96,341,101],[342,3,342,6],[342,7,342,16],[342,17,342,22],[342,23,342,34],[342,35,342,42],[342,43,342,49],[342,50,342,53],[342,54,342,61],[342,62,342,68],[342,69,342,76],[342,77,342,83],[342,84,342,89],[342,90,342,95],[342,96,342,101],[343,3,343,6],[343,7,343,16],[343,17,343,22],[343,23,343,34],[343,35,343,42],[343,43,343,49],[343,50,343,53],[343,54,343,61],[343,62,343,68],[343,69,343,76],[343,77,343,83],[343,84,343,89],[343,90,343,95],[343,96,343,101],[344,3,344,6],[344,7,344,16],[344,17,344,22],[344,23,344,34],[344,35,344,42],[344,43,344,49],[344,50,344,53],[344,54,344,61],[344,62,344,68],[344,69,344,76],[344,77,344,83],[344,84,344,89],[344,90,344,95],[344,96,344,101],[345,3,345,6],[345,7,345,16],[345,17,345,22],[345,23,345,34],[345,35,345,42],[345,43,345,49],[345,50,345,53],[345,54,345,61],[345,62,345,68],[345,69,345,76],[345,77,345,83],[345,84,345,89],[345,90,345,95],[345,96,345,101],[346,3,346,6],[346,7,346,16],[346,17,346,22],[346,23,346,34],[346,35,346,42],[346,43,346,49],[346,50,346,53],[346,54,346,61],[346,62,346,68],[346,69,346,76],[346,77,346,83],[346,84,346,89],[346,90,346,95],[346,96,346,101],[347,3,347,6],[347,7,347,16],[347,17,347,22],[347,23,347,34],[347,35,347,42],[347,43,347,49],[347,50,347,53],[347,54,347,61],[347,62,347,68],[347,69,347,76],[347,77,347,83],[347,84,347,89],[347,90,347,95],[347,96,347,101],[348,3,348,6],[348,7,348,16],[348,17,348,22],[348,23,348,34],[348,35,348,42],[348,43,348,49],[348,50,348,53],[348,54,348,61],[348,62,348,68],[348,69,348,76],[348,77,348,83],[348,84,348,89],[348,90,348,95],[348,96,348,101],[349,3,349,6],[349,7,349,16],[349,17,349,22],[349,23,349,34],[349,35,349,42],[349,43,349,49],[349,50,349,53],[349,54,349,61],[349,62,349,68],[349,69,349,76],[349,77,349,83],[349,84,349,89],[349,90,349,95],[349,96,349,101],[350,3,350,6],[350,7,350,16],[350,17,350,22],[350,23,350,34],[350,35,350,42],[350,43,350,49],[350,50,350,53],[350,54,350,61],[350,62,350,68],[350,69,350,76],[350,77,350,83],[350,84,350,89],[350,90,350,95],[350,96,350,101],[351,3,351,6],[351,7,351,16],[351,17,351,22],[351,23,351,34],[351,35,351,42],[351,43,351,49],[351,50,351,53],[351,54,351,61],[351,62,351,68],[351,69,351,76],[351,77,351,83],[351,84,351,89],[351,90,351,95],[351,96,351,101],[352,3,352,6],[352,7,352,16],[352,17,352,22],[352,23,352,34],[352,35,352,42],[352,43,352,49],[352,50,352,53],[352,54,352,61],[352,62,352,68],[352,69,352,76],[352,77,352,83],[352,84,352,89],[352,90,352,95],[352,96,352,101],[353,3,353,6],[353,7,353,16],[353,17,353,22],[353,23,353,34],[353,35,353,42],[353,43,353,49],[353,50,353,53],[353,54,353,61],[353,62,353,68],[353,69,353,76],[353,77,353,83],[353,84,353,89],[353,90,353,95],[353,96,353,101],[354,3,354,6],[354,7,354,16],[354,17,354,22],[354,23,354,34],[354,35,354,42],[354,43,354,49],[354,50,354,53],[354,54,354,61],[354,62,354,68],[354,69,354,76],[354,77,354,83],[354,84,354,89],[354,90,354,95],[354,96,354,101],[355,3,355,6],[355,7,355,16],[355,17,355,22],[355,23,355,34],[355,35,355,42],[355,43,355,49],[355,50,355,53],[355,54,355,61],[355,62,355,68],[355,69,355,76],[355,77,355,83],[355,84,355,89],[355,90,355,95],[355,96,355,101],[356,3,356,6],[356,7,356,16],[356,17,356,22],[356,23,356,34],[356,35,356,42],[356,43,356,49],[356,50,356,53],[356,54,356,61],[356,62,356,68],[356,69,356,76],[356,77,356,83],[356,84,356,89],[356,90,356,95],[356,96,356,101],[357,3,357,6],[357,7,357,16],[357,17,357,22],[357,23,357,34],[357,35,357,42],[357,43,357,49],[357,50,357,53],[357,54,357,61],[357,62,357,68],[357,69,357,76],[357,77,357,83],[357,84,357,89],[357,90,357,95],[357,96,357,101],[358,3,358,6],[358,7,358,16],[358,17,358,22],[358,23,358,34],[358,35,358,42],[358,43,358,49],[358,50,358,53],[358,54,358,61],[358,62,358,68],[358,69,358,76],[358,77,358,83],[358,84,358,89],[358,90,358,95],[358,96,358,101],[359,3,359,6],[359,7,359,16],[359,17,359,22],[359,23,359,34],[359,35,359,42],[359,43,359,49],[359,50,359,53],[359,54,359,61],[359,62,359,68],[359,69,359,76],[359,77,359,83],[359,84,359,89],[359,90,359,95],[359,96,359,101],[360,3,360,6],[360,7,360,16],[360,17,360,22],[360,23,360,34],[360,35,360,42],[360,43,360,49],[360,50,360,53],[360,54,360,61],[360,62,360,68],[360,69,360,76],[360,77,360,83],[360,84,360,89],[360,90,360,95],[360,96,360,101],[361,3,361,6],[361,7,361,16],[361,17,361,22],[361,23,361,34],[361,35,361,42],[361,43,361,49],[361,50,361,53],[361,54,361,61],[361,62,361,68],[361,69,361,76],[361,77,361,83],[361,84,361,89],[361,90,361,95],[361,96,361,101],[362,3,362,6],[362,7,362,16],[362,17,362,22],[362,23,362,34],[362,35,362,42],[362,43,362,49],[362,50,362,53],[362,54,362,61],[362,62,362,68],[362,69,362,76],[362,77,362,83],[362,84,362,89],[362,90,362,95],[362,96,362,101],[363,3,363,6],[363,7,363,16],[363,17,363,22],[363,23,363,34],[363,35,363,42],[363,43,363,49],[363,50,363,53],[363,54,363,61],[363,62,363,68],[363,69,363,76],[363,77,363,83],[363,84,363,89],[363,90,363,95],[363,96,363,101],[364,3,364,6],[364,7,364,16],[364,17,364,22],[364,23,364,34],[364,35,364,42],[364,43,364,49],[364,50,364,53],[364,54,364,61],[364,62,364,68],[364,69,364,76],[364,77,364,83],[364,84,364,89],[364,90,364,95],[364,96,364,101],[365,3,365,6],[365,7,365,16],[365,17,365,22],[365,23,365,34],[365,35,365,42],[365,43,365,49],[365,50,365,53],[365,54,365,61],[365,62,365,68],[365,69,365,76],[365,77,365,83],[365,84,365,89],[365,90,365,95],[365,96,365,101],[366,3,366,6],[366,7,366,16],[366,17,366,22],[366,23,366,34],[366,35,366,42],[366,43,366,49],[366,50,366,53],[366,54,366,61],[366,62,366,68],[366,69,366,76],[366,77,366,83],[366,84,366,89],[366,90,366,95],[366,96,366,101],[367,3,367,6],[367,7,367,16],[367,17,367,22],[367,23,367,34],[367,35,367,42],[367,43,367,49],[367,50,367,53],[367,54,367,61],[367,62,367,68],[367,69,367,76],[367,77,367,83],[367,84,367,89],[367,90,367,95],[367,96,367,101],[368,3,368,6],[368,7,368,16],[368,17,368,22],[368,23,368,34],[368,35,368,42],[368,43,368,49],[368,50,368,53],[368,54,368,61],[368,62,368,68],[368,69,368,76],[368,77,368,83],[368,84,368,89],[368,90,368,95],[368,96,368,101],[369,3,369,6],[369,7,369,16],[369,17,369,22],[369,23,369,34],[369,35,369,42],[369,43,369,49],[369,50,369,53],[369,54,369,61],[369,62,369,68],[369,69,369,76],[369,77,369,83],[369,84,369,89],[369,90,369,95],[369,96,369,101],[370,3,370,6],[370,7,370,16],[370,17,370,22],[370,23,370,34],[370,35,370,42],[370,43,370,49],[370,50,370,53],[370,54,370,61],[370,62,370,68],[370,69,370,76],[370,77,370,83],[370,84,370,89],[370,90,370,95],[370,96,370,101],[371,3,371,6],[371,7,371,16],[371,17,371,22],[371,23,371,34],[371,35,371,42],[371,43,371,49],[371,50,371,53],[371,54,371,61],[371,62,371,68],[371,69,371,76],[371,77,371,83],[371,84,371,89],[371,90,371,95],[371,96,371,101],[372,3,372,6],[372,7,372,16],[372,17,372,22],[372,23,372,34],[372,35,372,42],[372,43,372,49],[372,50,372,53],[372,54,372,61],[372,62,372,68],[372,69,372,76],[372,77,372,83],[372,84,372,89],[372,90,372,95],[372,96,372,101]],"merged_total":4272,"flags":["merged_cut"]}
[{"$nulls":92},"1F3C8E-5767-03-230807"]
[{"$nulls":92},"MD101"]
[{"$nulls":3},{"$f":"\"Terugvordering van reiskosten voor onderwijs aan huis in het basisonderwijs - \"&Blad23!C15","v":"Terugvordering van reiskosten voor onderwijs aan huis in het basisonderwijs - kalenderjaar 2023"}]
[{"$nulls":3},"//////////////////////////////////////////////////////////////////////////////////////////////////////////////////////////////////////////////////////////////////////////////////////////////////////////////////////////////////////////////////////////////////////////////////////////////////////////////////////////////////////////////////////////////////////////////////////////////////////////////////////////////////////////////////////////"]
[{"$nulls":3},"Agentschap voor Onderwijsdiensten (AGODI)",{"$nulls":24},{"$f":"IF(TODAY()>VLOOKUP(Blad23!$C$15,Blad23!$A$1:$B$11,2,FALSE),\"Deze versie is alleen geldig voor het \"&Blad23!$C$15&\". Voor dat kalenderjaar is de aangiftedatum verstreken. \"&\"Opgelet! Vanaf 1 januari 2024 wordt de kilometervergoeding voor verplaatsingen met de eigen wagen per kwartaal herzien. \"&\"Aangezien het tarief voor het vierde kwartaal pas in de tweede helft van september bekend zal zijn, zal het formulier voor het kalenderjaar 2024 in september/oktober bij de omzendbrief worden gevoegd.\",\"\")","v":""}]
[{"$nulls":3},"Afdeling Basisonderwijs, DKO en CLB"]
[{"$nulls":3},"Scholen en leerlingen"]
[{"$nulls":3},"Koning Albert II-laan 15 bus 137"]
[{"$nulls":3},"1210 BRUSSEL"]
[{"$nulls":3},"T","0493 25 76 14 (Andrea Eerdekens)"]
[{"$nulls":3},"Waarvoor dient dit formulier?"]
[{"$nulls":3},"Met dit formulier kunt u de reiskosten voor onderwijs aan huis voor zieke jongeren in het basisonderwijs terugvorderen van het Agentschap voor Onderwijsdiensten.\nOpgepast! U mag maar één terugvordering per kalenderjaar en per instelling indienen.\nAls u een correctie van een reeds eerder ingediende terugvordering doorstuurt, moet u bij vraag 2 het hokje vóór 'een correctie van een eerder ingediende terugvordering' aankruisen."]
[{"$nulls":3},"Wie vult dit formulier in en waar vindt u meer informatie over dit formulier?"]
[{"$nulls":3},"De school vult de terugvordering in. Het bedrag wordt uitbetaald op de rekening waarop ook de werkingsmiddelen worden gestort."]
[{"$nulls":3},"Meer informatie over de manier waarop u dit formulier moet invullen, is opgenomen onder punt 5.6 in omzendbriefBaO/97/5van 17 juni 1997 over tijdelijk onderwijs aan huis (TOAH), permanent onderwijs aan huis (POAH) en vrijstelling van leerplicht in het basisonderwijs."]
[]
[{"$nulls":3},"Waarom vult u dit formulier in Excel in?"]
[{"$nulls":3},"In de vragen die u moet beantwoorden, hoeft u alleen de vakken met grijze achtergrond in te vullen. De overige berekeningen en controles worden automatisch uitgevoerd. Het Excelbestand wordt door AGODI automatisch ingelezen. "]
[{"$nulls":3},"Hoe en aan wie bezorgt u dit formulier?"]
[{"$nulls":3},"Bezorg ons de terugvordering alsExcelbestand uiterlijk op 28 februari 2024 via Mijn Onderwijs. Daardoor hoeft u het formulier niet meer te ondertekenen.\nOpgelet: om het Excelbestand te versturen, hebt u toegang nodig tot het thema 'Omkadering en toelagen (vertrouwelijk)' in Mijn Onderwijs. U kunt die rechten nakijken in Mijn Onderwijs onder het tabblad 'Mijn profiel' bij 'Mijn Thema's'."]
[{"$nulls":3},"U kunt het formulier in Mijn Onderwijs opladen door de volgende stappen te doorlopen:"]
[{"$nulls":3},"-","Log in op Mijn Onderwijs en ga naar het tabblad 'Documenten'."]
[{"$nulls":3},"-","Kies 'Document versturen' en vul de verplichte velden in:"]
[{"$nulls":5},"-","Selecteer de instelling waarvoor u een document wilt doorsturen."]
[{"$nulls":5},"-","Selecteer het type document dat u wilt doorsturen. (Dit formulier is RTOAH: SBT Basis - Terugvordering reiskosten onderwijs aan huis basisonderwijs.)"]
[{"$nulls":5},"-","Selecteer het schooljaar 2023-2024. Standaard staat dit op het lopende schooljaar."]
[{"$nulls":3},"-","Klik in hetzelfde scherm op de knop '+Bijlage toevoegen' en selecteer het opgeslagen bestand. Daarna wordt de naam van het toegevoegde bestand onder de knop '+Bijlage toevoegen' weergegeven."]
[{"$nulls":3},"Als het document is opgeladen, vindt u het terug onder het tabblad 'Documenten' bij 'Verstuurd door instelling'."]
[{"$nulls":3},"Dit formulier wordt automatisch ingelezen. Het kan alleenals Excelbestandworden verwerkt. Als u de terugvordering in een ander formaat, bijvoorbeeld pdf-bestand, bezorgt, wordt ze niet aanvaard."]
[]
[{"$nulls":3},"Schoolgegevens"]
[]
[null,1,null,"Vul de gegevens van de school in."]
[{"$nulls":3},"Als u het instellingsnummer invult, verschijnen de andere gegevens van deze vraag automatisch.",{"$nulls":43},{"$f":"IF(DA34=\"X\",\"U hebt een onbestaand instellingsnummer of een instellingsnummer van een ander niveau ingevuld!\",\"\")","v":""},{"$nulls":56},{"$f":"_xlfn.IFNA(T38,\"X\")","v":""}]
[]
[{"$nulls":11},"instellingsnummer ",{"$nulls":12},{"$f":"IF(AND(T36=\"\",COUNTIF(D52:D54,\"X\")>0),\" <= Vul het instellingsnummer in!\",\"\")","v":""}]
[]
[{"$nulls":11},"naam ",{"$nulls":7},{"$f":"IF(ISBLANK(T36),\"\",VLOOKUP(T36,instellingsgegevens!$A$2:$G$5000,2,FALSE))","v":""}]
[]
[{"$nulls":11},"straat en nummer ",{"$nulls":7},{"$f":"IF(ISBLANK(T36),\"\",VLOOKUP(T36,instellingsgegevens!$A$2:$G$5000,3,FALSE))","v":""}]
[]
[{"$nulls":8},"postnummer en gemeente ",{"$nulls":10},{"$f":"IF(ISBLANK(T36),\"\",VLOOKUP(T36,instellingsgegevens!$A$2:$G$5000,4,FALSE))","v":""},{"$nulls":3},{"$f":"IF(ISBLANK(T36),\"\",VLOOKUP(T36,instellingsgegevens!$A$2:$G$5000,5,FALSE))","v":""}]
[]
[{"$nulls":11},"telefoonnummer",{"$nulls":7},{"$f":"IF(ISBLANK(T36),\"\",VLOOKUP(T36,instellingsgegevens!$A$2:$G$5000,6,FALSE))","v":""}]
[]
[{"$nulls":12},"e-mailadres",{"$nulls":6},{"$f":"IF(ISBLANK(T36),\"\",VLOOKUP(T36,instellingsgegevens!$A$2:$G$5000,7))","v":""}]
[]
[{"$nulls":3},"Gegevens over het onderwijs aan huis"]
[]
[null,2,null,"Kruis aan waarop deze aanvraag betrekking heeft.",{"$nulls":24},{"$f":"IF(A52=\"\",\"\",\"Beantwoord eerst vraag \"&B50&\" voor u vraag 3 beantwoordt!\")","v":""}]
[{"$nulls":3},"Een instelling kan per kalenderjaar maar één terugvordering indienen."]
[{"$f":"IF(OR(AND(T36<>\"\",AV34=\"\",COUNTIF(D52:D54,\"X\")=0),AND(D74<>\"\",COUNTIF(D52:D54,\"X\")=0)),\"=>\",\"\")","v":""},{"$nulls":3}," een nieuwe terugvordering",{"$nulls":24},{"$f":"IF(COUNTIF(D52:D54,\"X\")>1,\"U mag bij vraag \"&B50&\" maar één hokje aankruisen!\",\"\")","v":""}]
[]
[{"$nulls":4}," een correctie van een eerder ingediende terugvordering"]
[]
[null,3,null,"Vul de gegevens in over het onderwijs aan huis."]
[{"$nulls":3},"Door deze terugvordering in te dienen, bevestigt u dat alle gegevens in dit formulier naar waarheid zijn ingevuld en dat de reiskosten die teruggevorderd worden, betaald zijn met toepassing van artikel 34 tot en met 36 van het decreet Basisonderwijs van 25 februari 1997 en het besluit van de Vlaamse Regering van 13 juli 2007 betreffende het onderwijs aan huis voor zieke kinderen en jongeren.\nU verklaart ook dat u hebt kennisgenomen van artikel 174 van het decreet Basisonderwijs van 25 februari 1997."]
[{"$nulls":3},"U hoeft alleen de vakken met grijze achtergrond in te vullen. De bedragen worden automatisch berekend en de nodige controles worden automatisch uitgevoerd.Vul de vakken rij per rij van links naar rechts in en laat geen blanco rij(en) tussen ingevulde rijen!"]
[{"$nulls":3},"Een rij is pas volledig correct ingevuld als er op die rij in kolom DG geen foutmelding meer wordt getoond. Vul de volgende rij pas in nadat u de foutmelding(en) over de vorige rij hebt opgelost."]
[{"$nulls":3},"Als de tabel nog onlogische of onvolledige vermeldingen bevat, wordt voor- of achteraan de rij(en) in kwestie een '!' geplaatst. Onder de tabel vindt u een korte uitleg over de foutieve of ontbrekende gegevens. Als u vraag 1 of 2 nog niet of foutief hebt beantwoord, wordt dat respectievelijk op de eerste of tweede rij in de onderstaande tabel vermeld."]
[{"$nulls":3},"Dien het formulier pas in als er geen foutmeldingen meer worden getoond.Terugvorderingen die nog foutmeldingen bevatten, worden niet aanvaard!"]
[{"$nulls":3},{"$f":"IF(AND(AV34=\"\",Y36=\"\"),\"\",IF(Y36<>\"\",\"U hebt vraag \"&B33&\" nog niet beantwoord!\",IF(AV34<>\"\",\"U hebt vraag \"&B33&\" foutief beantwoord!\",\"\")))","v":""}]
[{"$nulls":3},{"$f":"IF(AND(AC50=\"\",AD52=\"\"),\"\",IF(AC50<>\"\",\"U hebt vraag \"&B50&\" nog niet beantwoord!\",IF(AD52<>\"\",\"U hebt vraag \"&B50&\" foutief beantwoord!\")))","v":""}]
[{"$nulls":3},{"$f":"IF(COUNTIF(A74:A373,\"!\")>0,\"U dient zowel de voor- en achternaam van het personeelslid, het stamboeknummer als de voor- en achternaam van de leerling in te vullen! Dat is nog niet overal het geval. Zie '!' vóór de betrokken rij(en).\",\"\")","v":""}]
[{"$nulls":3},{"$f":"IF(COUNTIF(C74:C373,\"!\")>0,\"U dient zowel de wijze van verplaatsing, de afgelegde afstand als het aantal trajecten in de vullen! Dat is nog niet overal het geval. Zie '!' vóór de betrokken rij(en). VUL BIJ DE AFGELEGDE AFSTAND GEEN NUL IN!\",\"\")","v":""}]
[{"$nulls":3},{"$f":"IF(COUNTIF(DB74:DB373,\"!\")>0,\"Als u in de kolom 'wijze van verplaasing' de optie 'openbaar vervoer' invult, mag u in de kolommen 'afgelegde afstand' en 'aantal trajecten' geen gegevens invullen! Zie '!' na de betrokken rij(en).\",\"\")","v":""}]
[{"$nulls":3},{"$f":"IF(COUNTIF(CY74:CY373,\"!\")>0,\"U mag enkel een bedrag in de kolom 'vergoeding openbaar vervoer' invullen als u in de kolom 'wijze van verplaatsing' de optie 'openbaar vervoer' hebt ingevuld! Zie '!' na de betrokken rij(en).\",\"\")","v":""}]
[{"$nulls":3},{"$f":"IF(COUNTIF(B74:B373,\"!\")>0,\"U hebt op een of meer rijen de periode niet ingevuld! Zie'!' vóór de betrokken rij(en).\",\"\")","v":""}]
[{"$nulls":3},{"$f":"IF(COUNTIF(CZ74:CZ373,\"!\")=0,\"\",\"U hebt een of meer rijen (gedeeltelijk) blanco gelaten! Zie '!' na de betrokken rij(en).\")","v":""}]
[{"$nulls":3},{"$f":"IF(COUNTIF(DC74:DC373,\"!\")>0,\"U hebt op een of meer rijen de kolom 'wijze van verplaatsing' of de kolom 'vergoeding openbaar vervoer' niet ingevuld! Zie '!' na de betrokken rij(en).\",\"\")","v":""}]
[{"$nulls":3},{"$f":"IF(COUNTIF(DD74:DD373,\"!\")>0,\"U hebt op een of meer rijen 'openbaar vervoer' ingevuld maar geen bedrag 'vergoeding openbaar vervoer' ingevuld, of u hebt een bedrag 'vergoeding openbaar vervoer' ingevuld, maar deze verplaatsingswijze niet ingevuld! Zie '!' na de betrokken rij(en).\",\"\")","v":""}]
[]
[{"$nulls":3},"periode\n(maand/\njaar)",{"$nulls":3},"voor- en achternaam personeelslid",{"$nulls":9},"stamboeknr.",{"$nulls":5},"voor- en achternaam leerling",{"$nulls":11},"wijze van verplaatsing",{"$nulls":7},"afgelegde afstand in km",{"$nulls":6},"aantal trajecten",{"$nulls":3},"vergoeding/km verplaatsing auto",{"$nulls":7},"bedrag in euro verplaatsing auto",{"$nulls":6},"vergoeding/km verplaatsing fiets ",{"$nulls":7},"bedrag in euro verplaatsing fiets",{"$nulls":6},"vergoeding openbaar vervoer",{"$nulls":5},"bedrag in euro per ingevulde rij",{"$nulls":5},"gecumuleerd teruggevorderd bedrag"]
[{"$f":"IF(OR(AND(D74<>\"\",H74=\"\"),AND(H74<>\"\",R74=\"\"),AND(R74<>\"\",H74=\"\"),AND(R74<>\"\",X74=\"\"),AND(X74<>\"\",R74=\"\")),\"!\",\"\")","v":""},{"$f":"IF(OR(AND(ISBLANK(D74),OR(H74<>\"\",R74<>\"\",X74<>\"\",AJ74<>\"\",AR74<>\"\",AY74<>\"\",CG74<>\"\"))),\"!\",\"\")","v":""},{"$f":"IF(AND(CG74=0,AJ74<>\"openbaar vervoer\",OR(AND(OR(AJ74=\"auto\",AJ74=\"fiets\"),OR(AR74=\"\",AR74=0)),AND(AR74>0,AY74=\"\"),AND(AR74=\"\",AY74>0),AND(AR74>0,AJ74=\"\"))),\"!\",\"\")","v":""},{"$nulls":51},{"$f":"IF(AJ74=\"auto\",IF(AND((D74>'km-vergoeding'!$A$4),(D74<'km-vergoeding'!$A$5)),'km-vergoeding'!$D$4,'km-vergoeding'!$D$5),0)","v":{"v":0,"d":"0.0000 "}},{"$nulls":7},{"$f":"IF(AJ74=\"auto\",ROUND(AR74*AY74*BC74,2),0)","v":{"v":0,"d":"0.00"}},{"$nulls":6},{"$f":"IF(AJ74=\"fiets\",'km-vergoeding'!$D$3,0)","v":{"v":0,"d":"0.00"}},{"$nulls":7},{"$f":"IF(AJ74=\"fiets\",ROUND(AR74*AY74*BR74,2),0)","v":{"v":0,"d":"0.00"}},{"$nulls":12},{"$f":"IF(AND(OR((AJ74=\"fiets\"),(AJ74=\"auto\")),(CG74>0)),\"xxxx\",BK74+BZ74+CG74)","v":{"v":0,"d":"0.00"}},{"$nulls":5},{"$f":"IF(CM74=0,0,IF(AND(CM74<>0,CM75>0),0,CM74))","v":{"v":0,"d":"0.00"}},{"$nulls":5},{"$f":"IF(AND(OR((AJ74=\"fiets\"),(AJ74=\"auto\")),(CG74>0)),\"!\",\"\")","v":""},{"$f":"IF(AND(D74=\"\",D75<>\"\"),\"!\",\"\")","v":""},"<= afwijkende formule !",{"$f":"IF(AND(AJ74=\"openbaar vervoer\",OR(AR74<>\"\",AY74<>\"\")),\"!\",\"\")","v":""},{"$f":"IF(AND(X74<>\"\",AND(AJ74=\"\",CM74=0)),\"!\",\"\")","v":""},{"$f":"IF(OR(AND(AJ74=\"openbaar vervoer\",CG74=0),AND(CG74>0,AJ74=\"\")),\"!\",\"\")","v":""},{"$f":"CM74","v":{"v":0,"d":"0.00"}},"<= afwijkende formule!",{"$f":"IF(AND(A74=\"\",B74=\"\",C74=\"\",CY74=\"\",CZ74=\"\",DB74=\"\",DC74=\"\",DD74=\"\"),\"\",\"Deze rij is nog onvolledig of bevat nog fouten! Zie foutmeldingen boven de tabel.\")","v":""}]
[{"$f":"IF(OR(AND(D75<>\"\",H75=\"\"),AND(H75<>\"\",R75=\"\"),AND(R75<>\"\",H75=\"\"),AND(R75<>\"\",X75=\"\"),AND(X75<>\"\",R75=\"\")),\"!\",\"\")","v":""},{"$f":"IF(OR(AND(ISBLANK(D75),OR(H75<>\"\",R75<>\"\",X75<>\"\",AJ75<>\"\",AR75<>\"\",AY75<>\"\",CG75<>\"\"))),\"!\",\"\")","v":""},{"$f":"IF(AND(CG75=0,AJ75<>\"openbaar vervoer\",OR(AND(OR(AJ75=\"auto\",AJ75=\"fiets\"),OR(AR75=\"\",AR75=0)),AND(AR75>0,AY75=\"\"),AND(AR75=\"\",AY75>0),AND(AR75>0,AJ75=\"\"))),\"!\",\"\")","v":""},{"$nulls":51},{"$f":"IF(AJ75=\"auto\",IF(AND((D75>'km-vergoeding'!$A$4),(D75<'km-vergoeding'!$A$5)),'km-vergoeding'!$D$4,'km-vergoeding'!$D$5),0)","v":{"v":0,"d":"0.0000 "}},{"$nulls":7},{"$f":"IF(AJ75=\"auto\",ROUND(AR75*AY75*BC75,2),0)","v":{"v":0,"d":"0.00"}},{"$nulls":6},{"$f":"IF(AJ75=\"fiets\",'km-vergoeding'!$D$3,0)","v":{"v":0,"d":"0.00"}},{"$nulls":7},{"$f":"IF(AJ75=\"fiets\",ROUND(AR75*AY75*BR75,2),0)","v":{"v":0,"d":"0.00"}},{"$nulls":12},{"$f":"IF(AND(OR((AJ75=\"fiets\"),(AJ75=\"auto\")),(CG75>0)),\"xxxx\",BK75+BZ75+CG75)","v":{"v":0,"d":"0.00"}},{"$nulls":5},{"$f":"IF(CM75=0,0,IF(CM76=0,DE75,0))","v":{"v":0,"d":"0.00"}},{"$nulls":5},{"$f":"IF(AND(OR((AJ75=\"fiets\"),(AJ75=\"auto\")),(CG75>0)),\"!\",\"\")","v":""},{"$f":"IF(OR(AND(D74<>\"\",D75=\"\",D76<>\"\"),AND(D74=\"\",D75=\"\",D76<>\"\")),\"!\",\"\")","v":""},null,{"$f":"IF(AND(AJ75=\"openbaar vervoer\",OR(AR75<>\"\",AY75<>\"\")),\"!\",\"\")","v":""},{"$f":"IF(AND(X75<>\"\",AND(AJ75=\"\",CM75=0)),\"!\",\"\")","v":""},"",{"$f":"IF(CM75=0,DE74,DE74+CM75)","v":{"v":0,"d":"0.00"}},null,{"$f":"IF(AND(A75=\"\",B75=\"\",C75=\"\",CY75=\"\",CZ75=\"\",DB75=\"\",DC75=\"\",DD75=\"\"),\"\",\"Deze rij is nog onvolledig of bevat nog fouten! Zie foutmeldingen boven de tabel.\")","v":""}]
["","","",{"$nulls":51},{"$f":"IF(AJ76=\"auto\",IF(AND((D76>'km-vergoeding'!$A$4),(D76<'km-vergoeding'!$A$5)),'km-vergoeding'!$D$4,'km-vergoeding'!$D$5),0)","v":{"v":0,"d":"0.0000 "}},{"$nulls":7},{"v":0,"d":"0.00"},{"$nulls":6},{"$f":"IF(AJ76=\"fiets\",'km-vergoeding'!$D$3,0)","v":{"v":0,"d":"0.00"}},{"$nulls":7},{"v":0,"d":"0.00"},{"$nulls":12},{"v":0,"d":"0.00"},{"$nulls":5},{"$f":"IF(CM76=0,0,IF(CM77=0,DE76,0))","v":{"v":0,"d":"0.00"}},{"$nulls":5},{"$f":"IF(AND(OR((AJ76=\"fiets\"),(AJ76=\"auto\")),(CG76>0)),\"!\",\"\")","v":""},{"$f":"IF(OR(AND(D75<>\"\",D76=\"\",D77<>\"\"),AND(D75=\"\",D76=\"\",D77<>\"\")),\"!\",\"\")","v":""},null,{"$f":"IF(AND(AJ76=\"openbaar vervoer\",OR(AR76<>\"\",AY76<>\"\")),\"!\",\"\")","v":""},{"$f":"IF(AND(X76<>\"\",AND(AJ76=\"\",CM76=0)),\"!\",\"\")","v":""},{"$f":"IF(OR(AND(AJ76=\"openbaar vervoer\",CG76=0),AND(CG76>0,AJ76=\"\")),\"!\",\"\")","v":""},{"$f":"IF(CM76=0,DE75,DE75+CM76)","v":{"v":0,"d":"0.00"}},null,""]
["","","",{"$nulls":51},{"$f":"IF(AJ77=\"auto\",IF(AND((D77>'km-vergoeding'!$A$4),(D77<'km-vergoeding'!$A$5)),'km-vergoeding'!$D$4,'km-vergoeding'!$D$5),0)","v":{"v":0,"d":"0.0000 "}},{"$nulls":7},{"v":0,"d":"0.00"},{"$nulls":6},{"$f":"IF(AJ77=\"fiets\",'km-vergoeding'!$D$3,0)","v":{"v":0,"d":"0.00"}},{"$nulls":7},{"v":0,"d":"0.00"},{"$nulls":12},{"v":0,"d":"0.00"},{"$nulls":5},{"v":0,"d":"0.00"},{"$nulls":5},"","",null,"","","",{"$f":"IF(CM77=0,DE76,DE76+CM77)","v":{"v":0,"d":"0.00"}},null,""]
["","","",{"$nulls":51},{"$f":"IF(AJ78=\"auto\",IF(AND((D78>'km-vergoeding'!$A$4),(D78<'km-vergoeding'!$A$5)),'km-vergoeding'!$D$4,'km-vergoeding'!$D$5),0)","v":{"v":0,"d":"0.0000 "}},{"$nulls":7},{"v":0,"d":"0.00"},{"$nulls":6},{"$f":"IF(AJ78=\"fiets\",'km-vergoeding'!$D$3,0)","v":{"v":0,"d":"0.00"}},{"$nulls":7},{"v":0,"d":"0.00"},{"$nulls":12},{"v":0,"d":"0.00"},{"$nulls":5},{"v":0,"d":"0.00"},{"$nulls":5},"","",null,"","","",{"v":0,"d":"0.00"},null,""]
["","","",{"$nulls":51},{"$f":"IF(AJ79=\"auto\",IF(AND((D79>'km-vergoeding'!$A$4),(D79<'km-vergoeding'!$A$5)),'km-vergoeding'!$D$4,'km-vergoeding'!$D$5),0)","v":{"v":0,"d":"0.0000 "}},{"$nulls":7},{"v":0,"d":"0.00"},{"$nulls":6},{"$f":"IF(AJ79=\"fiets\",'km-vergoeding'!$D$3,0)","v":{"v":0,"d":"0.00"}},{"$nulls":7},{"v":0,"d":"0.00"},{"$nulls":12},{"v":0,"d":"0.00"},{"$nulls":5},{"v":0,"d":"0.00"},{"$nulls":5},"","",null,"","","",{"v":0,"d":"0.00"},null,""]
["","","",{"$nulls":51},{"$f":"IF(AJ80=\"auto\",IF(AND((D80>'km-vergoeding'!$A$4),(D80<'km-vergoeding'!$A$5)),'km-vergoeding'!$D$4,'km-vergoeding'!$D$5),0)","v":{"v":0,"d":"0.0000 "}},{"$nulls":7},{"v":0,"d":"0.00"},{"$nulls":6},{"$f":"IF(AJ80=\"fiets\",'km-vergoeding'!$D$3,0)","v":{"v":0,"d":"0.00"}},{"$nulls":7},{"v":0,"d":"0.00"},{"$nulls":12},{"v":0,"d":"0.00"},{"$nulls":5},{"v":0,"d":"0.00"},{"$nulls":5},"","",null,"","","",{"v":0,"d":"0.00"},null,""]
["","","",{"$nulls":51},{"$f":"IF(AJ81=\"auto\",IF(AND((D81>'km-vergoeding'!$A$4),(D81<'km-vergoeding'!$A$5)),'km-vergoeding'!$D$4,'km-vergoeding'!$D$5),0)","v":{"v":0,"d":"0.0000 "}},{"$nulls":7},{"v":0,"d":"0.00"},{"$nulls":6},{"$f":"IF(AJ81=\"fiets\",'km-vergoeding'!$D$3,0)","v":{"v":0,"d":"0.00"}},{"$nulls":7},{"v":0,"d":"0.00"},{"$nulls":12},{"v":0,"d":"0.00"},{"$nulls":5},{"v":0,"d":"0.00"},{"$nulls":5},"","",null,"","","",{"v":0,"d":"0.00"},null,""]
["","","",{"$nulls":51},{"$f":"IF(AJ82=\"auto\",IF(AND((D82>'km-vergoeding'!$A$4),(D82<'km-vergoeding'!$A$5)),'km-vergoeding'!$D$4,'km-vergoeding'!$D$5),0)","v":{"v":0,"d":"0.0000 "}},{"$nulls":7},{"v":0,"d":"0.00"},{"$nulls":6},{"$f":"IF(AJ82=\"fiets\",'km-vergoeding'!$D$3,0)","v":{"v":0,"d":"0.00"}},{"$nulls":7},{"v":0,"d":"0.00"},{"$nulls":12},{"v":0,"d":"0.00"},{"$nulls":5},{"v":0,"d":"0.00"},{"$nulls":5},"","",null,"","","",{"v":0,"d":"0.00"},null,""]
["","","",{"$nulls":51},{"$f":"IF(AJ83=\"auto\",IF(AND((D83>'km-vergoeding'!$A$4),(D83<'km-vergoeding'!$A$5)),'km-vergoeding'!$D$4,'km-vergoeding'!$D$5),0)","v":{"v":0,"d":"0.0000 "}},{"$nulls":7},{"v":0,"d":"0.00"},{"$nulls":6},{"$f":"IF(AJ83=\"fiets\",'km-vergoeding'!$D$3,0)","v":{"v":0,"d":"0.00"}},{"$nulls":7},{"v":0,"d":"0.00"},{"$nulls":12},{"v":0,"d":"0.00"},{"$nulls":5},{"v":0,"d":"0.00"},{"$nulls":5},"","",null,"","","",{"v":0,"d":"0.00"},null,""]
["","","",{"$nulls":51},{"$f":"IF(AJ84=\"auto\",IF(AND((D84>'km-vergoeding'!$A$4),(D84<'km-vergoeding'!$A$5)),'km-vergoeding'!$D$4,'km-vergoeding'!$D$5),0)","v":{"v":0,"d":"0.0000 "}},{"$nulls":7},{"v":0,"d":"0.00"},{"$nulls":6},{"$f":"IF(AJ84=\"fiets\",'km-vergoeding'!$D$3,0)","v":{"v":0,"d":"0.00"}},{"$nulls":7},{"v":0,"d":"0.00"},{"$nulls":12},{"v":0,"d":"0.00"},{"$nulls":5},{"v":0,"d":"0.00"},{"$nulls":5},"","",null,"","","",{"v":0,"d":"0.00"},null,""]
["","","",{"$nulls":51},{"$f":"IF(AJ85=\"auto\",IF(AND((D85>'km-vergoeding'!$A$4),(D85<'km-vergoeding'!$A$5)),'km-vergoeding'!$D$4,'km-vergoeding'!$D$5),0)","v":{"v":0,"d":"0.0000 "}},{"$nulls":7},{"v":0,"d":"0.00"},{"$nulls":6},{"$f":"IF(AJ85=\"fiets\",'km-vergoeding'!$D$3,0)","v":{"v":0,"d":"0.00"}},{"$nulls":7},{"v":0,"d":"0.00"},{"$nulls":12},{"v":0,"d":"0.00"},{"$nulls":5},{"v":0,"d":"0.00"},{"$nulls":5},"","",null,"","","",{"v":0,"d":"0.00"},null,""]
["","","",{"$nulls":51},{"$f":"IF(AJ86=\"auto\",IF(AND((D86>'km-vergoeding'!$A$4),(D86<'km-vergoeding'!$A$5)),'km-vergoeding'!$D$4,'km-vergoeding'!$D$5),0)","v":{"v":0,"d":"0.0000 "}},{"$nulls":7},{"v":0,"d":"0.00"},{"$nulls":6},{"$f":"IF(AJ86=\"fiets\",'km-vergoeding'!$D$3,0)","v":{"v":0,"d":"0.00"}},{"$nulls":7},{"v":0,"d":"0.00"},{"$nulls":12},{"v":0,"d":"0.00"},{"$nulls":5},{"v":0,"d":"0.00"},{"$nulls":5},"","",null,"","","",{"v":0,"d":"0.00"},null,""]
["","","",{"$nulls":51},{"$f":"IF(AJ87=\"auto\",IF(AND((D87>'km-vergoeding'!$A$4),(D87<'km-vergoeding'!$A$5)),'km-vergoeding'!$D$4,'km-vergoeding'!$D$5),0)","v":{"v":0,"d":"0.0000 "}},{"$nulls":7},{"v":0,"d":"0.00"},{"$nulls":6},{"$f":"IF(AJ87=\"fiets\",'km-vergoeding'!$D$3,0)","v":{"v":0,"d":"0.00"}},{"$nulls":7},{"v":0,"d":"0.00"},{"$nulls":12},{"v":0,"d":"0.00"},{"$nulls":5},{"v":0,"d":"0.00"},{"$nulls":5},"","",null,"","","",{"v":0,"d":"0.00"},null,""]
["","","",{"$nulls":51},{"$f":"IF(AJ88=\"auto\",IF(AND((D88>'km-vergoeding'!$A$4),(D88<'km-vergoeding'!$A$5)),'km-vergoeding'!$D$4,'km-vergoeding'!$D$5),0)","v":{"v":0,"d":"0.0000 "}},{"$nulls":7},{"v":0,"d":"0.00"},{"$nulls":6},{"$f":"IF(AJ88=\"fiets\",'km-vergoeding'!$D$3,0)","v":{"v":0,"d":"0.00"}},{"$nulls":7},{"v":0,"d":"0.00"},{"$nulls":12},{"v":0,"d":"0.00"},{"$nulls":5},{"v":0,"d":"0.00"},{"$nulls":5},"","",null,"","","",{"v":0,"d":"0.00"},null,""]
["","","",{"$nulls":51},{"$f":"IF(AJ89=\"auto\",IF(AND((D89>'km-vergoeding'!$A$4),(D89<'km-vergoeding'!$A$5)),'km-vergoeding'!$D$4,'km-vergoeding'!$D$5),0)","v":{"v":0,"d":"0.0000 "}},{"$nulls":7},{"v":0,"d":"0.00"},{"$nulls":6},{"$f":"IF(AJ89=\"fiets\",'km-vergoeding'!$D$3,0)","v":{"v":0,"d":"0.00"}},{"$nulls":7},{"v":0,"d":"0.00"},{"$nulls":12},{"v":0,"d":"0.00"},{"$nulls":5},{"v":0,"d":"0.00"},{"$nulls":5},"","",null,"","","",{"v":0,"d":"0.00"},null,""]
["","","",{"$nulls":51},{"$f":"IF(AJ90=\"auto\",IF(AND((D90>'km-vergoeding'!$A$4),(D90<'km-vergoeding'!$A$5)),'km-vergoeding'!$D$4,'km-vergoeding'!$D$5),0)","v":{"v":0,"d":"0.0000 "}},{"$nulls":7},{"v":0,"d":"0.00"},{"$nulls":6},{"$f":"IF(AJ90=\"fiets\",'km-vergoeding'!$D$3,0)","v":{"v":0,"d":"0.00"}},{"$nulls":7},{"v":0,"d":"0.00"},{"$nulls":12},{"v":0,"d":"0.00"},{"$nulls":5},{"v":0,"d":"0.00"},{"$nulls":5},"","",null,"","","",{"v":0,"d":"0.00"},null,""]
["","","",{"$nulls":51},{"$f":"IF(AJ91=\"auto\",IF(AND((D91>'km-vergoeding'!$A$4),(D91<'km-vergoeding'!$A$5)),'km-vergoeding'!$D$4,'km-vergoeding'!$D$5),0)","v":{"v":0,"d":"0.0000 "}},{"$nulls":7},{"v":0,"d":"0.00"},{"$nulls":6},{"$f":"IF(AJ91=\"fiets\",'km-vergoeding'!$D$3,0)","v":{"v":0,"d":"0.00"}},{"$nulls":7},{"v":0,"d":"0.00"},{"$nulls":12},{"v":0,"d":"0.00"},{"$nulls":5},{"v":0,"d":"0.00"},{"$nulls":5},"","",null,"","","",{"v":0,"d":"0.00"},null,""]
["","","",{"$nulls":51},{"$f":"IF(AJ92=\"auto\",IF(AND((D92>'km-vergoeding'!$A$4),(D92<'km-vergoeding'!$A$5)),'km-vergoeding'!$D$4,'km-vergoeding'!$D$5),0)","v":{"v":0,"d":"0.0000 "}},{"$nulls":7},{"v":0,"d":"0.00"},{"$nulls":6},{"$f":"IF(AJ92=\"fiets\",'km-vergoeding'!$D$3,0)","v":{"v":0,"d":"0.00"}},{"$nulls":7},{"v":0,"d":"0.00"},{"$nulls":12},{"v":0,"d":"0.00"},{"$nulls":5},{"v":0,"d":"0.00"},{"$nulls":5},"","",null,"","","",{"v":0,"d":"0.00"},null,""]
["","","",{"$nulls":51},{"$f":"IF(AJ93=\"auto\",IF(AND((D93>'km-vergoeding'!$A$4),(D93<'km-vergoeding'!$A$5)),'km-vergoeding'!$D$4,'km-vergoeding'!$D$5),0)","v":{"v":0,"d":"0.0000 "}},{"$nulls":7},{"v":0,"d":"0.00"},{"$nulls":6},{"$f":"IF(AJ93=\"fiets\",'km-vergoeding'!$D$3,0)","v":{"v":0,"d":"0.00"}},{"$nulls":7},{"v":0,"d":"0.00"},{"$nulls":12},{"v":0,"d":"0.00"},{"$nulls":5},{"v":0,"d":"0.00"},{"$nulls":5},"","",null,"","","",{"v":0,"d":"0.00"},null,""]
["","","",{"$nulls":51},{"$f":"IF(AJ94=\"auto\",IF(AND((D94>'km-vergoeding'!$A$4),(D94<'km-vergoeding'!$A$5)),'km-vergoeding'!$D$4,'km-vergoeding'!$D$5),0)","v":{"v":0,"d":"0.0000 "}},{"$nulls":7},{"v":0,"d":"0.00"},{"$nulls":6},{"$f":"IF(AJ94=\"fiets\",'km-vergoeding'!$D$3,0)","v":{"v":0,"d":"0.00"}},{"$nulls":7},{"v":0,"d":"0.00"},{"$nulls":12},{"v":0,"d":"0.00"},{"$nulls":5},{"v":0,"d":"0.00"},{"$nulls":5},"","",null,"","","",{"v":0,"d":"0.00"},null,""]
["","","",{"$nulls":51},{"$f":"IF(AJ95=\"auto\",IF(AND((D95>'km-vergoeding'!$A$4),(D95<'km-vergoeding'!$A$5)),'km-vergoeding'!$D$4,'km-vergoeding'!$D$5),0)","v":{"v":0,"d":"0.0000 "}},{"$nulls":7},{"v":0,"d":"0.00"},{"$nulls":6},{"$f":"IF(AJ95=\"fiets\",'km-vergoeding'!$D$3,0)","v":{"v":0,"d":"0.00"}},{"$nulls":7},{"v":0,"d":"0.00"},{"$nulls":12},{"v":0,"d":"0.00"},{"$nulls":5},{"v":0,"d":"0.00"},{"$nulls":5},"","",null,"","","",{"v":0,"d":"0.00"},null,""]
["","","",{"$nulls":51},{"$f":"IF(AJ96=\"auto\",IF(AND((D96>'km-vergoeding'!$A$4),(D96<'km-vergoeding'!$A$5)),'km-vergoeding'!$D$4,'km-vergoeding'!$D$5),0)","v":{"v":0,"d":"0.0000 "}},{"$nulls":7},{"v":0,"d":"0.00"},{"$nulls":6},{"$f":"IF(AJ96=\"fiets\",'km-vergoeding'!$D$3,0)","v":{"v":0,"d":"0.00"}},{"$nulls":7},{"v":0,"d":"0.00"},{"$nulls":12},{"v":0,"d":"0.00"},{"$nulls":5},{"v":0,"d":"0.00"},{"$nulls":5},"","",null,"","","",{"v":0,"d":"0.00"},null,""]
["","","",{"$nulls":51},{"$f":"IF(AJ97=\"auto\",IF(AND((D97>'km-vergoeding'!$A$4),(D97<'km-vergoeding'!$A$5)),'km-vergoeding'!$D$4,'km-vergoeding'!$D$5),0)","v":{"v":0,"d":"0.0000 "}},{"$nulls":7},{"v":0,"d":"0.00"},{"$nulls":6},{"$f":"IF(AJ97=\"fiets\",'km-vergoeding'!$D$3,0)","v":{"v":0,"d":"0.00"}},{"$nulls":7},{"v":0,"d":"0.00"},{"$nulls":12},{"v":0,"d":"0.00"},{"$nulls":5},{"v":0,"d":"0.00"},{"$nulls":5},"","",null,"","","",{"v":0,"d":"0.00"},null,""]
["","","",{"$nulls":51},{"$f":"IF(AJ98=\"auto\",IF(AND((D98>'km-vergoeding'!$A$4),(D98<'km-vergoeding'!$A$5)),'km-vergoeding'!$D$4,'km-vergoeding'!$D$5),0)","v":{"v":0,"d":"0.0000 "}},{"$nulls":7},{"v":0,"d":"0.00"},{"$nulls":6},{"$f":"IF(AJ98=\"fiets\",'km-vergoeding'!$D$3,0)","v":{"v":0,"d":"0.00"}},{"$nulls":7},{"v":0,"d":"0.00"},{"$nulls":12},{"v":0,"d":"0.00"},{"$nulls":5},{"v":0,"d":"0.00"},{"$nulls":5},"","",null,"","","",{"v":0,"d":"0.00"},null,""]
["","","",{"$nulls":51},{"$f":"IF(AJ99=\"auto\",IF(AND((D99>'km-vergoeding'!$A$4),(D99<'km-vergoeding'!$A$5)),'km-vergoeding'!$D$4,'km-vergoeding'!$D$5),0)","v":{"v":0,"d":"0.0000 "}},{"$nulls":7},{"v":0,"d":"0.00"},{"$nulls":6},{"$f":"IF(AJ99=\"fiets\",'km-vergoeding'!$D$3,0)","v":{"v":0,"d":"0.00"}},{"$nulls":7},{"v":0,"d":"0.00"},{"$nulls":12},{"v":0,"d":"0.00"},{"$nulls":5},{"v":0,"d":"0.00"},{"$nulls":5},"","",null,"","","",{"v":0,"d":"0.00"},null,""]
["","","",{"$nulls":51},{"$f":"IF(AJ100=\"auto\",IF(AND((D100>'km-vergoeding'!$A$4),(D100<'km-vergoeding'!$A$5)),'km-vergoeding'!$D$4,'km-vergoeding'!$D$5),0)","v":{"v":0,"d":"0.0000 "}},{"$nulls":7},{"v":0,"d":"0.00"},{"$nulls":6},{"$f":"IF(AJ100=\"fiets\",'km-vergoeding'!$D$3,0)","v":{"v":0,"d":"0.00"}},{"$nulls":7},{"v":0,"d":"0.00"},{"$nulls":12},{"v":0,"d":"0.00"},{"$nulls":5},{"v":0,"d":"0.00"},{"$nulls":5},"","",null,"","","",{"v":0,"d":"0.00"},null,""]
["","","",{"$nulls":51},{"$f":"IF(AJ101=\"auto\",IF(AND((D101>'km-vergoeding'!$A$4),(D101<'km-vergoeding'!$A$5)),'km-vergoeding'!$D$4,'km-vergoeding'!$D$5),0)","v":{"v":0,"d":"0.0000 "}},{"$nulls":7},{"v":0,"d":"0.00"},{"$nulls":6},{"$f":"IF(AJ101=\"fiets\",'km-vergoeding'!$D$3,0)","v":{"v":0,"d":"0.00"}},{"$nulls":7},{"v":0,"d":"0.00"},{"$nulls":12},{"v":0,"d":"0.00"},{"$nulls":5},{"v":0,"d":"0.00"},{"$nulls":5},"","",null,"","","",{"v":0,"d":"0.00"},null,""]
["","","",{"$nulls":51},{"$f":"IF(AJ102=\"auto\",IF(AND((D102>'km-vergoeding'!$A$4),(D102<'km-vergoeding'!$A$5)),'km-vergoeding'!$D$4,'km-vergoeding'!$D$5),0)","v":{"v":0,"d":"0.0000 "}},{"$nulls":7},{"v":0,"d":"0.00"},{"$nulls":6},{"$f":"IF(AJ102=\"fiets\",'km-vergoeding'!$D$3,0)","v":{"v":0,"d":"0.00"}},{"$nulls":7},{"v":0,"d":"0.00"},{"$nulls":12},{"v":0,"d":"0.00"},{"$nulls":5},{"v":0,"d":"0.00"},{"$nulls":5},"","",null,"","","",{"v":0,"d":"0.00"},null,""]
["","","",{"$nulls":51},{"$f":"IF(AJ103=\"auto\",IF(AND((D103>'km-vergoeding'!$A$4),(D103<'km-vergoeding'!$A$5)),'km-vergoeding'!$D$4,'km-vergoeding'!$D$5),0)","v":{"v":0,"d":"0.0000 "}},{"$nulls":7},{"$f":"IF(AJ103=\"auto\",ROUND(AR103*AY103*BC103,2),0)","v":{"v":0,"d":"0.00"}},{"$nulls":6},{"$f":"IF(AJ103=\"fiets\",'km-vergoeding'!$D$3,0)","v":{"v":0,"d":"0.00"}},{"$nulls":7},{"$f":"IF(AJ103=\"fiets\",ROUND(AR103*AY103*BR103,2),0)","v":{"v":0,"d":"0.00"}},{"$nulls":12},{"$f":"IF(AND(OR((AJ103=\"fiets\"),(AJ103=\"auto\")),(CG103>0)),\"xxxx\",BK103+BZ103+CG103)","v":{"v":0,"d":"0.00"}},{"$nulls":5},{"v":0,"d":"0.00"},{"$nulls":5},"","",null,"","","",{"v":0,"d":"0.00"},null,""]
["","","",{"$nulls":51},{"$f":"IF(AJ104=\"auto\",IF(AND((D104>'km-vergoeding'!$A$4),(D104<'km-vergoeding'!$A$5)),'km-vergoeding'!$D$4,'km-vergoeding'!$D$5),0)","v":{"v":0,"d":"0.0000 "}},{"$nulls":7},{"v":0,"d":"0.00"},{"$nulls":6},{"$f":"IF(AJ104=\"fiets\",'km-vergoeding'!$D$3,0)","v":{"v":0,"d":"0.00"}},{"$nulls":7},{"v":0,"d":"0.00"},{"$nulls":12},{"v":0,"d":"0.00"},{"$nulls":5},{"v":0,"d":"0.00"},{"$nulls":5},"","",null,"","","",{"v":0,"d":"0.00"},null,""]
["","","",{"$nulls":51},{"$f":"IF(AJ105=\"auto\",IF(AND((D105>'km-vergoeding'!$A$4),(D105<'km-vergoeding'!$A$5)),'km-vergoeding'!$D$4,'km-vergoeding'!$D$5),0)","v":{"v":0,"d":"0.0000 "}},{"$nulls":7},{"v":0,"d":"0.00"},{"$nulls":6},{"$f":"IF(AJ105=\"fiets\",'km-vergoeding'!$D$3,0)","v":{"v":0,"d":"0.00"}},{"$nulls":7},{"v":0,"d":"0.00"},{"$nulls":12},{"v":0,"d":"0.00"},{"$nulls":5},{"v":0,"d":"0.00"},{"$nulls":5},"","",null,"","","",{"v":0,"d":"0.00"},null,""]
["","","",{"$nulls":51},{"$f":"IF(AJ106=\"auto\",IF(AND((D106>'km-vergoeding'!$A$4),(D106<'km-vergoeding'!$A$5)),'km-vergoeding'!$D$4,'km-vergoeding'!$D$5),0)","v":{"v":0,"d":"0.0000 "}},{"$nulls":7},{"v":0,"d":"0.00"},{"$nulls":6},{"$f":"IF(AJ106=\"fiets\",'km-vergoeding'!$D$3,0)","v":{"v":0,"d":"0.00"}},{"$nulls":7},{"v":0,"d":"0.00"},{"$nulls":12},{"v":0,"d":"0.00"},{"$nulls":5},{"v":0,"d":"0.00"},{"$nulls":5},"","",null,"","","",{"v":0,"d":"0.00"},null,""]
["","","",{"$nulls":51},{"$f":"IF(AJ107=\"auto\",IF(AND((D107>'km-vergoeding'!$A$4),(D107<'km-vergoeding'!$A$5)),'km-vergoeding'!$D$4,'km-vergoeding'!$D$5),0)","v":{"v":0,"d":"0.0000 "}},{"$nulls":7},{"v":0,"d":"0.00"},{"$nulls":6},{"$f":"IF(AJ107=\"fiets\",'km-vergoeding'!$D$3,0)","v":{"v":0,"d":"0.00"}},{"$nulls":7},{"v":0,"d":"0.00"},{"$nulls":12},{"v":0,"d":"0.00"},{"$nulls":5},{"v":0,"d":"0.00"},{"$nulls":5},"","",null,"","","",{"v":0,"d":"0.00"},null,""]
["","","",{"$nulls":51},{"$f":"IF(AJ108=\"auto\",IF(AND((D108>'km-vergoeding'!$A$4),(D108<'km-vergoeding'!$A$5)),'km-vergoeding'!$D$4,'km-vergoeding'!$D$5),0)","v":{"v":0,"d":"0.0000 "}},{"$nulls":7},{"v":0,"d":"0.00"},{"$nulls":6},{"$f":"IF(AJ108=\"fiets\",'km-vergoeding'!$D$3,0)","v":{"v":0,"d":"0.00"}},{"$nulls":7},{"v":0,"d":"0.00"},{"$nulls":12},{"v":0,"d":"0.00"},{"$nulls":5},{"v":0,"d":"0.00"},{"$nulls":5},"","",null,"","","",{"v":0,"d":"0.00"},null,""]
["","","",{"$nulls":51},{"$f":"IF(AJ109=\"auto\",IF(AND((D109>'km-vergoeding'!$A$4),(D109<'km-vergoeding'!$A$5)),'km-vergoeding'!$D$4,'km-vergoeding'!$D$5),0)","v":{"v":0,"d":"0.0000 "}},{"$nulls":7},{"v":0,"d":"0.00"},{"$nulls":6},{"$f":"IF(AJ109=\"fiets\",'km-vergoeding'!$D$3,0)","v":{"v":0,"d":"0.00"}},{"$nulls":7},{"v":0,"d":"0.00"},{"$nulls":12},{"v":0,"d":"0.00"},{"$nulls":5},{"v":0,"d":"0.00"},{"$nulls":5},"","",null,"","","",{"v":0,"d":"0.00"},null,""]
["","","",{"$nulls":51},{"$f":"IF(AJ110=\"auto\",IF(AND((D110>'km-vergoeding'!$A$4),(D110<'km-vergoeding'!$A$5)),'km-vergoeding'!$D$4,'km-vergoeding'!$D$5),0)","v":{"v":0,"d":"0.0000 "}},{"$nulls":7},{"v":0,"d":"0.00"},{"$nulls":6},{"$f":"IF(AJ110=\"fiets\",'km-vergoeding'!$D$3,0)","v":{"v":0,"d":"0.00"}},{"$nulls":7},{"v":0,"d":"0.00"},{"$nulls":12},{"v":0,"d":"0.00"},{"$nulls":5},{"v":0,"d":"0.00"},{"$nulls":5},"","",null,"","","",{"v":0,"d":"0.00"},null,""]
["","","",{"$nulls":51},{"$f":"IF(AJ111=\"auto\",IF(AND((D111>'km-vergoeding'!$A$4),(D111<'km-vergoeding'!$A$5)),'km-vergoeding'!$D$4,'km-vergoeding'!$D$5),0)","v":{"v":0,"d":"0.0000 "}},{"$nulls":7},{"v":0,"d":"0.00"},{"$nulls":6},{"$f":"IF(AJ111=\"fiets\",'km-vergoeding'!$D$3,0)","v":{"v":0,"d":"0.00"}},{"$nulls":7},{"v":0,"d":"0.00"},{"$nulls":12},{"v":0,"d":"0.00"},{"$nulls":5},{"v":0,"d":"0.00"},{"$nulls":5},"","",null,"","","",{"v":0,"d":"0.00"},null,""]
["","","",{"$nulls":51},{"$f":"IF(AJ112=\"auto\",IF(AND((D112>'km-vergoeding'!$A$4),(D112<'km-vergoeding'!$A$5)),'km-vergoeding'!$D$4,'km-vergoeding'!$D$5),0)","v":{"v":0,"d":"0.0000 "}},{"$nulls":7},{"v":0,"d":"0.00"},{"$nulls":6},{"$f":"IF(AJ112=\"fiets\",'km-vergoeding'!$D$3,0)","v":{"v":0,"d":"0.00"}},{"$nulls":7},{"v":0,"d":"0.00"},{"$nulls":12},{"v":0,"d":"0.00"},{"$nulls":5},{"v":0,"d":"0.00"},{"$nulls":5},"","",null,"","","",{"v":0,"d":"0.00"},null,""]
["","","",{"$nulls":51},{"$f":"IF(AJ113=\"auto\",IF(AND((D113>'km-vergoeding'!$A$4),(D113<'km-vergoeding'!$A$5)),'km-vergoeding'!$D$4,'km-vergoeding'!$D$5),0)","v":{"v":0,"d":"0.0000 "}},{"$nulls":7},{"v":0,"d":"0.00"},{"$nulls":6},{"$f":"IF(AJ113=\"fiets\",'km-vergoeding'!$D$3,0)","v":{"v":0,"d":"0.00"}},{"$nulls":7},{"v":0,"d":"0.00"},{"$nulls":12},{"v":0,"d":"0.00"},{"$nulls":5},{"v":0,"d":"0.00"},{"$nulls":5},"","",null,"","","",{"v":0,"d":"0.00"},null,""]
["","","",{"$nulls":51},{"$f":"IF(AJ114=\"auto\",IF(AND((D114>'km-vergoeding'!$A$4),(D114<'km-vergoeding'!$A$5)),'km-vergoeding'!$D$4,'km-vergoeding'!$D$5),0)","v":{"v":0,"d":"0.0000 "}},{"$nulls":7},{"v":0,"d":"0.00"},{"$nulls":6},{"$f":"IF(AJ114=\"fiets\",'km-vergoeding'!$D$3,0)","v":{"v":0,"d":"0.00"}},{"$nulls":7},{"v":0,"d":"0.00"},{"$nulls":12},{"v":0,"d":"0.00"},{"$nulls":5},{"v":0,"d":"0.00"},{"$nulls":5},"","",null,"","","",{"v":0,"d":"0.00"},null,""]
["","","",{"$nulls":51},{"$f":"IF(AJ115=\"auto\",IF(AND((D115>'km-vergoeding'!$A$4),(D115<'km-vergoeding'!$A$5)),'km-vergoeding'!$D$4,'km-vergoeding'!$D$5),0)","v":{"v":0,"d":"0.0000 "}},{"$nulls":7},{"v":0,"d":"0.00"},{"$nulls":6},{"$f":"IF(AJ115=\"fiets\",'km-vergoeding'!$D$3,0)","v":{"v":0,"d":"0.00"}},{"$nulls":7},{"v":0,"d":"0.00"},{"$nulls":12},{"v":0,"d":"0.00"},{"$nulls":5},{"v":0,"d":"0.00"},{"$nulls":5},"","",null,"","","",{"v":0,"d":"0.00"},null,""]
["","","",{"$nulls":51},{"$f":"IF(AJ116=\"auto\",IF(AND((D116>'km-vergoeding'!$A$4),(D116<'km-vergoeding'!$A$5)),'km-vergoeding'!$D$4,'km-vergoeding'!$D$5),0)","v":{"v":0,"d":"0.0000 "}},{"$nulls":7},{"v":0,"d":"0.00"},{"$nulls":6},{"$f":"IF(AJ116=\"fiets\",'km-vergoeding'!$D$3,0)","v":{"v":0,"d":"0.00"}},{"$nulls":7},{"v":0,"d":"0.00"},{"$nulls":12},{"v":0,"d":"0.00"},{"$nulls":5},{"v":0,"d":"0.00"},{"$nulls":5},"","",null,"","","",{"v":0,"d":"0.00"},null,""]
["","","",{"$nulls":51},{"$f":"IF(AJ117=\"auto\",IF(AND((D117>'km-vergoeding'!$A$4),(D117<'km-vergoeding'!$A$5)),'km-vergoeding'!$D$4,'km-vergoeding'!$D$5),0)","v":{"v":0,"d":"0.0000 "}},{"$nulls":7},{"v":0,"d":"0.00"},{"$nulls":6},{"$f":"IF(AJ117=\"fiets\",'km-vergoeding'!$D$3,0)","v":{"v":0,"d":"0.00"}},{"$nulls":7},{"v":0,"d":"0.00"},{"$nulls":12},{"v":0,"d":"0.00"},{"$nulls":5},{"v":0,"d":"0.00"},{"$nulls":5},"","",null,"","","",{"v":0,"d":"0.00"},null,""]
["","","",{"$nulls":51},{"$f":"IF(AJ118=\"auto\",IF(AND((D118>'km-vergoeding'!$A$4),(D118<'km-vergoeding'!$A$5)),'km-vergoeding'!$D$4,'km-vergoeding'!$D$5),0)","v":{"v":0,"d":"0.0000 "}},{"$nulls":7},{"v":0,"d":"0.00"},{"$nulls":6},{"$f":"IF(AJ118=\"fiets\",'km-vergoeding'!$D$3,0)","v":{"v":0,"d":"0.00"}},{"$nulls":7},{"v":0,"d":"0.00"},{"$nulls":12},{"v":0,"d":"0.00"},{"$nulls":5},{"v":0,"d":"0.00"},{"$nulls":5},"","",null,"","","",{"v":0,"d":"0.00"},null,""]
["","","",{"$nulls":51},{"$f":"IF(AJ119=\"auto\",IF(AND((D119>'km-vergoeding'!$A$4),(D119<'km-vergoeding'!$A$5)),'km-vergoeding'!$D$4,'km-vergoeding'!$D$5),0)","v":{"v":0,"d":"0.0000 "}},{"$nulls":7},{"v":0,"d":"0.00"},{"$nulls":6},{"$f":"IF(AJ119=\"fiets\",'km-vergoeding'!$D$3,0)","v":{"v":0,"d":"0.00"}},{"$nulls":7},{"v":0,"d":"0.00"},{"$nulls":12},{"v":0,"d":"0.00"},{"$nulls":5},{"v":0,"d":"0.00"},{"$nulls":5},"","",null,"","","",{"v":0,"d":"0.00"},null,""]
["","","",{"$nulls":51},{"$f":"IF(AJ120=\"auto\",IF(AND((D120>'km-vergoeding'!$A$4),(D120<'km-vergoeding'!$A$5)),'km-vergoeding'!$D$4,'km-vergoeding'!$D$5),0)","v":{"v":0,"d":"0.0000 "}},{"$nulls":7},{"v":0,"d":"0.00"},{"$nulls":6},{"$f":"IF(AJ120=\"fiets\",'km-vergoeding'!$D$3,0)","v":{"v":0,"d":"0.00"}},{"$nulls":7},{"v":0,"d":"0.00"},{"$nulls":12},{"v":0,"d":"0.00"},{"$nulls":5},{"v":0,"d":"0.00"},{"$nulls":5},"","",null,"","","",{"v":0,"d":"0.00"},null,""]
["","","",{"$nulls":51},{"$f":"IF(AJ121=\"auto\",IF(AND((D121>'km-vergoeding'!$A$4),(D121<'km-vergoeding'!$A$5)),'km-vergoeding'!$D$4,'km-vergoeding'!$D$5),0)","v":{"v":0,"d":"0.0000 "}},{"$nulls":7},{"v":0,"d":"0.00"},{"$nulls":6},{"$f":"IF(AJ121=\"fiets\",'km-vergoeding'!$D$3,0)","v":{"v":0,"d":"0.00"}},{"$nulls":7},{"v":0,"d":"0.00"},{"$nulls":12},{"v":0,"d":"0.00"},{"$nulls":5},{"v":0,"d":"0.00"},{"$nulls":5},"","",null,"","","",{"v":0,"d":"0.00"},null,""]
["","","",{"$nulls":51},{"$f":"IF(AJ122=\"auto\",IF(AND((D122>'km-vergoeding'!$A$4),(D122<'km-vergoeding'!$A$5)),'km-vergoeding'!$D$4,'km-vergoeding'!$D$5),0)","v":{"v":0,"d":"0.0000 "}},{"$nulls":7},{"v":0,"d":"0.00"},{"$nulls":6},{"$f":"IF(AJ122=\"fiets\",'km-vergoeding'!$D$3,0)","v":{"v":0,"d":"0.00"}},{"$nulls":7},{"v":0,"d":"0.00"},{"$nulls":12},{"v":0,"d":"0.00"},{"$nulls":5},{"v":0,"d":"0.00"},{"$nulls":5},"","",null,"","","",{"v":0,"d":"0.00"},null,""]
["","","",{"$nulls":51},{"$f":"IF(AJ123=\"auto\",IF(AND((D123>'km-vergoeding'!$A$4),(D123<'km-vergoeding'!$A$5)),'km-vergoeding'!$D$4,'km-vergoeding'!$D$5),0)","v":{"v":0,"d":"0.0000 "}},{"$nulls":7},{"v":0,"d":"0.00"},{"$nulls":6},{"$f":"IF(AJ123=\"fiets\",'km-vergoeding'!$D$3,0)","v":{"v":0,"d":"0.00"}},{"$nulls":7},{"v":0,"d":"0.00"},{"$nulls":12},{"v":0,"d":"0.00"},{"$nulls":5},{"v":0,"d":"0.00"},{"$nulls":5},"","",null,"","","",{"v":0,"d":"0.00"},null,""]
["","","",{"$nulls":51},{"$f":"IF(AJ124=\"auto\",IF(AND((D124>'km-vergoeding'!$A$4),(D124<'km-vergoeding'!$A$5)),'km-vergoeding'!$D$4,'km-vergoeding'!$D$5),0)","v":{"v":0,"d":"0.0000 "}},{"$nulls":7},{"v":0,"d":"0.00"},{"$nulls":6},{"$f":"IF(AJ124=\"fiets\",'km-vergoeding'!$D$3,0)","v":{"v":0,"d":"0.00"}},{"$nulls":7},{"v":0,"d":"0.00"},{"$nulls":12},{"v":0,"d":"0.00"},{"$nulls":5},{"v":0,"d":"0.00"},{"$nulls":5},"","",null,"","","",{"v":0,"d":"0.00"},null,""]
["","","",{"$nulls":51},{"$f":"IF(AJ125=\"auto\",IF(AND((D125>'km-vergoeding'!$A$4),(D125<'km-vergoeding'!$A$5)),'km-vergoeding'!$D$4,'km-vergoeding'!$D$5),0)","v":{"v":0,"d":"0.0000 "}},{"$nulls":7},{"v":0,"d":"0.00"},{"$nulls":6},{"$f":"IF(AJ125=\"fiets\",'km-vergoeding'!$D$3,0)","v":{"v":0,"d":"0.00"}},{"$nulls":7},{"v":0,"d":"0.00"},{"$nulls":12},{"v":0,"d":"0.00"},{"$nulls":5},{"v":0,"d":"0.00"},{"$nulls":5},"","",null,"","","",{"v":0,"d":"0.00"},null,""]
["","","",{"$nulls":51},{"$f":"IF(AJ126=\"auto\",IF(AND((D126>'km-vergoeding'!$A$4),(D126<'km-vergoeding'!$A$5)),'km-vergoeding'!$D$4,'km-vergoeding'!$D$5),0)","v":{"v":0,"d":"0.0000 "}},{"$nulls":7},{"v":0,"d":"0.00"},{"$nulls":6},{"$f":"IF(AJ126=\"fiets\",'km-vergoeding'!$D$3,0)","v":{"v":0,"d":"0.00"}},{"$nulls":7},{"v":0,"d":"0.00"},{"$nulls":12},{"v":0,"d":"0.00"},{"$nulls":5},{"v":0,"d":"0.00"},{"$nulls":5},"","",null,"","","",{"v":0,"d":"0.00"},null,""]
["","","",{"$nulls":51},{"$f":"IF(AJ127=\"auto\",IF(AND((D127>'km-vergoeding'!$A$4),(D127<'km-vergoeding'!$A$5)),'km-vergoeding'!$D$4,'km-vergoeding'!$D$5),0)","v":{"v":0,"d":"0.0000 "}},{"$nulls":7},{"v":0,"d":"0.00"},{"$nulls":6},{"$f":"IF(AJ127=\"fiets\",'km-vergoeding'!$D$3,0)","v":{"v":0,"d":"0.00"}},{"$nulls":7},{"v":0,"d":"0.00"},{"$nulls":12},{"v":0,"d":"0.00"},{"$nulls":5},{"v":0,"d":"0.00"},{"$nulls":5},"","",null,"","","",{"v":0,"d":"0.00"},null,""]
["","","",{"$nulls":51},{"$f":"IF(AJ128=\"auto\",IF(AND((D128>'km-vergoeding'!$A$4),(D128<'km-vergoeding'!$A$5)),'km-vergoeding'!$D$4,'km-vergoeding'!$D$5),0)","v":{"v":0,"d":"0.0000 "}},{"$nulls":7},{"v":0,"d":"0.00"},{"$nulls":6},{"$f":"IF(AJ128=\"fiets\",'km-vergoeding'!$D$3,0)","v":{"v":0,"d":"0.00"}},{"$nulls":7},{"v":0,"d":"0.00"},{"$nulls":12},{"v":0,"d":"0.00"},{"$nulls":5},{"v":0,"d":"0.00"},{"$nulls":5},"","",null,"","","",{"v":0,"d":"0.00"},null,""]
["","","",{"$nulls":51},{"$f":"IF(AJ129=\"auto\",IF(AND((D129>'km-vergoeding'!$A$4),(D129<'km-vergoeding'!$A$5)),'km-vergoeding'!$D$4,'km-vergoeding'!$D$5),0)","v":{"v":0,"d":"0.0000 "}},{"$nulls":7},{"v":0,"d":"0.00"},{"$nulls":6},{"$f":"IF(AJ129=\"fiets\",'km-vergoeding'!$D$3,0)","v":{"v":0,"d":"0.00"}},{"$nulls":7},{"v":0,"d":"0.00"},{"$nulls":12},{"v":0,"d":"0.00"},{"$nulls":5},{"v":0,"d":"0.00"},{"$nulls":5},"","",null,"","","",{"v":0,"d":"0.00"},null,""]
["","","",{"$nulls":51},{"$f":"IF(AJ130=\"auto\",IF(AND((D130>'km-vergoeding'!$A$4),(D130<'km-vergoeding'!$A$5)),'km-vergoeding'!$D$4,'km-vergoeding'!$D$5),0)","v":{"v":0,"d":"0.0000 "}},{"$nulls":7},{"v":0,"d":"0.00"},{"$nulls":6},{"$f":"IF(AJ130=\"fiets\",'km-vergoeding'!$D$3,0)","v":{"v":0,"d":"0.00"}},{"$nulls":7},{"v":0,"d":"0.00"},{"$nulls":12},{"v":0,"d":"0.00"},{"$nulls":5},{"v":0,"d":"0.00"},{"$nulls":5},"","",null,"","","",{"v":0,"d":"0.00"},null,""]
["","","",{"$nulls":51},{"$f":"IF(AJ131=\"auto\",IF(AND((D131>'km-vergoeding'!$A$4),(D131<'km-vergoeding'!$A$5)),'km-vergoeding'!$D$4,'km-vergoeding'!$D$5),0)","v":{"v":0,"d":"0.0000 "}},{"$nulls":7},{"v":0,"d":"0.00"},{"$nulls":6},{"$f":"IF(AJ131=\"fiets\",'km-vergoeding'!$D$3,0)","v":{"v":0,"d":"0.00"}},{"$nulls":7},{"v":0,"d":"0.00"},{"$nulls":12},{"v":0,"d":"0.00"},{"$nulls":5},{"v":0,"d":"0.00"},{"$nulls":5},"","",null,"","","",{"v":0,"d":"0.00"},null,""]
["","","",{"$nulls":51},{"$f":"IF(AJ132=\"auto\",IF(AND((D132>'km-vergoeding'!$A$4),(D132<'km-vergoeding'!$A$5)),'km-vergoeding'!$D$4,'km-vergoeding'!$D$5),0)","v":{"v":0,"d":"0.0000 "}},{"$nulls":7},{"v":0,"d":"0.00"},{"$nulls":6},{"$f":"IF(AJ132=\"fiets\",'km-vergoeding'!$D$3,0)","v":{"v":0,"d":"0.00"}},{"$nulls":7},{"v":0,"d":"0.00"},{"$nulls":12},{"v":0,"d":"0.00"},{"$nulls":5},{"v":0,"d":"0.00"},{"$nulls":5},"","",null,"","","",{"v":0,"d":"0.00"},null,""]
["","","",{"$nulls":51},{"$f":"IF(AJ133=\"auto\",IF(AND((D133>'km-vergoeding'!$A$4),(D133<'km-vergoeding'!$A$5)),'km-vergoeding'!$D$4,'km-vergoeding'!$D$5),0)","v":{"v":0,"d":"0.0000 "}},{"$nulls":7},{"v":0,"d":"0.00"},{"$nulls":6},{"$f":"IF(AJ133=\"fiets\",'km-vergoeding'!$D$3,0)","v":{"v":0,"d":"0.00"}},{"$nulls":7},{"v":0,"d":"0.00"},{"$nulls":12},{"v":0,"d":"0.00"},{"$nulls":5},{"v":0,"d":"0.00"},{"$nulls":5},"","",null,"","","",{"v":0,"d":"0.00"},null,""]
["","","",{"$nulls":51},{"$f":"IF(AJ134=\"auto\",IF(AND((D134>'km-vergoeding'!$A$4),(D134<'km-vergoeding'!$A$5)),'km-vergoeding'!$D$4,'km-vergoeding'!$D$5),0)","v":{"v":0,"d":"0.0000 "}},{"$nulls":7},{"v":0,"d":"0.00"},{"$nulls":6},{"$f":"IF(AJ134=\"fiets\",'km-vergoeding'!$D$3,0)","v":{"v":0,"d":"0.00"}},{"$nulls":7},{"v":0,"d":"0.00"},{"$nulls":12},{"v":0,"d":"0.00"},{"$nulls":5},{"v":0,"d":"0.00"},{"$nulls":5},"","",null,"","","",{"v":0,"d":"0.00"},null,""]
["","","",{"$nulls":51},{"$f":"IF(AJ135=\"auto\",IF(AND((D135>'km-vergoeding'!$A$4),(D135<'km-vergoeding'!$A$5)),'km-vergoeding'!$D$4,'km-vergoeding'!$D$5),0)","v":{"v":0,"d":"0.0000 "}},{"$nulls":7},{"v":0,"d":"0.00"},{"$nulls":6},{"$f":"IF(AJ135=\"fiets\",'km-vergoeding'!$D$3,0)","v":{"v":0,"d":"0.00"}},{"$nulls":7},{"v":0,"d":"0.00"},{"$nulls":12},{"v":0,"d":"0.00"},{"$nulls":5},{"v":0,"d":"0.00"},{"$nulls":5},"","",null,"","","",{"v":0,"d":"0.00"},null,""]
["","","",{"$nulls":51},{"$f":"IF(AJ136=\"auto\",IF(AND((D136>'km-vergoeding'!$A$4),(D136<'km-vergoeding'!$A$5)),'km-vergoeding'!$D$4,'km-vergoeding'!$D$5),0)","v":{"v":0,"d":"0.0000 "}},{"$nulls":7},{"v":0,"d":"0.00"},{"$nulls":6},{"$f":"IF(AJ136=\"fiets\",'km-vergoeding'!$D$3,0)","v":{"v":0,"d":"0.00"}},{"$nulls":7},{"v":0,"d":"0.00"},{"$nulls":12},{"v":0,"d":"0.00"},{"$nulls":5},{"v":0,"d":"0.00"},{"$nulls":5},"","",null,"","","",{"v":0,"d":"0.00"},null,""]
["","","",{"$nulls":51},{"$f":"IF(AJ137=\"auto\",IF(AND((D137>'km-vergoeding'!$A$4),(D137<'km-vergoeding'!$A$5)),'km-vergoeding'!$D$4,'km-vergoeding'!$D$5),0)","v":{"v":0,"d":"0.0000 "}},{"$nulls":7},{"v":0,"d":"0.00"},{"$nulls":6},{"$f":"IF(AJ137=\"fiets\",'km-vergoeding'!$D$3,0)","v":{"v":0,"d":"0.00"}},{"$nulls":7},{"v":0,"d":"0.00"},{"$nulls":12},{"v":0,"d":"0.00"},{"$nulls":5},{"v":0,"d":"0.00"},{"$nulls":5},"","",null,"","","",{"v":0,"d":"0.00"},null,""]
["","","",{"$nulls":51},{"$f":"IF(AJ138=\"auto\",IF(AND((D138>'km-vergoeding'!$A$4),(D138<'km-vergoeding'!$A$5)),'km-vergoeding'!$D$4,'km-vergoeding'!$D$5),0)","v":{"v":0,"d":"0.0000 "}},{"$nulls":7},{"v":0,"d":"0.00"},{"$nulls":6},{"$f":"IF(AJ138=\"fiets\",'km-vergoeding'!$D$3,0)","v":{"v":0,"d":"0.00"}},{"$nulls":7},{"v":0,"d":"0.00"},{"$nulls":12},{"v":0,"d":"0.00"},{"$nulls":5},{"v":0,"d":"0.00"},{"$nulls":5},"","",null,"","","",{"v":0,"d":"0.00"},null,""]
[{"$f":"IF(OR(AND(D139<>\"\",H139=\"\"),AND(H139<>\"\",R139=\"\"),AND(R139<>\"\",H139=\"\"),AND(R139<>\"\",X139=\"\"),AND(X139<>\"\",R139=\"\")),\"!\",\"\")","v":""},{"$f":"IF(OR(AND(ISBLANK(D139),OR(H139<>\"\",R139<>\"\",X139<>\"\",AJ139<>\"\",AR139<>\"\",AY139<>\"\",CG139<>\"\"))),\"!\",\"\")","v":""},{"$f":"IF(AND(CG139=0,AJ139<>\"openbaar vervoer\",OR(AND(OR(AJ139=\"auto\",AJ139=\"fiets\"),OR(AR139=\"\",AR139=0)),AND(AR139>0,AY139=\"\"),AND(AR139=\"\",AY139>0),AND(AR139>0,AJ139=\"\"))),\"!\",\"\")","v":""},{"$nulls":51},{"$f":"IF(AJ139=\"auto\",IF(AND((D139>'km-vergoeding'!$A$4),(D139<'km-vergoeding'!$A$5)),'km-vergoeding'!$D$4,'km-vergoeding'!$D$5),0)","v":{"v":0,"d":"0.0000 "}},{"$nulls":7},{"v":0,"d":"0.00"},{"$nulls":6},{"$f":"IF(AJ139=\"fiets\",'km-vergoeding'!$D$3,0)","v":{"v":0,"d":"0.00"}},{"$nulls":7},{"v":0,"d":"0.00"},{"$nulls":12},{"v":0,"d":"0.00"},{"$nulls":5},{"v":0,"d":"0.00"},{"$nulls":5},"","",null,"","","",{"v":0,"d":"0.00"},null,{"$f":"IF(AND(A139=\"\",B139=\"\",C139=\"\",CY139=\"\",CZ139=\"\",DB139=\"\",DC139=\"\",DD139=\"\"),\"\",\"Deze rij is nog onvolledig of bevat nog fouten! Zie foutmeldingen boven de tabel.\")","v":""}]
["","","",{"$nulls":51},{"$f":"IF(AJ140=\"auto\",IF(AND((D140>'km-vergoeding'!$A$4),(D140<'km-vergoeding'!$A$5)),'km-vergoeding'!$D$4,'km-vergoeding'!$D$5),0)","v":{"v":0,"d":"0.0000 "}},{"$nulls":7},{"v":0,"d":"0.00"},{"$nulls":6},{"$f":"IF(AJ140=\"fiets\",'km-vergoeding'!$D$3,0)","v":{"v":0,"d":"0.00"}},{"$nulls":7},{"v":0,"d":"0.00"},{"$nulls":12},{"v":0,"d":"0.00"},{"$nulls":5},{"$f":"IF(CM140=0,0,IF(CM141=0,DE140,0))","v":{"v":0,"d":"0.00"}},{"$nulls":5},{"$f":"IF(AND(OR((AJ140=\"fiets\"),(AJ140=\"auto\")),(CG140>0)),\"!\",\"\")","v":""},{"$f":"IF(OR(AND(D139<>\"\",D140=\"\",D141<>\"\"),AND(D139=\"\",D140=\"\",D141<>\"\")),\"!\",\"\")","v":""},null,{"$f":"IF(AND(AJ140=\"openbaar vervoer\",OR(AR140<>\"\",AY140<>\"\")),\"!\",\"\")","v":""},{"$f":"IF(AND(X140<>\"\",AND(AJ140=\"\",CM140=0)),\"!\",\"\")","v":""},{"$f":"IF(OR(AND(AJ140=\"openbaar vervoer\",CG140=0),AND(CG140>0,AJ140=\"\")),\"!\",\"\")","v":""},{"v":0,"d":"0.00"},null,""]
["","","",{"$nulls":51},{"$f":"IF(AJ141=\"auto\",IF(AND((D141>'km-vergoeding'!$A$4),(D141<'km-vergoeding'!$A$5)),'km-vergoeding'!$D$4,'km-vergoeding'!$D$5),0)","v":{"v":0,"d":"0.0000 "}},{"$nulls":7},{"v":0,"d":"0.00"},{"$nulls":6},{"$f":"IF(AJ141=\"fiets\",'km-vergoeding'!$D$3,0)","v":{"v":0,"d":"0.00"}},{"$nulls":7},{"v":0,"d":"0.00"},{"$nulls":12},{"v":0,"d":"0.00"},{"$nulls":5},{"v":0,"d":"0.00"},{"$nulls":5},"","",null,"","","",{"$f":"IF(CM141=0,DE140,DE140+CM141)","v":{"v":0,"d":"0.00"}},null,""]
["","","",{"$nulls":51},{"$f":"IF(AJ142=\"auto\",IF(AND((D142>'km-vergoeding'!$A$4),(D142<'km-vergoeding'!$A$5)),'km-vergoeding'!$D$4,'km-vergoeding'!$D$5),0)","v":{"v":0,"d":"0.0000 "}},{"$nulls":7},{"$f":"IF(AJ142=\"auto\",ROUND(AR142*AY142*BC142,2),0)","v":{"v":0,"d":"0.00"}},{"$nulls":6},{"$f":"IF(AJ142=\"fiets\",'km-vergoeding'!$D$3,0)","v":{"v":0,"d":"0.00"}},{"$nulls":7},{"$f":"IF(AJ142=\"fiets\",ROUND(AR142*AY142*BR142,2),0)","v":{"v":0,"d":"0.00"}},{"$nulls":12},{"$f":"IF(AND(OR((AJ142=\"fiets\"),(AJ142=\"auto\")),(CG142>0)),\"xxxx\",BK142+BZ142+CG142)","v":{"v":0,"d":"0.00"}},{"$nulls":5},{"v":0,"d":"0.00"},{"$nulls":5},"","",null,"","","",{"v":0,"d":"0.00"},null,""]
["","","",{"$nulls":51},{"$f":"IF(AJ143=\"auto\",IF(AND((D143>'km-vergoeding'!$A$4),(D143<'km-vergoeding'!$A$5)),'km-vergoeding'!$D$4,'km-vergoeding'!$D$5),0)","v":{"v":0,"d":"0.0000 "}},{"$nulls":7},{"v":0,"d":"0.00"},{"$nulls":6},{"$f":"IF(AJ143=\"fiets\",'km-vergoeding'!$D$3,0)","v":{"v":0,"d":"0.00"}},{"$nulls":7},{"v":0,"d":"0.00"},{"$nulls":12},{"v":0,"d":"0.00"},{"$nulls":5},{"v":0,"d":"0.00"},{"$nulls":5},"","",null,"","","",{"v":0,"d":"0.00"},null,""]
["","","",{"$nulls":51},{"$f":"IF(AJ144=\"auto\",IF(AND((D144>'km-vergoeding'!$A$4),(D144<'km-vergoeding'!$A$5)),'km-vergoeding'!$D$4,'km-vergoeding'!$D$5),0)","v":{"v":0,"d":"0.0000 "}},{"$nulls":7},{"v":0,"d":"0.00"},{"$nulls":6},{"$f":"IF(AJ144=\"fiets\",'km-vergoeding'!$D$3,0)","v":{"v":0,"d":"0.00"}},{"$nulls":7},{"v":0,"d":"0.00"},{"$nulls":12},{"v":0,"d":"0.00"},{"$nulls":5},{"v":0,"d":"0.00"},{"$nulls":5},"","",null,"","","",{"v":0,"d":"0.00"},null,""]
["","","",{"$nulls":51},{"$f":"IF(AJ145=\"auto\",IF(AND((D145>'km-vergoeding'!$A$4),(D145<'km-vergoeding'!$A$5)),'km-vergoeding'!$D$4,'km-vergoeding'!$D$5),0)","v":{"v":0,"d":"0.0000 "}},{"$nulls":7},{"v":0,"d":"0.00"},{"$nulls":6},{"$f":"IF(AJ145=\"fiets\",'km-vergoeding'!$D$3,0)","v":{"v":0,"d":"0.00"}},{"$nulls":7},{"v":0,"d":"0.00"},{"$nulls":12},{"v":0,"d":"0.00"},{"$nulls":5},{"v":0,"d":"0.00"},{"$nulls":5},"","",null,"","","",{"v":0,"d":"0.00"},null,""]
["","","",{"$nulls":51},{"$f":"IF(AJ146=\"auto\",IF(AND((D146>'km-vergoeding'!$A$4),(D146<'km-vergoeding'!$A$5)),'km-vergoeding'!$D$4,'km-vergoeding'!$D$5),0)","v":{"v":0,"d":"0.0000 "}},{"$nulls":7},{"v":0,"d":"0.00"},{"$nulls":6},{"$f":"IF(AJ146=\"fiets\",'km-vergoeding'!$D$3,0)","v":{"v":0,"d":"0.00"}},{"$nulls":7},{"v":0,"d":"0.00"},{"$nulls":12},{"v":0,"d":"0.00"},{"$nulls":5},{"v":0,"d":"0.00"},{"$nulls":5},"","",null,"","","",{"v":0,"d":"0.00"},null,""]
["","","",{"$nulls":51},{"$f":"IF(AJ147=\"auto\",IF(AND((D147>'km-vergoeding'!$A$4),(D147<'km-vergoeding'!$A$5)),'km-vergoeding'!$D$4,'km-vergoeding'!$D$5),0)","v":{"v":0,"d":"0.0000 "}},{"$nulls":7},{"v":0,"d":"0.00"},{"$nulls":6},{"$f":"IF(AJ147=\"fiets\",'km-vergoeding'!$D$3,0)","v":{"v":0,"d":"0.00"}},{"$nulls":7},{"v":0,"d":"0.00"},{"$nulls":12},{"v":0,"d":"0.00"},{"$nulls":5},{"v":0,"d":"0.00"},{"$nulls":5},"","",null,"","","",{"v":0,"d":"0.00"},null,""]
["","","",{"$nulls":51},{"$f":"IF(AJ148=\"auto\",IF(AND((D148>'km-vergoeding'!$A$4),(D148<'km-vergoeding'!$A$5)),'km-vergoeding'!$D$4,'km-vergoeding'!$D$5),0)","v":{"v":0,"d":"0.0000 "}},{"$nulls":7},{"v":0,"d":"0.00"},{"$nulls":6},{"$f":"IF(AJ148=\"fiets\",'km-vergoeding'!$D$3,0)","v":{"v":0,"d":"0.00"}},{"$nulls":7},{"v":0,"d":"0.00"},{"$nulls":12},{"v":0,"d":"0.00"},{"$nulls":5},{"v":0,"d":"0.00"},{"$nulls":5},"","",null,"","","",{"v":0,"d":"0.00"},null,""]
["","","",{"$nulls":51},{"$f":"IF(AJ149=\"auto\",IF(AND((D149>'km-vergoeding'!$A$4),(D149<'km-vergoeding'!$A$5)),'km-vergoeding'!$D$4,'km-vergoeding'!$D$5),0)","v":{"v":0,"d":"0.0000 "}},{"$nulls":7},{"v":0,"d":"0.00"},{"$nulls":6},{"$f":"IF(AJ149=\"fiets\",'km-vergoeding'!$D$3,0)","v":{"v":0,"d":"0.00"}},{"$nulls":7},{"v":0,"d":"0.00"},{"$nulls":12},{"v":0,"d":"0.00"},{"$nulls":5},{"v":0,"d":"0.00"},{"$nulls":5},"","",null,"","","",{"v":0,"d":"0.00"},null,""]
["","","",{"$nulls":51},{"$f":"IF(AJ150=\"auto\",IF(AND((D150>'km-vergoeding'!$A$4),(D150<'km-vergoeding'!$A$5)),'km-vergoeding'!$D$4,'km-vergoeding'!$D$5),0)","v":{"v":0,"d":"0.0000 "}},{"$nulls":7},{"v":0,"d":"0.00"},{"$nulls":6},{"$f":"IF(AJ150=\"fiets\",'km-vergoeding'!$D$3,0)","v":{"v":0,"d":"0.00"}},{"$nulls":7},{"v":0,"d":"0.00"},{"$nulls":12},{"v":0,"d":"0.00"},{"$nulls":5},{"v":0,"d":"0.00"},{"$nulls":5},"","",null,"","","",{"v":0,"d":"0.00"},null,""]
["","","",{"$nulls":51},{"$f":"IF(AJ151=\"auto\",IF(AND((D151>'km-vergoeding'!$A$4),(D151<'km-vergoeding'!$A$5)),'km-vergoeding'!$D$4,'km-vergoeding'!$D$5),0)","v":{"v":0,"d":"0.0000 "}},{"$nulls":7},{"v":0,"d":"0.00"},{"$nulls":6},{"$f":"IF(AJ151=\"fiets\",'km-vergoeding'!$D$3,0)","v":{"v":0,"d":"0.00"}},{"$nulls":7},{"v":0,"d":"0.00"},{"$nulls":12},{"v":0,"d":"0.00"},{"$nulls":5},{"v":0,"d":"0.00"},{"$nulls":5},"","",null,"","","",{"v":0,"d":"0.00"},null,""]
["","","",{"$nulls":51},{"$f":"IF(AJ152=\"auto\",IF(AND((D152>'km-vergoeding'!$A$4),(D152<'km-vergoeding'!$A$5)),'km-vergoeding'!$D$4,'km-vergoeding'!$D$5),0)","v":{"v":0,"d":"0.0000 "}},{"$nulls":7},{"v":0,"d":"0.00"},{"$nulls":6},{"$f":"IF(AJ152=\"fiets\",'km-vergoeding'!$D$3,0)","v":{"v":0,"d":"0.00"}},{"$nulls":7},{"v":0,"d":"0.00"},{"$nulls":12},{"v":0,"d":"0.00"},{"$nulls":5},{"v":0,"d":"0.00"},{"$nulls":5},"","",null,"","","",{"v":0,"d":"0.00"},null,""]
["","","",{"$nulls":51},{"$f":"IF(AJ153=\"auto\",IF(AND((D153>'km-vergoeding'!$A$4),(D153<'km-vergoeding'!$A$5)),'km-vergoeding'!$D$4,'km-vergoeding'!$D$5),0)","v":{"v":0,"d":"0.0000 "}},{"$nulls":7},{"v":0,"d":"0.00"},{"$nulls":6},{"$f":"IF(AJ153=\"fiets\",'km-vergoeding'!$D$3,0)","v":{"v":0,"d":"0.00"}},{"$nulls":7},{"v":0,"d":"0.00"},{"$nulls":12},{"v":0,"d":"0.00"},{"$nulls":5},{"v":0,"d":"0.00"},{"$nulls":5},"","",null,"","","",{"v":0,"d":"0.00"},null,""]
["","","",{"$nulls":51},{"$f":"IF(AJ154=\"auto\",IF(AND((D154>'km-vergoeding'!$A$4),(D154<'km-vergoeding'!$A$5)),'km-vergoeding'!$D$4,'km-vergoeding'!$D$5),0)","v":{"v":0,"d":"0.0000 "}},{"$nulls":7},{"v":0,"d":"0.00"},{"$nulls":6},{"$f":"IF(AJ154=\"fiets\",'km-vergoeding'!$D$3,0)","v":{"v":0,"d":"0.00"}},{"$nulls":7},{"v":0,"d":"0.00"},{"$nulls":12},{"v":0,"d":"0.00"},{"$nulls":5},{"v":0,"d":"0.00"},{"$nulls":5},"","",null,"","","",{"v":0,"d":"0.00"},null,""]
["","","",{"$nulls":51},{"$f":"IF(AJ155=\"auto\",IF(AND((D155>'km-vergoeding'!$A$4),(D155<'km-vergoeding'!$A$5)),'km-vergoeding'!$D$4,'km-vergoeding'!$D$5),0)","v":{"v":0,"d":"0.0000 "}},{"$nulls":7},{"v":0,"d":"0.00"},{"$nulls":6},{"$f":"IF(AJ155=\"fiets\",'km-vergoeding'!$D$3,0)","v":{"v":0,"d":"0.00"}},{"$nulls":7},{"v":0,"d":"0.00"},{"$nulls":12},{"v":0,"d":"0.00"},{"$nulls":5},{"v":0,"d":"0.00"},{"$nulls":5},"","",null,"","","",{"v":0,"d":"0.00"},null,""]
["","","",{"$nulls":51},{"$f":"IF(AJ156=\"auto\",IF(AND((D156>'km-vergoeding'!$A$4),(D156<'km-vergoeding'!$A$5)),'km-vergoeding'!$D$4,'km-vergoeding'!$D$5),0)","v":{"v":0,"d":"0.0000 "}},{"$nulls":7},{"v":0,"d":"0.00"},{"$nulls":6},{"$f":"IF(AJ156=\"fiets\",'km-vergoeding'!$D$3,0)","v":{"v":0,"d":"0.00"}},{"$nulls":7},{"v":0,"d":"0.00"},{"$nulls":12},{"v":0,"d":"0.00"},{"$nulls":5},{"v":0,"d":"0.00"},{"$nulls":5},"","",null,"","","",{"v":0,"d":"0.00"},null,""]
["","","",{"$nulls":51},{"$f":"IF(AJ157=\"auto\",IF(AND((D157>'km-vergoeding'!$A$4),(D157<'km-vergoeding'!$A$5)),'km-vergoeding'!$D$4,'km-vergoeding'!$D$5),0)","v":{"v":0,"d":"0.0000 "}},{"$nulls":7},{"v":0,"d":"0.00"},{"$nulls":6},{"$f":"IF(AJ157=\"fiets\",'km-vergoeding'!$D$3,0)","v":{"v":0,"d":"0.00"}},{"$nulls":7},{"v":0,"d":"0.00"},{"$nulls":12},{"v":0,"d":"0.00"},{"$nulls":5},{"v":0,"d":"0.00"},{"$nulls":5},"","",null,"","","",{"v":0,"d":"0.00"},null,""]
["","","",{"$nulls":51},{"$f":"IF(AJ158=\"auto\",IF(AND((D158>'km-vergoeding'!$A$4),(D158<'km-vergoeding'!$A$5)),'km-vergoeding'!$D$4,'km-vergoeding'!$D$5),0)","v":{"v":0,"d":"0.0000 "}},{"$nulls":7},{"v":0,"d":"0.00"},{"$nulls":6},{"$f":"IF(AJ158=\"fiets\",'km-vergoeding'!$D$3,0)","v":{"v":0,"d":"0.00"}},{"$nulls":7},{"v":0,"d":"0.00"},{"$nulls":12},{"v":0,"d":"0.00"},{"$nulls":5},{"v":0,"d":"0.00"},{"$nulls":5},"","",null,"","","",{"v":0,"d":"0.00"},null,""]
["","","",{"$nulls":51},{"$f":"IF(AJ159=\"auto\",IF(AND((D159>'km-vergoeding'!$A$4),(D159<'km-vergoeding'!$A$5)),'km-vergoeding'!$D$4,'km-vergoeding'!$D$5),0)","v":{"v":0,"d":"0.0000 "}},{"$nulls":7},{"v":0,"d":"0.00"},{"$nulls":6},{"$f":"IF(AJ159=\"fiets\",'km-vergoeding'!$D$3,0)","v":{"v":0,"d":"0.00"}},{"$nulls":7},{"v":0,"d":"0.00"},{"$nulls":12},{"v":0,"d":"0.00"},{"$nulls":5},{"v":0,"d":"0.00"},{"$nulls":5},"","",null,"","","",{"v":0,"d":"0.00"},null,""]
["","","",{"$nulls":51},{"$f":"IF(AJ160=\"auto\",IF(AND((D160>'km-vergoeding'!$A$4),(D160<'km-vergoeding'!$A$5)),'km-vergoeding'!$D$4,'km-vergoeding'!$D$5),0)","v":{"v":0,"d":"0.0000 "}},{"$nulls":7},{"v":0,"d":"0.00"},{"$nulls":6},{"$f":"IF(AJ160=\"fiets\",'km-vergoeding'!$D$3,0)","v":{"v":0,"d":"0.00"}},{"$nulls":7},{"v":0,"d":"0.00"},{"$nulls":12},{"v":0,"d":"0.00"},{"$nulls":5},{"v":0,"d":"0.00"},{"$nulls":5},"","",null,"","","",{"v":0,"d":"0.00"},null,""]
["","","",{"$nulls":51},{"$f":"IF(AJ161=\"auto\",IF(AND((D161>'km-vergoeding'!$A$4),(D161<'km-vergoeding'!$A$5)),'km-vergoeding'!$D$4,'km-vergoeding'!$D$5),0)","v":{"v":0,"d":"0.0000 "}},{"$nulls":7},{"v":0,"d":"0.00"},{"$nulls":6},{"$f":"IF(AJ161=\"fiets\",'km-vergoeding'!$D$3,0)","v":{"v":0,"d":"0.00"}},{"$nulls":7},{"v":0,"d":"0.00"},{"$nulls":12},{"v":0,"d":"0.00"},{"$nulls":5},{"v":0,"d":"0.00"},{"$nulls":5},"","",null,"","","",{"v":0,"d":"0.00"},null,""]
["","","",{"$nulls":51},{"$f":"IF(AJ162=\"auto\",IF(AND((D162>'km-vergoeding'!$A$4),(D162<'km-vergoeding'!$A$5)),'km-vergoeding'!$D$4,'km-vergoeding'!$D$5),0)","v":{"v":0,"d":"0.0000 "}},{"$nulls":7},{"v":0,"d":"0.00"},{"$nulls":6},{"$f":"IF(AJ162=\"fiets\",'km-vergoeding'!$D$3,0)","v":{"v":0,"d":"0.00"}},{"$nulls":7},{"v":0,"d":"0.00"},{"$nulls":12},{"v":0,"d":"0.00"},{"$nulls":5},{"v":0,"d":"0.00"},{"$nulls":5},"","",null,"","","",{"v":0,"d":"0.00"},null,""]
["","","",{"$nulls":51},{"$f":"IF(AJ163=\"auto\",IF(AND((D163>'km-vergoeding'!$A$4),(D163<'km-vergoeding'!$A$5)),'km-vergoeding'!$D$4,'km-vergoeding'!$D$5),0)","v":{"v":0,"d":"0.0000 "}},{"$nulls":7},{"v":0,"d":"0.00"},{"$nulls":6},{"$f":"IF(AJ163=\"fiets\",'km-vergoeding'!$D$3,0)","v":{"v":0,"d":"0.00"}},{"$nulls":7},{"v":0,"d":"0.00"},{"$nulls":12},{"v":0,"d":"0.00"},{"$nulls":5},{"v":0,"d":"0.00"},{"$nulls":5},"","",null,"","","",{"v":0,"d":"0.00"},null,""]
["","","",{"$nulls":51},{"$f":"IF(AJ164=\"auto\",IF(AND((D164>'km-vergoeding'!$A$4),(D164<'km-vergoeding'!$A$5)),'km-vergoeding'!$D$4,'km-vergoeding'!$D$5),0)","v":{"v":0,"d":"0.0000 "}},{"$nulls":7},{"v":0,"d":"0.00"},{"$nulls":6},{"$f":"IF(AJ164=\"fiets\",'km-vergoeding'!$D$3,0)","v":{"v":0,"d":"0.00"}},{"$nulls":7},{"v":0,"d":"0.00"},{"$nulls":12},{"v":0,"d":"0.00"},{"$nulls":5},{"v":0,"d":"0.00"},{"$nulls":5},"","",null,"","","",{"v":0,"d":"0.00"},null,""]
["","","",{"$nulls":51},{"$f":"IF(AJ165=\"auto\",IF(AND((D165>'km-vergoeding'!$A$4),(D165<'km-vergoeding'!$A$5)),'km-vergoeding'!$D$4,'km-vergoeding'!$D$5),0)","v":{"v":0,"d":"0.0000 "}},{"$nulls":7},{"v":0,"d":"0.00"},{"$nulls":6},{"$f":"IF(AJ165=\"fiets\",'km-vergoeding'!$D$3,0)","v":{"v":0,"d":"0.00"}},{"$nulls":7},{"v":0,"d":"0.00"},{"$nulls":12},{"v":0,"d":"0.00"},{"$nulls":5},{"v":0,"d":"0.00"},{"$nulls":5},"","",null,"","","",{"v":0,"d":"0.00"},null,""]
["","","",{"$nulls":51},{"$f":"IF(AJ166=\"auto\",IF(AND((D166>'km-vergoeding'!$A$4),(D166<'km-vergoeding'!$A$5)),'km-vergoeding'!$D$4,'km-vergoeding'!$D$5),0)","v":{"v":0,"d":"0.0000 "}},{"$nulls":7},{"v":0,"d":"0.00"},{"$nulls":6},{"$f":"IF(AJ166=\"fiets\",'km-vergoeding'!$D$3,0)","v":{"v":0,"d":"0.00"}},{"$nulls":7},{"v":0,"d":"0.00"},{"$nulls":12},{"v":0,"d":"0.00"},{"$nulls":5},{"v":0,"d":"0.00"},{"$nulls":5},"","",null,"","","",{"v":0,"d":"0.00"},null,""]
["","","",{"$nulls":51},{"$f":"IF(AJ167=\"auto\",IF(AND((D167>'km-vergoeding'!$A$4),(D167<'km-vergoeding'!$A$5)),'km-vergoeding'!$D$4,'km-vergoeding'!$D$5),0)","v":{"v":0,"d":"0.0000 "}},{"$nulls":7},{"v":0,"d":"0.00"},{"$nulls":6},{"$f":"IF(AJ167=\"fiets\",'km-vergoeding'!$D$3,0)","v":{"v":0,"d":"0.00"}},{"$nulls":7},{"v":0,"d":"0.00"},{"$nulls":12},{"v":0,"d":"0.00"},{"$nulls":5},{"v":0,"d":"0.00"},{"$nulls":5},"","",null,"","","",{"v":0,"d":"0.00"},null,""]
["","","",{"$nulls":51},{"$f":"IF(AJ168=\"auto\",IF(AND((D168>'km-vergoeding'!$A$4),(D168<'km-vergoeding'!$A$5)),'km-vergoeding'!$D$4,'km-vergoeding'!$D$5),0)","v":{"v":0,"d":"0.0000 "}},{"$nulls":7},{"v":0,"d":"0.00"},{"$nulls":6},{"$f":"IF(AJ168=\"fiets\",'km-vergoeding'!$D$3,0)","v":{"v":0,"d":"0.00"}},{"$nulls":7},{"v":0,"d":"0.00"},{"$nulls":12},{"v":0,"d":"0.00"},{"$nulls":5},{"v":0,"d":"0.00"},{"$nulls":5},"","",null,"","","",{"v":0,"d":"0.00"},null,""]
["","","",{"$nulls":51},{"$f":"IF(AJ169=\"auto\",IF(AND((D169>'km-vergoeding'!$A$4),(D169<'km-vergoeding'!$A$5)),'km-vergoeding'!$D$4,'km-vergoeding'!$D$5),0)","v":{"v":0,"d":"0.0000 "}},{"$nulls":7},{"v":0,"d":"0.00"},{"$nulls":6},{"$f":"IF(AJ169=\"fiets\",'km-vergoeding'!$D$3,0)","v":{"v":0,"d":"0.00"}},{"$nulls":7},{"v":0,"d":"0.00"},{"$nulls":12},{"v":0,"d":"0.00"},{"$nulls":5},{"v":0,"d":"0.00"},{"$nulls":5},"","",null,"","","",{"v":0,"d":"0.00"},null,""]
["","","",{"$nulls":51},{"$f":"IF(AJ170=\"auto\",IF(AND((D170>'km-vergoeding'!$A$4),(D170<'km-vergoeding'!$A$5)),'km-vergoeding'!$D$4,'km-vergoeding'!$D$5),0)","v":{"v":0,"d":"0.0000 "}},{"$nulls":7},{"v":0,"d":"0.00"},{"$nulls":6},{"$f":"IF(AJ170=\"fiets\",'km-vergoeding'!$D$3,0)","v":{"v":0,"d":"0.00"}},{"$nulls":7},{"v":0,"d":"0.00"},{"$nulls":12},{"v":0,"d":"0.00"},{"$nulls":5},{"v":0,"d":"0.00"},{"$nulls":5},"","",null,"","","",{"v":0,"d":"0.00"},null,""]
["","","",{"$nulls":51},{"$f":"IF(AJ171=\"auto\",IF(AND((D171>'km-vergoeding'!$A$4),(D171<'km-vergoeding'!$A$5)),'km-vergoeding'!$D$4,'km-vergoeding'!$D$5),0)","v":{"v":0,"d":"0.0000 "}},{"$nulls":7},{"v":0,"d":"0.00"},{"$nulls":6},{"$f":"IF(AJ171=\"fiets\",'km-vergoeding'!$D$3,0)","v":{"v":0,"d":"0.00"}},{"$nulls":7},{"v":0,"d":"0.00"},{"$nulls":12},{"v":0,"d":"0.00"},{"$nulls":5},{"v":0,"d":"0.00"},{"$nulls":5},"","",null,"","","",{"v":0,"d":"0.00"},null,""]
["","","",{"$nulls":51},{"$f":"IF(AJ172=\"auto\",IF(AND((D172>'km-vergoeding'!$A$4),(D172<'km-vergoeding'!$A$5)),'km-vergoeding'!$D$4,'km-vergoeding'!$D$5),0)","v":{"v":0,"d":"0.0000 "}},{"$nulls":7},{"v":0,"d":"0.00"},{"$nulls":6},{"$f":"IF(AJ172=\"fiets\",'km-vergoeding'!$D$3,0)","v":{"v":0,"d":"0.00"}},{"$nulls":7},{"v":0,"d":"0.00"},{"$nulls":12},{"v":0,"d":"0.00"},{"$nulls":5},{"v":0,"d":"0.00"},{"$nulls":5},"","",null,"","","",{"v":0,"d":"0.00"},null,""]
["","","",{"$nulls":51},{"$f":"IF(AJ173=\"auto\",IF(AND((D173>'km-vergoeding'!$A$4),(D173<'km-vergoeding'!$A$5)),'km-vergoeding'!$D$4,'km-vergoeding'!$D$5),0)","v":{"v":0,"d":"0.0000 "}},{"$nulls":7},{"v":0,"d":"0.00"},{"$nulls":6},{"$f":"IF(AJ173=\"fiets\",'km-vergoeding'!$D$3,0)","v":{"v":0,"d":"0.00"}},{"$nulls":7},{"v":0,"d":"0.00"},{"$nulls":12},{"v":0,"d":"0.00"},{"$nulls":5},{"v":0,"d":"0.00"},{"$nulls":5},"","",null,"","","",{"v":0,"d":"0.00"},null,""]
["","","",{"$nulls":51},{"$f":"IF(AJ174=\"auto\",IF(AND((D174>'km-vergoeding'!$A$4),(D174<'km-vergoeding'!$A$5)),'km-vergoeding'!$D$4,'km-vergoeding'!$D$5),0)","v":{"v":0,"d":"0.0000 "}},{"$nulls":7},{"v":0,"d":"0.00"},{"$nulls":6},{"$f":"IF(AJ174=\"fiets\",'km-vergoeding'!$D$3,0)","v":{"v":0,"d":"0.00"}},{"$nulls":7},{"v":0,"d":"0.00"},{"$nulls":12},{"v":0,"d":"0.00"},{"$nulls":5},{"v":0,"d":"0.00"},{"$nulls":5},"","",null,"","","",{"v":0,"d":"0.00"},null,""]
["","","",{"$nulls":51},{"$f":"IF(AJ175=\"auto\",IF(AND((D175>'km-vergoeding'!$A$4),(D175<'km-vergoeding'!$A$5)),'km-vergoeding'!$D$4,'km-vergoeding'!$D$5),0)","v":{"v":0,"d":"0.0000 "}},{"$nulls":7},{"v":0,"d":"0.00"},{"$nulls":6},{"$f":"IF(AJ175=\"fiets\",'km-vergoeding'!$D$3,0)","v":{"v":0,"d":"0.00"}},{"$nulls":7},{"v":0,"d":"0.00"},{"$nulls":12},{"v":0,"d":"0.00"},{"$nulls":5},{"v":0,"d":"0.00"},{"$nulls":5},"","",null,"","","",{"v":0,"d":"0.00"},null,""]
["","","",{"$nulls":51},{"$f":"IF(AJ176=\"auto\",IF(AND((D176>'km-vergoeding'!$A$4),(D176<'km-vergoeding'!$A$5)),'km-vergoeding'!$D$4,'km-vergoeding'!$D$5),0)","v":{"v":0,"d":"0.0000 "}},{"$nulls":7},{"v":0,"d":"0.00"},{"$nulls":6},{"$f":"IF(AJ176=\"fiets\",'km-vergoeding'!$D$3,0)","v":{"v":0,"d":"0.00"}},{"$nulls":7},{"v":0,"d":"0.00"},{"$nulls":12},{"v":0,"d":"0.00"},{"$nulls":5},{"v":0,"d":"0.00"},{"$nulls":5},"","",null,"","","",{"v":0,"d":"0.00"},null,""]
["","","",{"$nulls":51},{"$f":"IF(AJ177=\"auto\",IF(AND((D177>'km-vergoeding'!$A$4),(D177<'km-vergoeding'!$A$5)),'km-vergoeding'!$D$4,'km-vergoeding'!$D$5),0)","v":{"v":0,"d":"0.0000 "}},{"$nulls":7},{"v":0,"d":"0.00"},{"$nulls":6},{"$f":"IF(AJ177=\"fiets\",'km-vergoeding'!$D$3,0)","v":{"v":0,"d":"0.00"}},{"$nulls":7},{"v":0,"d":"0.00"},{"$nulls":12},{"v":0,"d":"0.00"},{"$nulls":5},{"v":0,"d":"0.00"},{"$nulls":5},"","",null,"","","",{"v":0,"d":"0.00"},null,""]
["","","",{"$nulls":51},{"$f":"IF(AJ178=\"auto\",IF(AND((D178>'km-vergoeding'!$A$4),(D178<'km-vergoeding'!$A$5)),'km-vergoeding'!$D$4,'km-vergoeding'!$D$5),0)","v":{"v":0,"d":"0.0000 "}},{"$nulls":7},{"v":0,"d":"0.00"},{"$nulls":6},{"$f":"IF(AJ178=\"fiets\",'km-vergoeding'!$D$3,0)","v":{"v":0,"d":"0.00"}},{"$nulls":7},{"v":0,"d":"0.00"},{"$nulls":12},{"v":0,"d":"0.00"},{"$nulls":5},{"v":0,"d":"0.00"},{"$nulls":5},"","",null,"","","",{"v":0,"d":"0.00"},null,""]
["","","",{"$nulls":51},{"$f":"IF(AJ179=\"auto\",IF(AND((D179>'km-vergoeding'!$A$4),(D179<'km-vergoeding'!$A$5)),'km-vergoeding'!$D$4,'km-vergoeding'!$D$5),0)","v":{"v":0,"d":"0.0000 "}},{"$nulls":7},{"v":0,"d":"0.00"},{"$nulls":6},{"$f":"IF(AJ179=\"fiets\",'km-vergoeding'!$D$3,0)","v":{"v":0,"d":"0.00"}},{"$nulls":7},{"v":0,"d":"0.00"},{"$nulls":12},{"v":0,"d":"0.00"},{"$nulls":5},{"v":0,"d":"0.00"},{"$nulls":5},"","",null,"","","",{"v":0,"d":"0.00"},null,""]
["","","",{"$nulls":51},{"$f":"IF(AJ180=\"auto\",IF(AND((D180>'km-vergoeding'!$A$4),(D180<'km-vergoeding'!$A$5)),'km-vergoeding'!$D$4,'km-vergoeding'!$D$5),0)","v":{"v":0,"d":"0.0000 "}},{"$nulls":7},{"v":0,"d":"0.00"},{"$nulls":6},{"$f":"IF(AJ180=\"fiets\",'km-vergoeding'!$D$3,0)","v":{"v":0,"d":"0.00"}},{"$nulls":7},{"v":0,"d":"0.00"},{"$nulls":12},{"v":0,"d":"0.00"},{"$nulls":5},{"v":0,"d":"0.00"},{"$nulls":5},"","",null,"","","",{"v":0,"d":"0.00"},null,""]
["","","",{"$nulls":51},{"$f":"IF(AJ181=\"auto\",IF(AND((D181>'km-vergoeding'!$A$4),(D181<'km-vergoeding'!$A$5)),'km-vergoeding'!$D$4,'km-vergoeding'!$D$5),0)","v":{"v":0,"d":"0.0000 "}},{"$nulls":7},{"v":0,"d":"0.00"},{"$nulls":6},{"$f":"IF(AJ181=\"fiets\",'km-vergoeding'!$D$3,0)","v":{"v":0,"d":"0.00"}},{"$nulls":7},{"v":0,"d":"0.00"},{"$nulls":12},{"v":0,"d":"0.00"},{"$nulls":5},{"v":0,"d":"0.00"},{"$nulls":5},"","",null,"","","",{"v":0,"d":"0.00"},null,""]
["","","",{"$nulls":51},{"$f":"IF(AJ182=\"auto\",IF(AND((D182>'km-vergoeding'!$A$4),(D182<'km-vergoeding'!$A$5)),'km-vergoeding'!$D$4,'km-vergoeding'!$D$5),0)","v":{"v":0,"d":"0.0000 "}},{"$nulls":7},{"v":0,"d":"0.00"},{"$nulls":6},{"$f":"IF(AJ182=\"fiets\",'km-vergoeding'!$D$3,0)","v":{"v":0,"d":"0.00"}},{"$nulls":7},{"v":0,"d":"0.00"},{"$nulls":12},{"v":0,"d":"0.00"},{"$nulls":5},{"v":0,"d":"0.00"},{"$nulls":5},"","",null,"","","",{"v":0,"d":"0.00"},null,""]
["","","",{"$nulls":51},{"$f":"IF(AJ183=\"auto\",IF(AND((D183>'km-vergoeding'!$A$4),(D183<'km-vergoeding'!$A$5)),'km-vergoeding'!$D$4,'km-vergoeding'!$D$5),0)","v":{"v":0,"d":"0.0000 "}},{"$nulls":7},{"v":0,"d":"0.00"},{"$nulls":6},{"$f":"IF(AJ183=\"fiets\",'km-vergoeding'!$D$3,0)","v":{"v":0,"d":"0.00"}},{"$nulls":7},{"v":0,"d":"0.00"},{"$nulls":12},{"v":0,"d":"0.00"},{"$nulls":5},{"v":0,"d":"0.00"},{"$nulls":5},"","",null,"","","",{"v":0,"d":"0.00"},null,""]
["","","",{"$nulls":51},{"$f":"IF(AJ184=\"auto\",IF(AND((D184>'km-vergoeding'!$A$4),(D184<'km-vergoeding'!$A$5)),'km-vergoeding'!$D$4,'km-vergoeding'!$D$5),0)","v":{"v":0,"d":"0.0000 "}},{"$nulls":7},{"v":0,"d":"0.00"},{"$nulls":6},{"$f":"IF(AJ184=\"fiets\",'km-vergoeding'!$D$3,0)","v":{"v":0,"d":"0.00"}},{"$nulls":7},{"v":0,"d":"0.00"},{"$nulls":12},{"v":0,"d":"0.00"},{"$nulls":5},{"v":0,"d":"0.00"},{"$nulls":5},"","",null,"","","",{"v":0,"d":"0.00"},null,""]
["","","",{"$nulls":51},{"$f":"IF(AJ185=\"auto\",IF(AND((D185>'km-vergoeding'!$A$4),(D185<'km-vergoeding'!$A$5)),'km-vergoeding'!$D$4,'km-vergoeding'!$D$5),0)","v":{"v":0,"d":"0.0000 "}},{"$nulls":7},{"v":0,"d":"0.00"},{"$nulls":6},{"$f":"IF(AJ185=\"fiets\",'km-vergoeding'!$D$3,0)","v":{"v":0,"d":"0.00"}},{"$nulls":7},{"v":0,"d":"0.00"},{"$nulls":12},{"v":0,"d":"0.00"},{"$nulls":5},{"v":0,"d":"0.00"},{"$nulls":5},"","",null,"","","",{"v":0,"d":"0.00"},null,""]
["","","",{"$nulls":51},{"$f":"IF(AJ186=\"auto\",IF(AND((D186>'km-vergoeding'!$A$4),(D186<'km-vergoeding'!$A$5)),'km-vergoeding'!$D$4,'km-vergoeding'!$D$5),0)","v":{"v":0,"d":"0.0000 "}},{"$nulls":7},{"v":0,"d":"0.00"},{"$nulls":6},{"$f":"IF(AJ186=\"fiets\",'km-vergoeding'!$D$3,0)","v":{"v":0,"d":"0.00"}},{"$nulls":7},{"v":0,"d":"0.00"},{"$nulls":12},{"v":0,"d":"0.00"},{"$nulls":5},{"v":0,"d":"0.00"},{"$nulls":5},"","",null,"","","",{"v":0,"d":"0.00"},null,""]
["","","",{"$nulls":51},{"$f":"IF(AJ187=\"auto\",IF(AND((D187>'km-vergoeding'!$A$4),(D187<'km-vergoeding'!$A$5)),'km-vergoeding'!$D$4,'km-vergoeding'!$D$5),0)","v":{"v":0,"d":"0.0000 "}},{"$nulls":7},{"v":0,"d":"0.00"},{"$nulls":6},{"$f":"IF(AJ187=\"fiets\",'km-vergoeding'!$D$3,0)","v":{"v":0,"d":"0.00"}},{"$nulls":7},{"v":0,"d":"0.00"},{"$nulls":12},{"v":0,"d":"0.00"},{"$nulls":5},{"v":0,"d":"0.00"},{"$nulls":5},"","",null,"","","",{"v":0,"d":"0.00"},null,""]
["","","",{"$nulls":51},{"$f":"IF(AJ188=\"auto\",IF(AND((D188>'km-vergoeding'!$A$4),(D188<'km-vergoeding'!$A$5)),'km-vergoeding'!$D$4,'km-vergoeding'!$D$5),0)","v":{"v":0,"d":"0.0000 "}},{"$nulls":7},{"v":0,"d":"0.00"},{"$nulls":6},{"$f":"IF(AJ188=\"fiets\",'km-vergoeding'!$D$3,0)","v":{"v":0,"d":"0.00"}},{"$nulls":7},{"v":0,"d":"0.00"},{"$nulls":12},{"v":0,"d":"0.00"},{"$nulls":5},{"v":0,"d":"0.00"},{"$nulls":5},"","",null,"","","",{"v":0,"d":"0.00"},null,""]
["","","",{"$nulls":51},{"$f":"IF(AJ189=\"auto\",IF(AND((D189>'km-vergoeding'!$A$4),(D189<'km-vergoeding'!$A$5)),'km-vergoeding'!$D$4,'km-vergoeding'!$D$5),0)","v":{"v":0,"d":"0.0000 "}},{"$nulls":7},{"v":0,"d":"0.00"},{"$nulls":6},{"$f":"IF(AJ189=\"fiets\",'km-vergoeding'!$D$3,0)","v":{"v":0,"d":"0.00"}},{"$nulls":7},{"v":0,"d":"0.00"},{"$nulls":12},{"v":0,"d":"0.00"},{"$nulls":5},{"v":0,"d":"0.00"},{"$nulls":5},"","",null,"","","",{"v":0,"d":"0.00"},null,""]
["","","",{"$nulls":51},{"$f":"IF(AJ190=\"auto\",IF(AND((D190>'km-vergoeding'!$A$4),(D190<'km-vergoeding'!$A$5)),'km-vergoeding'!$D$4,'km-vergoeding'!$D$5),0)","v":{"v":0,"d":"0.0000 "}},{"$nulls":7},{"v":0,"d":"0.00"},{"$nulls":6},{"$f":"IF(AJ190=\"fiets\",'km-vergoeding'!$D$3,0)","v":{"v":0,"d":"0.00"}},{"$nulls":7},{"v":0,"d":"0.00"},{"$nulls":12},{"v":0,"d":"0.00"},{"$nulls":5},{"v":0,"d":"0.00"},{"$nulls":5},"","",null,"","","",{"v":0,"d":"0.00"},null,""]
["","","",{"$nulls":51},{"$f":"IF(AJ191=\"auto\",IF(AND((D191>'km-vergoeding'!$A$4),(D191<'km-vergoeding'!$A$5)),'km-vergoeding'!$D$4,'km-vergoeding'!$D$5),0)","v":{"v":0,"d":"0.0000 "}},{"$nulls":7},{"v":0,"d":"0.00"},{"$nulls":6},{"$f":"IF(AJ191=\"fiets\",'km-vergoeding'!$D$3,0)","v":{"v":0,"d":"0.00"}},{"$nulls":7},{"v":0,"d":"0.00"},{"$nulls":12},{"v":0,"d":"0.00"},{"$nulls":5},{"v":0,"d":"0.00"},{"$nulls":5},"","",null,"","","",{"v":0,"d":"0.00"},null,""]
["","","",{"$nulls":51},{"$f":"IF(AJ192=\"auto\",IF(AND((D192>'km-vergoeding'!$A$4),(D192<'km-vergoeding'!$A$5)),'km-vergoeding'!$D$4,'km-vergoeding'!$D$5),0)","v":{"v":0,"d":"0.0000 "}},{"$nulls":7},{"v":0,"d":"0.00"},{"$nulls":6},{"$f":"IF(AJ192=\"fiets\",'km-vergoeding'!$D$3,0)","v":{"v":0,"d":"0.00"}},{"$nulls":7},{"v":0,"d":"0.00"},{"$nulls":12},{"v":0,"d":"0.00"},{"$nulls":5},{"v":0,"d":"0.00"},{"$nulls":5},"","",null,"","","",{"v":0,"d":"0.00"},null,""]
["","","",{"$nulls":51},{"$f":"IF(AJ193=\"auto\",IF(AND((D193>'km-vergoeding'!$A$4),(D193<'km-vergoeding'!$A$5)),'km-vergoeding'!$D$4,'km-vergoeding'!$D$5),0)","v":{"v":0,"d":"0.0000 "}},{"$nulls":7},{"v":0,"d":"0.00"},{"$nulls":6},{"$f":"IF(AJ193=\"fiets\",'km-vergoeding'!$D$3,0)","v":{"v":0,"d":"0.00"}},{"$nulls":7},{"v":0,"d":"0.00"},{"$nulls":12},{"v":0,"d":"0.00"},{"$nulls":5},{"v":0,"d":"0.00"},{"$nulls":5},"","",null,"","","",{"v":0,"d":"0.00"},null,""]
["","","",{"$nulls":51},{"$f":"IF(AJ194=\"auto\",IF(AND((D194>'km-vergoeding'!$A$4),(D194<'km-vergoeding'!$A$5)),'km-vergoeding'!$D$4,'km-vergoeding'!$D$5),0)","v":{"v":0,"d":"0.0000 "}},{"$nulls":7},{"v":0,"d":"0.00"},{"$nulls":6},{"$f":"IF(AJ194=\"fiets\",'km-vergoeding'!$D$3,0)","v":{"v":0,"d":"0.00"}},{"$nulls":7},{"v":0,"d":"0.00"},{"$nulls":12},{"v":0,"d":"0.00"},{"$nulls":5},{"v":0,"d":"0.00"},{"$nulls":5},"","",null,"","","",{"v":0,"d":"0.00"},null,""]
["","","",{"$nulls":51},{"$f":"IF(AJ195=\"auto\",IF(AND((D195>'km-vergoeding'!$A$4),(D195<'km-vergoeding'!$A$5)),'km-vergoeding'!$D$4,'km-vergoeding'!$D$5),0)","v":{"v":0,"d":"0.0000 "}},{"$nulls":7},{"v":0,"d":"0.00"},{"$nulls":6},{"$f":"IF(AJ195=\"fiets\",'km-vergoeding'!$D$3,0)","v":{"v":0,"d":"0.00"}},{"$nulls":7},{"v":0,"d":"0.00"},{"$nulls":12},{"v":0,"d":"0.00"},{"$nulls":5},{"v":0,"d":"0.00"},{"$nulls":5},"","",null,"","","",{"v":0,"d":"0.00"},null,""]
["","","",{"$nulls":51},{"$f":"IF(AJ196=\"auto\",IF(AND((D196>'km-vergoeding'!$A$4),(D196<'km-vergoeding'!$A$5)),'km-vergoeding'!$D$4,'km-vergoeding'!$D$5),0)","v":{"v":0,"d":"0.0000 "}},{"$nulls":7},{"v":0,"d":"0.00"},{"$nulls":6},{"$f":"IF(AJ196=\"fiets\",'km-vergoeding'!$D$3,0)","v":{"v":0,"d":"0.00"}},{"$nulls":7},{"v":0,"d":"0.00"},{"$nulls":12},{"v":0,"d":"0.00"},{"$nulls":5},{"v":0,"d":"0.00"},{"$nulls":5},"","",null,"","","",{"v":0,"d":"0.00"},null,""]
["","","",{"$nulls":51},{"$f":"IF(AJ197=\"auto\",IF(AND((D197>'km-vergoeding'!$A$4),(D197<'km-vergoeding'!$A$5)),'km-vergoeding'!$D$4,'km-vergoeding'!$D$5),0)","v":{"v":0,"d":"0.0000 "}},{"$nulls":7},{"v":0,"d":"0.00"},{"$nulls":6},{"$f":"IF(AJ197=\"fiets\",'km-vergoeding'!$D$3,0)","v":{"v":0,"d":"0.00"}},{"$nulls":7},{"v":0,"d":"0.00"},{"$nulls":12},{"v":0,"d":"0.00"},{"$nulls":5},{"v":0,"d":"0.00"},{"$nulls":5},"","",null,"","","",{"v":0,"d":"0.00"},null,""]
["","","",{"$nulls":51},{"$f":"IF(AJ198=\"auto\",IF(AND((D198>'km-vergoeding'!$A$4),(D198<'km-vergoeding'!$A$5)),'km-vergoeding'!$D$4,'km-vergoeding'!$D$5),0)","v":{"v":0,"d":"0.0000 "}},{"$nulls":7},{"v":0,"d":"0.00"},{"$nulls":6},{"$f":"IF(AJ198=\"fiets\",'km-vergoeding'!$D$3,0)","v":{"v":0,"d":"0.00"}},{"$nulls":7},{"v":0,"d":"0.00"},{"$nulls":12},{"v":0,"d":"0.00"},{"$nulls":5},{"v":0,"d":"0.00"},{"$nulls":5},"","",null,"","","",{"v":0,"d":"0.00"},null,""]
["","","",{"$nulls":51},{"$f":"IF(AJ199=\"auto\",IF(AND((D199>'km-vergoeding'!$A$4),(D199<'km-vergoeding'!$A$5)),'km-vergoeding'!$D$4,'km-vergoeding'!$D$5),0)","v":{"v":0,"d":"0.0000 "}},{"$nulls":7},{"v":0,"d":"0.00"},{"$nulls":6},{"$f":"IF(AJ199=\"fiets\",'km-vergoeding'!$D$3,0)","v":{"v":0,"d":"0.00"}},{"$nulls":7},{"v":0,"d":"0.00"},{"$nulls":12},{"v":0,"d":"0.00"},{"$nulls":5},{"v":0,"d":"0.00"},{"$nulls":5},"","",null,"","","",{"v":0,"d":"0.00"},null,""]
["","","",{"$nulls":51},{"$f":"IF(AJ200=\"auto\",IF(AND((D200>'km-vergoeding'!$A$4),(D200<'km-vergoeding'!$A$5)),'km-vergoeding'!$D$4,'km-vergoeding'!$D$5),0)","v":{"v":0,"d":"0.0000 "}},{"$nulls":7},{"v":0,"d":"0.00"},{"$nulls":6},{"$f":"IF(AJ200=\"fiets\",'km-vergoeding'!$D$3,0)","v":{"v":0,"d":"0.00"}},{"$nulls":7},{"v":0,"d":"0.00"},{"$nulls":12},{"v":0,"d":"0.00"},{"$nulls":5},{"v":0,"d":"0.00"},{"$nulls":5},"","",null,"","","",{"v":0,"d":"0.00"},null,""]
["","","",{"$nulls":51},{"$f":"IF(AJ201=\"auto\",IF(AND((D201>'km-vergoeding'!$A$4),(D201<'km-vergoeding'!$A$5)),'km-vergoeding'!$D$4,'km-vergoeding'!$D$5),0)","v":{"v":0,"d":"0.0000 "}},{"$nulls":7},{"v":0,"d":"0.00"},{"$nulls":6},{"$f":"IF(AJ201=\"fiets\",'km-vergoeding'!$D$3,0)","v":{"v":0,"d":"0.00"}},{"$nulls":7},{"v":0,"d":"0.00"},{"$nulls":12},{"v":0,"d":"0.00"},{"$nulls":5},{"v":0,"d":"0.00"},{"$nulls":5},"","",null,"","","",{"v":0,"d":"0.00"},null,""]
["","","",{"$nulls":51},{"$f":"IF(AJ202=\"auto\",IF(AND((D202>'km-vergoeding'!$A$4),(D202<'km-vergoeding'!$A$5)),'km-vergoeding'!$D$4,'km-vergoeding'!$D$5),0)","v":{"v":0,"d":"0.0000 "}},{"$nulls":7},{"v":0,"d":"0.00"},{"$nulls":6},{"$f":"IF(AJ202=\"fiets\",'km-vergoeding'!$D$3,0)","v":{"v":0,"d":"0.00"}},{"$nulls":7},{"v":0,"d":"0.00"},{"$nulls":12},{"v":0,"d":"0.00"},{"$nulls":5},{"v":0,"d":"0.00"},{"$nulls":5},"","",null,"","","",{"v":0,"d":"0.00"},null,""]
[{"$f":"IF(OR(AND(D203<>\"\",H203=\"\"),AND(H203<>\"\",R203=\"\"),AND(R203<>\"\",H203=\"\"),AND(R203<>\"\",X203=\"\"),AND(X203<>\"\",R203=\"\")),\"!\",\"\")","v":""},{"$f":"IF(OR(AND(ISBLANK(D203),OR(H203<>\"\",R203<>\"\",X203<>\"\",AJ203<>\"\",AR203<>\"\",AY203<>\"\",CG203<>\"\"))),\"!\",\"\")","v":""},{"$f":"IF(AND(CG203=0,AJ203<>\"openbaar vervoer\",OR(AND(OR(AJ203=\"auto\",AJ203=\"fiets\"),OR(AR203=\"\",AR203=0)),AND(AR203>0,AY203=\"\"),AND(AR203=\"\",AY203>0),AND(AR203>0,AJ203=\"\"))),\"!\",\"\")","v":""},{"$nulls":51},{"$f":"IF(AJ203=\"auto\",IF(AND((D203>'km-vergoeding'!$A$4),(D203<'km-vergoeding'!$A$5)),'km-vergoeding'!$D$4,'km-vergoeding'!$D$5),0)","v":{"v":0,"d":"0.0000 "}},{"$nulls":7},{"v":0,"d":"0.00"},{"$nulls":6},{"$f":"IF(AJ203=\"fiets\",'km-vergoeding'!$D$3,0)","v":{"v":0,"d":"0.00"}},{"$nulls":7},{"v":0,"d":"0.00"},{"$nulls":12},{"v":0,"d":"0.00"},{"$nulls":5},{"v":0,"d":"0.00"},{"$nulls":5},"","",null,"","","",{"v":0,"d":"0.00"},null,{"$f":"IF(AND(A203=\"\",B203=\"\",C203=\"\",CY203=\"\",CZ203=\"\",DB203=\"\",DC203=\"\",DD203=\"\"),\"\",\"Deze rij is nog onvolledig of bevat nog fouten! Zie foutmeldingen boven de tabel.\")","v":""}]
["","","",{"$nulls":51},{"$f":"IF(AJ204=\"auto\",IF(AND((D204>'km-vergoeding'!$A$4),(D204<'km-vergoeding'!$A$5)),'km-vergoeding'!$D$4,'km-vergoeding'!$D$5),0)","v":{"v":0,"d":"0.0000 "}},{"$nulls":7},{"v":0,"d":"0.00"},{"$nulls":6},{"$f":"IF(AJ204=\"fiets\",'km-vergoeding'!$D$3,0)","v":{"v":0,"d":"0.00"}},{"$nulls":7},{"v":0,"d":"0.00"},{"$nulls":12},{"v":0,"d":"0.00"},{"$nulls":5},{"$f":"IF(CM204=0,0,IF(CM205=0,DE204,0))","v":{"v":0,"d":"0.00"}},{"$nulls":5},{"$f":"IF(AND(OR((AJ204=\"fiets\"),(AJ204=\"auto\")),(CG204>0)),\"!\",\"\")","v":""},{"$f":"IF(OR(AND(D203<>\"\",D204=\"\",D205<>\"\"),AND(D203=\"\",D204=\"\",D205<>\"\")),\"!\",\"\")","v":""},null,{"$f":"IF(AND(AJ204=\"openbaar vervoer\",OR(AR204<>\"\",AY204<>\"\")),\"!\",\"\")","v":""},{"$f":"IF(AND(X204<>\"\",AND(AJ204=\"\",CM204=0)),\"!\",\"\")","v":""},{"$f":"IF(OR(AND(AJ204=\"openbaar vervoer\",CG204=0),AND(CG204>0,AJ204=\"\")),\"!\",\"\")","v":""},{"v":0,"d":"0.00"},null,""]
["","","",{"$nulls":51},{"$f":"IF(AJ205=\"auto\",IF(AND((D205>'km-vergoeding'!$A$4),(D205<'km-vergoeding'!$A$5)),'km-vergoeding'!$D$4,'km-vergoeding'!$D$5),0)","v":{"v":0,"d":"0.0000 "}},{"$nulls":7},{"v":0,"d":"0.00"},{"$nulls":6},{"$f":"IF(AJ205=\"fiets\",'km-vergoeding'!$D$3,0)","v":{"v":0,"d":"0.00"}},{"$nulls":7},{"v":0,"d":"0.00"},{"$nulls":12},{"v":0,"d":"0.00"},{"$nulls":5},{"v":0,"d":"0.00"},{"$nulls":5},"","",null,"","","",{"$f":"IF(CM205=0,DE204,DE204+CM205)","v":{"v":0,"d":"0.00"}},null,""]
["","","",{"$nulls":51},{"$f":"IF(AJ206=\"auto\",IF(AND((D206>'km-vergoeding'!$A$4),(D206<'km-vergoeding'!$A$5)),'km-vergoeding'!$D$4,'km-vergoeding'!$D$5),0)","v":{"v":0,"d":"0.0000 "}},{"$nulls":7},{"$f":"IF(AJ206=\"auto\",ROUND(AR206*AY206*BC206,2),0)","v":{"v":0,"d":"0.00"}},{"$nulls":6},{"$f":"IF(AJ206=\"fiets\",'km-vergoeding'!$D$3,0)","v":{"v":0,"d":"0.00"}},{"$nulls":7},{"$f":"IF(AJ206=\"fiets\",ROUND(AR206*AY206*BR206,2),0)","v":{"v":0,"d":"0.00"}},{"$nulls":12},{"$f":"IF(AND(OR((AJ206=\"fiets\"),(AJ206=\"auto\")),(CG206>0)),\"xxxx\",BK206+BZ206+CG206)","v":{"v":0,"d":"0.00"}},{"$nulls":5},{"v":0,"d":"0.00"},{"$nulls":5},"","",null,"","","",{"v":0,"d":"0.00"},null,""]
["","","",{"$nulls":51},{"$f":"IF(AJ207=\"auto\",IF(AND((D207>'km-vergoeding'!$A$4),(D207<'km-vergoeding'!$A$5)),'km-vergoeding'!$D$4,'km-vergoeding'!$D$5),0)","v":{"v":0,"d":"0.0000 "}},{"$nulls":7},{"v":0,"d":"0.00"},{"$nulls":6},{"$f":"IF(AJ207=\"fiets\",'km-vergoeding'!$D$3,0)","v":{"v":0,"d":"0.00"}},{"$nulls":7},{"v":0,"d":"0.00"},{"$nulls":12},{"v":0,"d":"0.00"},{"$nulls":5},{"v":0,"d":"0.00"},{"$nulls":5},"","",null,"","","",{"v":0,"d":"0.00"},null,""]
["","","",{"$nulls":51},{"$f":"IF(AJ208=\"auto\",IF(AND((D208>'km-vergoeding'!$A$4),(D208<'km-vergoeding'!$A$5)),'km-vergoeding'!$D$4,'km-vergoeding'!$D$5),0)","v":{"v":0,"d":"0.0000 "}},{"$nulls":7},{"v":0,"d":"0.00"},{"$nulls":6},{"$f":"IF(AJ208=\"fiets\",'km-vergoeding'!$D$3,0)","v":{"v":0,"d":"0.00"}},{"$nulls":7},{"v":0,"d":"0.00"},{"$nulls":12},{"v":0,"d":"0.00"},{"$nulls":5},{"v":0,"d":"0.00"},{"$nulls":5},"","",null,"","","",{"v":0,"d":"0.00"},null,""]
["","","",{"$nulls":51},{"$f":"IF(AJ209=\"auto\",IF(AND((D209>'km-vergoeding'!$A$4),(D209<'km-vergoeding'!$A$5)),'km-vergoeding'!$D$4,'km-vergoeding'!$D$5),0)","v":{"v":0,"d":"0.0000 "}},{"$nulls":7},{"v":0,"d":"0.00"},{"$nulls":6},{"$f":"IF(AJ209=\"fiets\",'km-vergoeding'!$D$3,0)","v":{"v":0,"d":"0.00"}},{"$nulls":7},{"v":0,"d":"0.00"},{"$nulls":12},{"v":0,"d":"0.00"},{"$nulls":5},{"v":0,"d":"0.00"},{"$nulls":5},"","",null,"","","",{"v":0,"d":"0.00"},null,""]
["","","",{"$nulls":51},{"$f":"IF(AJ210=\"auto\",IF(AND((D210>'km-vergoeding'!$A$4),(D210<'km-vergoeding'!$A$5)),'km-vergoeding'!$D$4,'km-vergoeding'!$D$5),0)","v":{"v":0,"d":"0.0000 "}},{"$nulls":7},{"v":0,"d":"0.00"},{"$nulls":6},{"$f":"IF(AJ210=\"fiets\",'km-vergoeding'!$D$3,0)","v":{"v":0,"d":"0.00"}},{"$nulls":7},{"v":0,"d":"0.00"},{"$nulls":12},{"v":0,"d":"0.00"},{"$nulls":5},{"v":0,"d":"0.00"},{"$nulls":5},"","",null,"","","",{"v":0,"d":"0.00"},null,""]
["","","",{"$nulls":51},{"$f":"IF(AJ211=\"auto\",IF(AND((D211>'km-vergoeding'!$A$4),(D211<'km-vergoeding'!$A$5)),'km-vergoeding'!$D$4,'km-vergoeding'!$D$5),0)","v":{"v":0,"d":"0.0000 "}},{"$nulls":7},{"v":0,"d":"0.00"},{"$nulls":6},{"$f":"IF(AJ211=\"fiets\",'km-vergoeding'!$D$3,0)","v":{"v":0,"d":"0.00"}},{"$nulls":7},{"v":0,"d":"0.00"},{"$nulls":12},{"v":0,"d":"0.00"},{"$nulls":5},{"v":0,"d":"0.00"},{"$nulls":5},"","",null,"","","",{"v":0,"d":"0.00"},null,""]
["","","",{"$nulls":51},{"$f":"IF(AJ212=\"auto\",IF(AND((D212>'km-vergoeding'!$A$4),(D212<'km-vergoeding'!$A$5)),'km-vergoeding'!$D$4,'km-vergoeding'!$D$5),0)","v":{"v":0,"d":"0.0000 "}},{"$nulls":7},{"v":0,"d":"0.00"},{"$nulls":6},{"$f":"IF(AJ212=\"fiets\",'km-vergoeding'!$D$3,0)","v":{"v":0,"d":"0.00"}},{"$nulls":7},{"v":0,"d":"0.00"},{"$nulls":12},{"v":0,"d":"0.00"},{"$nulls":5},{"v":0,"d":"0.00"},{"$nulls":5},"","",null,"","","",{"v":0,"d":"0.00"},null,""]
["","","",{"$nulls":51},{"$f":"IF(AJ213=\"auto\",IF(AND((D213>'km-vergoeding'!$A$4),(D213<'km-vergoeding'!$A$5)),'km-vergoeding'!$D$4,'km-vergoeding'!$D$5),0)","v":{"v":0,"d":"0.0000 "}},{"$nulls":7},{"v":0,"d":"0.00"},{"$nulls":6},{"$f":"IF(AJ213=\"fiets\",'km-vergoeding'!$D$3,0)","v":{"v":0,"d":"0.00"}},{"$nulls":7},{"v":0,"d":"0.00"},{"$nulls":12},{"v":0,"d":"0.00"},{"$nulls":5},{"v":0,"d":"0.00"},{"$nulls":5},"","",null,"","","",{"v":0,"d":"0.00"},null,""]
["","","",{"$nulls":51},{"$f":"IF(AJ214=\"auto\",IF(AND((D214>'km-vergoeding'!$A$4),(D214<'km-vergoeding'!$A$5)),'km-vergoeding'!$D$4,'km-vergoeding'!$D$5),0)","v":{"v":0,"d":"0.0000 "}},{"$nulls":7},{"v":0,"d":"0.00"},{"$nulls":6},{"$f":"IF(AJ214=\"fiets\",'km-vergoeding'!$D$3,0)","v":{"v":0,"d":"0.00"}},{"$nulls":7},{"v":0,"d":"0.00"},{"$nulls":12},{"v":0,"d":"0.00"},{"$nulls":5},{"v":0,"d":"0.00"},{"$nulls":5},"","",null,"","","",{"v":0,"d":"0.00"},null,""]
["","","",{"$nulls":51},{"$f":"IF(AJ215=\"auto\",IF(AND((D215>'km-vergoeding'!$A$4),(D215<'km-vergoeding'!$A$5)),'km-vergoeding'!$D$4,'km-vergoeding'!$D$5),0)","v":{"v":0,"d":"0.0000 "}},{"$nulls":7},{"v":0,"d":"0.00"},{"$nulls":6},{"$f":"IF(AJ215=\"fiets\",'km-vergoeding'!$D$3,0)","v":{"v":0,"d":"0.00"}},{"$nulls":7},{"v":0,"d":"0.00"},{"$nulls":12},{"v":0,"d":"0.00"},{"$nulls":5},{"v":0,"d":"0.00"},{"$nulls":5},"","",null,"","","",{"v":0,"d":"0.00"},null,""]
["","","",{"$nulls":51},{"$f":"IF(AJ216=\"auto\",IF(AND((D216>'km-vergoeding'!$A$4),(D216<'km-vergoeding'!$A$5)),'km-vergoeding'!$D$4,'km-vergoeding'!$D$5),0)","v":{"v":0,"d":"0.0000 "}},{"$nulls":7},{"v":0,"d":"0.00"},{"$nulls":6},{"$f":"IF(AJ216=\"fiets\",'km-vergoeding'!$D$3,0)","v":{"v":0,"d":"0.00"}},{"$nulls":7},{"v":0,"d":"0.00"},{"$nulls":12},{"v":0,"d":"0.00"},{"$nulls":5},{"v":0,"d":"0.00"},{"$nulls":5},"","",null,"","","",{"v":0,"d":"0.00"},null,""]
["","","",{"$nulls":51},{"$f":"IF(AJ217=\"auto\",IF(AND((D217>'km-vergoeding'!$A$4),(D217<'km-vergoeding'!$A$5)),'km-vergoeding'!$D$4,'km-vergoeding'!$D$5),0)","v":{"v":0,"d":"0.0000 "}},{"$nulls":7},{"v":0,"d":"0.00"},{"$nulls":6},{"$f":"IF(AJ217=\"fiets\",'km-vergoeding'!$D$3,0)","v":{"v":0,"d":"0.00"}},{"$nulls":7},{"v":0,"d":"0.00"},{"$nulls":12},{"v":0,"d":"0.00"},{"$nulls":5},{"v":0,"d":"0.00"},{"$nulls":5},"","",null,"","","",{"v":0,"d":"0.00"},null,""]
["","","",{"$nulls":51},{"$f":"IF(AJ218=\"auto\",IF(AND((D218>'km-vergoeding'!$A$4),(D218<'km-vergoeding'!$A$5)),'km-vergoeding'!$D$4,'km-vergoeding'!$D$5),0)","v":{"v":0,"d":"0.0000 "}},{"$nulls":7},{"v":0,"d":"0.00"},{"$nulls":6},{"$f":"IF(AJ218=\"fiets\",'km-vergoeding'!$D$3,0)","v":{"v":0,"d":"0.00"}},{"$nulls":7},{"v":0,"d":"0.00"},{"$nulls":12},{"v":0,"d":"0.00"},{"$nulls":5},{"v":0,"d":"0.00"},{"$nulls":5},"","",null,"","","",{"v":0,"d":"0.00"},null,""]
["","","",{"$nulls":51},{"$f":"IF(AJ219=\"auto\",IF(AND((D219>'km-vergoeding'!$A$4),(D219<'km-vergoeding'!$A$5)),'km-vergoeding'!$D$4,'km-vergoeding'!$D$5),0)","v":{"v":0,"d":"0.0000 "}},{"$nulls":7},{"v":0,"d":"0.00"},{"$nulls":6},{"$f":"IF(AJ219=\"fiets\",'km-vergoeding'!$D$3,0)","v":{"v":0,"d":"0.00"}},{"$nulls":7},{"v":0,"d":"0.00"},{"$nulls":12},{"v":0,"d":"0.00"},{"$nulls":5},{"v":0,"d":"0.00"},{"$nulls":5},"","",null,"","","",{"v":0,"d":"0.00"},null,""]
["","","",{"$nulls":51},{"$f":"IF(AJ220=\"auto\",IF(AND((D220>'km-vergoeding'!$A$4),(D220<'km-vergoeding'!$A$5)),'km-vergoeding'!$D$4,'km-vergoeding'!$D$5),0)","v":{"v":0,"d":"0.0000 "}},{"$nulls":7},{"v":0,"d":"0.00"},{"$nulls":6},{"$f":"IF(AJ220=\"fiets\",'km-vergoeding'!$D$3,0)","v":{"v":0,"d":"0.00"}},{"$nulls":7},{"v":0,"d":"0.00"},{"$nulls":12},{"v":0,"d":"0.00"},{"$nulls":5},{"v":0,"d":"0.00"},{"$nulls":5},"","",null,"","","",{"v":0,"d":"0.00"},null,""]
["","","",{"$nulls":51},{"$f":"IF(AJ221=\"auto\",IF(AND((D221>'km-vergoeding'!$A$4),(D221<'km-vergoeding'!$A$5)),'km-vergoeding'!$D$4,'km-vergoeding'!$D$5),0)","v":{"v":0,"d":"0.0000 "}},{"$nulls":7},{"v":0,"d":"0.00"},{"$nulls":6},{"$f":"IF(AJ221=\"fiets\",'km-vergoeding'!$D$3,0)","v":{"v":0,"d":"0.00"}},{"$nulls":7},{"v":0,"d":"0.00"},{"$nulls":12},{"v":0,"d":"0.00"},{"$nulls":5},{"v":0,"d":"0.00"},{"$nulls":5},"","",null,"","","",{"v":0,"d":"0.00"},null,""]
["","","",{"$nulls":51},{"$f":"IF(AJ222=\"auto\",IF(AND((D222>'km-vergoeding'!$A$4),(D222<'km-vergoeding'!$A$5)),'km-vergoeding'!$D$4,'km-vergoeding'!$D$5),0)","v":{"v":0,"d":"0.0000 "}},{"$nulls":7},{"v":0,"d":"0.00"},{"$nulls":6},{"$f":"IF(AJ222=\"fiets\",'km-vergoeding'!$D$3,0)","v":{"v":0,"d":"0.00"}},{"$nulls":7},{"v":0,"d":"0.00"},{"$nulls":12},{"v":0,"d":"0.00"},{"$nulls":5},{"v":0,"d":"0.00"},{"$nulls":5},"","",null,"","","",{"v":0,"d":"0.00"},null,""]
["","","",{"$nulls":51},{"$f":"IF(AJ223=\"auto\",IF(AND((D223>'km-vergoeding'!$A$4),(D223<'km-vergoeding'!$A$5)),'km-vergoeding'!$D$4,'km-vergoeding'!$D$5),0)","v":{"v":0,"d":"0.0000 "}},{"$nulls":7},{"v":0,"d":"0.00"},{"$nulls":6},{"$f":"IF(AJ223=\"fiets\",'km-vergoeding'!$D$3,0)","v":{"v":0,"d":"0.00"}},{"$nulls":7},{"v":0,"d":"0.00"},{"$nulls":12},{"v":0,"d":"0.00"},{"$nulls":5},{"v":0,"d":"0.00"},{"$nulls":5},"","",null,"","","",{"v":0,"d":"0.00"},null,""]
["","","",{"$nulls":51},{"$f":"IF(AJ224=\"auto\",IF(AND((D224>'km-vergoeding'!$A$4),(D224<'km-vergoeding'!$A$5)),'km-vergoeding'!$D$4,'km-vergoeding'!$D$5),0)","v":{"v":0,"d":"0.0000 "}},{"$nulls":7},{"v":0,"d":"0.00"},{"$nulls":6},{"$f":"IF(AJ224=\"fiets\",'km-vergoeding'!$D$3,0)","v":{"v":0,"d":"0.00"}},{"$nulls":7},{"v":0,"d":"0.00"},{"$nulls":12},{"v":0,"d":"0.00"},{"$nulls":5},{"v":0,"d":"0.00"},{"$nulls":5},"","",null,"","","",{"v":0,"d":"0.00"},null,""]
["","","",{"$nulls":51},{"$f":"IF(AJ225=\"auto\",IF(AND((D225>'km-vergoeding'!$A$4),(D225<'km-vergoeding'!$A$5)),'km-vergoeding'!$D$4,'km-vergoeding'!$D$5),0)","v":{"v":0,"d":"0.0000 "}},{"$nulls":7},{"v":0,"d":"0.00"},{"$nulls":6},{"$f":"IF(AJ225=\"fiets\",'km-vergoeding'!$D$3,0)","v":{"v":0,"d":"0.00"}},{"$nulls":7},{"v":0,"d":"0.00"},{"$nulls":12},{"v":0,"d":"0.00"},{"$nulls":5},{"v":0,"d":"0.00"},{"$nulls":5},"","",null,"","","",{"v":0,"d":"0.00"},null,""]
["","","",{"$nulls":51},{"$f":"IF(AJ226=\"auto\",IF(AND((D226>'km-vergoeding'!$A$4),(D226<'km-vergoeding'!$A$5)),'km-vergoeding'!$D$4,'km-vergoeding'!$D$5),0)","v":{"v":0,"d":"0.0000 "}},{"$nulls":7},{"v":0,"d":"0.00"},{"$nulls":6},{"$f":"IF(AJ226=\"fiets\",'km-vergoeding'!$D$3,0)","v":{"v":0,"d":"0.00"}},{"$nulls":7},{"v":0,"d":"0.00"},{"$nulls":12},{"v":0,"d":"0.00"},{"$nulls":5},{"v":0,"d":"0.00"},{"$nulls":5},"","",null,"","","",{"v":0,"d":"0.00"},null,""]
["","","",{"$nulls":51},{"$f":"IF(AJ227=\"auto\",IF(AND((D227>'km-vergoeding'!$A$4),(D227<'km-vergoeding'!$A$5)),'km-vergoeding'!$D$4,'km-vergoeding'!$D$5),0)","v":{"v":0,"d":"0.0000 "}},{"$nulls":7},{"v":0,"d":"0.00"},{"$nulls":6},{"$f":"IF(AJ227=\"fiets\",'km-vergoeding'!$D$3,0)","v":{"v":0,"d":"0.00"}},{"$nulls":7},{"v":0,"d":"0.00"},{"$nulls":12},{"v":0,"d":"0.00"},{"$nulls":5},{"v":0,"d":"0.00"},{"$nulls":5},"","",null,"","","",{"v":0,"d":"0.00"},null,""]
["","","",{"$nulls":51},{"$f":"IF(AJ228=\"auto\",IF(AND((D228>'km-vergoeding'!$A$4),(D228<'km-vergoeding'!$A$5)),'km-vergoeding'!$D$4,'km-vergoeding'!$D$5),0)","v":{"v":0,"d":"0.0000 "}},{"$nulls":7},{"v":0,"d":"0.00"},{"$nulls":6},{"$f":"IF(AJ228=\"fiets\",'km-vergoeding'!$D$3,0)","v":{"v":0,"d":"0.00"}},{"$nulls":7},{"v":0,"d":"0.00"},{"$nulls":12},{"v":0,"d":"0.00"},{"$nulls":5},{"v":0,"d":"0.00"},{"$nulls":5},"","",null,"","","",{"v":0,"d":"0.00"},null,""]
["","","",{"$nulls":51},{"$f":"IF(AJ229=\"auto\",IF(AND((D229>'km-vergoeding'!$A$4),(D229<'km-vergoeding'!$A$5)),'km-vergoeding'!$D$4,'km-vergoeding'!$D$5),0)","v":{"v":0,"d":"0.0000 "}},{"$nulls":7},{"v":0,"d":"0.00"},{"$nulls":6},{"$f":"IF(AJ229=\"fiets\",'km-vergoeding'!$D$3,0)","v":{"v":0,"d":"0.00"}},{"$nulls":7},{"v":0,"d":"0.00"},{"$nulls":12},{"v":0,"d":"0.00"},{"$nulls":5},{"v":0,"d":"0.00"},{"$nulls":5},"","",null,"","","",{"v":0,"d":"0.00"},null,""]
["","","",{"$nulls":51},{"$f":"IF(AJ230=\"auto\",IF(AND((D230>'km-vergoeding'!$A$4),(D230<'km-vergoeding'!$A$5)),'km-vergoeding'!$D$4,'km-vergoeding'!$D$5),0)","v":{"v":0,"d":"0.0000 "}},{"$nulls":7},{"v":0,"d":"0.00"},{"$nulls":6},{"$f":"IF(AJ230=\"fiets\",'km-vergoeding'!$D$3,0)","v":{"v":0,"d":"0.00"}},{"$nulls":7},{"v":0,"d":"0.00"},{"$nulls":12},{"v":0,"d":"0.00"},{"$nulls":5},{"v":0,"d":"0.00"},{"$nulls":5},"","",null,"","","",{"v":0,"d":"0.00"},null,""]
["","","",{"$nulls":51},{"$f":"IF(AJ231=\"auto\",IF(AND((D231>'km-vergoeding'!$A$4),(D231<'km-vergoeding'!$A$5)),'km-vergoeding'!$D$4,'km-vergoeding'!$D$5),0)","v":{"v":0,"d":"0.0000 "}},{"$nulls":7},{"v":0,"d":"0.00"},{"$nulls":6},{"$f":"IF(AJ231=\"fiets\",'km-vergoeding'!$D$3,0)","v":{"v":0,"d":"0.00"}},{"$nulls":7},{"v":0,"d":"0.00"},{"$nulls":12},{"v":0,"d":"0.00"},{"$nulls":5},{"v":0,"d":"0.00"},{"$nulls":5},"","",null,"","","",{"v":0,"d":"0.00"},null,""]
["","","",{"$nulls":51},{"$f":"IF(AJ232=\"auto\",IF(AND((D232>'km-vergoeding'!$A$4),(D232<'km-vergoeding'!$A$5)),'km-vergoeding'!$D$4,'km-vergoeding'!$D$5),0)","v":{"v":0,"d":"0.0000 "}},{"$nulls":7},{"v":0,"d":"0.00"},{"$nulls":6},{"$f":"IF(AJ232=\"fiets\",'km-vergoeding'!$D$3,0)","v":{"v":0,"d":"0.00"}},{"$nulls":7},{"v":0,"d":"0.00"},{"$nulls":12},{"v":0,"d":"0.00"},{"$nulls":5},{"v":0,"d":"0.00"},{"$nulls":5},"","",null,"","","",{"v":0,"d":"0.00"},null,""]
["","","",{"$nulls":51},{"$f":"IF(AJ233=\"auto\",IF(AND((D233>'km-vergoeding'!$A$4),(D233<'km-vergoeding'!$A$5)),'km-vergoeding'!$D$4,'km-vergoeding'!$D$5),0)","v":{"v":0,"d":"0.0000 "}},{"$nulls":7},{"v":0,"d":"0.00"},{"$nulls":6},{"$f":"IF(AJ233=\"fiets\",'km-vergoeding'!$D$3,0)","v":{"v":0,"d":"0.00"}},{"$nulls":7},{"v":0,"d":"0.00"},{"$nulls":12},{"v":0,"d":"0.00"},{"$nulls":5},{"v":0,"d":"0.00"},{"$nulls":5},"","",null,"","","",{"v":0,"d":"0.00"},null,""]
["","","",{"$nulls":51},{"$f":"IF(AJ234=\"auto\",IF(AND((D234>'km-vergoeding'!$A$4),(D234<'km-vergoeding'!$A$5)),'km-vergoeding'!$D$4,'km-vergoeding'!$D$5),0)","v":{"v":0,"d":"0.0000 "}},{"$nulls":7},{"v":0,"d":"0.00"},{"$nulls":6},{"$f":"IF(AJ234=\"fiets\",'km-vergoeding'!$D$3,0)","v":{"v":0,"d":"0.00"}},{"$nulls":7},{"v":0,"d":"0.00"},{"$nulls":12},{"v":0,"d":"0.00"},{"$nulls":5},{"v":0,"d":"0.00"},{"$nulls":5},"","",null,"","","",{"v":0,"d":"0.00"},null,""]
["","","",{"$nulls":51},{"$f":"IF(AJ235=\"auto\",IF(AND((D235>'km-vergoeding'!$A$4),(D235<'km-vergoeding'!$A$5)),'km-vergoeding'!$D$4,'km-vergoeding'!$D$5),0)","v":{"v":0,"d":"0.0000 "}},{"$nulls":7},{"v":0,"d":"0.00"},{"$nulls":6},{"$f":"IF(AJ235=\"fiets\",'km-vergoeding'!$D$3,0)","v":{"v":0,"d":"0.00"}},{"$nulls":7},{"v":0,"d":"0.00"},{"$nulls":12},{"v":0,"d":"0.00"},{"$nulls":5},{"v":0,"d":"0.00"},{"$nulls":5},"","",null,"","","",{"v":0,"d":"0.00"},null,""]
["","","",{"$nulls":51},{"$f":"IF(AJ236=\"auto\",IF(AND((D236>'km-vergoeding'!$A$4),(D236<'km-vergoeding'!$A$5)),'km-vergoeding'!$D$4,'km-vergoeding'!$D$5),0)","v":{"v":0,"d":"0.0000 "}},{"$nulls":7},{"v":0,"d":"0.00"},{"$nulls":6},{"$f":"IF(AJ236=\"fiets\",'km-vergoeding'!$D$3,0)","v":{"v":0,"d":"0.00"}},{"$nulls":7},{"v":0,"d":"0.00"},{"$nulls":12},{"v":0,"d":"0.00"},{"$nulls":5},{"v":0,"d":"0.00"},{"$nulls":5},"","",null,"","","",{"v":0,"d":"0.00"},null,""]
["","","",{"$nulls":51},{"$f":"IF(AJ237=\"auto\",IF(AND((D237>'km-vergoeding'!$A$4),(D237<'km-vergoeding'!$A$5)),'km-vergoeding'!$D$4,'km-vergoeding'!$D$5),0)","v":{"v":0,"d":"0.0000 "}},{"$nulls":7},{"v":0,"d":"0.00"},{"$nulls":6},{"$f":"IF(AJ237=\"fiets\",'km-vergoeding'!$D$3,0)","v":{"v":0,"d":"0.00"}},{"$nulls":7},{"v":0,"d":"0.00"},{"$nulls":12},{"v":0,"d":"0.00"},{"$nulls":5},{"v":0,"d":"0.00"},{"$nulls":5},"","",null,"","","",{"v":0,"d":"0.00"},null,""]
["","","",{"$nulls":51},{"$f":"IF(AJ238=\"auto\",IF(AND((D238>'km-vergoeding'!$A$4),(D238<'km-vergoeding'!$A$5)),'km-vergoeding'!$D$4,'km-vergoeding'!$D$5),0)","v":{"v":0,"d":"0.0000 "}},{"$nulls":7},{"v":0,"d":"0.00"},{"$nulls":6},{"$f":"IF(AJ238=\"fiets\",'km-vergoeding'!$D$3,0)","v":{"v":0,"d":"0.00"}},{"$nulls":7},{"v":0,"d":"0.00"},{"$nulls":12},{"v":0,"d":"0.00"},{"$nulls":5},{"v":0,"d":"0.00"},{"$nulls":5},"","",null,"","","",{"v":0,"d":"0.00"},null,""]
["","","",{"$nulls":51},{"$f":"IF(AJ239=\"auto\",IF(AND((D239>'km-vergoeding'!$A$4),(D239<'km-vergoeding'!$A$5)),'km-vergoeding'!$D$4,'km-vergoeding'!$D$5),0)","v":{"v":0,"d":"0.0000 "}},{"$nulls":7},{"v":0,"d":"0.00"},{"$nulls":6},{"$f":"IF(AJ239=\"fiets\",'km-vergoeding'!$D$3,0)","v":{"v":0,"d":"0.00"}},{"$nulls":7},{"v":0,"d":"0.00"},{"$nulls":12},{"v":0,"d":"0.00"},{"$nulls":5},{"v":0,"d":"0.00"},{"$nulls":5},"","",null,"","","",{"v":0,"d":"0.00"},null,""]
["","","",{"$nulls":51},{"$f":"IF(AJ240=\"auto\",IF(AND((D240>'km-vergoeding'!$A$4),(D240<'km-vergoeding'!$A$5)),'km-vergoeding'!$D$4,'km-vergoeding'!$D$5),0)","v":{"v":0,"d":"0.0000 "}},{"$nulls":7},{"v":0,"d":"0.00"},{"$nulls":6},{"$f":"IF(AJ240=\"fiets\",'km-vergoeding'!$D$3,0)","v":{"v":0,"d":"0.00"}},{"$nulls":7},{"v":0,"d":"0.00"},{"$nulls":12},{"v":0,"d":"0.00"},{"$nulls":5},{"v":0,"d":"0.00"},{"$nulls":5},"","",null,"","","",{"v":0,"d":"0.00"},null,""]
["","","",{"$nulls":51},{"$f":"IF(AJ241=\"auto\",IF(AND((D241>'km-vergoeding'!$A$4),(D241<'km-vergoeding'!$A$5)),'km-vergoeding'!$D$4,'km-vergoeding'!$D$5),0)","v":{"v":0,"d":"0.0000 "}},{"$nulls":7},{"v":0,"d":"0.00"},{"$nulls":6},{"$f":"IF(AJ241=\"fiets\",'km-vergoeding'!$D$3,0)","v":{"v":0,"d":"0.00"}},{"$nulls":7},{"v":0,"d":"0.00"},{"$nulls":12},{"v":0,"d":"0.00"},{"$nulls":5},{"v":0,"d":"0.00"},{"$nulls":5},"","",null,"","","",{"v":0,"d":"0.00"},null,""]
["","","",{"$nulls":51},{"$f":"IF(AJ242=\"auto\",IF(AND((D242>'km-vergoeding'!$A$4),(D242<'km-vergoeding'!$A$5)),'km-vergoeding'!$D$4,'km-vergoeding'!$D$5),0)","v":{"v":0,"d":"0.0000 "}},{"$nulls":7},{"v":0,"d":"0.00"},{"$nulls":6},{"$f":"IF(AJ242=\"fiets\",'km-vergoeding'!$D$3,0)","v":{"v":0,"d":"0.00"}},{"$nulls":7},{"v":0,"d":"0.00"},{"$nulls":12},{"v":0,"d":"0.00"},{"$nulls":5},{"v":0,"d":"0.00"},{"$nulls":5},"","",null,"","","",{"v":0,"d":"0.00"},null,""]
["","","",{"$nulls":51},{"$f":"IF(AJ243=\"auto\",IF(AND((D243>'km-vergoeding'!$A$4),(D243<'km-vergoeding'!$A$5)),'km-vergoeding'!$D$4,'km-vergoeding'!$D$5),0)","v":{"v":0,"d":"0.0000 "}},{"$nulls":7},{"v":0,"d":"0.00"},{"$nulls":6},{"$f":"IF(AJ243=\"fiets\",'km-vergoeding'!$D$3,0)","v":{"v":0,"d":"0.00"}},{"$nulls":7},{"v":0,"d":"0.00"},{"$nulls":12},{"v":0,"d":"0.00"},{"$nulls":5},{"v":0,"d":"0.00"},{"$nulls":5},"","",null,"","","",{"v":0,"d":"0.00"},null,""]
["","","",{"$nulls":51},{"$f":"IF(AJ244=\"auto\",IF(AND((D244>'km-vergoeding'!$A$4),(D244<'km-vergoeding'!$A$5)),'km-vergoeding'!$D$4,'km-vergoeding'!$D$5),0)","v":{"v":0,"d":"0.0000 "}},{"$nulls":7},{"v":0,"d":"0.00"},{"$nulls":6},{"$f":"IF(AJ244=\"fiets\",'km-vergoeding'!$D$3,0)","v":{"v":0,"d":"0.00"}},{"$nulls":7},{"v":0,"d":"0.00"},{"$nulls":12},{"v":0,"d":"0.00"},{"$nulls":5},{"v":0,"d":"0.00"},{"$nulls":5},"","",null,"","","",{"v":0,"d":"0.00"},null,""]
["","","",{"$nulls":51},{"$f":"IF(AJ245=\"auto\",IF(AND((D245>'km-vergoeding'!$A$4),(D245<'km-vergoeding'!$A$5)),'km-vergoeding'!$D$4,'km-vergoeding'!$D$5),0)","v":{"v":0,"d":"0.0000 "}},{"$nulls":7},{"v":0,"d":"0.00"},{"$nulls":6},{"$f":"IF(AJ245=\"fiets\",'km-vergoeding'!$D$3,0)","v":{"v":0,"d":"0.00"}},{"$nulls":7},{"v":0,"d":"0.00"},{"$nulls":12},{"v":0,"d":"0.00"},{"$nulls":5},{"v":0,"d":"0.00"},{"$nulls":5},"","",null,"","","",{"v":0,"d":"0.00"},null,""]
["","","",{"$nulls":51},{"$f":"IF(AJ246=\"auto\",IF(AND((D246>'km-vergoeding'!$A$4),(D246<'km-vergoeding'!$A$5)),'km-vergoeding'!$D$4,'km-vergoeding'!$D$5),0)","v":{"v":0,"d":"0.0000 "}},{"$nulls":7},{"v":0,"d":"0.00"},{"$nulls":6},{"$f":"IF(AJ246=\"fiets\",'km-vergoeding'!$D$3,0)","v":{"v":0,"d":"0.00"}},{"$nulls":7},{"v":0,"d":"0.00"},{"$nulls":12},{"v":0,"d":"0.00"},{"$nulls":5},{"v":0,"d":"0.00"},{"$nulls":5},"","",null,"","","",{"v":0,"d":"0.00"},null,""]
["","","",{"$nulls":51},{"$f":"IF(AJ247=\"auto\",IF(AND((D247>'km-vergoeding'!$A$4),(D247<'km-vergoeding'!$A$5)),'km-vergoeding'!$D$4,'km-vergoeding'!$D$5),0)","v":{"v":0,"d":"0.0000 "}},{"$nulls":7},{"v":0,"d":"0.00"},{"$nulls":6},{"$f":"IF(AJ247=\"fiets\",'km-vergoeding'!$D$3,0)","v":{"v":0,"d":"0.00"}},{"$nulls":7},{"v":0,"d":"0.00"},{"$nulls":12},{"v":0,"d":"0.00"},{"$nulls":5},{"v":0,"d":"0.00"},{"$nulls":5},"","",null,"","","",{"v":0,"d":"0.00"},null,""]
["","","",{"$nulls":51},{"$f":"IF(AJ248=\"auto\",IF(AND((D248>'km-vergoeding'!$A$4),(D248<'km-vergoeding'!$A$5)),'km-vergoeding'!$D$4,'km-vergoeding'!$D$5),0)","v":{"v":0,"d":"0.0000 "}},{"$nulls":7},{"v":0,"d":"0.00"},{"$nulls":6},{"$f":"IF(AJ248=\"fiets\",'km-vergoeding'!$D$3,0)","v":{"v":0,"d":"0.00"}},{"$nulls":7},{"v":0,"d":"0.00"},{"$nulls":12},{"v":0,"d":"0.00"},{"$nulls":5},{"v":0,"d":"0.00"},{"$nulls":5},"","",null,"","","",{"v":0,"d":"0.00"},null,""]
["","","",{"$nulls":51},{"$f":"IF(AJ249=\"auto\",IF(AND((D249>'km-vergoeding'!$A$4),(D249<'km-vergoeding'!$A$5)),'km-vergoeding'!$D$4,'km-vergoeding'!$D$5),0)","v":{"v":0,"d":"0.0000 "}},{"$nulls":7},{"v":0,"d":"0.00"},{"$nulls":6},{"$f":"IF(AJ249=\"fiets\",'km-vergoeding'!$D$3,0)","v":{"v":0,"d":"0.00"}},{"$nulls":7},{"v":0,"d":"0.00"},{"$nulls":12},{"v":0,"d":"0.00"},{"$nulls":5},{"v":0,"d":"0.00"},{"$nulls":5},"","",null,"","","",{"v":0,"d":"0.00"},null,""]
["","","",{"$nulls":51},{"$f":"IF(AJ250=\"auto\",IF(AND((D250>'km-vergoeding'!$A$4),(D250<'km-vergoeding'!$A$5)),'km-vergoeding'!$D$4,'km-vergoeding'!$D$5),0)","v":{"v":0,"d":"0.0000 "}},{"$nulls":7},{"v":0,"d":"0.00"},{"$nulls":6},{"$f":"IF(AJ250=\"fiets\",'km-vergoeding'!$D$3,0)","v":{"v":0,"d":"0.00"}},{"$nulls":7},{"v":0,"d":"0.00"},{"$nulls":12},{"v":0,"d":"0.00"},{"$nulls":5},{"v":0,"d":"0.00"},{"$nulls":5},"","",null,"","","",{"v":0,"d":"0.00"},null,""]
["","","",{"$nulls":51},{"$f":"IF(AJ251=\"auto\",IF(AND((D251>'km-vergoeding'!$A$4),(D251<'km-vergoeding'!$A$5)),'km-vergoeding'!$D$4,'km-vergoeding'!$D$5),0)","v":{"v":0,"d":"0.0000 "}},{"$nulls":7},{"v":0,"d":"0.00"},{"$nulls":6},{"$f":"IF(AJ251=\"fiets\",'km-vergoeding'!$D$3,0)","v":{"v":0,"d":"0.00"}},{"$nulls":7},{"v":0,"d":"0.00"},{"$nulls":12},{"v":0,"d":"0.00"},{"$nulls":5},{"v":0,"d":"0.00"},{"$nulls":5},"","",null,"","","",{"v":0,"d":"0.00"},null,""]
["","","",{"$nulls":51},{"$f":"IF(AJ252=\"auto\",IF(AND((D252>'km-vergoeding'!$A$4),(D252<'km-vergoeding'!$A$5)),'km-vergoeding'!$D$4,'km-vergoeding'!$D$5),0)","v":{"v":0,"d":"0.0000 "}},{"$nulls":7},{"v":0,"d":"0.00"},{"$nulls":6},{"$f":"IF(AJ252=\"fiets\",'km-vergoeding'!$D$3,0)","v":{"v":0,"d":"0.00"}},{"$nulls":7},{"v":0,"d":"0.00"},{"$nulls":12},{"v":0,"d":"0.00"},{"$nulls":5},{"v":0,"d":"0.00"},{"$nulls":5},"","",null,"","","",{"v":0,"d":"0.00"},null,""]
["","","",{"$nulls":51},{"$f":"IF(AJ253=\"auto\",IF(AND((D253>'km-vergoeding'!$A$4),(D253<'km-vergoeding'!$A$5)),'km-vergoeding'!$D$4,'km-vergoeding'!$D$5),0)","v":{"v":0,"d":"0.0000 "}},{"$nulls":7},{"v":0,"d":"0.00"},{"$nulls":6},{"$f":"IF(AJ253=\"fiets\",'km-vergoeding'!$D$3,0)","v":{"v":0,"d":"0.00"}},{"$nulls":7},{"v":0,"d":"0.00"},{"$nulls":12},{"v":0,"d":"0.00"},{"$nulls":5},{"v":0,"d":"0.00"},{"$nulls":5},"","",null,"","","",{"v":0,"d":"0.00"},null,""]
["","","",{"$nulls":51},{"$f":"IF(AJ254=\"auto\",IF(AND((D254>'km-vergoeding'!$A$4),(D254<'km-vergoeding'!$A$5)),'km-vergoeding'!$D$4,'km-vergoeding'!$D$5),0)","v":{"v":0,"d":"0.0000 "}},{"$nulls":7},{"v":0,"d":"0.00"},{"$nulls":6},{"$f":"IF(AJ254=\"fiets\",'km-vergoeding'!$D$3,0)","v":{"v":0,"d":"0.00"}},{"$nulls":7},{"v":0,"d":"0.00"},{"$nulls":12},{"v":0,"d":"0.00"},{"$nulls":5},{"v":0,"d":"0.00"},{"$nulls":5},"","",null,"","","",{"v":0,"d":"0.00"},null,""]
["","","",{"$nulls":51},{"$f":"IF(AJ255=\"auto\",IF(AND((D255>'km-vergoeding'!$A$4),(D255<'km-vergoeding'!$A$5)),'km-vergoeding'!$D$4,'km-vergoeding'!$D$5),0)","v":{"v":0,"d":"0.0000 "}},{"$nulls":7},{"v":0,"d":"0.00"},{"$nulls":6},{"$f":"IF(AJ255=\"fiets\",'km-vergoeding'!$D$3,0)","v":{"v":0,"d":"0.00"}},{"$nulls":7},{"v":0,"d":"0.00"},{"$nulls":12},{"v":0,"d":"0.00"},{"$nulls":5},{"v":0,"d":"0.00"},{"$nulls":5},"","",null,"","","",{"v":0,"d":"0.00"},null,""]
["","","",{"$nulls":51},{"$f":"IF(AJ256=\"auto\",IF(AND((D256>'km-vergoeding'!$A$4),(D256<'km-vergoeding'!$A$5)),'km-vergoeding'!$D$4,'km-vergoeding'!$D$5),0)","v":{"v":0,"d":"0.0000 "}},{"$nulls":7},{"v":0,"d":"0.00"},{"$nulls":6},{"$f":"IF(AJ256=\"fiets\",'km-vergoeding'!$D$3,0)","v":{"v":0,"d":"0.00"}},{"$nulls":7},{"v":0,"d":"0.00"},{"$nulls":12},{"v":0,"d":"0.00"},{"$nulls":5},{"v":0,"d":"0.00"},{"$nulls":5},"","",null,"","","",{"v":0,"d":"0.00"},null,""]
["","","",{"$nulls":51},{"$f":"IF(AJ257=\"auto\",IF(AND((D257>'km-vergoeding'!$A$4),(D257<'km-vergoeding'!$A$5)),'km-vergoeding'!$D$4,'km-vergoeding'!$D$5),0)","v":{"v":0,"d":"0.0000 "}},{"$nulls":7},{"v":0,"d":"0.00"},{"$nulls":6},{"$f":"IF(AJ257=\"fiets\",'km-vergoeding'!$D$3,0)","v":{"v":0,"d":"0.00"}},{"$nulls":7},{"v":0,"d":"0.00"},{"$nulls":12},{"v":0,"d":"0.00"},{"$nulls":5},{"v":0,"d":"0.00"},{"$nulls":5},"","",null,"","","",{"v":0,"d":"0.00"},null,""]
["","","",{"$nulls":51},{"$f":"IF(AJ258=\"auto\",IF(AND((D258>'km-vergoeding'!$A$4),(D258<'km-vergoeding'!$A$5)),'km-vergoeding'!$D$4,'km-vergoeding'!$D$5),0)","v":{"v":0,"d":"0.0000 "}},{"$nulls":7},{"v":0,"d":"0.00"},{"$nulls":6},{"$f":"IF(AJ258=\"fiets\",'km-vergoeding'!$D$3,0)","v":{"v":0,"d":"0.00"}},{"$nulls":7},{"v":0,"d":"0.00"},{"$nulls":12},{"v":0,"d":"0.00"},{"$nulls":5},{"v":0,"d":"0.00"},{"$nulls":5},"","",null,"","","",{"v":0,"d":"0.00"},null,""]
["","","",{"$nulls":51},{"$f":"IF(AJ259=\"auto\",IF(AND((D259>'km-vergoeding'!$A$4),(D259<'km-vergoeding'!$A$5)),'km-vergoeding'!$D$4,'km-vergoeding'!$D$5),0)","v":{"v":0,"d":"0.0000 "}},{"$nulls":7},{"v":0,"d":"0.00"},{"$nulls":6},{"$f":"IF(AJ259=\"fiets\",'km-vergoeding'!$D$3,0)","v":{"v":0,"d":"0.00"}},{"$nulls":7},{"v":0,"d":"0.00"},{"$nulls":12},{"v":0,"d":"0.00"},{"$nulls":5},{"v":0,"d":"0.00"},{"$nulls":5},"","",null,"","","",{"v":0,"d":"0.00"},null,""]
["","","",{"$nulls":51},{"$f":"IF(AJ260=\"auto\",IF(AND((D260>'km-vergoeding'!$A$4),(D260<'km-vergoeding'!$A$5)),'km-vergoeding'!$D$4,'km-vergoeding'!$D$5),0)","v":{"v":0,"d":"0.0000 "}},{"$nulls":7},{"v":0,"d":"0.00"},{"$nulls":6},{"$f":"IF(AJ260=\"fiets\",'km-vergoeding'!$D$3,0)","v":{"v":0,"d":"0.00"}},{"$nulls":7},{"v":0,"d":"0.00"},{"$nulls":12},{"v":0,"d":"0.00"},{"$nulls":5},{"v":0,"d":"0.00"},{"$nulls":5},"","",null,"","","",{"v":0,"d":"0.00"},null,""]
["","","",{"$nulls":51},{"$f":"IF(AJ261=\"auto\",IF(AND((D261>'km-vergoeding'!$A$4),(D261<'km-vergoeding'!$A$5)),'km-vergoeding'!$D$4,'km-vergoeding'!$D$5),0)","v":{"v":0,"d":"0.0000 "}},{"$nulls":7},{"v":0,"d":"0.00"},{"$nulls":6},{"$f":"IF(AJ261=\"fiets\",'km-vergoeding'!$D$3,0)","v":{"v":0,"d":"0.00"}},{"$nulls":7},{"v":0,"d":"0.00"},{"$nulls":12},{"v":0,"d":"0.00"},{"$nulls":5},{"v":0,"d":"0.00"},{"$nulls":5},"","",null,"","","",{"v":0,"d":"0.00"},null,""]
["","","",{"$nulls":51},{"$f":"IF(AJ262=\"auto\",IF(AND((D262>'km-vergoeding'!$A$4),(D262<'km-vergoeding'!$A$5)),'km-vergoeding'!$D$4,'km-vergoeding'!$D$5),0)","v":{"v":0,"d":"0.0000 "}},{"$nulls":7},{"v":0,"d":"0.00"},{"$nulls":6},{"$f":"IF(AJ262=\"fiets\",'km-vergoeding'!$D$3,0)","v":{"v":0,"d":"0.00"}},{"$nulls":7},{"v":0,"d":"0.00"},{"$nulls":12},{"v":0,"d":"0.00"},{"$nulls":5},{"v":0,"d":"0.00"},{"$nulls":5},"","",null,"","","",{"v":0,"d":"0.00"},null,""]
["","","",{"$nulls":51},{"$f":"IF(AJ263=\"auto\",IF(AND((D263>'km-vergoeding'!$A$4),(D263<'km-vergoeding'!$A$5)),'km-vergoeding'!$D$4,'km-vergoeding'!$D$5),0)","v":{"v":0,"d":"0.0000 "}},{"$nulls":7},{"v":0,"d":"0.00"},{"$nulls":6},{"$f":"IF(AJ263=\"fiets\",'km-vergoeding'!$D$3,0)","v":{"v":0,"d":"0.00"}},{"$nulls":7},{"v":0,"d":"0.00"},{"$nulls":12},{"v":0,"d":"0.00"},{"$nulls":5},{"v":0,"d":"0.00"},{"$nulls":5},"","",null,"","","",{"v":0,"d":"0.00"},null,""]
["","","",{"$nulls":51},{"$f":"IF(AJ264=\"auto\",IF(AND((D264>'km-vergoeding'!$A$4),(D264<'km-vergoeding'!$A$5)),'km-vergoeding'!$D$4,'km-vergoeding'!$D$5),0)","v":{"v":0,"d":"0.0000 "}},{"$nulls":7},{"v":0,"d":"0.00"},{"$nulls":6},{"$f":"IF(AJ264=\"fiets\",'km-vergoeding'!$D$3,0)","v":{"v":0,"d":"0.00"}},{"$nulls":7},{"v":0,"d":"0.00"},{"$nulls":12},{"v":0,"d":"0.00"},{"$nulls":5},{"v":0,"d":"0.00"},{"$nulls":5},"","",null,"","","",{"v":0,"d":"0.00"},null,""]
["","","",{"$nulls":51},{"$f":"IF(AJ265=\"auto\",IF(AND((D265>'km-vergoeding'!$A$4),(D265<'km-vergoeding'!$A$5)),'km-vergoeding'!$D$4,'km-vergoeding'!$D$5),0)","v":{"v":0,"d":"0.0000 "}},{"$nulls":7},{"v":0,"d":"0.00"},{"$nulls":6},{"$f":"IF(AJ265=\"fiets\",'km-vergoeding'!$D$3,0)","v":{"v":0,"d":"0.00"}},{"$nulls":7},{"v":0,"d":"0.00"},{"$nulls":12},{"v":0,"d":"0.00"},{"$nulls":5},{"v":0,"d":"0.00"},{"$nulls":5},"","",null,"","","",{"v":0,"d":"0.00"},null,""]
["","","",{"$nulls":51},{"$f":"IF(AJ266=\"auto\",IF(AND((D266>'km-vergoeding'!$A$4),(D266<'km-vergoeding'!$A$5)),'km-vergoeding'!$D$4,'km-vergoeding'!$D$5),0)","v":{"v":0,"d":"0.0000 "}},{"$nulls":7},{"v":0,"d":"0.00"},{"$nulls":6},{"$f":"IF(AJ266=\"fiets\",'km-vergoeding'!$D$3,0)","v":{"v":0,"d":"0.00"}},{"$nulls":7},{"v":0,"d":"0.00"},{"$nulls":12},{"v":0,"d":"0.00"},{"$nulls":5},{"v":0,"d":"0.00"},{"$nulls":5},"","",null,"","","",{"v":0,"d":"0.00"},null,""]
[{"$f":"IF(OR(AND(D267<>\"\",H267=\"\"),AND(H267<>\"\",R267=\"\"),AND(R267<>\"\",H267=\"\"),AND(R267<>\"\",X267=\"\"),AND(X267<>\"\",R267=\"\")),\"!\",\"\")","v":""},{"$f":"IF(OR(AND(ISBLANK(D267),OR(H267<>\"\",R267<>\"\",X267<>\"\",AJ267<>\"\",AR267<>\"\",AY267<>\"\",CG267<>\"\"))),\"!\",\"\")","v":""},{"$f":"IF(AND(CG267=0,AJ267<>\"openbaar vervoer\",OR(AND(OR(AJ267=\"auto\",AJ267=\"fiets\"),OR(AR267=\"\",AR267=0)),AND(AR267>0,AY267=\"\"),AND(AR267=\"\",AY267>0),AND(AR267>0,AJ267=\"\"))),\"!\",\"\")","v":""},{"$nulls":51},{"$f":"IF(AJ267=\"auto\",IF(AND((D267>'km-vergoeding'!$A$4),(D267<'km-vergoeding'!$A$5)),'km-vergoeding'!$D$4,'km-vergoeding'!$D$5),0)","v":{"v":0,"d":"0.0000 "}},{"$nulls":7},{"v":0,"d":"0.00"},{"$nulls":6},{"$f":"IF(AJ267=\"fiets\",'km-vergoeding'!$D$3,0)","v":{"v":0,"d":"0.00"}},{"$nulls":7},{"v":0,"d":"0.00"},{"$nulls":12},{"v":0,"d":"0.00"},{"$nulls":5},{"v":0,"d":"0.00"},{"$nulls":5},"","",null,"","","",{"v":0,"d":"0.00"},null,{"$f":"IF(AND(A267=\"\",B267=\"\",C267=\"\",CY267=\"\",CZ267=\"\",DB267=\"\",DC267=\"\",DD267=\"\"),\"\",\"Deze rij is nog onvolledig of bevat nog fouten! Zie foutmeldingen boven de tabel.\")","v":""}]
["","","",{"$nulls":51},{"$f":"IF(AJ268=\"auto\",IF(AND((D268>'km-vergoeding'!$A$4),(D268<'km-vergoeding'!$A$5)),'km-vergoeding'!$D$4,'km-vergoeding'!$D$5),0)","v":{"v":0,"d":"0.0000 "}},{"$nulls":7},{"v":0,"d":"0.00"},{"$nulls":6},{"$f":"IF(AJ268=\"fiets\",'km-vergoeding'!$D$3,0)","v":{"v":0,"d":"0.00"}},{"$nulls":7},{"v":0,"d":"0.00"},{"$nulls":12},{"v":0,"d":"0.00"},{"$nulls":5},{"$f":"IF(CM268=0,0,IF(CM269=0,DE268,0))","v":{"v":0,"d":"0.00"}},{"$nulls":5},{"$f":"IF(AND(OR((AJ268=\"fiets\"),(AJ268=\"auto\")),(CG268>0)),\"!\",\"\")","v":""},{"$f":"IF(OR(AND(D267<>\"\",D268=\"\",D269<>\"\"),AND(D267=\"\",D268=\"\",D269<>\"\")),\"!\",\"\")","v":""},null,{"$f":"IF(AND(AJ268=\"openbaar vervoer\",OR(AR268<>\"\",AY268<>\"\")),\"!\",\"\")","v":""},{"$f":"IF(AND(X268<>\"\",AND(AJ268=\"\",CM268=0)),\"!\",\"\")","v":""},{"$f":"IF(OR(AND(AJ268=\"openbaar vervoer\",CG268=0),AND(CG268>0,AJ268=\"\")),\"!\",\"\")","v":""},{"v":0,"d":"0.00"},null,""]
["","","",{"$nulls":51},{"$f":"IF(AJ269=\"auto\",IF(AND((D269>'km-vergoeding'!$A$4),(D269<'km-vergoeding'!$A$5)),'km-vergoeding'!$D$4,'km-vergoeding'!$D$5),0)","v":{"v":0,"d":"0.0000 "}},{"$nulls":7},{"v":0,"d":"0.00"},{"$nulls":6},{"$f":"IF(AJ269=\"fiets\",'km-vergoeding'!$D$3,0)","v":{"v":0,"d":"0.00"}},{"$nulls":7},{"v":0,"d":"0.00"},{"$nulls":12},{"v":0,"d":"0.00"},{"$nulls":5},{"v":0,"d":"0.00"},{"$nulls":5},"","",null,"","","",{"$f":"IF(CM269=0,DE268,DE268+CM269)","v":{"v":0,"d":"0.00"}},null,""]
["","","",{"$nulls":51},{"$f":"IF(AJ270=\"auto\",IF(AND((D270>'km-vergoeding'!$A$4),(D270<'km-vergoeding'!$A$5)),'km-vergoeding'!$D$4,'km-vergoeding'!$D$5),0)","v":{"v":0,"d":"0.0000 "}},{"$nulls":7},{"$f":"IF(AJ270=\"auto\",ROUND(AR270*AY270*BC270,2),0)","v":{"v":0,"d":"0.00"}},{"$nulls":6},{"$f":"IF(AJ270=\"fiets\",'km-vergoeding'!$D$3,0)","v":{"v":0,"d":"0.00"}},{"$nulls":7},{"$f":"IF(AJ270=\"fiets\",ROUND(AR270*AY270*BR270,2),0)","v":{"v":0,"d":"0.00"}},{"$nulls":12},{"$f":"IF(AND(OR((AJ270=\"fiets\"),(AJ270=\"auto\")),(CG270>0)),\"xxxx\",BK270+BZ270+CG270)","v":{"v":0,"d":"0.00"}},{"$nulls":5},{"v":0,"d":"0.00"},{"$nulls":5},"","",null,"","","",{"v":0,"d":"0.00"},null,""]
["","","",{"$nulls":51},{"$f":"IF(AJ271=\"auto\",IF(AND((D271>'km-vergoeding'!$A$4),(D271<'km-vergoeding'!$A$5)),'km-vergoeding'!$D$4,'km-vergoeding'!$D$5),0)","v":{"v":0,"d":"0.0000 "}},{"$nulls":7},{"v":0,"d":"0.00"},{"$nulls":6},{"$f":"IF(AJ271=\"fiets\",'km-vergoeding'!$D$3,0)","v":{"v":0,"d":"0.00"}},{"$nulls":7},{"v":0,"d":"0.00"},{"$nulls":12},{"v":0,"d":"0.00"},{"$nulls":5},{"v":0,"d":"0.00"},{"$nulls":5},"","",null,"","","",{"v":0,"d":"0.00"},null,""]
["","","",{"$nulls":51},{"$f":"IF(AJ272=\"auto\",IF(AND((D272>'km-vergoeding'!$A$4),(D272<'km-vergoeding'!$A$5)),'km-vergoeding'!$D$4,'km-vergoeding'!$D$5),0)","v":{"v":0,"d":"0.0000 "}},{"$nulls":7},{"v":0,"d":"0.00"},{"$nulls":6},{"$f":"IF(AJ272=\"fiets\",'km-vergoeding'!$D$3,0)","v":{"v":0,"d":"0.00"}},{"$nulls":7},{"v":0,"d":"0.00"},{"$nulls":12},{"v":0,"d":"0.00"},{"$nulls":5},{"v":0,"d":"0.00"},{"$nulls":5},"","",null,"","","",{"v":0,"d":"0.00"},null,""]
["","","",{"$nulls":51},{"$f":"IF(AJ273=\"auto\",IF(AND((D273>'km-vergoeding'!$A$4),(D273<'km-vergoeding'!$A$5)),'km-vergoeding'!$D$4,'km-vergoeding'!$D$5),0)","v":{"v":0,"d":"0.0000 "}},{"$nulls":7},{"v":0,"d":"0.00"},{"$nulls":6},{"$f":"IF(AJ273=\"fiets\",'km-vergoeding'!$D$3,0)","v":{"v":0,"d":"0.00"}},{"$nulls":7},{"v":0,"d":"0.00"},{"$nulls":12},{"v":0,"d":"0.00"},{"$nulls":5},{"v":0,"d":"0.00"},{"$nulls":5},"","",null,"","","",{"v":0,"d":"0.00"},null,""]
["","","",{"$nulls":51},{"$f":"IF(AJ274=\"auto\",IF(AND((D274>'km-vergoeding'!$A$4),(D274<'km-vergoeding'!$A$5)),'km-vergoeding'!$D$4,'km-vergoeding'!$D$5),0)","v":{"v":0,"d":"0.0000 "}},{"$nulls":7},{"v":0,"d":"0.00"},{"$nulls":6},{"$f":"IF(AJ274=\"fiets\",'km-vergoeding'!$D$3,0)","v":{"v":0,"d":"0.00"}},{"$nulls":7},{"v":0,"d":"0.00"},{"$nulls":12},{"v":0,"d":"0.00"},{"$nulls":5},{"v":0,"d":"0.00"},{"$nulls":5},"","",null,"","","",{"v":0,"d":"0.00"},null,""]
["","","",{"$nulls":51},{"$f":"IF(AJ275=\"auto\",IF(AND((D275>'km-vergoeding'!$A$4),(D275<'km-vergoeding'!$A$5)),'km-vergoeding'!$D$4,'km-vergoeding'!$D$5),0)","v":{"v":0,"d":"0.0000 "}},{"$nulls":7},{"v":0,"d":"0.00"},{"$nulls":6},{"$f":"IF(AJ275=\"fiets\",'km-vergoeding'!$D$3,0)","v":{"v":0,"d":"0.00"}},{"$nulls":7},{"v":0,"d":"0.00"},{"$nulls":12},{"v":0,"d":"0.00"},{"$nulls":5},{"v":0,"d":"0.00"},{"$nulls":5},"","",null,"","","",{"v":0,"d":"0.00"},null,""]
["","","",{"$nulls":51},{"$f":"IF(AJ276=\"auto\",IF(AND((D276>'km-vergoeding'!$A$4),(D276<'km-vergoeding'!$A$5)),'km-vergoeding'!$D$4,'km-vergoeding'!$D$5),0)","v":{"v":0,"d":"0.0000 "}},{"$nulls":7},{"v":0,"d":"0.00"},{"$nulls":6},{"$f":"IF(AJ276=\"fiets\",'km-vergoeding'!$D$3,0)","v":{"v":0,"d":"0.00"}},{"$nulls":7},{"v":0,"d":"0.00"},{"$nulls":12},{"v":0,"d":"0.00"},{"$nulls":5},{"v":0,"d":"0.00"},{"$nulls":5},"","",null,"","","",{"v":0,"d":"0.00"},null,""]
["","","",{"$nulls":51},{"$f":"IF(AJ277=\"auto\",IF(AND((D277>'km-vergoeding'!$A$4),(D277<'km-vergoeding'!$A$5)),'km-vergoeding'!$D$4,'km-vergoeding'!$D$5),0)","v":{"v":0,"d":"0.0000 "}},{"$nulls":7},{"v":0,"d":"0.00"},{"$nulls":6},{"$f":"IF(AJ277=\"fiets\",'km-vergoeding'!$D$3,0)","v":{"v":0,"d":"0.00"}},{"$nulls":7},{"v":0,"d":"0.00"},{"$nulls":12},{"v":0,"d":"0.00"},{"$nulls":5},{"v":0,"d":"0.00"},{"$nulls":5},"","",null,"","","",{"v":0,"d":"0.00"},null,""]
["","","",{"$nulls":51},{"$f":"IF(AJ278=\"auto\",IF(AND((D278>'km-vergoeding'!$A$4),(D278<'km-vergoeding'!$A$5)),'km-vergoeding'!$D$4,'km-vergoeding'!$D$5),0)","v":{"v":0,"d":"0.0000 "}},{"$nulls":7},{"v":0,"d":"0.00"},{"$nulls":6},{"$f":"IF(AJ278=\"fiets\",'km-vergoeding'!$D$3,0)","v":{"v":0,"d":"0.00"}},{"$nulls":7},{"v":0,"d":"0.00"},{"$nulls":12},{"v":0,"d":"0.00"},{"$nulls":5},{"v":0,"d":"0.00"},{"$nulls":5},"","",null,"","","",{"v":0,"d":"0.00"},null,""]
["","","",{"$nulls":51},{"$f":"IF(AJ279=\"auto\",IF(AND((D279>'km-vergoeding'!$A$4),(D279<'km-vergoeding'!$A$5)),'km-vergoeding'!$D$4,'km-vergoeding'!$D$5),0)","v":{"v":0,"d":"0.0000 "}},{"$nulls":7},{"v":0,"d":"0.00"},{"$nulls":6},{"$f":"IF(AJ279=\"fiets\",'km-vergoeding'!$D$3,0)","v":{"v":0,"d":"0.00"}},{"$nulls":7},{"v":0,"d":"0.00"},{"$nulls":12},{"v":0,"d":"0.00"},{"$nulls":5},{"v":0,"d":"0.00"},{"$nulls":5},"","",null,"","","",{"v":0,"d":"0.00"},null,""]
["","","",{"$nulls":51},{"$f":"IF(AJ280=\"auto\",IF(AND((D280>'km-vergoeding'!$A$4),(D280<'km-vergoeding'!$A$5)),'km-vergoeding'!$D$4,'km-vergoeding'!$D$5),0)","v":{"v":0,"d":"0.0000 "}},{"$nulls":7},{"v":0,"d":"0.00"},{"$nulls":6},{"$f":"IF(AJ280=\"fiets\",'km-vergoeding'!$D$3,0)","v":{"v":0,"d":"0.00"}},{"$nulls":7},{"v":0,"d":"0.00"},{"$nulls":12},{"v":0,"d":"0.00"},{"$nulls":5},{"v":0,"d":"0.00"},{"$nulls":5},"","",null,"","","",{"v":0,"d":"0.00"},null,""]
["","","",{"$nulls":51},{"$f":"IF(AJ281=\"auto\",IF(AND((D281>'km-vergoeding'!$A$4),(D281<'km-vergoeding'!$A$5)),'km-vergoeding'!$D$4,'km-vergoeding'!$D$5),0)","v":{"v":0,"d":"0.0000 "}},{"$nulls":7},{"v":0,"d":"0.00"},{"$nulls":6},{"$f":"IF(AJ281=\"fiets\",'km-vergoeding'!$D$3,0)","v":{"v":0,"d":"0.00"}},{"$nulls":7},{"v":0,"d":"0.00"},{"$nulls":12},{"v":0,"d":"0.00"},{"$nulls":5},{"v":0,"d":"0.00"},{"$nulls":5},"","",null,"","","",{"v":0,"d":"0.00"},null,""]
["","","",{"$nulls":51},{"$f":"IF(AJ282=\"auto\",IF(AND((D282>'km-vergoeding'!$A$4),(D282<'km-vergoeding'!$A$5)),'km-vergoeding'!$D$4,'km-vergoeding'!$D$5),0)","v":{"v":0,"d":"0.0000 "}},{"$nulls":7},{"v":0,"d":"0.00"},{"$nulls":6},{"$f":"IF(AJ282=\"fiets\",'km-vergoeding'!$D$3,0)","v":{"v":0,"d":"0.00"}},{"$nulls":7},{"v":0,"d":"0.00"},{"$nulls":12},{"v":0,"d":"0.00"},{"$nulls":5},{"v":0,"d":"0.00"},{"$nulls":5},"","",null,"","","",{"v":0,"d":"0.00"},null,""]
["","","",{"$nulls":51},{"$f":"IF(AJ283=\"auto\",IF(AND((D283>'km-vergoeding'!$A$4),(D283<'km-vergoeding'!$A$5)),'km-vergoeding'!$D$4,'km-vergoeding'!$D$5),0)","v":{"v":0,"d":"0.0000 "}},{"$nulls":7},{"v":0,"d":"0.00"},{"$nulls":6},{"$f":"IF(AJ283=\"fiets\",'km-vergoeding'!$D$3,0)","v":{"v":0,"d":"0.00"}},{"$nulls":7},{"v":0,"d":"0.00"},{"$nulls":12},{"v":0,"d":"0.00"},{"$nulls":5},{"v":0,"d":"0.00"},{"$nulls":5},"","",null,"","","",{"v":0,"d":"0.00"},null,""]
["","","",{"$nulls":51},{"$f":"IF(AJ284=\"auto\",IF(AND((D284>'km-vergoeding'!$A$4),(D284<'km-vergoeding'!$A$5)),'km-vergoeding'!$D$4,'km-vergoeding'!$D$5),0)","v":{"v":0,"d":"0.0000 "}},{"$nulls":7},{"v":0,"d":"0.00"},{"$nulls":6},{"$f":"IF(AJ284=\"fiets\",'km-vergoeding'!$D$3,0)","v":{"v":0,"d":"0.00"}},{"$nulls":7},{"v":0,"d":"0.00"},{"$nulls":12},{"v":0,"d":"0.00"},{"$nulls":5},{"v":0,"d":"0.00"},{"$nulls":5},"","",null,"","","",{"v":0,"d":"0.00"},null,""]
["","","",{"$nulls":51},{"$f":"IF(AJ285=\"auto\",IF(AND((D285>'km-vergoeding'!$A$4),(D285<'km-vergoeding'!$A$5)),'km-vergoeding'!$D$4,'km-vergoeding'!$D$5),0)","v":{"v":0,"d":"0.0000 "}},{"$nulls":7},{"v":0,"d":"0.00"},{"$nulls":6},{"$f":"IF(AJ285=\"fiets\",'km-vergoeding'!$D$3,0)","v":{"v":0,"d":"0.00"}},{"$nulls":7},{"v":0,"d":"0.00"},{"$nulls":12},{"v":0,"d":"0.00"},{"$nulls":5},{"v":0,"d":"0.00"},{"$nulls":5},"","",null,"","","",{"v":0,"d":"0.00"},null,""]
["","","",{"$nulls":51},{"$f":"IF(AJ286=\"auto\",IF(AND((D286>'km-vergoeding'!$A$4),(D286<'km-vergoeding'!$A$5)),'km-vergoeding'!$D$4,'km-vergoeding'!$D$5),0)","v":{"v":0,"d":"0.0000 "}},{"$nulls":7},{"v":0,"d":"0.00"},{"$nulls":6},{"$f":"IF(AJ286=\"fiets\",'km-vergoeding'!$D$3,0)","v":{"v":0,"d":"0.00"}},{"$nulls":7},{"v":0,"d":"0.00"},{"$nulls":12},{"v":0,"d":"0.00"},{"$nulls":5},{"v":0,"d":"0.00"},{"$nulls":5},"","",null,"","","",{"v":0,"d":"0.00"},null,""]
["","","",{"$nulls":51},{"$f":"IF(AJ287=\"auto\",IF(AND((D287>'km-vergoeding'!$A$4),(D287<'km-vergoeding'!$A$5)),'km-vergoeding'!$D$4,'km-vergoeding'!$D$5),0)","v":{"v":0,"d":"0.0000 "}},{"$nulls":7},{"v":0,"d":"0.00"},{"$nulls":6},{"$f":"IF(AJ287=\"fiets\",'km-vergoeding'!$D$3,0)","v":{"v":0,"d":"0.00"}},{"$nulls":7},{"v":0,"d":"0.00"},{"$nulls":12},{"v":0,"d":"0.00"},{"$nulls":5},{"v":0,"d":"0.00"},{"$nulls":5},"","",null,"","","",{"v":0,"d":"0.00"},null,""]
["","","",{"$nulls":51},{"$f":"IF(AJ288=\"auto\",IF(AND((D288>'km-vergoeding'!$A$4),(D288<'km-vergoeding'!$A$5)),'km-vergoeding'!$D$4,'km-vergoeding'!$D$5),0)","v":{"v":0,"d":"0.0000 "}},{"$nulls":7},{"v":0,"d":"0.00"},{"$nulls":6},{"$f":"IF(AJ288=\"fiets\",'km-vergoeding'!$D$3,0)","v":{"v":0,"d":"0.00"}},{"$nulls":7},{"v":0,"d":"0.00"},{"$nulls":12},{"v":0,"d":"0.00"},{"$nulls":5},{"v":0,"d":"0.00"},{"$nulls":5},"","",null,"","","",{"v":0,"d":"0.00"},null,""]
["","","",{"$nulls":51},{"$f":"IF(AJ289=\"auto\",IF(AND((D289>'km-vergoeding'!$A$4),(D289<'km-vergoeding'!$A$5)),'km-vergoeding'!$D$4,'km-vergoeding'!$D$5),0)","v":{"v":0,"d":"0.0000 "}},{"$nulls":7},{"v":0,"d":"0.00"},{"$nulls":6},{"$f":"IF(AJ289=\"fiets\",'km-vergoeding'!$D$3,0)","v":{"v":0,"d":"0.00"}},{"$nulls":7},{"v":0,"d":"0.00"},{"$nulls":12},{"v":0,"d":"0.00"},{"$nulls":5},{"v":0,"d":"0.00"},{"$nulls":5},"","",null,"","","",{"v":0,"d":"0.00"},null,""]
["","","",{"$nulls":51},{"$f":"IF(AJ290=\"auto\",IF(AND((D290>'km-vergoeding'!$A$4),(D290<'km-vergoeding'!$A$5)),'km-vergoeding'!$D$4,'km-vergoeding'!$D$5),0)","v":{"v":0,"d":"0.0000 "}},{"$nulls":7},{"v":0,"d":"0.00"},{"$nulls":6},{"$f":"IF(AJ290=\"fiets\",'km-vergoeding'!$D$3,0)","v":{"v":0,"d":"0.00"}},{"$nulls":7},{"v":0,"d":"0.00"},{"$nulls":12},{"v":0,"d":"0.00"},{"$nulls":5},{"v":0,"d":"0.00"},{"$nulls":5},"","",null,"","","",{"v":0,"d":"0.00"},null,""]
["","","",{"$nulls":51},{"$f":"IF(AJ291=\"auto\",IF(AND((D291>'km-vergoeding'!$A$4),(D291<'km-vergoeding'!$A$5)),'km-vergoeding'!$D$4,'km-vergoeding'!$D$5),0)","v":{"v":0,"d":"0.0000 "}},{"$nulls":7},{"v":0,"d":"0.00"},{"$nulls":6},{"$f":"IF(AJ291=\"fiets\",'km-vergoeding'!$D$3,0)","v":{"v":0,"d":"0.00"}},{"$nulls":7},{"v":0,"d":"0.00"},{"$nulls":12},{"v":0,"d":"0.00"},{"$nulls":5},{"v":0,"d":"0.00"},{"$nulls":5},"","",null,"","","",{"v":0,"d":"0.00"},null,""]
["","","",{"$nulls":51},{"$f":"IF(AJ292=\"auto\",IF(AND((D292>'km-vergoeding'!$A$4),(D292<'km-vergoeding'!$A$5)),'km-vergoeding'!$D$4,'km-vergoeding'!$D$5),0)","v":{"v":0,"d":"0.0000 "}},{"$nulls":7},{"v":0,"d":"0.00"},{"$nulls":6},{"$f":"IF(AJ292=\"fiets\",'km-vergoeding'!$D$3,0)","v":{"v":0,"d":"0.00"}},{"$nulls":7},{"v":0,"d":"0.00"},{"$nulls":12},{"v":0,"d":"0.00"},{"$nulls":5},{"v":0,"d":"0.00"},{"$nulls":5},"","",null,"","","",{"v":0,"d":"0.00"},null,""]
["","","",{"$nulls":51},{"$f":"IF(AJ293=\"auto\",IF(AND((D293>'km-vergoeding'!$A$4),(D293<'km-vergoeding'!$A$5)),'km-vergoeding'!$D$4,'km-vergoeding'!$D$5),0)","v":{"v":0,"d":"0.0000 "}},{"$nulls":7},{"v":0,"d":"0.00"},{"$nulls":6},{"$f":"IF(AJ293=\"fiets\",'km-vergoeding'!$D$3,0)","v":{"v":0,"d":"0.00"}},{"$nulls":7},{"v":0,"d":"0.00"},{"$nulls":12},{"v":0,"d":"0.00"},{"$nulls":5},{"v":0,"d":"0.00"},{"$nulls":5},"","",null,"","","",{"v":0,"d":"0.00"},null,""]
["","","",{"$nulls":51},{"$f":"IF(AJ294=\"auto\",IF(AND((D294>'km-vergoeding'!$A$4),(D294<'km-vergoeding'!$A$5)),'km-vergoeding'!$D$4,'km-vergoeding'!$D$5),0)","v":{"v":0,"d":"0.0000 "}},{"$nulls":7},{"v":0,"d":"0.00"},{"$nulls":6},{"$f":"IF(AJ294=\"fiets\",'km-vergoeding'!$D$3,0)","v":{"v":0,"d":"0.00"}},{"$nulls":7},{"v":0,"d":"0.00"},{"$nulls":12},{"v":0,"d":"0.00"},{"$nulls":5},{"v":0,"d":"0.00"},{"$nulls":5},"","",null,"","","",{"v":0,"d":"0.00"},null,""]
["","","",{"$nulls":51},{"$f":"IF(AJ295=\"auto\",IF(AND((D295>'km-vergoeding'!$A$4),(D295<'km-vergoeding'!$A$5)),'km-vergoeding'!$D$4,'km-vergoeding'!$D$5),0)","v":{"v":0,"d":"0.0000 "}},{"$nulls":7},{"v":0,"d":"0.00"},{"$nulls":6},{"$f":"IF(AJ295=\"fiets\",'km-vergoeding'!$D$3,0)","v":{"v":0,"d":"0.00"}},{"$nulls":7},{"v":0,"d":"0.00"},{"$nulls":12},{"v":0,"d":"0.00"},{"$nulls":5},{"v":0,"d":"0.00"},{"$nulls":5},"","",null,"","","",{"v":0,"d":"0.00"},null,""]
["","","",{"$nulls":51},{"$f":"IF(AJ296=\"auto\",IF(AND((D296>'km-vergoeding'!$A$4),(D296<'km-vergoeding'!$A$5)),'km-vergoeding'!$D$4,'km-vergoeding'!$D$5),0)","v":{"v":0,"d":"0.0000 "}},{"$nulls":7},{"v":0,"d":"0.00"},{"$nulls":6},{"$f":"IF(AJ296=\"fiets\",'km-vergoeding'!$D$3,0)","v":{"v":0,"d":"0.00"}},{"$nulls":7},{"v":0,"d":"0.00"},{"$nulls":12},{"v":0,"d":"0.00"},{"$nulls":5},{"v":0,"d":"0.00"},{"$nulls":5},"","",null,"","","",{"v":0,"d":"0.00"},null,""]
["","","",{"$nulls":51},{"$f":"IF(AJ297=\"auto\",IF(AND((D297>'km-vergoeding'!$A$4),(D297<'km-vergoeding'!$A$5)),'km-vergoeding'!$D$4,'km-vergoeding'!$D$5),0)","v":{"v":0,"d":"0.0000 "}},{"$nulls":7},{"v":0,"d":"0.00"},{"$nulls":6},{"$f":"IF(AJ297=\"fiets\",'km-vergoeding'!$D$3,0)","v":{"v":0,"d":"0.00"}},{"$nulls":7},{"v":0,"d":"0.00"},{"$nulls":12},{"v":0,"d":"0.00"},{"$nulls":5},{"v":0,"d":"0.00"},{"$nulls":5},"","",null,"","","",{"v":0,"d":"0.00"},null,""]
["","","",{"$nulls":51},{"$f":"IF(AJ298=\"auto\",IF(AND((D298>'km-vergoeding'!$A$4),(D298<'km-vergoeding'!$A$5)),'km-vergoeding'!$D$4,'km-vergoeding'!$D$5),0)","v":{"v":0,"d":"0.0000 "}},{"$nulls":7},{"v":0,"d":"0.00"},{"$nulls":6},{"$f":"IF(AJ298=\"fiets\",'km-vergoeding'!$D$3,0)","v":{"v":0,"d":"0.00"}},{"$nulls":7},{"v":0,"d":"0.00"},{"$nulls":12},{"v":0,"d":"0.00"},{"$nulls":5},{"v":0,"d":"0.00"},{"$nulls":5},"","",null,"","","",{"v":0,"d":"0.00"},null,""]
["","","",{"$nulls":51},{"$f":"IF(AJ299=\"auto\",IF(AND((D299>'km-vergoeding'!$A$4),(D299<'km-vergoeding'!$A$5)),'km-vergoeding'!$D$4,'km-vergoeding'!$D$5),0)","v":{"v":0,"d":"0.0000 "}},{"$nulls":7},{"$f":"IF(AJ299=\"auto\",ROUND(AR299*AY299*BC299,2),0)","v":{"v":0,"d":"0.00"}},{"$nulls":6},{"$f":"IF(AJ299=\"fiets\",'km-vergoeding'!$D$3,0)","v":{"v":0,"d":"0.00"}},{"$nulls":7},{"$f":"IF(AJ299=\"fiets\",ROUND(AR299*AY299*BR299,2),0)","v":{"v":0,"d":"0.00"}},{"$nulls":12},{"$f":"IF(AND(OR((AJ299=\"fiets\"),(AJ299=\"auto\")),(CG299>0)),\"xxxx\",BK299+BZ299+CG299)","v":{"v":0,"d":"0.00"}},{"$nulls":5},{"v":0,"d":"0.00"},{"$nulls":5},"","",null,"","","",{"v":0,"d":"0.00"},null,""]
["","","",{"$nulls":51},{"$f":"IF(AJ300=\"auto\",IF(AND((D300>'km-vergoeding'!$A$4),(D300<'km-vergoeding'!$A$5)),'km-vergoeding'!$D$4,'km-vergoeding'!$D$5),0)","v":{"v":0,"d":"0.0000 "}},{"$nulls":7},{"v":0,"d":"0.00"},{"$nulls":6},{"$f":"IF(AJ300=\"fiets\",'km-vergoeding'!$D$3,0)","v":{"v":0,"d":"0.00"}},{"$nulls":7},{"v":0,"d":"0.00"},{"$nulls":12},{"v":0,"d":"0.00"},{"$nulls":5},{"v":0,"d":"0.00"},{"$nulls":5},"","",null,"","","",{"v":0,"d":"0.00"},null,""]
["","","",{"$nulls":51},{"$f":"IF(AJ301=\"auto\",IF(AND((D301>'km-vergoeding'!$A$4),(D301<'km-vergoeding'!$A$5)),'km-vergoeding'!$D$4,'km-vergoeding'!$D$5),0)","v":{"v":0,"d":"0.0000 "}},{"$nulls":7},{"v":0,"d":"0.00"},{"$nulls":6},{"$f":"IF(AJ301=\"fiets\",'km-vergoeding'!$D$3,0)","v":{"v":0,"d":"0.00"}},{"$nulls":7},{"v":0,"d":"0.00"},{"$nulls":12},{"v":0,"d":"0.00"},{"$nulls":5},{"v":0,"d":"0.00"},{"$nulls":5},"","",null,"","","",{"v":0,"d":"0.00"},null,""]
["","","",{"$nulls":51},{"$f":"IF(AJ302=\"auto\",IF(AND((D302>'km-vergoeding'!$A$4),(D302<'km-vergoeding'!$A$5)),'km-vergoeding'!$D$4,'km-vergoeding'!$D$5),0)","v":{"v":0,"d":"0.0000 "}},{"$nulls":7},{"v":0,"d":"0.00"},{"$nulls":6},{"$f":"IF(AJ302=\"fiets\",'km-vergoeding'!$D$3,0)","v":{"v":0,"d":"0.00"}},{"$nulls":7},{"v":0,"d":"0.00"},{"$nulls":12},{"v":0,"d":"0.00"},{"$nulls":5},{"v":0,"d":"0.00"},{"$nulls":5},"","",null,"","","",{"v":0,"d":"0.00"},null,""]
["","","",{"$nulls":51},{"$f":"IF(AJ303=\"auto\",IF(AND((D303>'km-vergoeding'!$A$4),(D303<'km-vergoeding'!$A$5)),'km-vergoeding'!$D$4,'km-vergoeding'!$D$5),0)","v":{"v":0,"d":"0.0000 "}},{"$nulls":7},{"v":0,"d":"0.00"},{"$nulls":6},{"$f":"IF(AJ303=\"fiets\",'km-vergoeding'!$D$3,0)","v":{"v":0,"d":"0.00"}},{"$nulls":7},{"v":0,"d":"0.00"},{"$nulls":12},{"v":0,"d":"0.00"},{"$nulls":5},{"v":0,"d":"0.00"},{"$nulls":5},"","",null,"","","",{"v":0,"d":"0.00"},null,""]
["","","",{"$nulls":51},{"$f":"IF(AJ304=\"auto\",IF(AND((D304>'km-vergoeding'!$A$4),(D304<'km-vergoeding'!$A$5)),'km-vergoeding'!$D$4,'km-vergoeding'!$D$5),0)","v":{"v":0,"d":"0.0000 "}},{"$nulls":7},{"v":0,"d":"0.00"},{"$nulls":6},{"$f":"IF(AJ304=\"fiets\",'km-vergoeding'!$D$3,0)","v":{"v":0,"d":"0.00"}},{"$nulls":7},{"v":0,"d":"0.00"},{"$nulls":12},{"v":0,"d":"0.00"},{"$nulls":5},{"v":0,"d":"0.00"},{"$nulls":5},"","",null,"","","",{"v":0,"d":"0.00"},null,""]
["","","",{"$nulls":51},{"$f":"IF(AJ305=\"auto\",IF(AND((D305>'km-vergoeding'!$A$4),(D305<'km-vergoeding'!$A$5)),'km-vergoeding'!$D$4,'km-vergoeding'!$D$5),0)","v":{"v":0,"d":"0.0000 "}},{"$nulls":7},{"v":0,"d":"0.00"},{"$nulls":6},{"$f":"IF(AJ305=\"fiets\",'km-vergoeding'!$D$3,0)","v":{"v":0,"d":"0.00"}},{"$nulls":7},{"v":0,"d":"0.00"},{"$nulls":12},{"v":0,"d":"0.00"},{"$nulls":5},{"v":0,"d":"0.00"},{"$nulls":5},"","",null,"","","",{"v":0,"d":"0.00"},null,""]
["","","",{"$nulls":51},{"$f":"IF(AJ306=\"auto\",IF(AND((D306>'km-vergoeding'!$A$4),(D306<'km-vergoeding'!$A$5)),'km-vergoeding'!$D$4,'km-vergoeding'!$D$5),0)","v":{"v":0,"d":"0.0000 "}},{"$nulls":7},{"v":0,"d":"0.00"},{"$nulls":6},{"$f":"IF(AJ306=\"fiets\",'km-vergoeding'!$D$3,0)","v":{"v":0,"d":"0.00"}},{"$nulls":7},{"v":0,"d":"0.00"},{"$nulls":12},{"v":0,"d":"0.00"},{"$nulls":5},{"v":0,"d":"0.00"},{"$nulls":5},"","",null,"","","",{"v":0,"d":"0.00"},null,""]
["","","",{"$nulls":51},{"$f":"IF(AJ307=\"auto\",IF(AND((D307>'km-vergoeding'!$A$4),(D307<'km-vergoeding'!$A$5)),'km-vergoeding'!$D$4,'km-vergoeding'!$D$5),0)","v":{"v":0,"d":"0.0000 "}},{"$nulls":7},{"v":0,"d":"0.00"},{"$nulls":6},{"$f":"IF(AJ307=\"fiets\",'km-vergoeding'!$D$3,0)","v":{"v":0,"d":"0.00"}},{"$nulls":7},{"v":0,"d":"0.00"},{"$nulls":12},{"v":0,"d":"0.00"},{"$nulls":5},{"v":0,"d":"0.00"},{"$nulls":5},"","",null,"","","",{"v":0,"d":"0.00"},null,""]
["","","",{"$nulls":51},{"$f":"IF(AJ308=\"auto\",IF(AND((D308>'km-vergoeding'!$A$4),(D308<'km-vergoeding'!$A$5)),'km-vergoeding'!$D$4,'km-vergoeding'!$D$5),0)","v":{"v":0,"d":"0.0000 "}},{"$nulls":7},{"v":0,"d":"0.00"},{"$nulls":6},{"$f":"IF(AJ308=\"fiets\",'km-vergoeding'!$D$3,0)","v":{"v":0,"d":"0.00"}},{"$nulls":7},{"v":0,"d":"0.00"},{"$nulls":12},{"v":0,"d":"0.00"},{"$nulls":5},{"v":0,"d":"0.00"},{"$nulls":5},"","",null,"","","",{"v":0,"d":"0.00"},null,""]
["","","",{"$nulls":51},{"$f":"IF(AJ309=\"auto\",IF(AND((D309>'km-vergoeding'!$A$4),(D309<'km-vergoeding'!$A$5)),'km-vergoeding'!$D$4,'km-vergoeding'!$D$5),0)","v":{"v":0,"d":"0.0000 "}},{"$nulls":7},{"v":0,"d":"0.00"},{"$nulls":6},{"$f":"IF(AJ309=\"fiets\",'km-vergoeding'!$D$3,0)","v":{"v":0,"d":"0.00"}},{"$nulls":7},{"v":0,"d":"0.00"},{"$nulls":12},{"v":0,"d":"0.00"},{"$nulls":5},{"v":0,"d":"0.00"},{"$nulls":5},"","",null,"","","",{"v":0,"d":"0.00"},null,""]
["","","",{"$nulls":51},{"$f":"IF(AJ310=\"auto\",IF(AND((D310>'km-vergoeding'!$A$4),(D310<'km-vergoeding'!$A$5)),'km-vergoeding'!$D$4,'km-vergoeding'!$D$5),0)","v":{"v":0,"d":"0.0000 "}},{"$nulls":7},{"v":0,"d":"0.00"},{"$nulls":6},{"$f":"IF(AJ310=\"fiets\",'km-vergoeding'!$D$3,0)","v":{"v":0,"d":"0.00"}},{"$nulls":7},{"v":0,"d":"0.00"},{"$nulls":12},{"v":0,"d":"0.00"},{"$nulls":5},{"v":0,"d":"0.00"},{"$nulls":5},"","",null,"","","",{"v":0,"d":"0.00"},null,""]
["","","",{"$nulls":51},{"$f":"IF(AJ311=\"auto\",IF(AND((D311>'km-vergoeding'!$A$4),(D311<'km-vergoeding'!$A$5)),'km-vergoeding'!$D$4,'km-vergoeding'!$D$5),0)","v":{"v":0,"d":"0.0000 "}},{"$nulls":7},{"v":0,"d":"0.00"},{"$nulls":6},{"$f":"IF(AJ311=\"fiets\",'km-vergoeding'!$D$3,0)","v":{"v":0,"d":"0.00"}},{"$nulls":7},{"v":0,"d":"0.00"},{"$nulls":12},{"v":0,"d":"0.00"},{"$nulls":5},{"v":0,"d":"0.00"},{"$nulls":5},"","",null,"","","",{"v":0,"d":"0.00"},null,""]
["","","",{"$nulls":51},{"$f":"IF(AJ312=\"auto\",IF(AND((D312>'km-vergoeding'!$A$4),(D312<'km-vergoeding'!$A$5)),'km-vergoeding'!$D$4,'km-vergoeding'!$D$5),0)","v":{"v":0,"d":"0.0000 "}},{"$nulls":7},{"v":0,"d":"0.00"},{"$nulls":6},{"$f":"IF(AJ312=\"fiets\",'km-vergoeding'!$D$3,0)","v":{"v":0,"d":"0.00"}},{"$nulls":7},{"v":0,"d":"0.00"},{"$nulls":12},{"v":0,"d":"0.00"},{"$nulls":5},{"v":0,"d":"0.00"},{"$nulls":5},"","",null,"","","",{"v":0,"d":"0.00"},null,""]
["","","",{"$nulls":51},{"$f":"IF(AJ313=\"auto\",IF(AND((D313>'km-vergoeding'!$A$4),(D313<'km-vergoeding'!$A$5)),'km-vergoeding'!$D$4,'km-vergoeding'!$D$5),0)","v":{"v":0,"d":"0.0000 "}},{"$nulls":7},{"v":0,"d":"0.00"},{"$nulls":6},{"$f":"IF(AJ313=\"fiets\",'km-vergoeding'!$D$3,0)","v":{"v":0,"d":"0.00"}},{"$nulls":7},{"v":0,"d":"0.00"},{"$nulls":12},{"v":0,"d":"0.00"},{"$nulls":5},{"v":0,"d":"0.00"},{"$nulls":5},"","",null,"","","",{"v":0,"d":"0.00"},null,""]
["","","",{"$nulls":51},{"$f":"IF(AJ314=\"auto\",IF(AND((D314>'km-vergoeding'!$A$4),(D314<'km-vergoeding'!$A$5)),'km-vergoeding'!$D$4,'km-vergoeding'!$D$5),0)","v":{"v":0,"d":"0.0000 "}},{"$nulls":7},{"v":0,"d":"0.00"},{"$nulls":6},{"$f":"IF(AJ314=\"fiets\",'km-vergoeding'!$D$3,0)","v":{"v":0,"d":"0.00"}},{"$nulls":7},{"v":0,"d":"0.00"},{"$nulls":12},{"v":0,"d":"0.00"},{"$nulls":5},{"v":0,"d":"0.00"},{"$nulls":5},"","",null,"","","",{"v":0,"d":"0.00"},null,""]
["","","",{"$nulls":51},{"$f":"IF(AJ315=\"auto\",IF(AND((D315>'km-vergoeding'!$A$4),(D315<'km-vergoeding'!$A$5)),'km-vergoeding'!$D$4,'km-vergoeding'!$D$5),0)","v":{"v":0,"d":"0.0000 "}},{"$nulls":7},{"v":0,"d":"0.00"},{"$nulls":6},{"$f":"IF(AJ315=\"fiets\",'km-vergoeding'!$D$3,0)","v":{"v":0,"d":"0.00"}},{"$nulls":7},{"v":0,"d":"0.00"},{"$nulls":12},{"v":0,"d":"0.00"},{"$nulls":5},{"v":0,"d":"0.00"},{"$nulls":5},"","",null,"","","",{"v":0,"d":"0.00"},null,""]
["","","",{"$nulls":51},{"$f":"IF(AJ316=\"auto\",IF(AND((D316>'km-vergoeding'!$A$4),(D316<'km-vergoeding'!$A$5)),'km-vergoeding'!$D$4,'km-vergoeding'!$D$5),0)","v":{"v":0,"d":"0.0000 "}},{"$nulls":7},{"v":0,"d":"0.00"},{"$nulls":6},{"$f":"IF(AJ316=\"fiets\",'km-vergoeding'!$D$3,0)","v":{"v":0,"d":"0.00"}},{"$nulls":7},{"v":0,"d":"0.00"},{"$nulls":12},{"v":0,"d":"0.00"},{"$nulls":5},{"v":0,"d":"0.00"},{"$nulls":5},"","",null,"","","",{"v":0,"d":"0.00"},null,""]
["","","",{"$nulls":51},{"$f":"IF(AJ317=\"auto\",IF(AND((D317>'km-vergoeding'!$A$4),(D317<'km-vergoeding'!$A$5)),'km-vergoeding'!$D$4,'km-vergoeding'!$D$5),0)","v":{"v":0,"d":"0.0000 "}},{"$nulls":7},{"v":0,"d":"0.00"},{"$nulls":6},{"$f":"IF(AJ317=\"fiets\",'km-vergoeding'!$D$3,0)","v":{"v":0,"d":"0.00"}},{"$nulls":7},{"v":0,"d":"0.00"},{"$nulls":12},{"v":0,"d":"0.00"},{"$nulls":5},{"v":0,"d":"0.00"},{"$nulls":5},"","",null,"","","",{"v":0,"d":"0.00"},null,""]
["","","",{"$nulls":51},{"$f":"IF(AJ318=\"auto\",IF(AND((D318>'km-vergoeding'!$A$4),(D318<'km-vergoeding'!$A$5)),'km-vergoeding'!$D$4,'km-vergoeding'!$D$5),0)","v":{"v":0,"d":"0.0000 "}},{"$nulls":7},{"v":0,"d":"0.00"},{"$nulls":6},{"$f":"IF(AJ318=\"fiets\",'km-vergoeding'!$D$3,0)","v":{"v":0,"d":"0.00"}},{"$nulls":7},{"v":0,"d":"0.00"},{"$nulls":12},{"v":0,"d":"0.00"},{"$nulls":5},{"v":0,"d":"0.00"},{"$nulls":5},"","",null,"","","",{"v":0,"d":"0.00"},null,""]
["","","",{"$nulls":51},{"$f":"IF(AJ319=\"auto\",IF(AND((D319>'km-vergoeding'!$A$4),(D319<'km-vergoeding'!$A$5)),'km-vergoeding'!$D$4,'km-vergoeding'!$D$5),0)","v":{"v":0,"d":"0.0000 "}},{"$nulls":7},{"v":0,"d":"0.00"},{"$nulls":6},{"$f":"IF(AJ319=\"fiets\",'km-vergoeding'!$D$3,0)","v":{"v":0,"d":"0.00"}},{"$nulls":7},{"v":0,"d":"0.00"},{"$nulls":12},{"v":0,"d":"0.00"},{"$nulls":5},{"v":0,"d":"0.00"},{"$nulls":5},"","",null,"","","",{"v":0,"d":"0.00"},null,""]
["","","",{"$nulls":51},{"$f":"IF(AJ320=\"auto\",IF(AND((D320>'km-vergoeding'!$A$4),(D320<'km-vergoeding'!$A$5)),'km-vergoeding'!$D$4,'km-vergoeding'!$D$5),0)","v":{"v":0,"d":"0.0000 "}},{"$nulls":7},{"v":0,"d":"0.00"},{"$nulls":6},{"$f":"IF(AJ320=\"fiets\",'km-vergoeding'!$D$3,0)","v":{"v":0,"d":"0.00"}},{"$nulls":7},{"v":0,"d":"0.00"},{"$nulls":12},{"v":0,"d":"0.00"},{"$nulls":5},{"v":0,"d":"0.00"},{"$nulls":5},"","",null,"","","",{"v":0,"d":"0.00"},null,""]
["","","",{"$nulls":51},{"$f":"IF(AJ321=\"auto\",IF(AND((D321>'km-vergoeding'!$A$4),(D321<'km-vergoeding'!$A$5)),'km-vergoeding'!$D$4,'km-vergoeding'!$D$5),0)","v":{"v":0,"d":"0.0000 "}},{"$nulls":7},{"v":0,"d":"0.00"},{"$nulls":6},{"$f":"IF(AJ321=\"fiets\",'km-vergoeding'!$D$3,0)","v":{"v":0,"d":"0.00"}},{"$nulls":7},{"v":0,"d":"0.00"},{"$nulls":12},{"v":0,"d":"0.00"},{"$nulls":5},{"v":0,"d":"0.00"},{"$nulls":5},"","",null,"","","",{"v":0,"d":"0.00"},null,""]
["","","",{"$nulls":51},{"$f":"IF(AJ322=\"auto\",IF(AND((D322>'km-vergoeding'!$A$4),(D322<'km-vergoeding'!$A$5)),'km-vergoeding'!$D$4,'km-vergoeding'!$D$5),0)","v":{"v":0,"d":"0.0000 "}},{"$nulls":7},{"v":0,"d":"0.00"},{"$nulls":6},{"$f":"IF(AJ322=\"fiets\",'km-vergoeding'!$D$3,0)","v":{"v":0,"d":"0.00"}},{"$nulls":7},{"v":0,"d":"0.00"},{"$nulls":12},{"v":0,"d":"0.00"},{"$nulls":5},{"v":0,"d":"0.00"},{"$nulls":5},"","",null,"","","",{"v":0,"d":"0.00"},null,""]
["","","",{"$nulls":51},{"$f":"IF(AJ323=\"auto\",IF(AND((D323>'km-vergoeding'!$A$4),(D323<'km-vergoeding'!$A$5)),'km-vergoeding'!$D$4,'km-vergoeding'!$D$5),0)","v":{"v":0,"d":"0.0000 "}},{"$nulls":7},{"$f":"IF(AJ323=\"auto\",ROUND(AR323*AY323*BC323,2),0)","v":{"v":0,"d":"0.00"}},{"$nulls":6},{"$f":"IF(AJ323=\"fiets\",'km-vergoeding'!$D$3,0)","v":{"v":0,"d":"0.00"}},{"$nulls":7},{"$f":"IF(AJ323=\"fiets\",ROUND(AR323*AY323*BR323,2),0)","v":{"v":0,"d":"0.00"}},{"$nulls":12},{"$f":"IF(AND(OR((AJ323=\"fiets\"),(AJ323=\"auto\")),(CG323>0)),\"xxxx\",BK323+BZ323+CG323)","v":{"v":0,"d":"0.00"}},{"$nulls":5},{"v":0,"d":"0.00"},{"$nulls":5},"","",null,"","","",{"v":0,"d":"0.00"},null,""]
["","","",{"$nulls":51},{"$f":"IF(AJ324=\"auto\",IF(AND((D324>'km-vergoeding'!$A$4),(D324<'km-vergoeding'!$A$5)),'km-vergoeding'!$D$4,'km-vergoeding'!$D$5),0)","v":{"v":0,"d":"0.0000 "}},{"$nulls":7},{"v":0,"d":"0.00"},{"$nulls":6},{"$f":"IF(AJ324=\"fiets\",'km-vergoeding'!$D$3,0)","v":{"v":0,"d":"0.00"}},{"$nulls":7},{"v":0,"d":"0.00"},{"$nulls":12},{"v":0,"d":"0.00"},{"$nulls":5},{"v":0,"d":"0.00"},{"$nulls":5},"","",null,"","","",{"v":0,"d":"0.00"},null,""]
["","","",{"$nulls":51},{"$f":"IF(AJ325=\"auto\",IF(AND((D325>'km-vergoeding'!$A$4),(D325<'km-vergoeding'!$A$5)),'km-vergoeding'!$D$4,'km-vergoeding'!$D$5),0)","v":{"v":0,"d":"0.0000 "}},{"$nulls":7},{"v":0,"d":"0.00"},{"$nulls":6},{"$f":"IF(AJ325=\"fiets\",'km-vergoeding'!$D$3,0)","v":{"v":0,"d":"0.00"}},{"$nulls":7},{"v":0,"d":"0.00"},{"$nulls":12},{"v":0,"d":"0.00"},{"$nulls":5},{"v":0,"d":"0.00"},{"$nulls":5},"","",null,"","","",{"v":0,"d":"0.00"},null,""]
["","","",{"$nulls":51},{"$f":"IF(AJ326=\"auto\",IF(AND((D326>'km-vergoeding'!$A$4),(D326<'km-vergoeding'!$A$5)),'km-vergoeding'!$D$4,'km-vergoeding'!$D$5),0)","v":{"v":0,"d":"0.0000 "}},{"$nulls":7},{"v":0,"d":"0.00"},{"$nulls":6},{"$f":"IF(AJ326=\"fiets\",'km-vergoeding'!$D$3,0)","v":{"v":0,"d":"0.00"}},{"$nulls":7},{"v":0,"d":"0.00"},{"$nulls":12},{"v":0,"d":"0.00"},{"$nulls":5},{"v":0,"d":"0.00"},{"$nulls":5},"","",null,"","","",{"v":0,"d":"0.00"},null,""]
["","","",{"$nulls":51},{"$f":"IF(AJ327=\"auto\",IF(AND((D327>'km-vergoeding'!$A$4),(D327<'km-vergoeding'!$A$5)),'km-vergoeding'!$D$4,'km-vergoeding'!$D$5),0)","v":{"v":0,"d":"0.0000 "}},{"$nulls":7},{"v":0,"d":"0.00"},{"$nulls":6},{"$f":"IF(AJ327=\"fiets\",'km-vergoeding'!$D$3,0)","v":{"v":0,"d":"0.00"}},{"$nulls":7},{"v":0,"d":"0.00"},{"$nulls":12},{"v":0,"d":"0.00"},{"$nulls":5},{"v":0,"d":"0.00"},{"$nulls":5},"","",null,"","","",{"v":0,"d":"0.00"},null,""]
["","","",{"$nulls":51},{"$f":"IF(AJ328=\"auto\",IF(AND((D328>'km-vergoeding'!$A$4),(D328<'km-vergoeding'!$A$5)),'km-vergoeding'!$D$4,'km-vergoeding'!$D$5),0)","v":{"v":0,"d":"0.0000 "}},{"$nulls":7},{"v":0,"d":"0.00"},{"$nulls":6},{"$f":"IF(AJ328=\"fiets\",'km-vergoeding'!$D$3,0)","v":{"v":0,"d":"0.00"}},{"$nulls":7},{"v":0,"d":"0.00"},{"$nulls":12},{"v":0,"d":"0.00"},{"$nulls":5},{"v":0,"d":"0.00"},{"$nulls":5},"","",null,"","","",{"v":0,"d":"0.00"},null,""]
["","","",{"$nulls":51},{"$f":"IF(AJ329=\"auto\",IF(AND((D329>'km-vergoeding'!$A$4),(D329<'km-vergoeding'!$A$5)),'km-vergoeding'!$D$4,'km-vergoeding'!$D$5),0)","v":{"v":0,"d":"0.0000 "}},{"$nulls":7},{"v":0,"d":"0.00"},{"$nulls":6},{"$f":"IF(AJ329=\"fiets\",'km-vergoeding'!$D$3,0)","v":{"v":0,"d":"0.00"}},{"$nulls":7},{"v":0,"d":"0.00"},{"$nulls":12},{"v":0,"d":"0.00"},{"$nulls":5},{"v":0,"d":"0.00"},{"$nulls":5},"","",null,"","","",{"v":0,"d":"0.00"},null,""]
["","","",{"$nulls":51},{"$f":"IF(AJ330=\"auto\",IF(AND((D330>'km-vergoeding'!$A$4),(D330<'km-vergoeding'!$A$5)),'km-vergoeding'!$D$4,'km-vergoeding'!$D$5),0)","v":{"v":0,"d":"0.0000 "}},{"$nulls":7},{"v":0,"d":"0.00"},{"$nulls":6},{"$f":"IF(AJ330=\"fiets\",'km-vergoeding'!$D$3,0)","v":{"v":0,"d":"0.00"}},{"$nulls":7},{"v":0,"d":"0.00"},{"$nulls":12},{"v":0,"d":"0.00"},{"$nulls":5},{"v":0,"d":"0.00"},{"$nulls":5},"","",null,"","","",{"v":0,"d":"0.00"},null,""]
[{"$f":"IF(OR(AND(D331<>\"\",H331=\"\"),AND(H331<>\"\",R331=\"\"),AND(R331<>\"\",H331=\"\"),AND(R331<>\"\",X331=\"\"),AND(X331<>\"\",R331=\"\")),\"!\",\"\")","v":""},{"$f":"IF(OR(AND(ISBLANK(D331),OR(H331<>\"\",R331<>\"\",X331<>\"\",AJ331<>\"\",AR331<>\"\",AY331<>\"\",CG331<>\"\"))),\"!\",\"\")","v":""},{"$f":"IF(AND(CG331=0,AJ331<>\"openbaar vervoer\",OR(AND(OR(AJ331=\"auto\",AJ331=\"fiets\"),OR(AR331=\"\",AR331=0)),AND(AR331>0,AY331=\"\"),AND(AR331=\"\",AY331>0),AND(AR331>0,AJ331=\"\"))),\"!\",\"\")","v":""},{"$nulls":51},{"$f":"IF(AJ331=\"auto\",IF(AND((D331>'km-vergoeding'!$A$4),(D331<'km-vergoeding'!$A$5)),'km-vergoeding'!$D$4,'km-vergoeding'!$D$5),0)","v":{"v":0,"d":"0.0000 "}},{"$nulls":7},{"v":0,"d":"0.00"},{"$nulls":6},{"$f":"IF(AJ331=\"fiets\",'km-vergoeding'!$D$3,0)","v":{"v":0,"d":"0.00"}},{"$nulls":7},{"v":0,"d":"0.00"},{"$nulls":12},{"v":0,"d":"0.00"},{"$nulls":5},{"v":0,"d":"0.00"},{"$nulls":5},"","",null,"","","",{"v":0,"d":"0.00"},null,{"$f":"IF(AND(A331=\"\",B331=\"\",C331=\"\",CY331=\"\",CZ331=\"\",DB331=\"\",DC331=\"\",DD331=\"\"),\"\",\"Deze rij is nog onvolledig of bevat nog fouten! Zie foutmeldingen boven de tabel.\")","v":""}]
["","","",{"$nulls":51},{"$f":"IF(AJ332=\"auto\",IF(AND((D332>'km-vergoeding'!$A$4),(D332<'km-vergoeding'!$A$5)),'km-vergoeding'!$D$4,'km-vergoeding'!$D$5),0)","v":{"v":0,"d":"0.0000 "}},{"$nulls":7},{"v":0,"d":"0.00"},{"$nulls":6},{"$f":"IF(AJ332=\"fiets\",'km-vergoeding'!$D$3,0)","v":{"v":0,"d":"0.00"}},{"$nulls":7},{"v":0,"d":"0.00"},{"$nulls":12},{"v":0,"d":"0.00"},{"$nulls":5},{"$f":"IF(CM332=0,0,IF(CM333=0,DE332,0))","v":{"v":0,"d":"0.00"}},{"$nulls":5},{"$f":"IF(AND(OR((AJ332=\"fiets\"),(AJ332=\"auto\")),(CG332>0)),\"!\",\"\")","v":""},{"$f":"IF(OR(AND(D331<>\"\",D332=\"\",D333<>\"\"),AND(D331=\"\",D332=\"\",D333<>\"\")),\"!\",\"\")","v":""},null,{"$f":"IF(AND(AJ332=\"openbaar vervoer\",OR(AR332<>\"\",AY332<>\"\")),\"!\",\"\")","v":""},{"$f":"IF(AND(X332<>\"\",AND(AJ332=\"\",CM332=0)),\"!\",\"\")","v":""},{"$f":"IF(OR(AND(AJ332=\"openbaar vervoer\",CG332=0),AND(CG332>0,AJ332=\"\")),\"!\",\"\")","v":""},{"v":0,"d":"0.00"},null,""]
["","","",{"$nulls":51},{"$f":"IF(AJ333=\"auto\",IF(AND((D333>'km-vergoeding'!$A$4),(D333<'km-vergoeding'!$A$5)),'km-vergoeding'!$D$4,'km-vergoeding'!$D$5),0)","v":{"v":0,"d":"0.0000 "}},{"$nulls":7},{"v":0,"d":"0.00"},{"$nulls":6},{"$f":"IF(AJ333=\"fiets\",'km-vergoeding'!$D$3,0)","v":{"v":0,"d":"0.00"}},{"$nulls":7},{"v":0,"d":"0.00"},{"$nulls":12},{"v":0,"d":"0.00"},{"$nulls":5},{"v":0,"d":"0.00"},{"$nulls":5},"","",null,"","","",{"$f":"IF(CM333=0,DE332,DE332+CM333)","v":{"v":0,"d":"0.00"}},null,""]
["","","",{"$nulls":51},{"$f":"IF(AJ334=\"auto\",IF(AND((D334>'km-vergoeding'!$A$4),(D334<'km-vergoeding'!$A$5)),'km-vergoeding'!$D$4,'km-vergoeding'!$D$5),0)","v":{"v":0,"d":"0.0000 "}},{"$nulls":7},{"v":0,"d":"0.00"},{"$nulls":6},{"$f":"IF(AJ334=\"fiets\",'km-vergoeding'!$D$3,0)","v":{"v":0,"d":"0.00"}},{"$nulls":7},{"v":0,"d":"0.00"},{"$nulls":12},{"v":0,"d":"0.00"},{"$nulls":5},{"v":0,"d":"0.00"},{"$nulls":5},"","",null,"","","",{"v":0,"d":"0.00"},null,""]
["","","",{"$nulls":51},{"$f":"IF(AJ335=\"auto\",IF(AND((D335>'km-vergoeding'!$A$4),(D335<'km-vergoeding'!$A$5)),'km-vergoeding'!$D$4,'km-vergoeding'!$D$5),0)","v":{"v":0,"d":"0.0000 "}},{"$nulls":7},{"v":0,"d":"0.00"},{"$nulls":6},{"$f":"IF(AJ335=\"fiets\",'km-vergoeding'!$D$3,0)","v":{"v":0,"d":"0.00"}},{"$nulls":7},{"v":0,"d":"0.00"},{"$nulls":12},{"v":0,"d":"0.00"},{"$nulls":5},{"v":0,"d":"0.00"},{"$nulls":5},"","",null,"","","",{"v":0,"d":"0.00"},null,""]
["","","",{"$nulls":51},{"$f":"IF(AJ336=\"auto\",IF(AND((D336>'km-vergoeding'!$A$4),(D336<'km-vergoeding'!$A$5)),'km-vergoeding'!$D$4,'km-vergoeding'!$D$5),0)","v":{"v":0,"d":"0.0000 "}},{"$nulls":7},{"v":0,"d":"0.00"},{"$nulls":6},{"$f":"IF(AJ336=\"fiets\",'km-vergoeding'!$D$3,0)","v":{"v":0,"d":"0.00"}},{"$nulls":7},{"v":0,"d":"0.00"},{"$nulls":12},{"v":0,"d":"0.00"},{"$nulls":5},{"v":0,"d":"0.00"},{"$nulls":5},"","",null,"","","",{"v":0,"d":"0.00"},null,""]
["","","",{"$nulls":51},{"$f":"IF(AJ337=\"auto\",IF(AND((D337>'km-vergoeding'!$A$4),(D337<'km-vergoeding'!$A$5)),'km-vergoeding'!$D$4,'km-vergoeding'!$D$5),0)","v":{"v":0,"d":"0.0000 "}},{"$nulls":7},{"v":0,"d":"0.00"},{"$nulls":6},{"$f":"IF(AJ337=\"fiets\",'km-vergoeding'!$D$3,0)","v":{"v":0,"d":"0.00"}},{"$nulls":7},{"v":0,"d":"0.00"},{"$nulls":12},{"v":0,"d":"0.00"},{"$nulls":5},{"v":0,"d":"0.00"},{"$nulls":5},"","",null,"","","",{"v":0,"d":"0.00"},null,""]
["","","",{"$nulls":51},{"$f":"IF(AJ338=\"auto\",IF(AND((D338>'km-vergoeding'!$A$4),(D338<'km-vergoeding'!$A$5)),'km-vergoeding'!$D$4,'km-vergoeding'!$D$5),0)","v":{"v":0,"d":"0.0000 "}},{"$nulls":7},{"v":0,"d":"0.00"},{"$nulls":6},{"$f":"IF(AJ338=\"fiets\",'km-vergoeding'!$D$3,0)","v":{"v":0,"d":"0.00"}},{"$nulls":7},{"v":0,"d":"0.00"},{"$nulls":12},{"v":0,"d":"0.00"},{"$nulls":5},{"v":0,"d":"0.00"},{"$nulls":5},"","",null,"","","",{"v":0,"d":"0.00"},null,""]
["","","",{"$nulls":51},{"$f":"IF(AJ339=\"auto\",IF(AND((D339>'km-vergoeding'!$A$4),(D339<'km-vergoeding'!$A$5)),'km-vergoeding'!$D$4,'km-vergoeding'!$D$5),0)","v":{"v":0,"d":"0.0000 "}},{"$nulls":7},{"v":0,"d":"0.00"},{"$nulls":6},{"$f":"IF(AJ339=\"fiets\",'km-vergoeding'!$D$3,0)","v":{"v":0,"d":"0.00"}},{"$nulls":7},{"v":0,"d":"0.00"},{"$nulls":12},{"v":0,"d":"0.00"},{"$nulls":5},{"v":0,"d":"0.00"},{"$nulls":5},"","",null,"","","",{"v":0,"d":"0.00"},null,""]
["","","",{"$nulls":51},{"$f":"IF(AJ340=\"auto\",IF(AND((D340>'km-vergoeding'!$A$4),(D340<'km-vergoeding'!$A$5)),'km-vergoeding'!$D$4,'km-vergoeding'!$D$5),0)","v":{"v":0,"d":"0.0000 "}},{"$nulls":7},{"v":0,"d":"0.00"},{"$nulls":6},{"$f":"IF(AJ340=\"fiets\",'km-vergoeding'!$D$3,0)","v":{"v":0,"d":"0.00"}},{"$nulls":7},{"v":0,"d":"0.00"},{"$nulls":12},{"v":0,"d":"0.00"},{"$nulls":5},{"v":0,"d":"0.00"},{"$nulls":5},"","",null,"","","",{"v":0,"d":"0.00"},null,""]
["","","",{"$nulls":51},{"$f":"IF(AJ341=\"auto\",IF(AND((D341>'km-vergoeding'!$A$4),(D341<'km-vergoeding'!$A$5)),'km-vergoeding'!$D$4,'km-vergoeding'!$D$5),0)","v":{"v":0,"d":"0.0000 "}},{"$nulls":7},{"v":0,"d":"0.00"},{"$nulls":6},{"$f":"IF(AJ341=\"fiets\",'km-vergoeding'!$D$3,0)","v":{"v":0,"d":"0.00"}},{"$nulls":7},{"v":0,"d":"0.00"},{"$nulls":12},{"v":0,"d":"0.00"},{"$nulls":5},{"v":0,"d":"0.00"},{"$nulls":5},"","",null,"","","",{"v":0,"d":"0.00"},null,""]
["","","",{"$nulls":51},{"$f":"IF(AJ342=\"auto\",IF(AND((D342>'km-vergoeding'!$A$4),(D342<'km-vergoeding'!$A$5)),'km-vergoeding'!$D$4,'km-vergoeding'!$D$5),0)","v":{"v":0,"d":"0.0000 "}},{"$nulls":7},{"v":0,"d":"0.00"},{"$nulls":6},{"$f":"IF(AJ342=\"fiets\",'km-vergoeding'!$D$3,0)","v":{"v":0,"d":"0.00"}},{"$nulls":7},{"v":0,"d":"0.00"},{"$nulls":12},{"v":0,"d":"0.00"},{"$nulls":5},{"v":0,"d":"0.00"},{"$nulls":5},"","",null,"","","",{"v":0,"d":"0.00"},null,""]
["","","",{"$nulls":51},{"$f":"IF(AJ343=\"auto\",IF(AND((D343>'km-vergoeding'!$A$4),(D343<'km-vergoeding'!$A$5)),'km-vergoeding'!$D$4,'km-vergoeding'!$D$5),0)","v":{"v":0,"d":"0.0000 "}},{"$nulls":7},{"v":0,"d":"0.00"},{"$nulls":6},{"$f":"IF(AJ343=\"fiets\",'km-vergoeding'!$D$3,0)","v":{"v":0,"d":"0.00"}},{"$nulls":7},{"v":0,"d":"0.00"},{"$nulls":12},{"v":0,"d":"0.00"},{"$nulls":5},{"v":0,"d":"0.00"},{"$nulls":5},"","",null,"","","",{"v":0,"d":"0.00"},null,""]
["","","",{"$nulls":51},{"$f":"IF(AJ344=\"auto\",IF(AND((D344>'km-vergoeding'!$A$4),(D344<'km-vergoeding'!$A$5)),'km-vergoeding'!$D$4,'km-vergoeding'!$D$5),0)","v":{"v":0,"d":"0.0000 "}},{"$nulls":7},{"v":0,"d":"0.00"},{"$nulls":6},{"$f":"IF(AJ344=\"fiets\",'km-vergoeding'!$D$3,0)","v":{"v":0,"d":"0.00"}},{"$nulls":7},{"v":0,"d":"0.00"},{"$nulls":12},{"v":0,"d":"0.00"},{"$nulls":5},{"v":0,"d":"0.00"},{"$nulls":5},"","",null,"","","",{"v":0,"d":"0.00"},null,""]
["","","",{"$nulls":51},{"$f":"IF(AJ345=\"auto\",IF(AND((D345>'km-vergoeding'!$A$4),(D345<'km-vergoeding'!$A$5)),'km-vergoeding'!$D$4,'km-vergoeding'!$D$5),0)","v":{"v":0,"d":"0.0000 "}},{"$nulls":7},{"v":0,"d":"0.00"},{"$nulls":6},{"$f":"IF(AJ345=\"fiets\",'km-vergoeding'!$D$3,0)","v":{"v":0,"d":"0.00"}},{"$nulls":7},{"v":0,"d":"0.00"},{"$nulls":12},{"v":0,"d":"0.00"},{"$nulls":5},{"v":0,"d":"0.00"},{"$nulls":5},"","",null,"","","",{"v":0,"d":"0.00"},null,""]
["","","",{"$nulls":51},{"$f":"IF(AJ346=\"auto\",IF(AND((D346>'km-vergoeding'!$A$4),(D346<'km-vergoeding'!$A$5)),'km-vergoeding'!$D$4,'km-vergoeding'!$D$5),0)","v":{"v":0,"d":"0.0000 "}},{"$nulls":7},{"v":0,"d":"0.00"},{"$nulls":6},{"$f":"IF(AJ346=\"fiets\",'km-vergoeding'!$D$3,0)","v":{"v":0,"d":"0.00"}},{"$nulls":7},{"v":0,"d":"0.00"},{"$nulls":12},{"v":0,"d":"0.00"},{"$nulls":5},{"v":0,"d":"0.00"},{"$nulls":5},"","",null,"","","",{"v":0,"d":"0.00"},null,""]
["","","",{"$nulls":51},{"$f":"IF(AJ347=\"auto\",IF(AND((D347>'km-vergoeding'!$A$4),(D347<'km-vergoeding'!$A$5)),'km-vergoeding'!$D$4,'km-vergoeding'!$D$5),0)","v":{"v":0,"d":"0.0000 "}},{"$nulls":7},{"v":0,"d":"0.00"},{"$nulls":6},{"$f":"IF(AJ347=\"fiets\",'km-vergoeding'!$D$3,0)","v":{"v":0,"d":"0.00"}},{"$nulls":7},{"v":0,"d":"0.00"},{"$nulls":12},{"v":0,"d":"0.00"},{"$nulls":5},{"v":0,"d":"0.00"},{"$nulls":5},"","",null,"","","",{"v":0,"d":"0.00"},null,""]
["","","",{"$nulls":51},{"$f":"IF(AJ348=\"auto\",IF(AND((D348>'km-vergoeding'!$A$4),(D348<'km-vergoeding'!$A$5)),'km-vergoeding'!$D$4,'km-vergoeding'!$D$5),0)","v":{"v":0,"d":"0.0000 "}},{"$nulls":7},{"v":0,"d":"0.00"},{"$nulls":6},{"$f":"IF(AJ348=\"fiets\",'km-vergoeding'!$D$3,0)","v":{"v":0,"d":"0.00"}},{"$nulls":7},{"v":0,"d":"0.00"},{"$nulls":12},{"v":0,"d":"0.00"},{"$nulls":5},{"v":0,"d":"0.00"},{"$nulls":5},"","",null,"","","",{"v":0,"d":"0.00"},null,""]
["","","",{"$nulls":51},{"$f":"IF(AJ349=\"auto\",IF(AND((D349>'km-vergoeding'!$A$4),(D349<'km-vergoeding'!$A$5)),'km-vergoeding'!$D$4,'km-vergoeding'!$D$5),0)","v":{"v":0,"d":"0.0000 "}},{"$nulls":7},{"v":0,"d":"0.00"},{"$nulls":6},{"$f":"IF(AJ349=\"fiets\",'km-vergoeding'!$D$3,0)","v":{"v":0,"d":"0.00"}},{"$nulls":7},{"v":0,"d":"0.00"},{"$nulls":12},{"v":0,"d":"0.00"},{"$nulls":5},{"v":0,"d":"0.00"},{"$nulls":5},"","",null,"","","",{"v":0,"d":"0.00"},null,""]
["","","",{"$nulls":51},{"$f":"IF(AJ350=\"auto\",IF(AND((D350>'km-vergoeding'!$A$4),(D350<'km-vergoeding'!$A$5)),'km-vergoeding'!$D$4,'km-vergoeding'!$D$5),0)","v":{"v":0,"d":"0.0000 "}},{"$nulls":7},{"v":0,"d":"0.00"},{"$nulls":6},{"$f":"IF(AJ350=\"fiets\",'km-vergoeding'!$D$3,0)","v":{"v":0,"d":"0.00"}},{"$nulls":7},{"v":0,"d":"0.00"},{"$nulls":12},{"v":0,"d":"0.00"},{"$nulls":5},{"v":0,"d":"0.00"},{"$nulls":5},"","",null,"","","",{"v":0,"d":"0.00"},null,""]
["","","",{"$nulls":51},{"$f":"IF(AJ351=\"auto\",IF(AND((D351>'km-vergoeding'!$A$4),(D351<'km-vergoeding'!$A$5)),'km-vergoeding'!$D$4,'km-vergoeding'!$D$5),0)","v":{"v":0,"d":"0.0000 "}},{"$nulls":7},{"v":0,"d":"0.00"},{"$nulls":6},{"$f":"IF(AJ351=\"fiets\",'km-vergoeding'!$D$3,0)","v":{"v":0,"d":"0.00"}},{"$nulls":7},{"v":0,"d":"0.00"},{"$nulls":12},{"v":0,"d":"0.00"},{"$nulls":5},{"v":0,"d":"0.00"},{"$nulls":5},"","",null,"","","",{"v":0,"d":"0.00"},null,""]
["","","",{"$nulls":51},{"$f":"IF(AJ352=\"auto\",IF(AND((D352>'km-vergoeding'!$A$4),(D352<'km-vergoeding'!$A$5)),'km-vergoeding'!$D$4,'km-vergoeding'!$D$5),0)","v":{"v":0,"d":"0.0000 "}},{"$nulls":7},{"v":0,"d":"0.00"},{"$nulls":6},{"$f":"IF(AJ352=\"fiets\",'km-vergoeding'!$D$3,0)","v":{"v":0,"d":"0.00"}},{"$nulls":7},{"v":0,"d":"0.00"},{"$nulls":12},{"v":0,"d":"0.00"},{"$nulls":5},{"v":0,"d":"0.00"},{"$nulls":5},"","",null,"","","",{"v":0,"d":"0.00"},null,""]
["","","",{"$nulls":51},{"$f":"IF(AJ353=\"auto\",IF(AND((D353>'km-vergoeding'!$A$4),(D353<'km-vergoeding'!$A$5)),'km-vergoeding'!$D$4,'km-vergoeding'!$D$5),0)","v":{"v":0,"d":"0.0000 "}},{"$nulls":7},{"$f":"IF(AJ353=\"auto\",ROUND(AR353*AY353*BC353,2),0)","v":{"v":0,"d":"0.00"}},{"$nulls":6},{"$f":"IF(AJ353=\"fiets\",'km-vergoeding'!$D$3,0)","v":{"v":0,"d":"0.00"}},{"$nulls":7},{"$f":"IF(AJ353=\"fiets\",ROUND(AR353*AY353*BR353,2),0)","v":{"v":0,"d":"0.00"}},{"$nulls":12},{"$f":"IF(AND(OR((AJ353=\"fiets\"),(AJ353=\"auto\")),(CG353>0)),\"xxxx\",BK353+BZ353+CG353)","v":{"v":0,"d":"0.00"}},{"$nulls":5},{"v":0,"d":"0.00"},{"$nulls":5},"","",null,"","","",{"v":0,"d":"0.00"},null,""]
["","","",{"$nulls":51},{"$f":"IF(AJ354=\"auto\",IF(AND((D354>'km-vergoeding'!$A$4),(D354<'km-vergoeding'!$A$5)),'km-vergoeding'!$D$4,'km-vergoeding'!$D$5),0)","v":{"v":0,"d":"0.0000 "}},{"$nulls":7},{"v":0,"d":"0.00"},{"$nulls":6},{"$f":"IF(AJ354=\"fiets\",'km-vergoeding'!$D$3,0)","v":{"v":0,"d":"0.00"}},{"$nulls":7},{"v":0,"d":"0.00"},{"$nulls":12},{"v":0,"d":"0.00"},{"$nulls":5},{"v":0,"d":"0.00"},{"$nulls":5},"","",null,"","","",{"v":0,"d":"0.00"},null,""]
["","","",{"$nulls":51},{"$f":"IF(AJ355=\"auto\",IF(AND((D355>'km-vergoeding'!$A$4),(D355<'km-vergoeding'!$A$5)),'km-vergoeding'!$D$4,'km-vergoeding'!$D$5),0)","v":{"v":0,"d":"0.0000 "}},{"$nulls":7},{"v":0,"d":"0.00"},{"$nulls":6},{"$f":"IF(AJ355=\"fiets\",'km-vergoeding'!$D$3,0)","v":{"v":0,"d":"0.00"}},{"$nulls":7},{"v":0,"d":"0.00"},{"$nulls":12},{"v":0,"d":"0.00"},{"$nulls":5},{"v":0,"d":"0.00"},{"$nulls":5},"","",null,"","","",{"v":0,"d":"0.00"},null,""]
["","","",{"$nulls":51},{"$f":"IF(AJ356=\"auto\",IF(AND((D356>'km-vergoeding'!$A$4),(D356<'km-vergoeding'!$A$5)),'km-vergoeding'!$D$4,'km-vergoeding'!$D$5),0)","v":{"v":0,"d":"0.0000 "}},{"$nulls":7},{"v":0,"d":"0.00"},{"$nulls":6},{"$f":"IF(AJ356=\"fiets\",'km-vergoeding'!$D$3,0)","v":{"v":0,"d":"0.00"}},{"$nulls":7},{"v":0,"d":"0.00"},{"$nulls":12},{"v":0,"d":"0.00"},{"$nulls":5},{"v":0,"d":"0.00"},{"$nulls":5},"","",null,"","","",{"v":0,"d":"0.00"},null,""]
["","","",{"$nulls":51},{"$f":"IF(AJ357=\"auto\",IF(AND((D357>'km-vergoeding'!$A$4),(D357<'km-vergoeding'!$A$5)),'km-vergoeding'!$D$4,'km-vergoeding'!$D$5),0)","v":{"v":0,"d":"0.0000 "}},{"$nulls":7},{"v":0,"d":"0.00"},{"$nulls":6},{"$f":"IF(AJ357=\"fiets\",'km-vergoeding'!$D$3,0)","v":{"v":0,"d":"0.00"}},{"$nulls":7},{"v":0,"d":"0.00"},{"$nulls":12},{"v":0,"d":"0.00"},{"$nulls":5},{"v":0,"d":"0.00"},{"$nulls":5},"","",null,"","","",{"v":0,"d":"0.00"},null,""]
["","","",{"$nulls":51},{"$f":"IF(AJ358=\"auto\",IF(AND((D358>'km-vergoeding'!$A$4),(D358<'km-vergoeding'!$A$5)),'km-vergoeding'!$D$4,'km-vergoeding'!$D$5),0)","v":{"v":0,"d":"0.0000 "}},{"$nulls":7},{"$f":"IF(AJ358=\"auto\",ROUND(AR358*AY358*BC358,2),0)","v":{"v":0,"d":"0.00"}},{"$nulls":6},{"$f":"IF(AJ358=\"fiets\",'km-vergoeding'!$D$3,0)","v":{"v":0,"d":"0.00"}},{"$nulls":7},{"$f":"IF(AJ358=\"fiets\",ROUND(AR358*AY358*BR358,2),0)","v":{"v":0,"d":"0.00"}},{"$nulls":12},{"$f":"IF(AND(OR((AJ358=\"fiets\"),(AJ358=\"auto\")),(CG358>0)),\"xxxx\",BK358+BZ358+CG358)","v":{"v":0,"d":"0.00"}},{"$nulls":5},{"v":0,"d":"0.00"},{"$nulls":5},"","",null,"","","",{"v":0,"d":"0.00"},null,""]
["","","",{"$nulls":51},{"$f":"IF(AJ359=\"auto\",IF(AND((D359>'km-vergoeding'!$A$4),(D359<'km-vergoeding'!$A$5)),'km-vergoeding'!$D$4,'km-vergoeding'!$D$5),0)","v":{"v":0,"d":"0.0000 "}},{"$nulls":7},{"v":0,"d":"0.00"},{"$nulls":6},{"$f":"IF(AJ359=\"fiets\",'km-vergoeding'!$D$3,0)","v":{"v":0,"d":"0.00"}},{"$nulls":7},{"v":0,"d":"0.00"},{"$nulls":12},{"v":0,"d":"0.00"},{"$nulls":5},{"v":0,"d":"0.00"},{"$nulls":5},"","",null,"","","",{"v":0,"d":"0.00"},null,""]
["","","",{"$nulls":51},{"$f":"IF(AJ360=\"auto\",IF(AND((D360>'km-vergoeding'!$A$4),(D360<'km-vergoeding'!$A$5)),'km-vergoeding'!$D$4,'km-vergoeding'!$D$5),0)","v":{"v":0,"d":"0.0000 "}},{"$nulls":7},{"v":0,"d":"0.00"},{"$nulls":6},{"$f":"IF(AJ360=\"fiets\",'km-vergoeding'!$D$3,0)","v":{"v":0,"d":"0.00"}},{"$nulls":7},{"v":0,"d":"0.00"},{"$nulls":12},{"v":0,"d":"0.00"},{"$nulls":5},{"v":0,"d":"0.00"},{"$nulls":5},"","",null,"","","",{"v":0,"d":"0.00"},null,""]
["","","",{"$nulls":51},{"$f":"IF(AJ361=\"auto\",IF(AND((D361>'km-vergoeding'!$A$4),(D361<'km-vergoeding'!$A$5)),'km-vergoeding'!$D$4,'km-vergoeding'!$D$5),0)","v":{"v":0,"d":"0.0000 "}},{"$nulls":7},{"v":0,"d":"0.00"},{"$nulls":6},{"$f":"IF(AJ361=\"fiets\",'km-vergoeding'!$D$3,0)","v":{"v":0,"d":"0.00"}},{"$nulls":7},{"v":0,"d":"0.00"},{"$nulls":12},{"v":0,"d":"0.00"},{"$nulls":5},{"v":0,"d":"0.00"},{"$nulls":5},"","",null,"","","",{"v":0,"d":"0.00"},null,""]
["","","",{"$nulls":51},{"$f":"IF(AJ362=\"auto\",IF(AND((D362>'km-vergoeding'!$A$4),(D362<'km-vergoeding'!$A$5)),'km-vergoeding'!$D$4,'km-vergoeding'!$D$5),0)","v":{"v":0,"d":"0.0000 "}},{"$nulls":7},{"v":0,"d":"0.00"},{"$nulls":6},{"$f":"IF(AJ362=\"fiets\",'km-vergoeding'!$D$3,0)","v":{"v":0,"d":"0.00"}},{"$nulls":7},{"v":0,"d":"0.00"},{"$nulls":12},{"v":0,"d":"0.00"},{"$nulls":5},{"v":0,"d":"0.00"},{"$nulls":5},"","",null,"","","",{"v":0,"d":"0.00"},null,""]
["","","",{"$nulls":51},{"$f":"IF(AJ363=\"auto\",IF(AND((D363>'km-vergoeding'!$A$4),(D363<'km-vergoeding'!$A$5)),'km-vergoeding'!$D$4,'km-vergoeding'!$D$5),0)","v":{"v":0,"d":"0.0000 "}},{"$nulls":7},{"v":0,"d":"0.00"},{"$nulls":6},{"$f":"IF(AJ363=\"fiets\",'km-vergoeding'!$D$3,0)","v":{"v":0,"d":"0.00"}},{"$nulls":7},{"v":0,"d":"0.00"},{"$nulls":12},{"v":0,"d":"0.00"},{"$nulls":5},{"v":0,"d":"0.00"},{"$nulls":5},"","",null,"","","",{"v":0,"d":"0.00"},null,""]
["","","",{"$nulls":51},{"$f":"IF(AJ364=\"auto\",IF(AND((D364>'km-vergoeding'!$A$4),(D364<'km-vergoeding'!$A$5)),'km-vergoeding'!$D$4,'km-vergoeding'!$D$5),0)","v":{"v":0,"d":"0.0000 "}},{"$nulls":7},{"v":0,"d":"0.00"},{"$nulls":6},{"$f":"IF(AJ364=\"fiets\",'km-vergoeding'!$D$3,0)","v":{"v":0,"d":"0.00"}},{"$nulls":7},{"v":0,"d":"0.00"},{"$nulls":12},{"v":0,"d":"0.00"},{"$nulls":5},{"v":0,"d":"0.00"},{"$nulls":5},"","",null,"","","",{"v":0,"d":"0.00"},null,""]
["","","",{"$nulls":51},{"$f":"IF(AJ365=\"auto\",IF(AND((D365>'km-vergoeding'!$A$4),(D365<'km-vergoeding'!$A$5)),'km-vergoeding'!$D$4,'km-vergoeding'!$D$5),0)","v":{"v":0,"d":"0.0000 "}},{"$nulls":7},{"v":0,"d":"0.00"},{"$nulls":6},{"$f":"IF(AJ365=\"fiets\",'km-vergoeding'!$D$3,0)","v":{"v":0,"d":"0.00"}},{"$nulls":7},{"v":0,"d":"0.00"},{"$nulls":12},{"v":0,"d":"0.00"},{"$nulls":5},{"v":0,"d":"0.00"},{"$nulls":5},"","",null,"","","",{"v":0,"d":"0.00"},null,""]
["","","",{"$nulls":51},{"$f":"IF(AJ366=\"auto\",IF(AND((D366>'km-vergoeding'!$A$4),(D366<'km-vergoeding'!$A$5)),'km-vergoeding'!$D$4,'km-vergoeding'!$D$5),0)","v":{"v":0,"d":"0.0000 "}},{"$nulls":7},{"v":0,"d":"0.00"},{"$nulls":6},{"$f":"IF(AJ366=\"fiets\",'km-vergoeding'!$D$3,0)","v":{"v":0,"d":"0.00"}},{"$nulls":7},{"v":0,"d":"0.00"},{"$nulls":12},{"v":0,"d":"0.00"},{"$nulls":5},{"v":0,"d":"0.00"},{"$nulls":5},"","",null,"","","",{"v":0,"d":"0.00"},null,""]
["","","",{"$nulls":51},{"$f":"IF(AJ367=\"auto\",IF(AND((D367>'km-vergoeding'!$A$4),(D367<'km-vergoeding'!$A$5)),'km-vergoeding'!$D$4,'km-vergoeding'!$D$5),0)","v":{"v":0,"d":"0.0000 "}},{"$nulls":7},{"v":0,"d":"0.00"},{"$nulls":6},{"$f":"IF(AJ367=\"fiets\",'km-vergoeding'!$D$3,0)","v":{"v":0,"d":"0.00"}},{"$nulls":7},{"v":0,"d":"0.00"},{"$nulls":12},{"v":0,"d":"0.00"},{"$nulls":5},{"v":0,"d":"0.00"},{"$nulls":5},"","",null,"","","",{"v":0,"d":"0.00"},null,""]
["","","",{"$nulls":51},{"$f":"IF(AJ368=\"auto\",IF(AND((D368>'km-vergoeding'!$A$4),(D368<'km-vergoeding'!$A$5)),'km-vergoeding'!$D$4,'km-vergoeding'!$D$5),0)","v":{"v":0,"d":"0.0000 "}},{"$nulls":7},{"v":0,"d":"0.00"},{"$nulls":6},{"$f":"IF(AJ368=\"fiets\",'km-vergoeding'!$D$3,0)","v":{"v":0,"d":"0.00"}},{"$nulls":7},{"v":0,"d":"0.00"},{"$nulls":12},{"v":0,"d":"0.00"},{"$nulls":5},{"v":0,"d":"0.00"},{"$nulls":5},"","",null,"","","",{"v":0,"d":"0.00"},null,""]
["","","",{"$nulls":51},{"$f":"IF(AJ369=\"auto\",IF(AND((D369>'km-vergoeding'!$A$4),(D369<'km-vergoeding'!$A$5)),'km-vergoeding'!$D$4,'km-vergoeding'!$D$5),0)","v":{"v":0,"d":"0.0000 "}},{"$nulls":7},{"v":0,"d":"0.00"},{"$nulls":6},{"$f":"IF(AJ369=\"fiets\",'km-vergoeding'!$D$3,0)","v":{"v":0,"d":"0.00"}},{"$nulls":7},{"v":0,"d":"0.00"},{"$nulls":12},{"v":0,"d":"0.00"},{"$nulls":5},{"v":0,"d":"0.00"},{"$nulls":5},"","",null,"","","",{"v":0,"d":"0.00"},null,""]
["","","",{"$nulls":51},{"$f":"IF(AJ370=\"auto\",IF(AND((D370>'km-vergoeding'!$A$4),(D370<'km-vergoeding'!$A$5)),'km-vergoeding'!$D$4,'km-vergoeding'!$D$5),0)","v":{"v":0,"d":"0.0000 "}},{"$nulls":7},{"v":0,"d":"0.00"},{"$nulls":6},{"$f":"IF(AJ370=\"fiets\",'km-vergoeding'!$D$3,0)","v":{"v":0,"d":"0.00"}},{"$nulls":7},{"v":0,"d":"0.00"},{"$nulls":12},{"v":0,"d":"0.00"},{"$nulls":5},{"v":0,"d":"0.00"},{"$nulls":5},"","",null,"","","",{"v":0,"d":"0.00"},null,""]
["","","",{"$nulls":51},{"$f":"IF(AJ371=\"auto\",IF(AND((D371>'km-vergoeding'!$A$4),(D371<'km-vergoeding'!$A$5)),'km-vergoeding'!$D$4,'km-vergoeding'!$D$5),0)","v":{"v":0,"d":"0.0000 "}},{"$nulls":7},{"v":0,"d":"0.00"},{"$nulls":6},{"$f":"IF(AJ371=\"fiets\",'km-vergoeding'!$D$3,0)","v":{"v":0,"d":"0.00"}},{"$nulls":7},{"v":0,"d":"0.00"},{"$nulls":12},{"v":0,"d":"0.00"},{"$nulls":5},{"v":0,"d":"0.00"},{"$nulls":5},"","",null,"","","",{"v":0,"d":"0.00"},null,""]
["","","",{"$nulls":51},{"$f":"IF(AJ372=\"auto\",IF(AND((D372>'km-vergoeding'!$A$4),(D372<'km-vergoeding'!$A$5)),'km-vergoeding'!$D$4,'km-vergoeding'!$D$5),0)","v":{"v":0,"d":"0.0000 "}},{"$nulls":7},{"v":0,"d":"0.00"},{"$nulls":6},{"$f":"IF(AJ372=\"fiets\",'km-vergoeding'!$D$3,0)","v":{"v":0,"d":"0.00"}},{"$nulls":7},{"v":0,"d":"0.00"},{"$nulls":12},{"v":0,"d":"0.00"},{"$nulls":5},{"v":0,"d":"0.00"},{"$nulls":5},"","",null,"","","",{"v":0,"d":"0.00"},null,""]
["","","",{"$nulls":51},{"$f":"IF(AJ373=\"auto\",IF(AND((D373>'km-vergoeding'!$A$4),(D373<'km-vergoeding'!$A$5)),'km-vergoeding'!$D$4,'km-vergoeding'!$D$5),0)","v":{"v":0,"d":"0.0000 "}},{"$nulls":7},{"v":0,"d":"0.00"},{"$nulls":6},{"$f":"IF(AJ373=\"fiets\",'km-vergoeding'!$D$3,0)","v":{"v":0,"d":"0.00"}},{"$nulls":7},{"v":0,"d":"0.00"},{"$nulls":12},{"v":0,"d":"0.00"},{"$nulls":5},{"v":0,"d":"0.00"},{"$nulls":5},"",null,null,"","","",{"v":0,"d":"0.00"},null,""]
[{"$nulls":3},"totaal teruggevorderd bedrag",{"$nulls":92},{"$f":"SUM(CM74:CM373)","v":{"v":0,"d":"0.00"}}]
{"$rows_empty":15}
[{"$nulls":7}," "]

{"sheet":"Blad23","index":1,"n_rows":28,"n_cols":6,"rows_kept":28,"hidden":true}
["Bao's",{"$f":"D1","v":45000},"kalenderjaar 2023","2023-03-15",null,2022]
["kalenderjaar 2023",{"$f":"D2","v":45366},"kalenderjaar 2024","2024-03-15",null,{"$f":"F1+1","v":2023}]
["kalenderjaar 2024",{"$f":"D3","v":45731},"kalenderjaar 2025","2025-03-15",null,{"$f":"F2+1","v":2024}]
["kalenderjaar 2025",46096,"kalenderjaar 2026","2026-03-15",null,2025]
["kalenderjaar 2026",46461,"kalenderjaar 2027","2027-03-15",null,2026]
["kalenderjaar 2027",46827,"kalenderjaar 2028","2028-03-15",null,2027]
["kalenderjaar 2028",47192,"kalenderjaar 2029","2029-03-15",null,2028]
["kalenderjaar 2029",47557,"kalenderjaar 2030","2030-03-15",null,2029]
["kalenderjaar 2030",47922,"kalenderjaar 2031","2031-03-15",null,2030]
["kalenderjaar 2031",48288,"kalenderjaar 2032","2032-03-15",null,2031]
["kalenderjaar 2032",48653,"kalenderjaar 2033","2033-03-15",null,2032]
[]
[]
[]
["vul het huidig kalenderjaar in =>",null,"kalenderjaar 2023",null,null,{"$f":"VLOOKUP($C$15,$A$1:$F$11,6,FALSE)","v":2023}]
[]
[]
[]
["2023-01-01"]
["2023-02-01"]
["2023-03-01"]
["2023-04-01"]
["2023-05-01"]
["2023-06-01"]
["2023-09-01"]
["2023-10-01"]
["2023-11-01"]
["2023-12-01"]

{"sheet":"Blad1","index":2,"n_rows":0,"n_cols":0,"rows_kept":0}

{"sheet":"Blad2","index":3,"n_rows":0,"n_cols":0,"rows_kept":0}

{"sheet":"Blad3","index":4,"n_rows":0,"n_cols":0,"rows_kept":0}

{"sheet":"Blad4","index":5,"n_rows":0,"n_cols":0,"rows_kept":0}

{"sheet":"Blad5","index":6,"n_rows":0,"n_cols":0,"rows_kept":0}

{"sheet":"Blad6","index":7,"n_rows":0,"n_cols":0,"rows_kept":0}

{"sheet":"Blad7","index":8,"n_rows":0,"n_cols":0,"rows_kept":0}

{"sheet":"Blad8","index":9,"n_rows":0,"n_cols":0,"rows_kept":0}

{"sheet":"Blad9","index":10,"n_rows":0,"n_cols":0,"rows_kept":0}

{"sheet":"Blad10","index":11,"n_rows":0,"n_cols":0,"rows_kept":0}

{"sheet":"Blad11","index":12,"n_rows":0,"n_cols":0,"rows_kept":0}

{"sheet":"Blad12","index":13,"n_rows":0,"n_cols":0,"rows_kept":0}

{"sheet":"Blad13","index":14,"n_rows":0,"n_cols":0,"rows_kept":0}

{"sheet":"Blad14","index":15,"n_rows":0,"n_cols":0,"rows_kept":0}

{"sheet":"Blad15","index":16,"n_rows":0,"n_cols":0,"rows_kept":0}

{"sheet":"Blad16","index":17,"n_rows":0,"n_cols":0,"rows_kept":0}

{"sheet":"Blad17","index":18,"n_rows":0,"n_cols":0,"rows_kept":0}

{"sheet":"Blad18","index":19,"n_rows":0,"n_cols":0,"rows_kept":0}

{"sheet":"Blad19","index":20,"n_rows":0,"n_cols":0,"rows_kept":0}

{"sheet":"Blad20","index":21,"n_rows":0,"n_cols":0,"rows_kept":0}

{"sheet":"Blad21","index":22,"n_rows":0,"n_cols":0,"rows_kept":0}

{"sheet":"Blad22","index":23,"n_rows":0,"n_cols":0,"rows_kept":0}

{"sheet":"gegevensblad samenvatting vord.","index":24,"n_rows":2,"n_cols":7,"rows_kept":2}
["instellingsnummer","naam instelling","kalenderjaar","nieuwe terugvordering","correctie terugvordering","totaal terugvordering","formulier bevat nog foutmeldingen"]
[{"$f":"IF('Terugvordering reiskosten OAH'!T36=\"\",\"\",'Terugvordering reiskosten OAH'!T36)","v":""},{"$f":"IF('Terugvordering reiskosten OAH'!T38=\"\",\"\",'Terugvordering reiskosten OAH'!T38)","v":""},{"$f":"Blad23!$F$15","v":2023},{"$f":"IF('Terugvordering reiskosten OAH'!D52=\"\",\"\",'Terugvordering reiskosten OAH'!D52)","v":""},{"$f":"IF('Terugvordering reiskosten OAH'!D54=\"\",\"\",'Terugvordering reiskosten OAH'!D54)","v":""},{"$f":"IF('Terugvordering reiskosten OAH'!CS374=0,0,'Terugvordering reiskosten OAH'!CS374)","v":{"v":0,"d":"0.00"}},{"$f":"IF(AND('Terugvordering reiskosten OAH'!D62=\"\",'Terugvordering reiskosten OAH'!D63=\"\",'Terugvordering reiskosten OAH'!D64=\"\",'Terugvordering reiskosten OAH'!D65=\"\",'Terugvordering reiskosten OAH'!D66=\"\",'Terugvordering reiskosten OAH'!D67=\"\",'Terugvordering reiskosten OAH'!D68=\"\",'Terugvordering reiskosten OAH'!D69=\"\",'Terugvordering reiskosten OAH'!D70=\"\",'Terugvordering reiskosten OAH'!D71=\"\"),\"\",\"X\")","v":""}]

{"sheet":"gegevensblad detail terugvord.","index":25,"n_rows":301,"n_cols":16,"rows_kept":301}
["instellings-\nnummer","naam instelling","kalender-\njaar","periode","voor- en achternaam personeelslid","stamboeknummer","voor- en achternaam leerling","wijze van\nverplaatsing","afstand","aantal\ntrajecten","vergoeding/km \nverplaatsing auto","bedrag in euro \nverplaatsing auto","vergoeding/km \nverplaatsing fiets ","bedrag in euro \nverplaatsing fiets","vergoeding \nopenbaar vervoer","bedrag in euro\nper ingevulde rij"]
[{"$f":"IF('Terugvordering reiskosten OAH'!D74=\"\",\"\",IF('Terugvordering reiskosten OAH'!$T$36=\"\",\"\",'Terugvordering reiskosten OAH'!$T$36))","v":""},{"$f":"IF(A2=\"\",\"\",'Terugvordering reiskosten OAH'!$T$38)","v":""},{"$f":"IF(A2=\"\",\"\",'gegevensblad samenvatting vord.'!$C$2)","v":""},{"$f":"IF('Terugvordering reiskosten OAH'!D74=\"\",\"\",TEXT('Terugvordering reiskosten OAH'!D74,\"mm-jjjj\"))","v":""},{"$f":"IF('Terugvordering reiskosten OAH'!H74=\"\",\"\",'Terugvordering reiskosten OAH'!H74)","v":""},{"$f":"IF('Terugvordering reiskosten OAH'!R74=\"\",\"\",'Terugvordering reiskosten OAH'!R74)","v":""},{"$f":"IF('Terugvordering reiskosten OAH'!X74=\"\",\"\",'Terugvordering reiskosten OAH'!X74)","v":""},{"$f":"IF('Terugvordering reiskosten OAH'!AJ74=\"\",\"\",'Terugvordering reiskosten OAH'!AJ74)","v":""},{"$f":"IF('Terugvordering reiskosten OAH'!AR74=\"\",\"\",'Terugvordering reiskosten OAH'!AR74)","v":""},{"$f":"IF('Terugvordering reiskosten OAH'!AY74=\"\",\"\",'Terugvordering reiskosten OAH'!AY74)","v":""},{"$f":"IF('Terugvordering reiskosten OAH'!BC74=0,\"\",'Terugvordering reiskosten OAH'!BC74)","v":""},{"$f":"IF('Terugvordering reiskosten OAH'!BK74=0,\"\",'Terugvordering reiskosten OAH'!BK74)","v":""},{"$f":"IF('Terugvordering reiskosten OAH'!BR74=0,\"\",'Terugvordering reiskosten OAH'!BR74)","v":""},{"$f":"IF('Terugvordering reiskosten OAH'!BZ74=0,\"\",'Terugvordering reiskosten OAH'!BZ74)","v":""},{"$f":"IF('Terugvordering reiskosten OAH'!CG74=\"\",\"\",'Terugvordering reiskosten OAH'!CG74)","v":""},{"$f":"IF('Terugvordering reiskosten OAH'!CM74=0,\"\",'Terugvordering reiskosten OAH'!CM74)","v":""}]
[{"$f":"IF('Terugvordering reiskosten OAH'!D75=\"\",\"\",IF('Terugvordering reiskosten OAH'!$T$36=\"\",\"\",'Terugvordering reiskosten OAH'!$T$36))","v":""},{"$f":"IF(A3=\"\",\"\",'Terugvordering reiskosten OAH'!$T$38)","v":""},{"$f":"IF(A3=\"\",\"\",'gegevensblad samenvatting vord.'!$C$2)","v":""},{"$f":"IF('Terugvordering reiskosten OAH'!D75=\"\",\"\",TEXT('Terugvordering reiskosten OAH'!D75,\"mm-jjjj\"))","v":""},{"$f":"IF('Terugvordering reiskosten OAH'!H75=\"\",\"\",'Terugvordering reiskosten OAH'!H75)","v":""},{"$f":"IF('Terugvordering reiskosten OAH'!R75=\"\",\"\",'Terugvordering reiskosten OAH'!R75)","v":""},{"$f":"IF('Terugvordering reiskosten OAH'!X75=\"\",\"\",'Terugvordering reiskosten OAH'!X75)","v":""},{"$f":"IF('Terugvordering reiskosten OAH'!AJ75=\"\",\"\",'Terugvordering reiskosten OAH'!AJ75)","v":""},{"$f":"IF('Terugvordering reiskosten OAH'!AR75=\"\",\"\",'Terugvordering reiskosten OAH'!AR75)","v":""},{"$f":"IF('Terugvordering reiskosten OAH'!AY75=\"\",\"\",'Terugvordering reiskosten OAH'!AY75)","v":""},{"$f":"IF('Terugvordering reiskosten OAH'!BC75=0,\"\",'Terugvordering reiskosten OAH'!BC75)","v":""},{"$f":"IF('Terugvordering reiskosten OAH'!BK75=0,\"\",'Terugvordering reiskosten OAH'!BK75)","v":""},{"$f":"IF('Terugvordering reiskosten OAH'!BR75=0,\"\",'Terugvordering reiskosten OAH'!BR75)","v":""},{"$f":"IF('Terugvordering reiskosten OAH'!BZ75=0,\"\",'Terugvordering reiskosten OAH'!BZ75)","v":""},{"$f":"IF('Terugvordering reiskosten OAH'!CG75=\"\",\"\",'Terugvordering reiskosten OAH'!CG75)","v":""},{"$f":"IF('Terugvordering reiskosten OAH'!CM75=0,\"\",'Terugvordering reiskosten OAH'!CM75)","v":""}]
[{"$f":"IF('Terugvordering reiskosten OAH'!D76=\"\",\"\",IF('Terugvordering reiskosten OAH'!$T$36=\"\",\"\",'Terugvordering reiskosten OAH'!$T$36))","v":""},{"$f":"IF(A4=\"\",\"\",'Terugvordering reiskosten OAH'!$T$38)","v":""},{"$f":"IF(A4=\"\",\"\",'gegevensblad samenvatting vord.'!$C$2)","v":""},{"$f":"IF('Terugvordering reiskosten OAH'!D76=\"\",\"\",TEXT('Terugvordering reiskosten OAH'!D76,\"mm-jjjj\"))","v":""},{"$f":"IF('Terugvordering reiskosten OAH'!H76=\"\",\"\",'Terugvordering reiskosten OAH'!H76)","v":""},{"$f":"IF('Terugvordering reiskosten OAH'!R76=\"\",\"\",'Terugvordering reiskosten OAH'!R76)","v":""},{"$f":"IF('Terugvordering reiskosten OAH'!X76=\"\",\"\",'Terugvordering reiskosten OAH'!X76)","v":""},{"$f":"IF('Terugvordering reiskosten OAH'!AJ76=\"\",\"\",'Terugvordering reiskosten OAH'!AJ76)","v":""},{"$f":"IF('Terugvordering reiskosten OAH'!AR76=\"\",\"\",'Terugvordering reiskosten OAH'!AR76)","v":""},{"$f":"IF('Terugvordering reiskosten OAH'!AY76=\"\",\"\",'Terugvordering reiskosten OAH'!AY76)","v":""},{"$f":"IF('Terugvordering reiskosten OAH'!BC76=0,\"\",'Terugvordering reiskosten OAH'!BC76)","v":""},{"$f":"IF('Terugvordering reiskosten OAH'!BK76=0,\"\",'Terugvordering reiskosten OAH'!BK76)","v":""},{"$f":"IF('Terugvordering reiskosten OAH'!BR76=0,\"\",'Terugvordering reiskosten OAH'!BR76)","v":""},{"$f":"IF('Terugvordering reiskosten OAH'!BZ76=0,\"\",'Terugvordering reiskosten OAH'!BZ76)","v":""},{"$f":"IF('Terugvordering reiskosten OAH'!CG76=\"\",\"\",'Terugvordering reiskosten OAH'!CG76)","v":""},{"$f":"IF('Terugvordering reiskosten OAH'!CM76=0,\"\",'Terugvordering reiskosten OAH'!CM76)","v":""}]
[{"$f":"IF('Terugvordering reiskosten OAH'!D77=\"\",\"\",IF('Terugvordering reiskosten OAH'!$T$36=\"\",\"\",'Terugvordering reiskosten OAH'!$T$36))","v":""},{"$f":"IF(A5=\"\",\"\",'Terugvordering reiskosten OAH'!$T$38)","v":""},{"$f":"IF(A5=\"\",\"\",'gegevensblad samenvatting vord.'!$C$2)","v":""},{"$f":"IF('Terugvordering reiskosten OAH'!D77=\"\",\"\",TEXT('Terugvordering reiskosten OAH'!D77,\"mm-jjjj\"))","v":""},{"$f":"IF('Terugvordering reiskosten OAH'!H77=\"\",\"\",'Terugvordering reiskosten OAH'!H77)","v":""},{"$f":"IF('Terugvordering reiskosten OAH'!R77=\"\",\"\",'Terugvordering reiskosten OAH'!R77)","v":""},{"$f":"IF('Terugvordering reiskosten OAH'!X77=\"\",\"\",'Terugvordering reiskosten OAH'!X77)","v":""},{"$f":"IF('Terugvordering reiskosten OAH'!AJ77=\"\",\"\",'Terugvordering reiskosten OAH'!AJ77)","v":""},{"$f":"IF('Terugvordering reiskosten OAH'!AR77=\"\",\"\",'Terugvordering reiskosten OAH'!AR77)","v":""},{"$f":"IF('Terugvordering reiskosten OAH'!AY77=\"\",\"\",'Terugvordering reiskosten OAH'!AY77)","v":""},{"$f":"IF('Terugvordering reiskosten OAH'!BC77=0,\"\",'Terugvordering reiskosten OAH'!BC77)","v":""},{"$f":"IF('Terugvordering reiskosten OAH'!BK77=0,\"\",'Terugvordering reiskosten OAH'!BK77)","v":""},{"$f":"IF('Terugvordering reiskosten OAH'!BR77=0,\"\",'Terugvordering reiskosten OAH'!BR77)","v":""},{"$f":"IF('Terugvordering reiskosten OAH'!BZ77=0,\"\",'Terugvordering reiskosten OAH'!BZ77)","v":""},{"$f":"IF('Terugvordering reiskosten OAH'!CG77=\"\",\"\",'Terugvordering reiskosten OAH'!CG77)","v":""},{"$f":"IF('Terugvordering reiskosten OAH'!CM77=0,\"\",'Terugvordering reiskosten OAH'!CM77)","v":""}]
[{"$f":"IF('Terugvordering reiskosten OAH'!D78=\"\",\"\",IF('Terugvordering reiskosten OAH'!$T$36=\"\",\"\",'Terugvordering reiskosten OAH'!$T$36))","v":""},{"$f":"IF(A6=\"\",\"\",'Terugvordering reiskosten OAH'!$T$38)","v":""},{"$f":"IF(A6=\"\",\"\",'gegevensblad samenvatting vord.'!$C$2)","v":""},{"$f":"IF('Terugvordering reiskosten OAH'!D78=\"\",\"\",TEXT('Terugvordering reiskosten OAH'!D78,\"mm-jjjj\"))","v":""},{"$f":"IF('Terugvordering reiskosten OAH'!H78=\"\",\"\",'Terugvordering reiskosten OAH'!H78)","v":""},{"$f":"IF('Terugvordering reiskosten OAH'!R78=\"\",\"\",'Terugvordering reiskosten OAH'!R78)","v":""},{"$f":"IF('Terugvordering reiskosten OAH'!X78=\"\",\"\",'Terugvordering reiskosten OAH'!X78)","v":""},{"$f":"IF('Terugvordering reiskosten OAH'!AJ78=\"\",\"\",'Terugvordering reiskosten OAH'!AJ78)","v":""},{"$f":"IF('Terugvordering reiskosten OAH'!AR78=\"\",\"\",'Terugvordering reiskosten OAH'!AR78)","v":""},{"$f":"IF('Terugvordering reiskosten OAH'!AY78=\"\",\"\",'Terugvordering reiskosten OAH'!AY78)","v":""},{"$f":"IF('Terugvordering reiskosten OAH'!BC78=0,\"\",'Terugvordering reiskosten OAH'!BC78)","v":""},{"$f":"IF('Terugvordering reiskosten OAH'!BK78=0,\"\",'Terugvordering reiskosten OAH'!BK78)","v":""},{"$f":"IF('Terugvordering reiskosten OAH'!BR78=0,\"\",'Terugvordering reiskosten OAH'!BR78)","v":""},{"$f":"IF('Terugvordering reiskosten OAH'!BZ78=0,\"\",'Terugvordering reiskosten OAH'!BZ78)","v":""},{"$f":"IF('Terugvordering reiskosten OAH'!CG78=\"\",\"\",'Terugvordering reiskosten OAH'!CG78)","v":""},{"$f":"IF('Terugvordering reiskosten OAH'!CM78=0,\"\",'Terugvordering reiskosten OAH'!CM78)","v":""}]
[{"$f":"IF('Terugvordering reiskosten OAH'!D79=\"\",\"\",IF('Terugvordering reiskosten OAH'!$T$36=\"\",\"\",'Terugvordering reiskosten OAH'!$T$36))","v":""},{"$f":"IF(A7=\"\",\"\",'Terugvordering reiskosten OAH'!$T$38)","v":""},{"$f":"IF(A7=\"\",\"\",'gegevensblad samenvatting vord.'!$C$2)","v":""},{"$f":"IF('Terugvordering reiskosten OAH'!D79=\"\",\"\",TEXT('Terugvordering reiskosten OAH'!D79,\"mm-jjjj\"))","v":""},{"$f":"IF('Terugvordering reiskosten OAH'!H79=\"\",\"\",'Terugvordering reiskosten OAH'!H79)","v":""},{"$f":"IF('Terugvordering reiskosten OAH'!R79=\"\",\"\",'Terugvordering reiskosten OAH'!R79)","v":""},{"$f":"IF('Terugvordering reiskosten OAH'!X79=\"\",\"\",'Terugvordering reiskosten OAH'!X79)","v":""},{"$f":"IF('Terugvordering reiskosten OAH'!AJ79=\"\",\"\",'Terugvordering reiskosten OAH'!AJ79)","v":""},{"$f":"IF('Terugvordering reiskosten OAH'!AR79=\"\",\"\",'Terugvordering reiskosten OAH'!AR79)","v":""},{"$f":"IF('Terugvordering reiskosten OAH'!AY79=\"\",\"\",'Terugvordering reiskosten OAH'!AY79)","v":""},{"$f":"IF('Terugvordering reiskosten OAH'!BC79=0,\"\",'Terugvordering reiskosten OAH'!BC79)","v":""},{"$f":"IF('Terugvordering reiskosten OAH'!BK79=0,\"\",'Terugvordering reiskosten OAH'!BK79)","v":""},{"$f":"IF('Terugvordering reiskosten OAH'!BR79=0,\"\",'Terugvordering reiskosten OAH'!BR79)","v":""},{"$f":"IF('Terugvordering reiskosten OAH'!BZ79=0,\"\",'Terugvordering reiskosten OAH'!BZ79)","v":""},{"$f":"IF('Terugvordering reiskosten OAH'!CG79=\"\",\"\",'Terugvordering reiskosten OAH'!CG79)","v":""},{"$f":"IF('Terugvordering reiskosten OAH'!CM79=0,\"\",'Terugvordering reiskosten OAH'!CM79)","v":""}]
[{"$f":"IF('Terugvordering reiskosten OAH'!D80=\"\",\"\",IF('Terugvordering reiskosten OAH'!$T$36=\"\",\"\",'Terugvordering reiskosten OAH'!$T$36))","v":""},{"$f":"IF(A8=\"\",\"\",'Terugvordering reiskosten OAH'!$T$38)","v":""},{"$f":"IF(A8=\"\",\"\",'gegevensblad samenvatting vord.'!$C$2)","v":""},{"$f":"IF('Terugvordering reiskosten OAH'!D80=\"\",\"\",TEXT('Terugvordering reiskosten OAH'!D80,\"mm-jjjj\"))","v":""},{"$f":"IF('Terugvordering reiskosten OAH'!H80=\"\",\"\",'Terugvordering reiskosten OAH'!H80)","v":""},{"$f":"IF('Terugvordering reiskosten OAH'!R80=\"\",\"\",'Terugvordering reiskosten OAH'!R80)","v":""},{"$f":"IF('Terugvordering reiskosten OAH'!X80=\"\",\"\",'Terugvordering reiskosten OAH'!X80)","v":""},{"$f":"IF('Terugvordering reiskosten OAH'!AJ80=\"\",\"\",'Terugvordering reiskosten OAH'!AJ80)","v":""},{"$f":"IF('Terugvordering reiskosten OAH'!AR80=\"\",\"\",'Terugvordering reiskosten OAH'!AR80)","v":""},{"$f":"IF('Terugvordering reiskosten OAH'!AY80=\"\",\"\",'Terugvordering reiskosten OAH'!AY80)","v":""},{"$f":"IF('Terugvordering reiskosten OAH'!BC80=0,\"\",'Terugvordering reiskosten OAH'!BC80)","v":""},{"$f":"IF('Terugvordering reiskosten OAH'!BK80=0,\"\",'Terugvordering reiskosten OAH'!BK80)","v":""},{"$f":"IF('Terugvordering reiskosten OAH'!BR80=0,\"\",'Terugvordering reiskosten OAH'!BR80)","v":""},{"$f":"IF('Terugvordering reiskosten OAH'!BZ80=0,\"\",'Terugvordering reiskosten OAH'!BZ80)","v":""},{"$f":"IF('Terugvordering reiskosten OAH'!CG80=\"\",\"\",'Terugvordering reiskosten OAH'!CG80)","v":""},{"$f":"IF('Terugvordering reiskosten OAH'!CM80=0,\"\",'Terugvordering reiskosten OAH'!CM80)","v":""}]
[{"$f":"IF('Terugvordering reiskosten OAH'!D81=\"\",\"\",IF('Terugvordering reiskosten OAH'!$T$36=\"\",\"\",'Terugvordering reiskosten OAH'!$T$36))","v":""},{"$f":"IF(A9=\"\",\"\",'Terugvordering reiskosten OAH'!$T$38)","v":""},{"$f":"IF(A9=\"\",\"\",'gegevensblad samenvatting vord.'!$C$2)","v":""},{"$f":"IF('Terugvordering reiskosten OAH'!D81=\"\",\"\",TEXT('Terugvordering reiskosten OAH'!D81,\"mm-jjjj\"))","v":""},{"$f":"IF('Terugvordering reiskosten OAH'!H81=\"\",\"\",'Terugvordering reiskosten OAH'!H81)","v":""},{"$f":"IF('Terugvordering reiskosten OAH'!R81=\"\",\"\",'Terugvordering reiskosten OAH'!R81)","v":""},{"$f":"IF('Terugvordering reiskosten OAH'!X81=\"\",\"\",'Terugvordering reiskosten OAH'!X81)","v":""},{"$f":"IF('Terugvordering reiskosten OAH'!AJ81=\"\",\"\",'Terugvordering reiskosten OAH'!AJ81)","v":""},{"$f":"IF('Terugvordering reiskosten OAH'!AR81=\"\",\"\",'Terugvordering reiskosten OAH'!AR81)","v":""},{"$f":"IF('Terugvordering reiskosten OAH'!AY81=\"\",\"\",'Terugvordering reiskosten OAH'!AY81)","v":""},{"$f":"IF('Terugvordering reiskosten OAH'!BC81=0,\"\",'Terugvordering reiskosten OAH'!BC81)","v":""},{"$f":"IF('Terugvordering reiskosten OAH'!BK81=0,\"\",'Terugvordering reiskosten OAH'!BK81)","v":""},{"$f":"IF('Terugvordering reiskosten OAH'!BR81=0,\"\",'Terugvordering reiskosten OAH'!BR81)","v":""},{"$f":"IF('Terugvordering reiskosten OAH'!BZ81=0,\"\",'Terugvordering reiskosten OAH'!BZ81)","v":""},{"$f":"IF('Terugvordering reiskosten OAH'!CG81=\"\",\"\",'Terugvordering reiskosten OAH'!CG81)","v":""},{"$f":"IF('Terugvordering reiskosten OAH'!CM81=0,\"\",'Terugvordering reiskosten OAH'!CM81)","v":""}]
[{"$f":"IF('Terugvordering reiskosten OAH'!D82=\"\",\"\",IF('Terugvordering reiskosten OAH'!$T$36=\"\",\"\",'Terugvordering reiskosten OAH'!$T$36))","v":""},{"$f":"IF(A10=\"\",\"\",'Terugvordering reiskosten OAH'!$T$38)","v":""},{"$f":"IF(A10=\"\",\"\",'gegevensblad samenvatting vord.'!$C$2)","v":""},{"$f":"IF('Terugvordering reiskosten OAH'!D82=\"\",\"\",TEXT('Terugvordering reiskosten OAH'!D82,\"mm-jjjj\"))","v":""},{"$f":"IF('Terugvordering reiskosten OAH'!H82=\"\",\"\",'Terugvordering reiskosten OAH'!H82)","v":""},{"$f":"IF('Terugvordering reiskosten OAH'!R82=\"\",\"\",'Terugvordering reiskosten OAH'!R82)","v":""},{"$f":"IF('Terugvordering reiskosten OAH'!X82=\"\",\"\",'Terugvordering reiskosten OAH'!X82)","v":""},{"$f":"IF('Terugvordering reiskosten OAH'!AJ82=\"\",\"\",'Terugvordering reiskosten OAH'!AJ82)","v":""},{"$f":"IF('Terugvordering reiskosten OAH'!AR82=\"\",\"\",'Terugvordering reiskosten OAH'!AR82)","v":""},{"$f":"IF('Terugvordering reiskosten OAH'!AY82=\"\",\"\",'Terugvordering reiskosten OAH'!AY82)","v":""},{"$f":"IF('Terugvordering reiskosten OAH'!BC82=0,\"\",'Terugvordering reiskosten OAH'!BC82)","v":""},{"$f":"IF('Terugvordering reiskosten OAH'!BK82=0,\"\",'Terugvordering reiskosten OAH'!BK82)","v":""},{"$f":"IF('Terugvordering reiskosten OAH'!BR82=0,\"\",'Terugvordering reiskosten OAH'!BR82)","v":""},{"$f":"IF('Terugvordering reiskosten OAH'!BZ82=0,\"\",'Terugvordering reiskosten OAH'!BZ82)","v":""},{"$f":"IF('Terugvordering reiskosten OAH'!CG82=\"\",\"\",'Terugvordering reiskosten OAH'!CG82)","v":""},{"$f":"IF('Terugvordering reiskosten OAH'!CM82=0,\"\",'Terugvordering reiskosten OAH'!CM82)","v":""}]
[{"$f":"IF('Terugvordering reiskosten OAH'!D83=\"\",\"\",IF('Terugvordering reiskosten OAH'!$T$36=\"\",\"\",'Terugvordering reiskosten OAH'!$T$36))","v":""},{"$f":"IF(A11=\"\",\"\",'Terugvordering reiskosten OAH'!$T$38)","v":""},{"$f":"IF(A11=\"\",\"\",'gegevensblad samenvatting vord.'!$C$2)","v":""},{"$f":"IF('Terugvordering reiskosten OAH'!D83=\"\",\"\",TEXT('Terugvordering reiskosten OAH'!D83,\"mm-jjjj\"))","v":""},{"$f":"IF('Terugvordering reiskosten OAH'!H83=\"\",\"\",'Terugvordering reiskosten OAH'!H83)","v":""},{"$f":"IF('Terugvordering reiskosten OAH'!R83=\"\",\"\",'Terugvordering reiskosten OAH'!R83)","v":""},{"$f":"IF('Terugvordering reiskosten OAH'!X83=\"\",\"\",'Terugvordering reiskosten OAH'!X83)","v":""},{"$f":"IF('Terugvordering reiskosten OAH'!AJ83=\"\",\"\",'Terugvordering reiskosten OAH'!AJ83)","v":""},{"$f":"IF('Terugvordering reiskosten OAH'!AR83=\"\",\"\",'Terugvordering reiskosten OAH'!AR83)","v":""},{"$f":"IF('Terugvordering reiskosten OAH'!AY83=\"\",\"\",'Terugvordering reiskosten OAH'!AY83)","v":""},{"$f":"IF('Terugvordering reiskosten OAH'!BC83=0,\"\",'Terugvordering reiskosten OAH'!BC83)","v":""},{"$f":"IF('Terugvordering reiskosten OAH'!BK83=0,\"\",'Terugvordering reiskosten OAH'!BK83)","v":""},{"$f":"IF('Terugvordering reiskosten OAH'!BR83=0,\"\",'Terugvordering reiskosten OAH'!BR83)","v":""},{"$f":"IF('Terugvordering reiskosten OAH'!BZ83=0,\"\",'Terugvordering reiskosten OAH'!BZ83)","v":""},{"$f":"IF('Terugvordering reiskosten OAH'!CG83=\"\",\"\",'Terugvordering reiskosten OAH'!CG83)","v":""},{"$f":"IF('Terugvordering reiskosten OAH'!CM83=0,\"\",'Terugvordering reiskosten OAH'!CM83)","v":""}]
[{"$f":"IF('Terugvordering reiskosten OAH'!D84=\"\",\"\",IF('Terugvordering reiskosten OAH'!$T$36=\"\",\"\",'Terugvordering reiskosten OAH'!$T$36))","v":""},{"$f":"IF(A12=\"\",\"\",'Terugvordering reiskosten OAH'!$T$38)","v":""},{"$f":"IF(A12=\"\",\"\",'gegevensblad samenvatting vord.'!$C$2)","v":""},{"$f":"IF('Terugvordering reiskosten OAH'!D84=\"\",\"\",TEXT('Terugvordering reiskosten OAH'!D84,\"mm-jjjj\"))","v":""},{"$f":"IF('Terugvordering reiskosten OAH'!H84=\"\",\"\",'Terugvordering reiskosten OAH'!H84)","v":""},{"$f":"IF('Terugvordering reiskosten OAH'!R84=\"\",\"\",'Terugvordering reiskosten OAH'!R84)","v":""},{"$f":"IF('Terugvordering reiskosten OAH'!X84=\"\",\"\",'Terugvordering reiskosten OAH'!X84)","v":""},{"$f":"IF('Terugvordering reiskosten OAH'!AJ84=\"\",\"\",'Terugvordering reiskosten OAH'!AJ84)","v":""},{"$f":"IF('Terugvordering reiskosten OAH'!AR84=\"\",\"\",'Terugvordering reiskosten OAH'!AR84)","v":""},{"$f":"IF('Terugvordering reiskosten OAH'!AY84=\"\",\"\",'Terugvordering reiskosten OAH'!AY84)","v":""},{"$f":"IF('Terugvordering reiskosten OAH'!BC84=0,\"\",'Terugvordering reiskosten OAH'!BC84)","v":""},{"$f":"IF('Terugvordering reiskosten OAH'!BK84=0,\"\",'Terugvordering reiskosten OAH'!BK84)","v":""},{"$f":"IF('Terugvordering reiskosten OAH'!BR84=0,\"\",'Terugvordering reiskosten OAH'!BR84)","v":""},{"$f":"IF('Terugvordering reiskosten OAH'!BZ84=0,\"\",'Terugvordering reiskosten OAH'!BZ84)","v":""},{"$f":"IF('Terugvordering reiskosten OAH'!CG84=\"\",\"\",'Terugvordering reiskosten OAH'!CG84)","v":""},{"$f":"IF('Terugvordering reiskosten OAH'!CM84=0,\"\",'Terugvordering reiskosten OAH'!CM84)","v":""}]
[{"$f":"IF('Terugvordering reiskosten OAH'!D85=\"\",\"\",IF('Terugvordering reiskosten OAH'!$T$36=\"\",\"\",'Terugvordering reiskosten OAH'!$T$36))","v":""},{"$f":"IF(A13=\"\",\"\",'Terugvordering reiskosten OAH'!$T$38)","v":""},{"$f":"IF(A13=\"\",\"\",'gegevensblad samenvatting vord.'!$C$2)","v":""},{"$f":"IF('Terugvordering reiskosten OAH'!D85=\"\",\"\",TEXT('Terugvordering reiskosten OAH'!D85,\"mm-jjjj\"))","v":""},{"$f":"IF('Terugvordering reiskosten OAH'!H85=\"\",\"\",'Terugvordering reiskosten OAH'!H85)","v":""},{"$f":"IF('Terugvordering reiskosten OAH'!R85=\"\",\"\",'Terugvordering reiskosten OAH'!R85)","v":""},{"$f":"IF('Terugvordering reiskosten OAH'!X85=\"\",\"\",'Terugvordering reiskosten OAH'!X85)","v":""},{"$f":"IF('Terugvordering reiskosten OAH'!AJ85=\"\",\"\",'Terugvordering reiskosten OAH'!AJ85)","v":""},{"$f":"IF('Terugvordering reiskosten OAH'!AR85=\"\",\"\",'Terugvordering reiskosten OAH'!AR85)","v":""},{"$f":"IF('Terugvordering reiskosten OAH'!AY85=\"\",\"\",'Terugvordering reiskosten OAH'!AY85)","v":""},{"$f":"IF('Terugvordering reiskosten OAH'!BC85=0,\"\",'Terugvordering reiskosten OAH'!BC85)","v":""},{"$f":"IF('Terugvordering reiskosten OAH'!BK85=0,\"\",'Terugvordering reiskosten OAH'!BK85)","v":""},{"$f":"IF('Terugvordering reiskosten OAH'!BR85=0,\"\",'Terugvordering reiskosten OAH'!BR85)","v":""},{"$f":"IF('Terugvordering reiskosten OAH'!BZ85=0,\"\",'Terugvordering reiskosten OAH'!BZ85)","v":""},{"$f":"IF('Terugvordering reiskosten OAH'!CG85=\"\",\"\",'Terugvordering reiskosten OAH'!CG85)","v":""},{"$f":"IF('Terugvordering reiskosten OAH'!CM85=0,\"\",'Terugvordering reiskosten OAH'!CM85)","v":""}]
[{"$f":"IF('Terugvordering reiskosten OAH'!D86=\"\",\"\",IF('Terugvordering reiskosten OAH'!$T$36=\"\",\"\",'Terugvordering reiskosten OAH'!$T$36))","v":""},{"$f":"IF(A14=\"\",\"\",'Terugvordering reiskosten OAH'!$T$38)","v":""},{"$f":"IF(A14=\"\",\"\",'gegevensblad samenvatting vord.'!$C$2)","v":""},{"$f":"IF('Terugvordering reiskosten OAH'!D86=\"\",\"\",TEXT('Terugvordering reiskosten OAH'!D86,\"mm-jjjj\"))","v":""},{"$f":"IF('Terugvordering reiskosten OAH'!H86=\"\",\"\",'Terugvordering reiskosten OAH'!H86)","v":""},{"$f":"IF('Terugvordering reiskosten OAH'!R86=\"\",\"\",'Terugvordering reiskosten OAH'!R86)","v":""},{"$f":"IF('Terugvordering reiskosten OAH'!X86=\"\",\"\",'Terugvordering reiskosten OAH'!X86)","v":""},{"$f":"IF('Terugvordering reiskosten OAH'!AJ86=\"\",\"\",'Terugvordering reiskosten OAH'!AJ86)","v":""},{"$f":"IF('Terugvordering reiskosten OAH'!AR86=\"\",\"\",'Terugvordering reiskosten OAH'!AR86)","v":""},{"$f":"IF('Terugvordering reiskosten OAH'!AY86=\"\",\"\",'Terugvordering reiskosten OAH'!AY86)","v":""},{"$f":"IF('Terugvordering reiskosten OAH'!BC86=0,\"\",'Terugvordering reiskosten OAH'!BC86)","v":""},{"$f":"IF('Terugvordering reiskosten OAH'!BK86=0,\"\",'Terugvordering reiskosten OAH'!BK86)","v":""},{"$f":"IF('Terugvordering reiskosten OAH'!BR86=0,\"\",'Terugvordering reiskosten OAH'!BR86)","v":""},{"$f":"IF('Terugvordering reiskosten OAH'!BZ86=0,\"\",'Terugvordering reiskosten OAH'!BZ86)","v":""},{"$f":"IF('Terugvordering reiskosten OAH'!CG86=\"\",\"\",'Terugvordering reiskosten OAH'!CG86)","v":""},{"$f":"IF('Terugvordering reiskosten OAH'!CM86=0,\"\",'Terugvordering reiskosten OAH'!CM86)","v":""}]
[{"$f":"IF('Terugvordering reiskosten OAH'!D87=\"\",\"\",IF('Terugvordering reiskosten OAH'!$T$36=\"\",\"\",'Terugvordering reiskosten OAH'!$T$36))","v":""},{"$f":"IF(A15=\"\",\"\",'Terugvordering reiskosten OAH'!$T$38)","v":""},{"$f":"IF(A15=\"\",\"\",'gegevensblad samenvatting vord.'!$C$2)","v":""},{"$f":"IF('Terugvordering reiskosten OAH'!D87=\"\",\"\",TEXT('Terugvordering reiskosten OAH'!D87,\"mm-jjjj\"))","v":""},{"$f":"IF('Terugvordering reiskosten OAH'!H87=\"\",\"\",'Terugvordering reiskosten OAH'!H87)","v":""},{"$f":"IF('Terugvordering reiskosten OAH'!R87=\"\",\"\",'Terugvordering reiskosten OAH'!R87)","v":""},{"$f":"IF('Terugvordering reiskosten OAH'!X87=\"\",\"\",'Terugvordering reiskosten OAH'!X87)","v":""},{"$f":"IF('Terugvordering reiskosten OAH'!AJ87=\"\",\"\",'Terugvordering reiskosten OAH'!AJ87)","v":""},{"$f":"IF('Terugvordering reiskosten OAH'!AR87=\"\",\"\",'Terugvordering reiskosten OAH'!AR87)","v":""},{"$f":"IF('Terugvordering reiskosten OAH'!AY87=\"\",\"\",'Terugvordering reiskosten OAH'!AY87)","v":""},{"$f":"IF('Terugvordering reiskosten OAH'!BC87=0,\"\",'Terugvordering reiskosten OAH'!BC87)","v":""},{"$f":"IF('Terugvordering reiskosten OAH'!BK87=0,\"\",'Terugvordering reiskosten OAH'!BK87)","v":""},{"$f":"IF('Terugvordering reiskosten OAH'!BR87=0,\"\",'Terugvordering reiskosten OAH'!BR87)","v":""},{"$f":"IF('Terugvordering reiskosten OAH'!BZ87=0,\"\",'Terugvordering reiskosten OAH'!BZ87)","v":""},{"$f":"IF('Terugvordering reiskosten OAH'!CG87=\"\",\"\",'Terugvordering reiskosten OAH'!CG87)","v":""},{"$f":"IF('Terugvordering reiskosten OAH'!CM87=0,\"\",'Terugvordering reiskosten OAH'!CM87)","v":""}]
[{"$f":"IF('Terugvordering reiskosten OAH'!D88=\"\",\"\",IF('Terugvordering reiskosten OAH'!$T$36=\"\",\"\",'Terugvordering reiskosten OAH'!$T$36))","v":""},{"$f":"IF(A16=\"\",\"\",'Terugvordering reiskosten OAH'!$T$38)","v":""},{"$f":"IF(A16=\"\",\"\",'gegevensblad samenvatting vord.'!$C$2)","v":""},{"$f":"IF('Terugvordering reiskosten OAH'!D88=\"\",\"\",TEXT('Terugvordering reiskosten OAH'!D88,\"mm-jjjj\"))","v":""},{"$f":"IF('Terugvordering reiskosten OAH'!H88=\"\",\"\",'Terugvordering reiskosten OAH'!H88)","v":""},{"$f":"IF('Terugvordering reiskosten OAH'!R88=\"\",\"\",'Terugvordering reiskosten OAH'!R88)","v":""},{"$f":"IF('Terugvordering reiskosten OAH'!X88=\"\",\"\",'Terugvordering reiskosten OAH'!X88)","v":""},{"$f":"IF('Terugvordering reiskosten OAH'!AJ88=\"\",\"\",'Terugvordering reiskosten OAH'!AJ88)","v":""},{"$f":"IF('Terugvordering reiskosten OAH'!AR88=\"\",\"\",'Terugvordering reiskosten OAH'!AR88)","v":""},{"$f":"IF('Terugvordering reiskosten OAH'!AY88=\"\",\"\",'Terugvordering reiskosten OAH'!AY88)","v":""},{"$f":"IF('Terugvordering reiskosten OAH'!BC88=0,\"\",'Terugvordering reiskosten OAH'!BC88)","v":""},{"$f":"IF('Terugvordering reiskosten OAH'!BK88=0,\"\",'Terugvordering reiskosten OAH'!BK88)","v":""},{"$f":"IF('Terugvordering reiskosten OAH'!BR88=0,\"\",'Terugvordering reiskosten OAH'!BR88)","v":""},{"$f":"IF('Terugvordering reiskosten OAH'!BZ88=0,\"\",'Terugvordering reiskosten OAH'!BZ88)","v":""},{"$f":"IF('Terugvordering reiskosten OAH'!CG88=\"\",\"\",'Terugvordering reiskosten OAH'!CG88)","v":""},{"$f":"IF('Terugvordering reiskosten OAH'!CM88=0,\"\",'Terugvordering reiskosten OAH'!CM88)","v":""}]
[{"$f":"IF('Terugvordering reiskosten OAH'!D89=\"\",\"\",IF('Terugvordering reiskosten OAH'!$T$36=\"\",\"\",'Terugvordering reiskosten OAH'!$T$36))","v":""},{"$f":"IF(A17=\"\",\"\",'Terugvordering reiskosten OAH'!$T$38)","v":""},{"$f":"IF(A17=\"\",\"\",'gegevensblad samenvatting vord.'!$C$2)","v":""},{"$f":"IF('Terugvordering reiskosten OAH'!D89=\"\",\"\",TEXT('Terugvordering reiskosten OAH'!D89,\"mm-jjjj\"))","v":""},{"$f":"IF('Terugvordering reiskosten OAH'!H89=\"\",\"\",'Terugvordering reiskosten OAH'!H89)","v":""},{"$f":"IF('Terugvordering reiskosten OAH'!R89=\"\",\"\",'Terugvordering reiskosten OAH'!R89)","v":""},{"$f":"IF('Terugvordering reiskosten OAH'!X89=\"\",\"\",'Terugvordering reiskosten OAH'!X89)","v":""},{"$f":"IF('Terugvordering reiskosten OAH'!AJ89=\"\",\"\",'Terugvordering reiskosten OAH'!AJ89)","v":""},{"$f":"IF('Terugvordering reiskosten OAH'!AR89=\"\",\"\",'Terugvordering reiskosten OAH'!AR89)","v":""},{"$f":"IF('Terugvordering reiskosten OAH'!AY89=\"\",\"\",'Terugvordering reiskosten OAH'!AY89)","v":""},{"$f":"IF('Terugvordering reiskosten OAH'!BC89=0,\"\",'Terugvordering reiskosten OAH'!BC89)","v":""},{"$f":"IF('Terugvordering reiskosten OAH'!BK89=0,\"\",'Terugvordering reiskosten OAH'!BK89)","v":""},{"$f":"IF('Terugvordering reiskosten OAH'!BR89=0,\"\",'Terugvordering reiskosten OAH'!BR89)","v":""},{"$f":"IF('Terugvordering reiskosten OAH'!BZ89=0,\"\",'Terugvordering reiskosten OAH'!BZ89)","v":""},{"$f":"IF('Terugvordering reiskosten OAH'!CG89=\"\",\"\",'Terugvordering reiskosten OAH'!CG89)","v":""},{"$f":"IF('Terugvordering reiskosten OAH'!CM89=0,\"\",'Terugvordering reiskosten OAH'!CM89)","v":""}]
[{"$f":"IF('Terugvordering reiskosten OAH'!D90=\"\",\"\",IF('Terugvordering reiskosten OAH'!$T$36=\"\",\"\",'Terugvordering reiskosten OAH'!$T$36))","v":""},{"$f":"IF(A18=\"\",\"\",'Terugvordering reiskosten OAH'!$T$38)","v":""},{"$f":"IF(A18=\"\",\"\",'gegevensblad samenvatting vord.'!$C$2)","v":""},{"$f":"IF('Terugvordering reiskosten OAH'!D90=\"\",\"\",TEXT('Terugvordering reiskosten OAH'!D90,\"mm-jjjj\"))","v":""},{"$f":"IF('Terugvordering reiskosten OAH'!H90=\"\",\"\",'Terugvordering reiskosten OAH'!H90)","v":""},{"$f":"IF('Terugvordering reiskosten OAH'!R90=\"\",\"\",'Terugvordering reiskosten OAH'!R90)","v":""},{"$f":"IF('Terugvordering reiskosten OAH'!X90=\"\",\"\",'Terugvordering reiskosten OAH'!X90)","v":""},{"$f":"IF('Terugvordering reiskosten OAH'!AJ90=\"\",\"\",'Terugvordering reiskosten OAH'!AJ90)","v":""},{"$f":"IF('Terugvordering reiskosten OAH'!AR90=\"\",\"\",'Terugvordering reiskosten OAH'!AR90)","v":""},{"$f":"IF('Terugvordering reiskosten OAH'!AY90=\"\",\"\",'Terugvordering reiskosten OAH'!AY90)","v":""},{"$f":"IF('Terugvordering reiskosten OAH'!BC90=0,\"\",'Terugvordering reiskosten OAH'!BC90)","v":""},{"$f":"IF('Terugvordering reiskosten OAH'!BK90=0,\"\",'Terugvordering reiskosten OAH'!BK90)","v":""},{"$f":"IF('Terugvordering reiskosten OAH'!BR90=0,\"\",'Terugvordering reiskosten OAH'!BR90)","v":""},{"$f":"IF('Terugvordering reiskosten OAH'!BZ90=0,\"\",'Terugvordering reiskosten OAH'!BZ90)","v":""},{"$f":"IF('Terugvordering reiskosten OAH'!CG90=\"\",\"\",'Terugvordering reiskosten OAH'!CG90)","v":""},{"$f":"IF('Terugvordering reiskosten OAH'!CM90=0,\"\",'Terugvordering reiskosten OAH'!CM90)","v":""}]
[{"$f":"IF('Terugvordering reiskosten OAH'!D91=\"\",\"\",IF('Terugvordering reiskosten OAH'!$T$36=\"\",\"\",'Terugvordering reiskosten OAH'!$T$36))","v":""},{"$f":"IF(A19=\"\",\"\",'Terugvordering reiskosten OAH'!$T$38)","v":""},{"$f":"IF(A19=\"\",\"\",'gegevensblad samenvatting vord.'!$C$2)","v":""},{"$f":"IF('Terugvordering reiskosten OAH'!D91=\"\",\"\",TEXT('Terugvordering reiskosten OAH'!D91,\"mm-jjjj\"))","v":""},{"$f":"IF('Terugvordering reiskosten OAH'!H91=\"\",\"\",'Terugvordering reiskosten OAH'!H91)","v":""},{"$f":"IF('Terugvordering reiskosten OAH'!R91=\"\",\"\",'Terugvordering reiskosten OAH'!R91)","v":""},{"$f":"IF('Terugvordering reiskosten OAH'!X91=\"\",\"\",'Terugvordering reiskosten OAH'!X91)","v":""},{"$f":"IF('Terugvordering reiskosten OAH'!AJ91=\"\",\"\",'Terugvordering reiskosten OAH'!AJ91)","v":""},{"$f":"IF('Terugvordering reiskosten OAH'!AR91=\"\",\"\",'Terugvordering reiskosten OAH'!AR91)","v":""},{"$f":"IF('Terugvordering reiskosten OAH'!AY91=\"\",\"\",'Terugvordering reiskosten OAH'!AY91)","v":""},{"$f":"IF('Terugvordering reiskosten OAH'!BC91=0,\"\",'Terugvordering reiskosten OAH'!BC91)","v":""},{"$f":"IF('Terugvordering reiskosten OAH'!BK91=0,\"\",'Terugvordering reiskosten OAH'!BK91)","v":""},{"$f":"IF('Terugvordering reiskosten OAH'!BR91=0,\"\",'Terugvordering reiskosten OAH'!BR91)","v":""},{"$f":"IF('Terugvordering reiskosten OAH'!BZ91=0,\"\",'Terugvordering reiskosten OAH'!BZ91)","v":""},{"$f":"IF('Terugvordering reiskosten OAH'!CG91=\"\",\"\",'Terugvordering reiskosten OAH'!CG91)","v":""},{"$f":"IF('Terugvordering reiskosten OAH'!CM91=0,\"\",'Terugvordering reiskosten OAH'!CM91)","v":""}]
[{"$f":"IF('Terugvordering reiskosten OAH'!D92=\"\",\"\",IF('Terugvordering reiskosten OAH'!$T$36=\"\",\"\",'Terugvordering reiskosten OAH'!$T$36))","v":""},{"$f":"IF(A20=\"\",\"\",'Terugvordering reiskosten OAH'!$T$38)","v":""},{"$f":"IF(A20=\"\",\"\",'gegevensblad samenvatting vord.'!$C$2)","v":""},{"$f":"IF('Terugvordering reiskosten OAH'!D92=\"\",\"\",TEXT('Terugvordering reiskosten OAH'!D92,\"mm-jjjj\"))","v":""},{"$f":"IF('Terugvordering reiskosten OAH'!H92=\"\",\"\",'Terugvordering reiskosten OAH'!H92)","v":""},{"$f":"IF('Terugvordering reiskosten OAH'!R92=\"\",\"\",'Terugvordering reiskosten OAH'!R92)","v":""},{"$f":"IF('Terugvordering reiskosten OAH'!X92=\"\",\"\",'Terugvordering reiskosten OAH'!X92)","v":""},{"$f":"IF('Terugvordering reiskosten OAH'!AJ92=\"\",\"\",'Terugvordering reiskosten OAH'!AJ92)","v":""},{"$f":"IF('Terugvordering reiskosten OAH'!AR92=\"\",\"\",'Terugvordering reiskosten OAH'!AR92)","v":""},{"$f":"IF('Terugvordering reiskosten OAH'!AY92=\"\",\"\",'Terugvordering reiskosten OAH'!AY92)","v":""},{"$f":"IF('Terugvordering reiskosten OAH'!BC92=0,\"\",'Terugvordering reiskosten OAH'!BC92)","v":""},{"$f":"IF('Terugvordering reiskosten OAH'!BK92=0,\"\",'Terugvordering reiskosten OAH'!BK92)","v":""},{"$f":"IF('Terugvordering reiskosten OAH'!BR92=0,\"\",'Terugvordering reiskosten OAH'!BR92)","v":""},{"$f":"IF('Terugvordering reiskosten OAH'!BZ92=0,\"\",'Terugvordering reiskosten OAH'!BZ92)","v":""},{"$f":"IF('Terugvordering reiskosten OAH'!CG92=\"\",\"\",'Terugvordering reiskosten OAH'!CG92)","v":""},{"$f":"IF('Terugvordering reiskosten OAH'!CM92=0,\"\",'Terugvordering reiskosten OAH'!CM92)","v":""}]
[{"$f":"IF('Terugvordering reiskosten OAH'!D93=\"\",\"\",IF('Terugvordering reiskosten OAH'!$T$36=\"\",\"\",'Terugvordering reiskosten OAH'!$T$36))","v":""},{"$f":"IF(A21=\"\",\"\",'Terugvordering reiskosten OAH'!$T$38)","v":""},{"$f":"IF(A21=\"\",\"\",'gegevensblad samenvatting vord.'!$C$2)","v":""},{"$f":"IF('Terugvordering reiskosten OAH'!D93=\"\",\"\",TEXT('Terugvordering reiskosten OAH'!D93,\"mm-jjjj\"))","v":""},{"$f":"IF('Terugvordering reiskosten OAH'!H93=\"\",\"\",'Terugvordering reiskosten OAH'!H93)","v":""},{"$f":"IF('Terugvordering reiskosten OAH'!R93=\"\",\"\",'Terugvordering reiskosten OAH'!R93)","v":""},{"$f":"IF('Terugvordering reiskosten OAH'!X93=\"\",\"\",'Terugvordering reiskosten OAH'!X93)","v":""},{"$f":"IF('Terugvordering reiskosten OAH'!AJ93=\"\",\"\",'Terugvordering reiskosten OAH'!AJ93)","v":""},{"$f":"IF('Terugvordering reiskosten OAH'!AR93=\"\",\"\",'Terugvordering reiskosten OAH'!AR93)","v":""},{"$f":"IF('Terugvordering reiskosten OAH'!AY93=\"\",\"\",'Terugvordering reiskosten OAH'!AY93)","v":""},{"$f":"IF('Terugvordering reiskosten OAH'!BC93=0,\"\",'Terugvordering reiskosten OAH'!BC93)","v":""},{"$f":"IF('Terugvordering reiskosten OAH'!BK93=0,\"\",'Terugvordering reiskosten OAH'!BK93)","v":""},{"$f":"IF('Terugvordering reiskosten OAH'!BR93=0,\"\",'Terugvordering reiskosten OAH'!BR93)","v":""},{"$f":"IF('Terugvordering reiskosten OAH'!BZ93=0,\"\",'Terugvordering reiskosten OAH'!BZ93)","v":""},{"$f":"IF('Terugvordering reiskosten OAH'!CG93=\"\",\"\",'Terugvordering reiskosten OAH'!CG93)","v":""},{"$f":"IF('Terugvordering reiskosten OAH'!CM93=0,\"\",'Terugvordering reiskosten OAH'!CM93)","v":""}]
[{"$f":"IF('Terugvordering reiskosten OAH'!D94=\"\",\"\",IF('Terugvordering reiskosten OAH'!$T$36=\"\",\"\",'Terugvordering reiskosten OAH'!$T$36))","v":""},{"$f":"IF(A22=\"\",\"\",'Terugvordering reiskosten OAH'!$T$38)","v":""},{"$f":"IF(A22=\"\",\"\",'gegevensblad samenvatting vord.'!$C$2)","v":""},{"$f":"IF('Terugvordering reiskosten OAH'!D94=\"\",\"\",TEXT('Terugvordering reiskosten OAH'!D94,\"mm-jjjj\"))","v":""},{"$f":"IF('Terugvordering reiskosten OAH'!H94=\"\",\"\",'Terugvordering reiskosten OAH'!H94)","v":""},{"$f":"IF('Terugvordering reiskosten OAH'!R94=\"\",\"\",'Terugvordering reiskosten OAH'!R94)","v":""},{"$f":"IF('Terugvordering reiskosten OAH'!X94=\"\",\"\",'Terugvordering reiskosten OAH'!X94)","v":""},{"$f":"IF('Terugvordering reiskosten OAH'!AJ94=\"\",\"\",'Terugvordering reiskosten OAH'!AJ94)","v":""},{"$f":"IF('Terugvordering reiskosten OAH'!AR94=\"\",\"\",'Terugvordering reiskosten OAH'!AR94)","v":""},{"$f":"IF('Terugvordering reiskosten OAH'!AY94=\"\",\"\",'Terugvordering reiskosten OAH'!AY94)","v":""},{"$f":"IF('Terugvordering reiskosten OAH'!BC94=0,\"\",'Terugvordering reiskosten OAH'!BC94)","v":""},{"$f":"IF('Terugvordering reiskosten OAH'!BK94=0,\"\",'Terugvordering reiskosten OAH'!BK94)","v":""},{"$f":"IF('Terugvordering reiskosten OAH'!BR94=0,\"\",'Terugvordering reiskosten OAH'!BR94)","v":""},{"$f":"IF('Terugvordering reiskosten OAH'!BZ94=0,\"\",'Terugvordering reiskosten OAH'!BZ94)","v":""},{"$f":"IF('Terugvordering reiskosten OAH'!CG94=\"\",\"\",'Terugvordering reiskosten OAH'!CG94)","v":""},{"$f":"IF('Terugvordering reiskosten OAH'!CM94=0,\"\",'Terugvordering reiskosten OAH'!CM94)","v":""}]
[{"$f":"IF('Terugvordering reiskosten OAH'!D95=\"\",\"\",IF('Terugvordering reiskosten OAH'!$T$36=\"\",\"\",'Terugvordering reiskosten OAH'!$T$36))","v":""},{"$f":"IF(A23=\"\",\"\",'Terugvordering reiskosten OAH'!$T$38)","v":""},{"$f":"IF(A23=\"\",\"\",'gegevensblad samenvatting vord.'!$C$2)","v":""},{"$f":"IF('Terugvordering reiskosten OAH'!D95=\"\",\"\",TEXT('Terugvordering reiskosten OAH'!D95,\"mm-jjjj\"))","v":""},{"$f":"IF('Terugvordering reiskosten OAH'!H95=\"\",\"\",'Terugvordering reiskosten OAH'!H95)","v":""},{"$f":"IF('Terugvordering reiskosten OAH'!R95=\"\",\"\",'Terugvordering reiskosten OAH'!R95)","v":""},{"$f":"IF('Terugvordering reiskosten OAH'!X95=\"\",\"\",'Terugvordering reiskosten OAH'!X95)","v":""},{"$f":"IF('Terugvordering reiskosten OAH'!AJ95=\"\",\"\",'Terugvordering reiskosten OAH'!AJ95)","v":""},{"$f":"IF('Terugvordering reiskosten OAH'!AR95=\"\",\"\",'Terugvordering reiskosten OAH'!AR95)","v":""},{"$f":"IF('Terugvordering reiskosten OAH'!AY95=\"\",\"\",'Terugvordering reiskosten OAH'!AY95)","v":""},{"$f":"IF('Terugvordering reiskosten OAH'!BC95=0,\"\",'Terugvordering reiskosten OAH'!BC95)","v":""},{"$f":"IF('Terugvordering reiskosten OAH'!BK95=0,\"\",'Terugvordering reiskosten OAH'!BK95)","v":""},{"$f":"IF('Terugvordering reiskosten OAH'!BR95=0,\"\",'Terugvordering reiskosten OAH'!BR95)","v":""},{"$f":"IF('Terugvordering reiskosten OAH'!BZ95=0,\"\",'Terugvordering reiskosten OAH'!BZ95)","v":""},{"$f":"IF('Terugvordering reiskosten OAH'!CG95=\"\",\"\",'Terugvordering reiskosten OAH'!CG95)","v":""},{"$f":"IF('Terugvordering reiskosten OAH'!CM95=0,\"\",'Terugvordering reiskosten OAH'!CM95)","v":""}]
[{"$f":"IF('Terugvordering reiskosten OAH'!D96=\"\",\"\",IF('Terugvordering reiskosten OAH'!$T$36=\"\",\"\",'Terugvordering reiskosten OAH'!$T$36))","v":""},{"$f":"IF(A24=\"\",\"\",'Terugvordering reiskosten OAH'!$T$38)","v":""},{"$f":"IF(A24=\"\",\"\",'gegevensblad samenvatting vord.'!$C$2)","v":""},{"$f":"IF('Terugvordering reiskosten OAH'!D96=\"\",\"\",TEXT('Terugvordering reiskosten OAH'!D96,\"mm-jjjj\"))","v":""},{"$f":"IF('Terugvordering reiskosten OAH'!H96=\"\",\"\",'Terugvordering reiskosten OAH'!H96)","v":""},{"$f":"IF('Terugvordering reiskosten OAH'!R96=\"\",\"\",'Terugvordering reiskosten OAH'!R96)","v":""},{"$f":"IF('Terugvordering reiskosten OAH'!X96=\"\",\"\",'Terugvordering reiskosten OAH'!X96)","v":""},{"$f":"IF('Terugvordering reiskosten OAH'!AJ96=\"\",\"\",'Terugvordering reiskosten OAH'!AJ96)","v":""},{"$f":"IF('Terugvordering reiskosten OAH'!AR96=\"\",\"\",'Terugvordering reiskosten OAH'!AR96)","v":""},{"$f":"IF('Terugvordering reiskosten OAH'!AY96=\"\",\"\",'Terugvordering reiskosten OAH'!AY96)","v":""},{"$f":"IF('Terugvordering reiskosten OAH'!BC96=0,\"\",'Terugvordering reiskosten OAH'!BC96)","v":""},{"$f":"IF('Terugvordering reiskosten OAH'!BK96=0,\"\",'Terugvordering reiskosten OAH'!BK96)","v":""},{"$f":"IF('Terugvordering reiskosten OAH'!BR96=0,\"\",'Terugvordering reiskosten OAH'!BR96)","v":""},{"$f":"IF('Terugvordering reiskosten OAH'!BZ96=0,\"\",'Terugvordering reiskosten OAH'!BZ96)","v":""},{"$f":"IF('Terugvordering reiskosten OAH'!CG96=\"\",\"\",'Terugvordering reiskosten OAH'!CG96)","v":""},{"$f":"IF('Terugvordering reiskosten OAH'!CM96=0,\"\",'Terugvordering reiskosten OAH'!CM96)","v":""}]
[{"$f":"IF('Terugvordering reiskosten OAH'!D97=\"\",\"\",IF('Terugvordering reiskosten OAH'!$T$36=\"\",\"\",'Terugvordering reiskosten OAH'!$T$36))","v":""},{"$f":"IF(A25=\"\",\"\",'Terugvordering reiskosten OAH'!$T$38)","v":""},{"$f":"IF(A25=\"\",\"\",'gegevensblad samenvatting vord.'!$C$2)","v":""},{"$f":"IF('Terugvordering reiskosten OAH'!D97=\"\",\"\",TEXT('Terugvordering reiskosten OAH'!D97,\"mm-jjjj\"))","v":""},{"$f":"IF('Terugvordering reiskosten OAH'!H97=\"\",\"\",'Terugvordering reiskosten OAH'!H97)","v":""},{"$f":"IF('Terugvordering reiskosten OAH'!R97=\"\",\"\",'Terugvordering reiskosten OAH'!R97)","v":""},{"$f":"IF('Terugvordering reiskosten OAH'!X97=\"\",\"\",'Terugvordering reiskosten OAH'!X97)","v":""},{"$f":"IF('Terugvordering reiskosten OAH'!AJ97=\"\",\"\",'Terugvordering reiskosten OAH'!AJ97)","v":""},{"$f":"IF('Terugvordering reiskosten OAH'!AR97=\"\",\"\",'Terugvordering reiskosten OAH'!AR97)","v":""},{"$f":"IF('Terugvordering reiskosten OAH'!AY97=\"\",\"\",'Terugvordering reiskosten OAH'!AY97)","v":""},{"$f":"IF('Terugvordering reiskosten OAH'!BC97=0,\"\",'Terugvordering reiskosten OAH'!BC97)","v":""},{"$f":"IF('Terugvordering reiskosten OAH'!BK97=0,\"\",'Terugvordering reiskosten OAH'!BK97)","v":""},{"$f":"IF('Terugvordering reiskosten OAH'!BR97=0,\"\",'Terugvordering reiskosten OAH'!BR97)","v":""},{"$f":"IF('Terugvordering reiskosten OAH'!BZ97=0,\"\",'Terugvordering reiskosten OAH'!BZ97)","v":""},{"$f":"IF('Terugvordering reiskosten OAH'!CG97=\"\",\"\",'Terugvordering reiskosten OAH'!CG97)","v":""},{"$f":"IF('Terugvordering reiskosten OAH'!CM97=0,\"\",'Terugvordering reiskosten OAH'!CM97)","v":""}]
[{"$f":"IF('Terugvordering reiskosten OAH'!D98=\"\",\"\",IF('Terugvordering reiskosten OAH'!$T$36=\"\",\"\",'Terugvordering reiskosten OAH'!$T$36))","v":""},{"$f":"IF(A26=\"\",\"\",'Terugvordering reiskosten OAH'!$T$38)","v":""},{"$f":"IF(A26=\"\",\"\",'gegevensblad samenvatting vord.'!$C$2)","v":""},{"$f":"IF('Terugvordering reiskosten OAH'!D98=\"\",\"\",TEXT('Terugvordering reiskosten OAH'!D98,\"mm-jjjj\"))","v":""},{"$f":"IF('Terugvordering reiskosten OAH'!H98=\"\",\"\",'Terugvordering reiskosten OAH'!H98)","v":""},{"$f":"IF('Terugvordering reiskosten OAH'!R98=\"\",\"\",'Terugvordering reiskosten OAH'!R98)","v":""},{"$f":"IF('Terugvordering reiskosten OAH'!X98=\"\",\"\",'Terugvordering reiskosten OAH'!X98)","v":""},{"$f":"IF('Terugvordering reiskosten OAH'!AJ98=\"\",\"\",'Terugvordering reiskosten OAH'!AJ98)","v":""},{"$f":"IF('Terugvordering reiskosten OAH'!AR98=\"\",\"\",'Terugvordering reiskosten OAH'!AR98)","v":""},{"$f":"IF('Terugvordering reiskosten OAH'!AY98=\"\",\"\",'Terugvordering reiskosten OAH'!AY98)","v":""},{"$f":"IF('Terugvordering reiskosten OAH'!BC98=0,\"\",'Terugvordering reiskosten OAH'!BC98)","v":""},{"$f":"IF('Terugvordering reiskosten OAH'!BK98=0,\"\",'Terugvordering reiskosten OAH'!BK98)","v":""},{"$f":"IF('Terugvordering reiskosten OAH'!BR98=0,\"\",'Terugvordering reiskosten OAH'!BR98)","v":""},{"$f":"IF('Terugvordering reiskosten OAH'!BZ98=0,\"\",'Terugvordering reiskosten OAH'!BZ98)","v":""},{"$f":"IF('Terugvordering reiskosten OAH'!CG98=\"\",\"\",'Terugvordering reiskosten OAH'!CG98)","v":""},{"$f":"IF('Terugvordering reiskosten OAH'!CM98=0,\"\",'Terugvordering reiskosten OAH'!CM98)","v":""}]
[{"$f":"IF('Terugvordering reiskosten OAH'!D99=\"\",\"\",IF('Terugvordering reiskosten OAH'!$T$36=\"\",\"\",'Terugvordering reiskosten OAH'!$T$36))","v":""},{"$f":"IF(A27=\"\",\"\",'Terugvordering reiskosten OAH'!$T$38)","v":""},{"$f":"IF(A27=\"\",\"\",'gegevensblad samenvatting vord.'!$C$2)","v":""},{"$f":"IF('Terugvordering reiskosten OAH'!D99=\"\",\"\",TEXT('Terugvordering reiskosten OAH'!D99,\"mm-jjjj\"))","v":""},{"$f":"IF('Terugvordering reiskosten OAH'!H99=\"\",\"\",'Terugvordering reiskosten OAH'!H99)","v":""},{"$f":"IF('Terugvordering reiskosten OAH'!R99=\"\",\"\",'Terugvordering reiskosten OAH'!R99)","v":""},{"$f":"IF('Terugvordering reiskosten OAH'!X99=\"\",\"\",'Terugvordering reiskosten OAH'!X99)","v":""},{"$f":"IF('Terugvordering reiskosten OAH'!AJ99=\"\",\"\",'Terugvordering reiskosten OAH'!AJ99)","v":""},{"$f":"IF('Terugvordering reiskosten OAH'!AR99=\"\",\"\",'Terugvordering reiskosten OAH'!AR99)","v":""},{"$f":"IF('Terugvordering reiskosten OAH'!AY99=\"\",\"\",'Terugvordering reiskosten OAH'!AY99)","v":""},{"$f":"IF('Terugvordering reiskosten OAH'!BC99=0,\"\",'Terugvordering reiskosten OAH'!BC99)","v":""},{"$f":"IF('Terugvordering reiskosten OAH'!BK99=0,\"\",'Terugvordering reiskosten OAH'!BK99)","v":""},{"$f":"IF('Terugvordering reiskosten OAH'!BR99=0,\"\",'Terugvordering reiskosten OAH'!BR99)","v":""},{"$f":"IF('Terugvordering reiskosten OAH'!BZ99=0,\"\",'Terugvordering reiskosten OAH'!BZ99)","v":""},{"$f":"IF('Terugvordering reiskosten OAH'!CG99=\"\",\"\",'Terugvordering reiskosten OAH'!CG99)","v":""},{"$f":"IF('Terugvordering reiskosten OAH'!CM99=0,\"\",'Terugvordering reiskosten OAH'!CM99)","v":""}]
[{"$f":"IF('Terugvordering reiskosten OAH'!D100=\"\",\"\",IF('Terugvordering reiskosten OAH'!$T$36=\"\",\"\",'Terugvordering reiskosten OAH'!$T$36))","v":""},{"$f":"IF(A28=\"\",\"\",'Terugvordering reiskosten OAH'!$T$38)","v":""},{"$f":"IF(A28=\"\",\"\",'gegevensblad samenvatting vord.'!$C$2)","v":""},{"$f":"IF('Terugvordering reiskosten OAH'!D100=\"\",\"\",TEXT('Terugvordering reiskosten OAH'!D100,\"mm-jjjj\"))","v":""},{"$f":"IF('Terugvordering reiskosten OAH'!H100=\"\",\"\",'Terugvordering reiskosten OAH'!H100)","v":""},{"$f":"IF('Terugvordering reiskosten OAH'!R100=\"\",\"\",'Terugvordering reiskosten OAH'!R100)","v":""},{"$f":"IF('Terugvordering reiskosten OAH'!X100=\"\",\"\",'Terugvordering reiskosten OAH'!X100)","v":""},{"$f":"IF('Terugvordering reiskosten OAH'!AJ100=\"\",\"\",'Terugvordering reiskosten OAH'!AJ100)","v":""},{"$f":"IF('Terugvordering reiskosten OAH'!AR100=\"\",\"\",'Terugvordering reiskosten OAH'!AR100)","v":""},{"$f":"IF('Terugvordering reiskosten OAH'!AY100=\"\",\"\",'Terugvordering reiskosten OAH'!AY100)","v":""},{"$f":"IF('Terugvordering reiskosten OAH'!BC100=0,\"\",'Terugvordering reiskosten OAH'!BC100)","v":""},{"$f":"IF('Terugvordering reiskosten OAH'!BK100=0,\"\",'Terugvordering reiskosten OAH'!BK100)","v":""},{"$f":"IF('Terugvordering reiskosten OAH'!BR100=0,\"\",'Terugvordering reiskosten OAH'!BR100)","v":""},{"$f":"IF('Terugvordering reiskosten OAH'!BZ100=0,\"\",'Terugvordering reiskosten OAH'!BZ100)","v":""},{"$f":"IF('Terugvordering reiskosten OAH'!CG100=\"\",\"\",'Terugvordering reiskosten OAH'!CG100)","v":""},{"$f":"IF('Terugvordering reiskosten OAH'!CM100=0,\"\",'Terugvordering reiskosten OAH'!CM100)","v":""}]
[{"$f":"IF('Terugvordering reiskosten OAH'!D101=\"\",\"\",IF('Terugvordering reiskosten OAH'!$T$36=\"\",\"\",'Terugvordering reiskosten OAH'!$T$36))","v":""},{"$f":"IF(A29=\"\",\"\",'Terugvordering reiskosten OAH'!$T$38)","v":""},{"$f":"IF(A29=\"\",\"\",'gegevensblad samenvatting vord.'!$C$2)","v":""},{"$f":"IF('Terugvordering reiskosten OAH'!D101=\"\",\"\",TEXT('Terugvordering reiskosten OAH'!D101,\"mm-jjjj\"))","v":""},{"$f":"IF('Terugvordering reiskosten OAH'!H101=\"\",\"\",'Terugvordering reiskosten OAH'!H101)","v":""},{"$f":"IF('Terugvordering reiskosten OAH'!R101=\"\",\"\",'Terugvordering reiskosten OAH'!R101)","v":""},{"$f":"IF('Terugvordering reiskosten OAH'!X101=\"\",\"\",'Terugvordering reiskosten OAH'!X101)","v":""},{"$f":"IF('Terugvordering reiskosten OAH'!AJ101=\"\",\"\",'Terugvordering reiskosten OAH'!AJ101)","v":""},{"$f":"IF('Terugvordering reiskosten OAH'!AR101=\"\",\"\",'Terugvordering reiskosten OAH'!AR101)","v":""},{"$f":"IF('Terugvordering reiskosten OAH'!AY101=\"\",\"\",'Terugvordering reiskosten OAH'!AY101)","v":""},{"$f":"IF('Terugvordering reiskosten OAH'!BC101=0,\"\",'Terugvordering reiskosten OAH'!BC101)","v":""},{"$f":"IF('Terugvordering reiskosten OAH'!BK101=0,\"\",'Terugvordering reiskosten OAH'!BK101)","v":""},{"$f":"IF('Terugvordering reiskosten OAH'!BR101=0,\"\",'Terugvordering reiskosten OAH'!BR101)","v":""},{"$f":"IF('Terugvordering reiskosten OAH'!BZ101=0,\"\",'Terugvordering reiskosten OAH'!BZ101)","v":""},{"$f":"IF('Terugvordering reiskosten OAH'!CG101=\"\",\"\",'Terugvordering reiskosten OAH'!CG101)","v":""},{"$f":"IF('Terugvordering reiskosten OAH'!CM101=0,\"\",'Terugvordering reiskosten OAH'!CM101)","v":""}]
[{"$f":"IF('Terugvordering reiskosten OAH'!D102=\"\",\"\",IF('Terugvordering reiskosten OAH'!$T$36=\"\",\"\",'Terugvordering reiskosten OAH'!$T$36))","v":""},{"$f":"IF(A30=\"\",\"\",'Terugvordering reiskosten OAH'!$T$38)","v":""},{"$f":"IF(A30=\"\",\"\",'gegevensblad samenvatting vord.'!$C$2)","v":""},{"$f":"IF('Terugvordering reiskosten OAH'!D102=\"\",\"\",TEXT('Terugvordering reiskosten OAH'!D102,\"mm-jjjj\"))","v":""},{"$f":"IF('Terugvordering reiskosten OAH'!H102=\"\",\"\",'Terugvordering reiskosten OAH'!H102)","v":""},{"$f":"IF('Terugvordering reiskosten OAH'!R102=\"\",\"\",'Terugvordering reiskosten OAH'!R102)","v":""},{"$f":"IF('Terugvordering reiskosten OAH'!X102=\"\",\"\",'Terugvordering reiskosten OAH'!X102)","v":""},{"$f":"IF('Terugvordering reiskosten OAH'!AJ102=\"\",\"\",'Terugvordering reiskosten OAH'!AJ102)","v":""},{"$f":"IF('Terugvordering reiskosten OAH'!AR102=\"\",\"\",'Terugvordering reiskosten OAH'!AR102)","v":""},{"$f":"IF('Terugvordering reiskosten OAH'!AY102=\"\",\"\",'Terugvordering reiskosten OAH'!AY102)","v":""},{"$f":"IF('Terugvordering reiskosten OAH'!BC102=0,\"\",'Terugvordering reiskosten OAH'!BC102)","v":""},{"$f":"IF('Terugvordering reiskosten OAH'!BK102=0,\"\",'Terugvordering reiskosten OAH'!BK102)","v":""},{"$f":"IF('Terugvordering reiskosten OAH'!BR102=0,\"\",'Terugvordering reiskosten OAH'!BR102)","v":""},{"$f":"IF('Terugvordering reiskosten OAH'!BZ102=0,\"\",'Terugvordering reiskosten OAH'!BZ102)","v":""},{"$f":"IF('Terugvordering reiskosten OAH'!CG102=\"\",\"\",'Terugvordering reiskosten OAH'!CG102)","v":""},{"$f":"IF('Terugvordering reiskosten OAH'!CM102=0,\"\",'Terugvordering reiskosten OAH'!CM102)","v":""}]
[{"$f":"IF('Terugvordering reiskosten OAH'!D103=\"\",\"\",IF('Terugvordering reiskosten OAH'!$T$36=\"\",\"\",'Terugvordering reiskosten OAH'!$T$36))","v":""},{"$f":"IF(A31=\"\",\"\",'Terugvordering reiskosten OAH'!$T$38)","v":""},{"$f":"IF(A31=\"\",\"\",'gegevensblad samenvatting vord.'!$C$2)","v":""},{"$f":"IF('Terugvordering reiskosten OAH'!D103=\"\",\"\",TEXT('Terugvordering reiskosten OAH'!D103,\"mm-jjjj\"))","v":""},{"$f":"IF('Terugvordering reiskosten OAH'!H103=\"\",\"\",'Terugvordering reiskosten OAH'!H103)","v":""},{"$f":"IF('Terugvordering reiskosten OAH'!R103=\"\",\"\",'Terugvordering reiskosten OAH'!R103)","v":""},{"$f":"IF('Terugvordering reiskosten OAH'!X103=\"\",\"\",'Terugvordering reiskosten OAH'!X103)","v":""},{"$f":"IF('Terugvordering reiskosten OAH'!AJ103=\"\",\"\",'Terugvordering reiskosten OAH'!AJ103)","v":""},{"$f":"IF('Terugvordering reiskosten OAH'!AR103=\"\",\"\",'Terugvordering reiskosten OAH'!AR103)","v":""},{"$f":"IF('Terugvordering reiskosten OAH'!AY103=\"\",\"\",'Terugvordering reiskosten OAH'!AY103)","v":""},{"$f":"IF('Terugvordering reiskosten OAH'!BC103=0,\"\",'Terugvordering reiskosten OAH'!BC103)","v":""},{"$f":"IF('Terugvordering reiskosten OAH'!BK103=0,\"\",'Terugvordering reiskosten OAH'!BK103)","v":""},{"$f":"IF('Terugvordering reiskosten OAH'!BR103=0,\"\",'Terugvordering reiskosten OAH'!BR103)","v":""},{"$f":"IF('Terugvordering reiskosten OAH'!BZ103=0,\"\",'Terugvordering reiskosten OAH'!BZ103)","v":""},{"$f":"IF('Terugvordering reiskosten OAH'!CG103=\"\",\"\",'Terugvordering reiskosten OAH'!CG103)","v":""},{"$f":"IF('Terugvordering reiskosten OAH'!CM103=0,\"\",'Terugvordering reiskosten OAH'!CM103)","v":""}]
[{"$f":"IF('Terugvordering reiskosten OAH'!D104=\"\",\"\",IF('Terugvordering reiskosten OAH'!$T$36=\"\",\"\",'Terugvordering reiskosten OAH'!$T$36))","v":""},{"$f":"IF(A32=\"\",\"\",'Terugvordering reiskosten OAH'!$T$38)","v":""},{"$f":"IF(A32=\"\",\"\",'gegevensblad samenvatting vord.'!$C$2)","v":""},{"$f":"IF('Terugvordering reiskosten OAH'!D104=\"\",\"\",TEXT('Terugvordering reiskosten OAH'!D104,\"mm-jjjj\"))","v":""},{"$f":"IF('Terugvordering reiskosten OAH'!H104=\"\",\"\",'Terugvordering reiskosten OAH'!H104)","v":""},{"$f":"IF('Terugvordering reiskosten OAH'!R104=\"\",\"\",'Terugvordering reiskosten OAH'!R104)","v":""},{"$f":"IF('Terugvordering reiskosten OAH'!X104=\"\",\"\",'Terugvordering reiskosten OAH'!X104)","v":""},{"$f":"IF('Terugvordering reiskosten OAH'!AJ104=\"\",\"\",'Terugvordering reiskosten OAH'!AJ104)","v":""},{"$f":"IF('Terugvordering reiskosten OAH'!AR104=\"\",\"\",'Terugvordering reiskosten OAH'!AR104)","v":""},{"$f":"IF('Terugvordering reiskosten OAH'!AY104=\"\",\"\",'Terugvordering reiskosten OAH'!AY104)","v":""},{"$f":"IF('Terugvordering reiskosten OAH'!BC104=0,\"\",'Terugvordering reiskosten OAH'!BC104)","v":""},{"$f":"IF('Terugvordering reiskosten OAH'!BK104=0,\"\",'Terugvordering reiskosten OAH'!BK104)","v":""},{"$f":"IF('Terugvordering reiskosten OAH'!BR104=0,\"\",'Terugvordering reiskosten OAH'!BR104)","v":""},{"$f":"IF('Terugvordering reiskosten OAH'!BZ104=0,\"\",'Terugvordering reiskosten OAH'!BZ104)","v":""},{"$f":"IF('Terugvordering reiskosten OAH'!CG104=\"\",\"\",'Terugvordering reiskosten OAH'!CG104)","v":""},{"$f":"IF('Terugvordering reiskosten OAH'!CM104=0,\"\",'Terugvordering reiskosten OAH'!CM104)","v":""}]
[{"$f":"IF('Terugvordering reiskosten OAH'!D105=\"\",\"\",IF('Terugvordering reiskosten OAH'!$T$36=\"\",\"\",'Terugvordering reiskosten OAH'!$T$36))","v":""},{"$f":"IF(A33=\"\",\"\",'Terugvordering reiskosten OAH'!$T$38)","v":""},{"$f":"IF(A33=\"\",\"\",'gegevensblad samenvatting vord.'!$C$2)","v":""},{"$f":"IF('Terugvordering reiskosten OAH'!D105=\"\",\"\",TEXT('Terugvordering reiskosten OAH'!D105,\"mm-jjjj\"))","v":""},{"$f":"IF('Terugvordering reiskosten OAH'!H105=\"\",\"\",'Terugvordering reiskosten OAH'!H105)","v":""},{"$f":"IF('Terugvordering reiskosten OAH'!R105=\"\",\"\",'Terugvordering reiskosten OAH'!R105)","v":""},{"$f":"IF('Terugvordering reiskosten OAH'!X105=\"\",\"\",'Terugvordering reiskosten OAH'!X105)","v":""},{"$f":"IF('Terugvordering reiskosten OAH'!AJ105=\"\",\"\",'Terugvordering reiskosten OAH'!AJ105)","v":""},{"$f":"IF('Terugvordering reiskosten OAH'!AR105=\"\",\"\",'Terugvordering reiskosten OAH'!AR105)","v":""},{"$f":"IF('Terugvordering reiskosten OAH'!AY105=\"\",\"\",'Terugvordering reiskosten OAH'!AY105)","v":""},{"$f":"IF('Terugvordering reiskosten OAH'!BC105=0,\"\",'Terugvordering reiskosten OAH'!BC105)","v":""},{"$f":"IF('Terugvordering reiskosten OAH'!BK105=0,\"\",'Terugvordering reiskosten OAH'!BK105)","v":""},{"$f":"IF('Terugvordering reiskosten OAH'!BR105=0,\"\",'Terugvordering reiskosten OAH'!BR105)","v":""},{"$f":"IF('Terugvordering reiskosten OAH'!BZ105=0,\"\",'Terugvordering reiskosten OAH'!BZ105)","v":""},{"$f":"IF('Terugvordering reiskosten OAH'!CG105=\"\",\"\",'Terugvordering reiskosten OAH'!CG105)","v":""},{"$f":"IF('Terugvordering reiskosten OAH'!CM105=0,\"\",'Terugvordering reiskosten OAH'!CM105)","v":""}]
[{"$f":"IF('Terugvordering reiskosten OAH'!D106=\"\",\"\",IF('Terugvordering reiskosten OAH'!$T$36=\"\",\"\",'Terugvordering reiskosten OAH'!$T$36))","v":""},{"$f":"IF(A34=\"\",\"\",'Terugvordering reiskosten OAH'!$T$38)","v":""},{"$f":"IF(A34=\"\",\"\",'gegevensblad samenvatting vord.'!$C$2)","v":""},{"$f":"IF('Terugvordering reiskosten OAH'!D106=\"\",\"\",TEXT('Terugvordering reiskosten OAH'!D106,\"mm-jjjj\"))","v":""},{"$f":"IF('Terugvordering reiskosten OAH'!H106=\"\",\"\",'Terugvordering reiskosten OAH'!H106)","v":""},{"$f":"IF('Terugvordering reiskosten OAH'!R106=\"\",\"\",'Terugvordering reiskosten OAH'!R106)","v":""},{"$f":"IF('Terugvordering reiskosten OAH'!X106=\"\",\"\",'Terugvordering reiskosten OAH'!X106)","v":""},{"$f":"IF('Terugvordering reiskosten OAH'!AJ106=\"\",\"\",'Terugvordering reiskosten OAH'!AJ106)","v":""},{"$f":"IF('Terugvordering reiskosten OAH'!AR106=\"\",\"\",'Terugvordering reiskosten OAH'!AR106)","v":""},{"$f":"IF('Terugvordering reiskosten OAH'!AY106=\"\",\"\",'Terugvordering reiskosten OAH'!AY106)","v":""},{"$f":"IF('Terugvordering reiskosten OAH'!BC106=0,\"\",'Terugvordering reiskosten OAH'!BC106)","v":""},{"$f":"IF('Terugvordering reiskosten OAH'!BK106=0,\"\",'Terugvordering reiskosten OAH'!BK106)","v":""},{"$f":"IF('Terugvordering reiskosten OAH'!BR106=0,\"\",'Terugvordering reiskosten OAH'!BR106)","v":""},{"$f":"IF('Terugvordering reiskosten OAH'!BZ106=0,\"\",'Terugvordering reiskosten OAH'!BZ106)","v":""},{"$f":"IF('Terugvordering reiskosten OAH'!CG106=\"\",\"\",'Terugvordering reiskosten OAH'!CG106)","v":""},{"$f":"IF('Terugvordering reiskosten OAH'!CM106=0,\"\",'Terugvordering reiskosten OAH'!CM106)","v":""}]
[{"$f":"IF('Terugvordering reiskosten OAH'!D107=\"\",\"\",IF('Terugvordering reiskosten OAH'!$T$36=\"\",\"\",'Terugvordering reiskosten OAH'!$T$36))","v":""},{"$f":"IF(A35=\"\",\"\",'Terugvordering reiskosten OAH'!$T$38)","v":""},{"$f":"IF(A35=\"\",\"\",'gegevensblad samenvatting vord.'!$C$2)","v":""},{"$f":"IF('Terugvordering reiskosten OAH'!D107=\"\",\"\",TEXT('Terugvordering reiskosten OAH'!D107,\"mm-jjjj\"))","v":""},{"$f":"IF('Terugvordering reiskosten OAH'!H107=\"\",\"\",'Terugvordering reiskosten OAH'!H107)","v":""},{"$f":"IF('Terugvordering reiskosten OAH'!R107=\"\",\"\",'Terugvordering reiskosten OAH'!R107)","v":""},{"$f":"IF('Terugvordering reiskosten OAH'!X107=\"\",\"\",'Terugvordering reiskosten OAH'!X107)","v":""},{"$f":"IF('Terugvordering reiskosten OAH'!AJ107=\"\",\"\",'Terugvordering reiskosten OAH'!AJ107)","v":""},{"$f":"IF('Terugvordering reiskosten OAH'!AR107=\"\",\"\",'Terugvordering reiskosten OAH'!AR107)","v":""},{"$f":"IF('Terugvordering reiskosten OAH'!AY107=\"\",\"\",'Terugvordering reiskosten OAH'!AY107)","v":""},{"$f":"IF('Terugvordering reiskosten OAH'!BC107=0,\"\",'Terugvordering reiskosten OAH'!BC107)","v":""},{"$f":"IF('Terugvordering reiskosten OAH'!BK107=0,\"\",'Terugvordering reiskosten OAH'!BK107)","v":""},{"$f":"IF('Terugvordering reiskosten OAH'!BR107=0,\"\",'Terugvordering reiskosten OAH'!BR107)","v":""},{"$f":"IF('Terugvordering reiskosten OAH'!BZ107=0,\"\",'Terugvordering reiskosten OAH'!BZ107)","v":""},{"$f":"IF('Terugvordering reiskosten OAH'!CG107=\"\",\"\",'Terugvordering reiskosten OAH'!CG107)","v":""},{"$f":"IF('Terugvordering reiskosten OAH'!CM107=0,\"\",'Terugvordering reiskosten OAH'!CM107)","v":""}]
[{"$f":"IF('Terugvordering reiskosten OAH'!D108=\"\",\"\",IF('Terugvordering reiskosten OAH'!$T$36=\"\",\"\",'Terugvordering reiskosten OAH'!$T$36))","v":""},{"$f":"IF(A36=\"\",\"\",'Terugvordering reiskosten OAH'!$T$38)","v":""},{"$f":"IF(A36=\"\",\"\",'gegevensblad samenvatting vord.'!$C$2)","v":""},{"$f":"IF('Terugvordering reiskosten OAH'!D108=\"\",\"\",TEXT('Terugvordering reiskosten OAH'!D108,\"mm-jjjj\"))","v":""},{"$f":"IF('Terugvordering reiskosten OAH'!H108=\"\",\"\",'Terugvordering reiskosten OAH'!H108)","v":""},{"$f":"IF('Terugvordering reiskosten OAH'!R108=\"\",\"\",'Terugvordering reiskosten OAH'!R108)","v":""},{"$f":"IF('Terugvordering reiskosten OAH'!X108=\"\",\"\",'Terugvordering reiskosten OAH'!X108)","v":""},{"$f":"IF('Terugvordering reiskosten OAH'!AJ108=\"\",\"\",'Terugvordering reiskosten OAH'!AJ108)","v":""},{"$f":"IF('Terugvordering reiskosten OAH'!AR108=\"\",\"\",'Terugvordering reiskosten OAH'!AR108)","v":""},{"$f":"IF('Terugvordering reiskosten OAH'!AY108=\"\",\"\",'Terugvordering reiskosten OAH'!AY108)","v":""},{"$f":"IF('Terugvordering reiskosten OAH'!BC108=0,\"\",'Terugvordering reiskosten OAH'!BC108)","v":""},{"$f":"IF('Terugvordering reiskosten OAH'!BK108=0,\"\",'Terugvordering reiskosten OAH'!BK108)","v":""},{"$f":"IF('Terugvordering reiskosten OAH'!BR108=0,\"\",'Terugvordering reiskosten OAH'!BR108)","v":""},{"$f":"IF('Terugvordering reiskosten OAH'!BZ108=0,\"\",'Terugvordering reiskosten OAH'!BZ108)","v":""},{"$f":"IF('Terugvordering reiskosten OAH'!CG108=\"\",\"\",'Terugvordering reiskosten OAH'!CG108)","v":""},{"$f":"IF('Terugvordering reiskosten OAH'!CM108=0,\"\",'Terugvordering reiskosten OAH'!CM108)","v":""}]
[{"$f":"IF('Terugvordering reiskosten OAH'!D109=\"\",\"\",IF('Terugvordering reiskosten OAH'!$T$36=\"\",\"\",'Terugvordering reiskosten OAH'!$T$36))","v":""},{"$f":"IF(A37=\"\",\"\",'Terugvordering reiskosten OAH'!$T$38)","v":""},{"$f":"IF(A37=\"\",\"\",'gegevensblad samenvatting vord.'!$C$2)","v":""},{"$f":"IF('Terugvordering reiskosten OAH'!D109=\"\",\"\",TEXT('Terugvordering reiskosten OAH'!D109,\"mm-jjjj\"))","v":""},{"$f":"IF('Terugvordering reiskosten OAH'!H109=\"\",\"\",'Terugvordering reiskosten OAH'!H109)","v":""},{"$f":"IF('Terugvordering reiskosten OAH'!R109=\"\",\"\",'Terugvordering reiskosten OAH'!R109)","v":""},{"$f":"IF('Terugvordering reiskosten OAH'!X109=\"\",\"\",'Terugvordering reiskosten OAH'!X109)","v":""},{"$f":"IF('Terugvordering reiskosten OAH'!AJ109=\"\",\"\",'Terugvordering reiskosten OAH'!AJ109)","v":""},{"$f":"IF('Terugvordering reiskosten OAH'!AR109=\"\",\"\",'Terugvordering reiskosten OAH'!AR109)","v":""},{"$f":"IF('Terugvordering reiskosten OAH'!AY109=\"\",\"\",'Terugvordering reiskosten OAH'!AY109)","v":""},{"$f":"IF('Terugvordering reiskosten OAH'!BC109=0,\"\",'Terugvordering reiskosten OAH'!BC109)","v":""},{"$f":"IF('Terugvordering reiskosten OAH'!BK109=0,\"\",'Terugvordering reiskosten OAH'!BK109)","v":""},{"$f":"IF('Terugvordering reiskosten OAH'!BR109=0,\"\",'Terugvordering reiskosten OAH'!BR109)","v":""},{"$f":"IF('Terugvordering reiskosten OAH'!BZ109=0,\"\",'Terugvordering reiskosten OAH'!BZ109)","v":""},{"$f":"IF('Terugvordering reiskosten OAH'!CG109=\"\",\"\",'Terugvordering reiskosten OAH'!CG109)","v":""},{"$f":"IF('Terugvordering reiskosten OAH'!CM109=0,\"\",'Terugvordering reiskosten OAH'!CM109)","v":""}]
[{"$f":"IF('Terugvordering reiskosten OAH'!D110=\"\",\"\",IF('Terugvordering reiskosten OAH'!$T$36=\"\",\"\",'Terugvordering reiskosten OAH'!$T$36))","v":""},{"$f":"IF(A38=\"\",\"\",'Terugvordering reiskosten OAH'!$T$38)","v":""},{"$f":"IF(A38=\"\",\"\",'gegevensblad samenvatting vord.'!$C$2)","v":""},{"$f":"IF('Terugvordering reiskosten OAH'!D110=\"\",\"\",TEXT('Terugvordering reiskosten OAH'!D110,\"mm-jjjj\"))","v":""},{"$f":"IF('Terugvordering reiskosten OAH'!H110=\"\",\"\",'Terugvordering reiskosten OAH'!H110)","v":""},{"$f":"IF('Terugvordering reiskosten OAH'!R110=\"\",\"\",'Terugvordering reiskosten OAH'!R110)","v":""},{"$f":"IF('Terugvordering reiskosten OAH'!X110=\"\",\"\",'Terugvordering reiskosten OAH'!X110)","v":""},{"$f":"IF('Terugvordering reiskosten OAH'!AJ110=\"\",\"\",'Terugvordering reiskosten OAH'!AJ110)","v":""},{"$f":"IF('Terugvordering reiskosten OAH'!AR110=\"\",\"\",'Terugvordering reiskosten OAH'!AR110)","v":""},{"$f":"IF('Terugvordering reiskosten OAH'!AY110=\"\",\"\",'Terugvordering reiskosten OAH'!AY110)","v":""},{"$f":"IF('Terugvordering reiskosten OAH'!BC110=0,\"\",'Terugvordering reiskosten OAH'!BC110)","v":""},{"$f":"IF('Terugvordering reiskosten OAH'!BK110=0,\"\",'Terugvordering reiskosten OAH'!BK110)","v":""},{"$f":"IF('Terugvordering reiskosten OAH'!BR110=0,\"\",'Terugvordering reiskosten OAH'!BR110)","v":""},{"$f":"IF('Terugvordering reiskosten OAH'!BZ110=0,\"\",'Terugvordering reiskosten OAH'!BZ110)","v":""},{"$f":"IF('Terugvordering reiskosten OAH'!CG110=\"\",\"\",'Terugvordering reiskosten OAH'!CG110)","v":""},{"$f":"IF('Terugvordering reiskosten OAH'!CM110=0,\"\",'Terugvordering reiskosten OAH'!CM110)","v":""}]
[{"$f":"IF('Terugvordering reiskosten OAH'!D111=\"\",\"\",IF('Terugvordering reiskosten OAH'!$T$36=\"\",\"\",'Terugvordering reiskosten OAH'!$T$36))","v":""},{"$f":"IF(A39=\"\",\"\",'Terugvordering reiskosten OAH'!$T$38)","v":""},{"$f":"IF(A39=\"\",\"\",'gegevensblad samenvatting vord.'!$C$2)","v":""},{"$f":"IF('Terugvordering reiskosten OAH'!D111=\"\",\"\",TEXT('Terugvordering reiskosten OAH'!D111,\"mm-jjjj\"))","v":""},{"$f":"IF('Terugvordering reiskosten OAH'!H111=\"\",\"\",'Terugvordering reiskosten OAH'!H111)","v":""},{"$f":"IF('Terugvordering reiskosten OAH'!R111=\"\",\"\",'Terugvordering reiskosten OAH'!R111)","v":""},{"$f":"IF('Terugvordering reiskosten OAH'!X111=\"\",\"\",'Terugvordering reiskosten OAH'!X111)","v":""},{"$f":"IF('Terugvordering reiskosten OAH'!AJ111=\"\",\"\",'Terugvordering reiskosten OAH'!AJ111)","v":""},{"$f":"IF('Terugvordering reiskosten OAH'!AR111=\"\",\"\",'Terugvordering reiskosten OAH'!AR111)","v":""},{"$f":"IF('Terugvordering reiskosten OAH'!AY111=\"\",\"\",'Terugvordering reiskosten OAH'!AY111)","v":""},{"$f":"IF('Terugvordering reiskosten OAH'!BC111=0,\"\",'Terugvordering reiskosten OAH'!BC111)","v":""},{"$f":"IF('Terugvordering reiskosten OAH'!BK111=0,\"\",'Terugvordering reiskosten OAH'!BK111)","v":""},{"$f":"IF('Terugvordering reiskosten OAH'!BR111=0,\"\",'Terugvordering reiskosten OAH'!BR111)","v":""},{"$f":"IF('Terugvordering reiskosten OAH'!BZ111=0,\"\",'Terugvordering reiskosten OAH'!BZ111)","v":""},{"$f":"IF('Terugvordering reiskosten OAH'!CG111=\"\",\"\",'Terugvordering reiskosten OAH'!CG111)","v":""},{"$f":"IF('Terugvordering reiskosten OAH'!CM111=0,\"\",'Terugvordering reiskosten OAH'!CM111)","v":""}]
[{"$f":"IF('Terugvordering reiskosten OAH'!D112=\"\",\"\",IF('Terugvordering reiskosten OAH'!$T$36=\"\",\"\",'Terugvordering reiskosten OAH'!$T$36))","v":""},{"$f":"IF(A40=\"\",\"\",'Terugvordering reiskosten OAH'!$T$38)","v":""},{"$f":"IF(A40=\"\",\"\",'gegevensblad samenvatting vord.'!$C$2)","v":""},{"$f":"IF('Terugvordering reiskosten OAH'!D112=\"\",\"\",TEXT('Terugvordering reiskosten OAH'!D112,\"mm-jjjj\"))","v":""},{"$f":"IF('Terugvordering reiskosten OAH'!H112=\"\",\"\",'Terugvordering reiskosten OAH'!H112)","v":""},{"$f":"IF('Terugvordering reiskosten OAH'!R112=\"\",\"\",'Terugvordering reiskosten OAH'!R112)","v":""},{"$f":"IF('Terugvordering reiskosten OAH'!X112=\"\",\"\",'Terugvordering reiskosten OAH'!X112)","v":""},{"$f":"IF('Terugvordering reiskosten OAH'!AJ112=\"\",\"\",'Terugvordering reiskosten OAH'!AJ112)","v":""},{"$f":"IF('Terugvordering reiskosten OAH'!AR112=\"\",\"\",'Terugvordering reiskosten OAH'!AR112)","v":""},{"$f":"IF('Terugvordering reiskosten OAH'!AY112=\"\",\"\",'Terugvordering reiskosten OAH'!AY112)","v":""},{"$f":"IF('Terugvordering reiskosten OAH'!BC112=0,\"\",'Terugvordering reiskosten OAH'!BC112)","v":""},{"$f":"IF('Terugvordering reiskosten OAH'!BK112=0,\"\",'Terugvordering reiskosten OAH'!BK112)","v":""},{"$f":"IF('Terugvordering reiskosten OAH'!BR112=0,\"\",'Terugvordering reiskosten OAH'!BR112)","v":""},{"$f":"IF('Terugvordering reiskosten OAH'!BZ112=0,\"\",'Terugvordering reiskosten OAH'!BZ112)","v":""},{"$f":"IF('Terugvordering reiskosten OAH'!CG112=\"\",\"\",'Terugvordering reiskosten OAH'!CG112)","v":""},{"$f":"IF('Terugvordering reiskosten OAH'!CM112=0,\"\",'Terugvordering reiskosten OAH'!CM112)","v":""}]
[{"$f":"IF('Terugvordering reiskosten OAH'!D113=\"\",\"\",IF('Terugvordering reiskosten OAH'!$T$36=\"\",\"\",'Terugvordering reiskosten OAH'!$T$36))","v":""},{"$f":"IF(A41=\"\",\"\",'Terugvordering reiskosten OAH'!$T$38)","v":""},{"$f":"IF(A41=\"\",\"\",'gegevensblad samenvatting vord.'!$C$2)","v":""},{"$f":"IF('Terugvordering reiskosten OAH'!D113=\"\",\"\",TEXT('Terugvordering reiskosten OAH'!D113,\"mm-jjjj\"))","v":""},{"$f":"IF('Terugvordering reiskosten OAH'!H113=\"\",\"\",'Terugvordering reiskosten OAH'!H113)","v":""},{"$f":"IF('Terugvordering reiskosten OAH'!R113=\"\",\"\",'Terugvordering reiskosten OAH'!R113)","v":""},{"$f":"IF('Terugvordering reiskosten OAH'!X113=\"\",\"\",'Terugvordering reiskosten OAH'!X113)","v":""},{"$f":"IF('Terugvordering reiskosten OAH'!AJ113=\"\",\"\",'Terugvordering reiskosten OAH'!AJ113)","v":""},{"$f":"IF('Terugvordering reiskosten OAH'!AR113=\"\",\"\",'Terugvordering reiskosten OAH'!AR113)","v":""},{"$f":"IF('Terugvordering reiskosten OAH'!AY113=\"\",\"\",'Terugvordering reiskosten OAH'!AY113)","v":""},{"$f":"IF('Terugvordering reiskosten OAH'!BC113=0,\"\",'Terugvordering reiskosten OAH'!BC113)","v":""},{"$f":"IF('Terugvordering reiskosten OAH'!BK113=0,\"\",'Terugvordering reiskosten OAH'!BK113)","v":""},{"$f":"IF('Terugvordering reiskosten OAH'!BR113=0,\"\",'Terugvordering reiskosten OAH'!BR113)","v":""},{"$f":"IF('Terugvordering reiskosten OAH'!BZ113=0,\"\",'Terugvordering reiskosten OAH'!BZ113)","v":""},{"$f":"IF('Terugvordering reiskosten OAH'!CG113=\"\",\"\",'Terugvordering reiskosten OAH'!CG113)","v":""},{"$f":"IF('Terugvordering reiskosten OAH'!CM113=0,\"\",'Terugvordering reiskosten OAH'!CM113)","v":""}]
[{"$f":"IF('Terugvordering reiskosten OAH'!D114=\"\",\"\",IF('Terugvordering reiskosten OAH'!$T$36=\"\",\"\",'Terugvordering reiskosten OAH'!$T$36))","v":""},{"$f":"IF(A42=\"\",\"\",'Terugvordering reiskosten OAH'!$T$38)","v":""},{"$f":"IF(A42=\"\",\"\",'gegevensblad samenvatting vord.'!$C$2)","v":""},{"$f":"IF('Terugvordering reiskosten OAH'!D114=\"\",\"\",TEXT('Terugvordering reiskosten OAH'!D114,\"mm-jjjj\"))","v":""},{"$f":"IF('Terugvordering reiskosten OAH'!H114=\"\",\"\",'Terugvordering reiskosten OAH'!H114)","v":""},{"$f":"IF('Terugvordering reiskosten OAH'!R114=\"\",\"\",'Terugvordering reiskosten OAH'!R114)","v":""},{"$f":"IF('Terugvordering reiskosten OAH'!X114=\"\",\"\",'Terugvordering reiskosten OAH'!X114)","v":""},{"$f":"IF('Terugvordering reiskosten OAH'!AJ114=\"\",\"\",'Terugvordering reiskosten OAH'!AJ114)","v":""},{"$f":"IF('Terugvordering reiskosten OAH'!AR114=\"\",\"\",'Terugvordering reiskosten OAH'!AR114)","v":""},{"$f":"IF('Terugvordering reiskosten OAH'!AY114=\"\",\"\",'Terugvordering reiskosten OAH'!AY114)","v":""},{"$f":"IF('Terugvordering reiskosten OAH'!BC114=0,\"\",'Terugvordering reiskosten OAH'!BC114)","v":""},{"$f":"IF('Terugvordering reiskosten OAH'!BK114=0,\"\",'Terugvordering reiskosten OAH'!BK114)","v":""},{"$f":"IF('Terugvordering reiskosten OAH'!BR114=0,\"\",'Terugvordering reiskosten OAH'!BR114)","v":""},{"$f":"IF('Terugvordering reiskosten OAH'!BZ114=0,\"\",'Terugvordering reiskosten OAH'!BZ114)","v":""},{"$f":"IF('Terugvordering reiskosten OAH'!CG114=\"\",\"\",'Terugvordering reiskosten OAH'!CG114)","v":""},{"$f":"IF('Terugvordering reiskosten OAH'!CM114=0,\"\",'Terugvordering reiskosten OAH'!CM114)","v":""}]
[{"$f":"IF('Terugvordering reiskosten OAH'!D115=\"\",\"\",IF('Terugvordering reiskosten OAH'!$T$36=\"\",\"\",'Terugvordering reiskosten OAH'!$T$36))","v":""},{"$f":"IF(A43=\"\",\"\",'Terugvordering reiskosten OAH'!$T$38)","v":""},{"$f":"IF(A43=\"\",\"\",'gegevensblad samenvatting vord.'!$C$2)","v":""},{"$f":"IF('Terugvordering reiskosten OAH'!D115=\"\",\"\",TEXT('Terugvordering reiskosten OAH'!D115,\"mm-jjjj\"))","v":""},{"$f":"IF('Terugvordering reiskosten OAH'!H115=\"\",\"\",'Terugvordering reiskosten OAH'!H115)","v":""},{"$f":"IF('Terugvordering reiskosten OAH'!R115=\"\",\"\",'Terugvordering reiskosten OAH'!R115)","v":""},{"$f":"IF('Terugvordering reiskosten OAH'!X115=\"\",\"\",'Terugvordering reiskosten OAH'!X115)","v":""},{"$f":"IF('Terugvordering reiskosten OAH'!AJ115=\"\",\"\",'Terugvordering reiskosten OAH'!AJ115)","v":""},{"$f":"IF('Terugvordering reiskosten OAH'!AR115=\"\",\"\",'Terugvordering reiskosten OAH'!AR115)","v":""},{"$f":"IF('Terugvordering reiskosten OAH'!AY115=\"\",\"\",'Terugvordering reiskosten OAH'!AY115)","v":""},{"$f":"IF('Terugvordering reiskosten OAH'!BC115=0,\"\",'Terugvordering reiskosten OAH'!BC115)","v":""},{"$f":"IF('Terugvordering reiskosten OAH'!BK115=0,\"\",'Terugvordering reiskosten OAH'!BK115)","v":""},{"$f":"IF('Terugvordering reiskosten OAH'!BR115=0,\"\",'Terugvordering reiskosten OAH'!BR115)","v":""},{"$f":"IF('Terugvordering reiskosten OAH'!BZ115=0,\"\",'Terugvordering reiskosten OAH'!BZ115)","v":""},{"$f":"IF('Terugvordering reiskosten OAH'!CG115=\"\",\"\",'Terugvordering reiskosten OAH'!CG115)","v":""},{"$f":"IF('Terugvordering reiskosten OAH'!CM115=0,\"\",'Terugvordering reiskosten OAH'!CM115)","v":""}]
[{"$f":"IF('Terugvordering reiskosten OAH'!D116=\"\",\"\",IF('Terugvordering reiskosten OAH'!$T$36=\"\",\"\",'Terugvordering reiskosten OAH'!$T$36))","v":""},{"$f":"IF(A44=\"\",\"\",'Terugvordering reiskosten OAH'!$T$38)","v":""},{"$f":"IF(A44=\"\",\"\",'gegevensblad samenvatting vord.'!$C$2)","v":""},{"$f":"IF('Terugvordering reiskosten OAH'!D116=\"\",\"\",TEXT('Terugvordering reiskosten OAH'!D116,\"mm-jjjj\"))","v":""},{"$f":"IF('Terugvordering reiskosten OAH'!H116=\"\",\"\",'Terugvordering reiskosten OAH'!H116)","v":""},{"$f":"IF('Terugvordering reiskosten OAH'!R116=\"\",\"\",'Terugvordering reiskosten OAH'!R116)","v":""},{"$f":"IF('Terugvordering reiskosten OAH'!X116=\"\",\"\",'Terugvordering reiskosten OAH'!X116)","v":""},{"$f":"IF('Terugvordering reiskosten OAH'!AJ116=\"\",\"\",'Terugvordering reiskosten OAH'!AJ116)","v":""},{"$f":"IF('Terugvordering reiskosten OAH'!AR116=\"\",\"\",'Terugvordering reiskosten OAH'!AR116)","v":""},{"$f":"IF('Terugvordering reiskosten OAH'!AY116=\"\",\"\",'Terugvordering reiskosten OAH'!AY116)","v":""},{"$f":"IF('Terugvordering reiskosten OAH'!BC116=0,\"\",'Terugvordering reiskosten OAH'!BC116)","v":""},{"$f":"IF('Terugvordering reiskosten OAH'!BK116=0,\"\",'Terugvordering reiskosten OAH'!BK116)","v":""},{"$f":"IF('Terugvordering reiskosten OAH'!BR116=0,\"\",'Terugvordering reiskosten OAH'!BR116)","v":""},{"$f":"IF('Terugvordering reiskosten OAH'!BZ116=0,\"\",'Terugvordering reiskosten OAH'!BZ116)","v":""},{"$f":"IF('Terugvordering reiskosten OAH'!CG116=\"\",\"\",'Terugvordering reiskosten OAH'!CG116)","v":""},{"$f":"IF('Terugvordering reiskosten OAH'!CM116=0,\"\",'Terugvordering reiskosten OAH'!CM116)","v":""}]
[{"$f":"IF('Terugvordering reiskosten OAH'!D117=\"\",\"\",IF('Terugvordering reiskosten OAH'!$T$36=\"\",\"\",'Terugvordering reiskosten OAH'!$T$36))","v":""},{"$f":"IF(A45=\"\",\"\",'Terugvordering reiskosten OAH'!$T$38)","v":""},{"$f":"IF(A45=\"\",\"\",'gegevensblad samenvatting vord.'!$C$2)","v":""},{"$f":"IF('Terugvordering reiskosten OAH'!D117=\"\",\"\",TEXT('Terugvordering reiskosten OAH'!D117,\"mm-jjjj\"))","v":""},{"$f":"IF('Terugvordering reiskosten OAH'!H117=\"\",\"\",'Terugvordering reiskosten OAH'!H117)","v":""},{"$f":"IF('Terugvordering reiskosten OAH'!R117=\"\",\"\",'Terugvordering reiskosten OAH'!R117)","v":""},{"$f":"IF('Terugvordering reiskosten OAH'!X117=\"\",\"\",'Terugvordering reiskosten OAH'!X117)","v":""},{"$f":"IF('Terugvordering reiskosten OAH'!AJ117=\"\",\"\",'Terugvordering reiskosten OAH'!AJ117)","v":""},{"$f":"IF('Terugvordering reiskosten OAH'!AR117=\"\",\"\",'Terugvordering reiskosten OAH'!AR117)","v":""},{"$f":"IF('Terugvordering reiskosten OAH'!AY117=\"\",\"\",'Terugvordering reiskosten OAH'!AY117)","v":""},{"$f":"IF('Terugvordering reiskosten OAH'!BC117=0,\"\",'Terugvordering reiskosten OAH'!BC117)","v":""},{"$f":"IF('Terugvordering reiskosten OAH'!BK117=0,\"\",'Terugvordering reiskosten OAH'!BK117)","v":""},{"$f":"IF('Terugvordering reiskosten OAH'!BR117=0,\"\",'Terugvordering reiskosten OAH'!BR117)","v":""},{"$f":"IF('Terugvordering reiskosten OAH'!BZ117=0,\"\",'Terugvordering reiskosten OAH'!BZ117)","v":""},{"$f":"IF('Terugvordering reiskosten OAH'!CG117=\"\",\"\",'Terugvordering reiskosten OAH'!CG117)","v":""},{"$f":"IF('Terugvordering reiskosten OAH'!CM117=0,\"\",'Terugvordering reiskosten OAH'!CM117)","v":""}]
[{"$f":"IF('Terugvordering reiskosten OAH'!D118=\"\",\"\",IF('Terugvordering reiskosten OAH'!$T$36=\"\",\"\",'Terugvordering reiskosten OAH'!$T$36))","v":""},{"$f":"IF(A46=\"\",\"\",'Terugvordering reiskosten OAH'!$T$38)","v":""},{"$f":"IF(A46=\"\",\"\",'gegevensblad samenvatting vord.'!$C$2)","v":""},{"$f":"IF('Terugvordering reiskosten OAH'!D118=\"\",\"\",TEXT('Terugvordering reiskosten OAH'!D118,\"mm-jjjj\"))","v":""},{"$f":"IF('Terugvordering reiskosten OAH'!H118=\"\",\"\",'Terugvordering reiskosten OAH'!H118)","v":""},{"$f":"IF('Terugvordering reiskosten OAH'!R118=\"\",\"\",'Terugvordering reiskosten OAH'!R118)","v":""},{"$f":"IF('Terugvordering reiskosten OAH'!X118=\"\",\"\",'Terugvordering reiskosten OAH'!X118)","v":""},{"$f":"IF('Terugvordering reiskosten OAH'!AJ118=\"\",\"\",'Terugvordering reiskosten OAH'!AJ118)","v":""},{"$f":"IF('Terugvordering reiskosten OAH'!AR118=\"\",\"\",'Terugvordering reiskosten OAH'!AR118)","v":""},{"$f":"IF('Terugvordering reiskosten OAH'!AY118=\"\",\"\",'Terugvordering reiskosten OAH'!AY118)","v":""},{"$f":"IF('Terugvordering reiskosten OAH'!BC118=0,\"\",'Terugvordering reiskosten OAH'!BC118)","v":""},{"$f":"IF('Terugvordering reiskosten OAH'!BK118=0,\"\",'Terugvordering reiskosten OAH'!BK118)","v":""},{"$f":"IF('Terugvordering reiskosten OAH'!BR118=0,\"\",'Terugvordering reiskosten OAH'!BR118)","v":""},{"$f":"IF('Terugvordering reiskosten OAH'!BZ118=0,\"\",'Terugvordering reiskosten OAH'!BZ118)","v":""},{"$f":"IF('Terugvordering reiskosten OAH'!CG118=\"\",\"\",'Terugvordering reiskosten OAH'!CG118)","v":""},{"$f":"IF('Terugvordering reiskosten OAH'!CM118=0,\"\",'Terugvordering reiskosten OAH'!CM118)","v":""}]
[{"$f":"IF('Terugvordering reiskosten OAH'!D119=\"\",\"\",IF('Terugvordering reiskosten OAH'!$T$36=\"\",\"\",'Terugvordering reiskosten OAH'!$T$36))","v":""},{"$f":"IF(A47=\"\",\"\",'Terugvordering reiskosten OAH'!$T$38)","v":""},{"$f":"IF(A47=\"\",\"\",'gegevensblad samenvatting vord.'!$C$2)","v":""},{"$f":"IF('Terugvordering reiskosten OAH'!D119=\"\",\"\",TEXT('Terugvordering reiskosten OAH'!D119,\"mm-jjjj\"))","v":""},{"$f":"IF('Terugvordering reiskosten OAH'!H119=\"\",\"\",'Terugvordering reiskosten OAH'!H119)","v":""},{"$f":"IF('Terugvordering reiskosten OAH'!R119=\"\",\"\",'Terugvordering reiskosten OAH'!R119)","v":""},{"$f":"IF('Terugvordering reiskosten OAH'!X119=\"\",\"\",'Terugvordering reiskosten OAH'!X119)","v":""},{"$f":"IF('Terugvordering reiskosten OAH'!AJ119=\"\",\"\",'Terugvordering reiskosten OAH'!AJ119)","v":""},{"$f":"IF('Terugvordering reiskosten OAH'!AR119=\"\",\"\",'Terugvordering reiskosten OAH'!AR119)","v":""},{"$f":"IF('Terugvordering reiskosten OAH'!AY119=\"\",\"\",'Terugvordering reiskosten OAH'!AY119)","v":""},{"$f":"IF('Terugvordering reiskosten OAH'!BC119=0,\"\",'Terugvordering reiskosten OAH'!BC119)","v":""},{"$f":"IF('Terugvordering reiskosten OAH'!BK119=0,\"\",'Terugvordering reiskosten OAH'!BK119)","v":""},{"$f":"IF('Terugvordering reiskosten OAH'!BR119=0,\"\",'Terugvordering reiskosten OAH'!BR119)","v":""},{"$f":"IF('Terugvordering reiskosten OAH'!BZ119=0,\"\",'Terugvordering reiskosten OAH'!BZ119)","v":""},{"$f":"IF('Terugvordering reiskosten OAH'!CG119=\"\",\"\",'Terugvordering reiskosten OAH'!CG119)","v":""},{"$f":"IF('Terugvordering reiskosten OAH'!CM119=0,\"\",'Terugvordering reiskosten OAH'!CM119)","v":""}]
[{"$f":"IF('Terugvordering reiskosten OAH'!D120=\"\",\"\",IF('Terugvordering reiskosten OAH'!$T$36=\"\",\"\",'Terugvordering reiskosten OAH'!$T$36))","v":""},{"$f":"IF(A48=\"\",\"\",'Terugvordering reiskosten OAH'!$T$38)","v":""},{"$f":"IF(A48=\"\",\"\",'gegevensblad samenvatting vord.'!$C$2)","v":""},{"$f":"IF('Terugvordering reiskosten OAH'!D120=\"\",\"\",TEXT('Terugvordering reiskosten OAH'!D120,\"mm-jjjj\"))","v":""},{"$f":"IF('Terugvordering reiskosten OAH'!H120=\"\",\"\",'Terugvordering reiskosten OAH'!H120)","v":""},{"$f":"IF('Terugvordering reiskosten OAH'!R120=\"\",\"\",'Terugvordering reiskosten OAH'!R120)","v":""},{"$f":"IF('Terugvordering reiskosten OAH'!X120=\"\",\"\",'Terugvordering reiskosten OAH'!X120)","v":""},{"$f":"IF('Terugvordering reiskosten OAH'!AJ120=\"\",\"\",'Terugvordering reiskosten OAH'!AJ120)","v":""},{"$f":"IF('Terugvordering reiskosten OAH'!AR120=\"\",\"\",'Terugvordering reiskosten OAH'!AR120)","v":""},{"$f":"IF('Terugvordering reiskosten OAH'!AY120=\"\",\"\",'Terugvordering reiskosten OAH'!AY120)","v":""},{"$f":"IF('Terugvordering reiskosten OAH'!BC120=0,\"\",'Terugvordering reiskosten OAH'!BC120)","v":""},{"$f":"IF('Terugvordering reiskosten OAH'!BK120=0,\"\",'Terugvordering reiskosten OAH'!BK120)","v":""},{"$f":"IF('Terugvordering reiskosten OAH'!BR120=0,\"\",'Terugvordering reiskosten OAH'!BR120)","v":""},{"$f":"IF('Terugvordering reiskosten OAH'!BZ120=0,\"\",'Terugvordering reiskosten OAH'!BZ120)","v":""},{"$f":"IF('Terugvordering reiskosten OAH'!CG120=\"\",\"\",'Terugvordering reiskosten OAH'!CG120)","v":""},{"$f":"IF('Terugvordering reiskosten OAH'!CM120=0,\"\",'Terugvordering reiskosten OAH'!CM120)","v":""}]
[{"$f":"IF('Terugvordering reiskosten OAH'!D121=\"\",\"\",IF('Terugvordering reiskosten OAH'!$T$36=\"\",\"\",'Terugvordering reiskosten OAH'!$T$36))","v":""},{"$f":"IF(A49=\"\",\"\",'Terugvordering reiskosten OAH'!$T$38)","v":""},{"$f":"IF(A49=\"\",\"\",'gegevensblad samenvatting vord.'!$C$2)","v":""},{"$f":"IF('Terugvordering reiskosten OAH'!D121=\"\",\"\",TEXT('Terugvordering reiskosten OAH'!D121,\"mm-jjjj\"))","v":""},{"$f":"IF('Terugvordering reiskosten OAH'!H121=\"\",\"\",'Terugvordering reiskosten OAH'!H121)","v":""},{"$f":"IF('Terugvordering reiskosten OAH'!R121=\"\",\"\",'Terugvordering reiskosten OAH'!R121)","v":""},{"$f":"IF('Terugvordering reiskosten OAH'!X121=\"\",\"\",'Terugvordering reiskosten OAH'!X121)","v":""},{"$f":"IF('Terugvordering reiskosten OAH'!AJ121=\"\",\"\",'Terugvordering reiskosten OAH'!AJ121)","v":""},{"$f":"IF('Terugvordering reiskosten OAH'!AR121=\"\",\"\",'Terugvordering reiskosten OAH'!AR121)","v":""},{"$f":"IF('Terugvordering reiskosten OAH'!AY121=\"\",\"\",'Terugvordering reiskosten OAH'!AY121)","v":""},{"$f":"IF('Terugvordering reiskosten OAH'!BC121=0,\"\",'Terugvordering reiskosten OAH'!BC121)","v":""},{"$f":"IF('Terugvordering reiskosten OAH'!BK121=0,\"\",'Terugvordering reiskosten OAH'!BK121)","v":""},{"$f":"IF('Terugvordering reiskosten OAH'!BR121=0,\"\",'Terugvordering reiskosten OAH'!BR121)","v":""},{"$f":"IF('Terugvordering reiskosten OAH'!BZ121=0,\"\",'Terugvordering reiskosten OAH'!BZ121)","v":""},{"$f":"IF('Terugvordering reiskosten OAH'!CG121=\"\",\"\",'Terugvordering reiskosten OAH'!CG121)","v":""},{"$f":"IF('Terugvordering reiskosten OAH'!CM121=0,\"\",'Terugvordering reiskosten OAH'!CM121)","v":""}]
[{"$f":"IF('Terugvordering reiskosten OAH'!D122=\"\",\"\",IF('Terugvordering reiskosten OAH'!$T$36=\"\",\"\",'Terugvordering reiskosten OAH'!$T$36))","v":""},{"$f":"IF(A50=\"\",\"\",'Terugvordering reiskosten OAH'!$T$38)","v":""},{"$f":"IF(A50=\"\",\"\",'gegevensblad samenvatting vord.'!$C$2)","v":""},{"$f":"IF('Terugvordering reiskosten OAH'!D122=\"\",\"\",TEXT('Terugvordering reiskosten OAH'!D122,\"mm-jjjj\"))","v":""},{"$f":"IF('Terugvordering reiskosten OAH'!H122=\"\",\"\",'Terugvordering reiskosten OAH'!H122)","v":""},{"$f":"IF('Terugvordering reiskosten OAH'!R122=\"\",\"\",'Terugvordering reiskosten OAH'!R122)","v":""},{"$f":"IF('Terugvordering reiskosten OAH'!X122=\"\",\"\",'Terugvordering reiskosten OAH'!X122)","v":""},{"$f":"IF('Terugvordering reiskosten OAH'!AJ122=\"\",\"\",'Terugvordering reiskosten OAH'!AJ122)","v":""},{"$f":"IF('Terugvordering reiskosten OAH'!AR122=\"\",\"\",'Terugvordering reiskosten OAH'!AR122)","v":""},{"$f":"IF('Terugvordering reiskosten OAH'!AY122=\"\",\"\",'Terugvordering reiskosten OAH'!AY122)","v":""},{"$f":"IF('Terugvordering reiskosten OAH'!BC122=0,\"\",'Terugvordering reiskosten OAH'!BC122)","v":""},{"$f":"IF('Terugvordering reiskosten OAH'!BK122=0,\"\",'Terugvordering reiskosten OAH'!BK122)","v":""},{"$f":"IF('Terugvordering reiskosten OAH'!BR122=0,\"\",'Terugvordering reiskosten OAH'!BR122)","v":""},{"$f":"IF('Terugvordering reiskosten OAH'!BZ122=0,\"\",'Terugvordering reiskosten OAH'!BZ122)","v":""},{"$f":"IF('Terugvordering reiskosten OAH'!CG122=\"\",\"\",'Terugvordering reiskosten OAH'!CG122)","v":""},{"$f":"IF('Terugvordering reiskosten OAH'!CM122=0,\"\",'Terugvordering reiskosten OAH'!CM122)","v":""}]
[{"$f":"IF('Terugvordering reiskosten OAH'!D123=\"\",\"\",IF('Terugvordering reiskosten OAH'!$T$36=\"\",\"\",'Terugvordering reiskosten OAH'!$T$36))","v":""},{"$f":"IF(A51=\"\",\"\",'Terugvordering reiskosten OAH'!$T$38)","v":""},{"$f":"IF(A51=\"\",\"\",'gegevensblad samenvatting vord.'!$C$2)","v":""},{"$f":"IF('Terugvordering reiskosten OAH'!D123=\"\",\"\",TEXT('Terugvordering reiskosten OAH'!D123,\"mm-jjjj\"))","v":""},{"$f":"IF('Terugvordering reiskosten OAH'!H123=\"\",\"\",'Terugvordering reiskosten OAH'!H123)","v":""},{"$f":"IF('Terugvordering reiskosten OAH'!R123=\"\",\"\",'Terugvordering reiskosten OAH'!R123)","v":""},{"$f":"IF('Terugvordering reiskosten OAH'!X123=\"\",\"\",'Terugvordering reiskosten OAH'!X123)","v":""},{"$f":"IF('Terugvordering reiskosten OAH'!AJ123=\"\",\"\",'Terugvordering reiskosten OAH'!AJ123)","v":""},{"$f":"IF('Terugvordering reiskosten OAH'!AR123=\"\",\"\",'Terugvordering reiskosten OAH'!AR123)","v":""},{"$f":"IF('Terugvordering reiskosten OAH'!AY123=\"\",\"\",'Terugvordering reiskosten OAH'!AY123)","v":""},{"$f":"IF('Terugvordering reiskosten OAH'!BC123=0,\"\",'Terugvordering reiskosten OAH'!BC123)","v":""},{"$f":"IF('Terugvordering reiskosten OAH'!BK123=0,\"\",'Terugvordering reiskosten OAH'!BK123)","v":""},{"$f":"IF('Terugvordering reiskosten OAH'!BR123=0,\"\",'Terugvordering reiskosten OAH'!BR123)","v":""},{"$f":"IF('Terugvordering reiskosten OAH'!BZ123=0,\"\",'Terugvordering reiskosten OAH'!BZ123)","v":""},{"$f":"IF('Terugvordering reiskosten OAH'!CG123=\"\",\"\",'Terugvordering reiskosten OAH'!CG123)","v":""},{"$f":"IF('Terugvordering reiskosten OAH'!CM123=0,\"\",'Terugvordering reiskosten OAH'!CM123)","v":""}]
[{"$f":"IF('Terugvordering reiskosten OAH'!D124=\"\",\"\",IF('Terugvordering reiskosten OAH'!$T$36=\"\",\"\",'Terugvordering reiskosten OAH'!$T$36))","v":""},{"$f":"IF(A52=\"\",\"\",'Terugvordering reiskosten OAH'!$T$38)","v":""},{"$f":"IF(A52=\"\",\"\",'gegevensblad samenvatting vord.'!$C$2)","v":""},{"$f":"IF('Terugvordering reiskosten OAH'!D124=\"\",\"\",TEXT('Terugvordering reiskosten OAH'!D124,\"mm-jjjj\"))","v":""},{"$f":"IF('Terugvordering reiskosten OAH'!H124=\"\",\"\",'Terugvordering reiskosten OAH'!H124)","v":""},{"$f":"IF('Terugvordering reiskosten OAH'!R124=\"\",\"\",'Terugvordering reiskosten OAH'!R124)","v":""},{"$f":"IF('Terugvordering reiskosten OAH'!X124=\"\",\"\",'Terugvordering reiskosten OAH'!X124)","v":""},{"$f":"IF('Terugvordering reiskosten OAH'!AJ124=\"\",\"\",'Terugvordering reiskosten OAH'!AJ124)","v":""},{"$f":"IF('Terugvordering reiskosten OAH'!AR124=\"\",\"\",'Terugvordering reiskosten OAH'!AR124)","v":""},{"$f":"IF('Terugvordering reiskosten OAH'!AY124=\"\",\"\",'Terugvordering reiskosten OAH'!AY124)","v":""},{"$f":"IF('Terugvordering reiskosten OAH'!BC124=0,\"\",'Terugvordering reiskosten OAH'!BC124)","v":""},{"$f":"IF('Terugvordering reiskosten OAH'!BK124=0,\"\",'Terugvordering reiskosten OAH'!BK124)","v":""},{"$f":"IF('Terugvordering reiskosten OAH'!BR124=0,\"\",'Terugvordering reiskosten OAH'!BR124)","v":""},{"$f":"IF('Terugvordering reiskosten OAH'!BZ124=0,\"\",'Terugvordering reiskosten OAH'!BZ124)","v":""},{"$f":"IF('Terugvordering reiskosten OAH'!CG124=\"\",\"\",'Terugvordering reiskosten OAH'!CG124)","v":""},{"$f":"IF('Terugvordering reiskosten OAH'!CM124=0,\"\",'Terugvordering reiskosten OAH'!CM124)","v":""}]
[{"$f":"IF('Terugvordering reiskosten OAH'!D125=\"\",\"\",IF('Terugvordering reiskosten OAH'!$T$36=\"\",\"\",'Terugvordering reiskosten OAH'!$T$36))","v":""},{"$f":"IF(A53=\"\",\"\",'Terugvordering reiskosten OAH'!$T$38)","v":""},{"$f":"IF(A53=\"\",\"\",'gegevensblad samenvatting vord.'!$C$2)","v":""},{"$f":"IF('Terugvordering reiskosten OAH'!D125=\"\",\"\",TEXT('Terugvordering reiskosten OAH'!D125,\"mm-jjjj\"))","v":""},{"$f":"IF('Terugvordering reiskosten OAH'!H125=\"\",\"\",'Terugvordering reiskosten OAH'!H125)","v":""},{"$f":"IF('Terugvordering reiskosten OAH'!R125=\"\",\"\",'Terugvordering reiskosten OAH'!R125)","v":""},{"$f":"IF('Terugvordering reiskosten OAH'!X125=\"\",\"\",'Terugvordering reiskosten OAH'!X125)","v":""},{"$f":"IF('Terugvordering reiskosten OAH'!AJ125=\"\",\"\",'Terugvordering reiskosten OAH'!AJ125)","v":""},{"$f":"IF('Terugvordering reiskosten OAH'!AR125=\"\",\"\",'Terugvordering reiskosten OAH'!AR125)","v":""},{"$f":"IF('Terugvordering reiskosten OAH'!AY125=\"\",\"\",'Terugvordering reiskosten OAH'!AY125)","v":""},{"$f":"IF('Terugvordering reiskosten OAH'!BC125=0,\"\",'Terugvordering reiskosten OAH'!BC125)","v":""},{"$f":"IF('Terugvordering reiskosten OAH'!BK125=0,\"\",'Terugvordering reiskosten OAH'!BK125)","v":""},{"$f":"IF('Terugvordering reiskosten OAH'!BR125=0,\"\",'Terugvordering reiskosten OAH'!BR125)","v":""},{"$f":"IF('Terugvordering reiskosten OAH'!BZ125=0,\"\",'Terugvordering reiskosten OAH'!BZ125)","v":""},{"$f":"IF('Terugvordering reiskosten OAH'!CG125=\"\",\"\",'Terugvordering reiskosten OAH'!CG125)","v":""},{"$f":"IF('Terugvordering reiskosten OAH'!CM125=0,\"\",'Terugvordering reiskosten OAH'!CM125)","v":""}]
[{"$f":"IF('Terugvordering reiskosten OAH'!D126=\"\",\"\",IF('Terugvordering reiskosten OAH'!$T$36=\"\",\"\",'Terugvordering reiskosten OAH'!$T$36))","v":""},{"$f":"IF(A54=\"\",\"\",'Terugvordering reiskosten OAH'!$T$38)","v":""},{"$f":"IF(A54=\"\",\"\",'gegevensblad samenvatting vord.'!$C$2)","v":""},{"$f":"IF('Terugvordering reiskosten OAH'!D126=\"\",\"\",TEXT('Terugvordering reiskosten OAH'!D126,\"mm-jjjj\"))","v":""},{"$f":"IF('Terugvordering reiskosten OAH'!H126=\"\",\"\",'Terugvordering reiskosten OAH'!H126)","v":""},{"$f":"IF('Terugvordering reiskosten OAH'!R126=\"\",\"\",'Terugvordering reiskosten OAH'!R126)","v":""},{"$f":"IF('Terugvordering reiskosten OAH'!X126=\"\",\"\",'Terugvordering reiskosten OAH'!X126)","v":""},{"$f":"IF('Terugvordering reiskosten OAH'!AJ126=\"\",\"\",'Terugvordering reiskosten OAH'!AJ126)","v":""},{"$f":"IF('Terugvordering reiskosten OAH'!AR126=\"\",\"\",'Terugvordering reiskosten OAH'!AR126)","v":""},{"$f":"IF('Terugvordering reiskosten OAH'!AY126=\"\",\"\",'Terugvordering reiskosten OAH'!AY126)","v":""},{"$f":"IF('Terugvordering reiskosten OAH'!BC126=0,\"\",'Terugvordering reiskosten OAH'!BC126)","v":""},{"$f":"IF('Terugvordering reiskosten OAH'!BK126=0,\"\",'Terugvordering reiskosten OAH'!BK126)","v":""},{"$f":"IF('Terugvordering reiskosten OAH'!BR126=0,\"\",'Terugvordering reiskosten OAH'!BR126)","v":""},{"$f":"IF('Terugvordering reiskosten OAH'!BZ126=0,\"\",'Terugvordering reiskosten OAH'!BZ126)","v":""},{"$f":"IF('Terugvordering reiskosten OAH'!CG126=\"\",\"\",'Terugvordering reiskosten OAH'!CG126)","v":""},{"$f":"IF('Terugvordering reiskosten OAH'!CM126=0,\"\",'Terugvordering reiskosten OAH'!CM126)","v":""}]
[{"$f":"IF('Terugvordering reiskosten OAH'!D127=\"\",\"\",IF('Terugvordering reiskosten OAH'!$T$36=\"\",\"\",'Terugvordering reiskosten OAH'!$T$36))","v":""},{"$f":"IF(A55=\"\",\"\",'Terugvordering reiskosten OAH'!$T$38)","v":""},{"$f":"IF(A55=\"\",\"\",'gegevensblad samenvatting vord.'!$C$2)","v":""},{"$f":"IF('Terugvordering reiskosten OAH'!D127=\"\",\"\",TEXT('Terugvordering reiskosten OAH'!D127,\"mm-jjjj\"))","v":""},{"$f":"IF('Terugvordering reiskosten OAH'!H127=\"\",\"\",'Terugvordering reiskosten OAH'!H127)","v":""},{"$f":"IF('Terugvordering reiskosten OAH'!R127=\"\",\"\",'Terugvordering reiskosten OAH'!R127)","v":""},{"$f":"IF('Terugvordering reiskosten OAH'!X127=\"\",\"\",'Terugvordering reiskosten OAH'!X127)","v":""},{"$f":"IF('Terugvordering reiskosten OAH'!AJ127=\"\",\"\",'Terugvordering reiskosten OAH'!AJ127)","v":""},{"$f":"IF('Terugvordering reiskosten OAH'!AR127=\"\",\"\",'Terugvordering reiskosten OAH'!AR127)","v":""},{"$f":"IF('Terugvordering reiskosten OAH'!AY127=\"\",\"\",'Terugvordering reiskosten OAH'!AY127)","v":""},{"$f":"IF('Terugvordering reiskosten OAH'!BC127=0,\"\",'Terugvordering reiskosten OAH'!BC127)","v":""},{"$f":"IF('Terugvordering reiskosten OAH'!BK127=0,\"\",'Terugvordering reiskosten OAH'!BK127)","v":""},{"$f":"IF('Terugvordering reiskosten OAH'!BR127=0,\"\",'Terugvordering reiskosten OAH'!BR127)","v":""},{"$f":"IF('Terugvordering reiskosten OAH'!BZ127=0,\"\",'Terugvordering reiskosten OAH'!BZ127)","v":""},{"$f":"IF('Terugvordering reiskosten OAH'!CG127=\"\",\"\",'Terugvordering reiskosten OAH'!CG127)","v":""},{"$f":"IF('Terugvordering reiskosten OAH'!CM127=0,\"\",'Terugvordering reiskosten OAH'!CM127)","v":""}]
[{"$f":"IF('Terugvordering reiskosten OAH'!D128=\"\",\"\",IF('Terugvordering reiskosten OAH'!$T$36=\"\",\"\",'Terugvordering reiskosten OAH'!$T$36))","v":""},{"$f":"IF(A56=\"\",\"\",'Terugvordering reiskosten OAH'!$T$38)","v":""},{"$f":"IF(A56=\"\",\"\",'gegevensblad samenvatting vord.'!$C$2)","v":""},{"$f":"IF('Terugvordering reiskosten OAH'!D128=\"\",\"\",TEXT('Terugvordering reiskosten OAH'!D128,\"mm-jjjj\"))","v":""},{"$f":"IF('Terugvordering reiskosten OAH'!H128=\"\",\"\",'Terugvordering reiskosten OAH'!H128)","v":""},{"$f":"IF('Terugvordering reiskosten OAH'!R128=\"\",\"\",'Terugvordering reiskosten OAH'!R128)","v":""},{"$f":"IF('Terugvordering reiskosten OAH'!X128=\"\",\"\",'Terugvordering reiskosten OAH'!X128)","v":""},{"$f":"IF('Terugvordering reiskosten OAH'!AJ128=\"\",\"\",'Terugvordering reiskosten OAH'!AJ128)","v":""},{"$f":"IF('Terugvordering reiskosten OAH'!AR128=\"\",\"\",'Terugvordering reiskosten OAH'!AR128)","v":""},{"$f":"IF('Terugvordering reiskosten OAH'!AY128=\"\",\"\",'Terugvordering reiskosten OAH'!AY128)","v":""},{"$f":"IF('Terugvordering reiskosten OAH'!BC128=0,\"\",'Terugvordering reiskosten OAH'!BC128)","v":""},{"$f":"IF('Terugvordering reiskosten OAH'!BK128=0,\"\",'Terugvordering reiskosten OAH'!BK128)","v":""},{"$f":"IF('Terugvordering reiskosten OAH'!BR128=0,\"\",'Terugvordering reiskosten OAH'!BR128)","v":""},{"$f":"IF('Terugvordering reiskosten OAH'!BZ128=0,\"\",'Terugvordering reiskosten OAH'!BZ128)","v":""},{"$f":"IF('Terugvordering reiskosten OAH'!CG128=\"\",\"\",'Terugvordering reiskosten OAH'!CG128)","v":""},{"$f":"IF('Terugvordering reiskosten OAH'!CM128=0,\"\",'Terugvordering reiskosten OAH'!CM128)","v":""}]
[{"$f":"IF('Terugvordering reiskosten OAH'!D129=\"\",\"\",IF('Terugvordering reiskosten OAH'!$T$36=\"\",\"\",'Terugvordering reiskosten OAH'!$T$36))","v":""},{"$f":"IF(A57=\"\",\"\",'Terugvordering reiskosten OAH'!$T$38)","v":""},{"$f":"IF(A57=\"\",\"\",'gegevensblad samenvatting vord.'!$C$2)","v":""},{"$f":"IF('Terugvordering reiskosten OAH'!D129=\"\",\"\",TEXT('Terugvordering reiskosten OAH'!D129,\"mm-jjjj\"))","v":""},{"$f":"IF('Terugvordering reiskosten OAH'!H129=\"\",\"\",'Terugvordering reiskosten OAH'!H129)","v":""},{"$f":"IF('Terugvordering reiskosten OAH'!R129=\"\",\"\",'Terugvordering reiskosten OAH'!R129)","v":""},{"$f":"IF('Terugvordering reiskosten OAH'!X129=\"\",\"\",'Terugvordering reiskosten OAH'!X129)","v":""},{"$f":"IF('Terugvordering reiskosten OAH'!AJ129=\"\",\"\",'Terugvordering reiskosten OAH'!AJ129)","v":""},{"$f":"IF('Terugvordering reiskosten OAH'!AR129=\"\",\"\",'Terugvordering reiskosten OAH'!AR129)","v":""},{"$f":"IF('Terugvordering reiskosten OAH'!AY129=\"\",\"\",'Terugvordering reiskosten OAH'!AY129)","v":""},{"$f":"IF('Terugvordering reiskosten OAH'!BC129=0,\"\",'Terugvordering reiskosten OAH'!BC129)","v":""},{"$f":"IF('Terugvordering reiskosten OAH'!BK129=0,\"\",'Terugvordering reiskosten OAH'!BK129)","v":""},{"$f":"IF('Terugvordering reiskosten OAH'!BR129=0,\"\",'Terugvordering reiskosten OAH'!BR129)","v":""},{"$f":"IF('Terugvordering reiskosten OAH'!BZ129=0,\"\",'Terugvordering reiskosten OAH'!BZ129)","v":""},{"$f":"IF('Terugvordering reiskosten OAH'!CG129=\"\",\"\",'Terugvordering reiskosten OAH'!CG129)","v":""},{"$f":"IF('Terugvordering reiskosten OAH'!CM129=0,\"\",'Terugvordering reiskosten OAH'!CM129)","v":""}]
[{"$f":"IF('Terugvordering reiskosten OAH'!D130=\"\",\"\",IF('Terugvordering reiskosten OAH'!$T$36=\"\",\"\",'Terugvordering reiskosten OAH'!$T$36))","v":""},{"$f":"IF(A58=\"\",\"\",'Terugvordering reiskosten OAH'!$T$38)","v":""},{"$f":"IF(A58=\"\",\"\",'gegevensblad samenvatting vord.'!$C$2)","v":""},{"$f":"IF('Terugvordering reiskosten OAH'!D130=\"\",\"\",TEXT('Terugvordering reiskosten OAH'!D130,\"mm-jjjj\"))","v":""},{"$f":"IF('Terugvordering reiskosten OAH'!H130=\"\",\"\",'Terugvordering reiskosten OAH'!H130)","v":""},{"$f":"IF('Terugvordering reiskosten OAH'!R130=\"\",\"\",'Terugvordering reiskosten OAH'!R130)","v":""},{"$f":"IF('Terugvordering reiskosten OAH'!X130=\"\",\"\",'Terugvordering reiskosten OAH'!X130)","v":""},{"$f":"IF('Terugvordering reiskosten OAH'!AJ130=\"\",\"\",'Terugvordering reiskosten OAH'!AJ130)","v":""},{"$f":"IF('Terugvordering reiskosten OAH'!AR130=\"\",\"\",'Terugvordering reiskosten OAH'!AR130)","v":""},{"$f":"IF('Terugvordering reiskosten OAH'!AY130=\"\",\"\",'Terugvordering reiskosten OAH'!AY130)","v":""},{"$f":"IF('Terugvordering reiskosten OAH'!BC130=0,\"\",'Terugvordering reiskosten OAH'!BC130)","v":""},{"$f":"IF('Terugvordering reiskosten OAH'!BK130=0,\"\",'Terugvordering reiskosten OAH'!BK130)","v":""},{"$f":"IF('Terugvordering reiskosten OAH'!BR130=0,\"\",'Terugvordering reiskosten OAH'!BR130)","v":""},{"$f":"IF('Terugvordering reiskosten OAH'!BZ130=0,\"\",'Terugvordering reiskosten OAH'!BZ130)","v":""},{"$f":"IF('Terugvordering reiskosten OAH'!CG130=\"\",\"\",'Terugvordering reiskosten OAH'!CG130)","v":""},{"$f":"IF('Terugvordering reiskosten OAH'!CM130=0,\"\",'Terugvordering reiskosten OAH'!CM130)","v":""}]
[{"$f":"IF('Terugvordering reiskosten OAH'!D131=\"\",\"\",IF('Terugvordering reiskosten OAH'!$T$36=\"\",\"\",'Terugvordering reiskosten OAH'!$T$36))","v":""},{"$f":"IF(A59=\"\",\"\",'Terugvordering reiskosten OAH'!$T$38)","v":""},{"$f":"IF(A59=\"\",\"\",'gegevensblad samenvatting vord.'!$C$2)","v":""},{"$f":"IF('Terugvordering reiskosten OAH'!D131=\"\",\"\",TEXT('Terugvordering reiskosten OAH'!D131,\"mm-jjjj\"))","v":""},{"$f":"IF('Terugvordering reiskosten OAH'!H131=\"\",\"\",'Terugvordering reiskosten OAH'!H131)","v":""},{"$f":"IF('Terugvordering reiskosten OAH'!R131=\"\",\"\",'Terugvordering reiskosten OAH'!R131)","v":""},{"$f":"IF('Terugvordering reiskosten OAH'!X131=\"\",\"\",'Terugvordering reiskosten OAH'!X131)","v":""},{"$f":"IF('Terugvordering reiskosten OAH'!AJ131=\"\",\"\",'Terugvordering reiskosten OAH'!AJ131)","v":""},{"$f":"IF('Terugvordering reiskosten OAH'!AR131=\"\",\"\",'Terugvordering reiskosten OAH'!AR131)","v":""},{"$f":"IF('Terugvordering reiskosten OAH'!AY131=\"\",\"\",'Terugvordering reiskosten OAH'!AY131)","v":""},{"$f":"IF('Terugvordering reiskosten OAH'!BC131=0,\"\",'Terugvordering reiskosten OAH'!BC131)","v":""},{"$f":"IF('Terugvordering reiskosten OAH'!BK131=0,\"\",'Terugvordering reiskosten OAH'!BK131)","v":""},{"$f":"IF('Terugvordering reiskosten OAH'!BR131=0,\"\",'Terugvordering reiskosten OAH'!BR131)","v":""},{"$f":"IF('Terugvordering reiskosten OAH'!BZ131=0,\"\",'Terugvordering reiskosten OAH'!BZ131)","v":""},{"$f":"IF('Terugvordering reiskosten OAH'!CG131=\"\",\"\",'Terugvordering reiskosten OAH'!CG131)","v":""},{"$f":"IF('Terugvordering reiskosten OAH'!CM131=0,\"\",'Terugvordering reiskosten OAH'!CM131)","v":""}]
[{"$f":"IF('Terugvordering reiskosten OAH'!D132=\"\",\"\",IF('Terugvordering reiskosten OAH'!$T$36=\"\",\"\",'Terugvordering reiskosten OAH'!$T$36))","v":""},{"$f":"IF(A60=\"\",\"\",'Terugvordering reiskosten OAH'!$T$38)","v":""},{"$f":"IF(A60=\"\",\"\",'gegevensblad samenvatting vord.'!$C$2)","v":""},{"$f":"IF('Terugvordering reiskosten OAH'!D132=\"\",\"\",TEXT('Terugvordering reiskosten OAH'!D132,\"mm-jjjj\"))","v":""},{"$f":"IF('Terugvordering reiskosten OAH'!H132=\"\",\"\",'Terugvordering reiskosten OAH'!H132)","v":""},{"$f":"IF('Terugvordering reiskosten OAH'!R132=\"\",\"\",'Terugvordering reiskosten OAH'!R132)","v":""},{"$f":"IF('Terugvordering reiskosten OAH'!X132=\"\",\"\",'Terugvordering reiskosten OAH'!X132)","v":""},{"$f":"IF('Terugvordering reiskosten OAH'!AJ132=\"\",\"\",'Terugvordering reiskosten OAH'!AJ132)","v":""},{"$f":"IF('Terugvordering reiskosten OAH'!AR132=\"\",\"\",'Terugvordering reiskosten OAH'!AR132)","v":""},{"$f":"IF('Terugvordering reiskosten OAH'!AY132=\"\",\"\",'Terugvordering reiskosten OAH'!AY132)","v":""},{"$f":"IF('Terugvordering reiskosten OAH'!BC132=0,\"\",'Terugvordering reiskosten OAH'!BC132)","v":""},{"$f":"IF('Terugvordering reiskosten OAH'!BK132=0,\"\",'Terugvordering reiskosten OAH'!BK132)","v":""},{"$f":"IF('Terugvordering reiskosten OAH'!BR132=0,\"\",'Terugvordering reiskosten OAH'!BR132)","v":""},{"$f":"IF('Terugvordering reiskosten OAH'!BZ132=0,\"\",'Terugvordering reiskosten OAH'!BZ132)","v":""},{"$f":"IF('Terugvordering reiskosten OAH'!CG132=\"\",\"\",'Terugvordering reiskosten OAH'!CG132)","v":""},{"$f":"IF('Terugvordering reiskosten OAH'!CM132=0,\"\",'Terugvordering reiskosten OAH'!CM132)","v":""}]
[{"$f":"IF('Terugvordering reiskosten OAH'!D133=\"\",\"\",IF('Terugvordering reiskosten OAH'!$T$36=\"\",\"\",'Terugvordering reiskosten OAH'!$T$36))","v":""},{"$f":"IF(A61=\"\",\"\",'Terugvordering reiskosten OAH'!$T$38)","v":""},{"$f":"IF(A61=\"\",\"\",'gegevensblad samenvatting vord.'!$C$2)","v":""},{"$f":"IF('Terugvordering reiskosten OAH'!D133=\"\",\"\",TEXT('Terugvordering reiskosten OAH'!D133,\"mm-jjjj\"))","v":""},{"$f":"IF('Terugvordering reiskosten OAH'!H133=\"\",\"\",'Terugvordering reiskosten OAH'!H133)","v":""},{"$f":"IF('Terugvordering reiskosten OAH'!R133=\"\",\"\",'Terugvordering reiskosten OAH'!R133)","v":""},{"$f":"IF('Terugvordering reiskosten OAH'!X133=\"\",\"\",'Terugvordering reiskosten OAH'!X133)","v":""},{"$f":"IF('Terugvordering reiskosten OAH'!AJ133=\"\",\"\",'Terugvordering reiskosten OAH'!AJ133)","v":""},{"$f":"IF('Terugvordering reiskosten OAH'!AR133=\"\",\"\",'Terugvordering reiskosten OAH'!AR133)","v":""},{"$f":"IF('Terugvordering reiskosten OAH'!AY133=\"\",\"\",'Terugvordering reiskosten OAH'!AY133)","v":""},{"$f":"IF('Terugvordering reiskosten OAH'!BC133=0,\"\",'Terugvordering reiskosten OAH'!BC133)","v":""},{"$f":"IF('Terugvordering reiskosten OAH'!BK133=0,\"\",'Terugvordering reiskosten OAH'!BK133)","v":""},{"$f":"IF('Terugvordering reiskosten OAH'!BR133=0,\"\",'Terugvordering reiskosten OAH'!BR133)","v":""},{"$f":"IF('Terugvordering reiskosten OAH'!BZ133=0,\"\",'Terugvordering reiskosten OAH'!BZ133)","v":""},{"$f":"IF('Terugvordering reiskosten OAH'!CG133=\"\",\"\",'Terugvordering reiskosten OAH'!CG133)","v":""},{"$f":"IF('Terugvordering reiskosten OAH'!CM133=0,\"\",'Terugvordering reiskosten OAH'!CM133)","v":""}]
[{"$f":"IF('Terugvordering reiskosten OAH'!D134=\"\",\"\",IF('Terugvordering reiskosten OAH'!$T$36=\"\",\"\",'Terugvordering reiskosten OAH'!$T$36))","v":""},{"$f":"IF(A62=\"\",\"\",'Terugvordering reiskosten OAH'!$T$38)","v":""},{"$f":"IF(A62=\"\",\"\",'gegevensblad samenvatting vord.'!$C$2)","v":""},{"$f":"IF('Terugvordering reiskosten OAH'!D134=\"\",\"\",TEXT('Terugvordering reiskosten OAH'!D134,\"mm-jjjj\"))","v":""},{"$f":"IF('Terugvordering reiskosten OAH'!H134=\"\",\"\",'Terugvordering reiskosten OAH'!H134)","v":""},{"$f":"IF('Terugvordering reiskosten OAH'!R134=\"\",\"\",'Terugvordering reiskosten OAH'!R134)","v":""},{"$f":"IF('Terugvordering reiskosten OAH'!X134=\"\",\"\",'Terugvordering reiskosten OAH'!X134)","v":""},{"$f":"IF('Terugvordering reiskosten OAH'!AJ134=\"\",\"\",'Terugvordering reiskosten OAH'!AJ134)","v":""},{"$f":"IF('Terugvordering reiskosten OAH'!AR134=\"\",\"\",'Terugvordering reiskosten OAH'!AR134)","v":""},{"$f":"IF('Terugvordering reiskosten OAH'!AY134=\"\",\"\",'Terugvordering reiskosten OAH'!AY134)","v":""},{"$f":"IF('Terugvordering reiskosten OAH'!BC134=0,\"\",'Terugvordering reiskosten OAH'!BC134)","v":""},{"$f":"IF('Terugvordering reiskosten OAH'!BK134=0,\"\",'Terugvordering reiskosten OAH'!BK134)","v":""},{"$f":"IF('Terugvordering reiskosten OAH'!BR134=0,\"\",'Terugvordering reiskosten OAH'!BR134)","v":""},{"$f":"IF('Terugvordering reiskosten OAH'!BZ134=0,\"\",'Terugvordering reiskosten OAH'!BZ134)","v":""},{"$f":"IF('Terugvordering reiskosten OAH'!CG134=\"\",\"\",'Terugvordering reiskosten OAH'!CG134)","v":""},{"$f":"IF('Terugvordering reiskosten OAH'!CM134=0,\"\",'Terugvordering reiskosten OAH'!CM134)","v":""}]
[{"$f":"IF('Terugvordering reiskosten OAH'!D135=\"\",\"\",IF('Terugvordering reiskosten OAH'!$T$36=\"\",\"\",'Terugvordering reiskosten OAH'!$T$36))","v":""},{"$f":"IF(A63=\"\",\"\",'Terugvordering reiskosten OAH'!$T$38)","v":""},{"$f":"IF(A63=\"\",\"\",'gegevensblad samenvatting vord.'!$C$2)","v":""},{"$f":"IF('Terugvordering reiskosten OAH'!D135=\"\",\"\",TEXT('Terugvordering reiskosten OAH'!D135,\"mm-jjjj\"))","v":""},{"$f":"IF('Terugvordering reiskosten OAH'!H135=\"\",\"\",'Terugvordering reiskosten OAH'!H135)","v":""},{"$f":"IF('Terugvordering reiskosten OAH'!R135=\"\",\"\",'Terugvordering reiskosten OAH'!R135)","v":""},{"$f":"IF('Terugvordering reiskosten OAH'!X135=\"\",\"\",'Terugvordering reiskosten OAH'!X135)","v":""},{"$f":"IF('Terugvordering reiskosten OAH'!AJ135=\"\",\"\",'Terugvordering reiskosten OAH'!AJ135)","v":""},{"$f":"IF('Terugvordering reiskosten OAH'!AR135=\"\",\"\",'Terugvordering reiskosten OAH'!AR135)","v":""},{"$f":"IF('Terugvordering reiskosten OAH'!AY135=\"\",\"\",'Terugvordering reiskosten OAH'!AY135)","v":""},{"$f":"IF('Terugvordering reiskosten OAH'!BC135=0,\"\",'Terugvordering reiskosten OAH'!BC135)","v":""},{"$f":"IF('Terugvordering reiskosten OAH'!BK135=0,\"\",'Terugvordering reiskosten OAH'!BK135)","v":""},{"$f":"IF('Terugvordering reiskosten OAH'!BR135=0,\"\",'Terugvordering reiskosten OAH'!BR135)","v":""},{"$f":"IF('Terugvordering reiskosten OAH'!BZ135=0,\"\",'Terugvordering reiskosten OAH'!BZ135)","v":""},{"$f":"IF('Terugvordering reiskosten OAH'!CG135=\"\",\"\",'Terugvordering reiskosten OAH'!CG135)","v":""},{"$f":"IF('Terugvordering reiskosten OAH'!CM135=0,\"\",'Terugvordering reiskosten OAH'!CM135)","v":""}]
[{"$f":"IF('Terugvordering reiskosten OAH'!D136=\"\",\"\",IF('Terugvordering reiskosten OAH'!$T$36=\"\",\"\",'Terugvordering reiskosten OAH'!$T$36))","v":""},{"$f":"IF(A64=\"\",\"\",'Terugvordering reiskosten OAH'!$T$38)","v":""},{"$f":"IF(A64=\"\",\"\",'gegevensblad samenvatting vord.'!$C$2)","v":""},{"$f":"IF('Terugvordering reiskosten OAH'!D136=\"\",\"\",TEXT('Terugvordering reiskosten OAH'!D136,\"mm-jjjj\"))","v":""},{"$f":"IF('Terugvordering reiskosten OAH'!H136=\"\",\"\",'Terugvordering reiskosten OAH'!H136)","v":""},{"$f":"IF('Terugvordering reiskosten OAH'!R136=\"\",\"\",'Terugvordering reiskosten OAH'!R136)","v":""},{"$f":"IF('Terugvordering reiskosten OAH'!X136=\"\",\"\",'Terugvordering reiskosten OAH'!X136)","v":""},{"$f":"IF('Terugvordering reiskosten OAH'!AJ136=\"\",\"\",'Terugvordering reiskosten OAH'!AJ136)","v":""},{"$f":"IF('Terugvordering reiskosten OAH'!AR136=\"\",\"\",'Terugvordering reiskosten OAH'!AR136)","v":""},{"$f":"IF('Terugvordering reiskosten OAH'!AY136=\"\",\"\",'Terugvordering reiskosten OAH'!AY136)","v":""},{"$f":"IF('Terugvordering reiskosten OAH'!BC136=0,\"\",'Terugvordering reiskosten OAH'!BC136)","v":""},{"$f":"IF('Terugvordering reiskosten OAH'!BK136=0,\"\",'Terugvordering reiskosten OAH'!BK136)","v":""},{"$f":"IF('Terugvordering reiskosten OAH'!BR136=0,\"\",'Terugvordering reiskosten OAH'!BR136)","v":""},{"$f":"IF('Terugvordering reiskosten OAH'!BZ136=0,\"\",'Terugvordering reiskosten OAH'!BZ136)","v":""},{"$f":"IF('Terugvordering reiskosten OAH'!CG136=\"\",\"\",'Terugvordering reiskosten OAH'!CG136)","v":""},{"$f":"IF('Terugvordering reiskosten OAH'!CM136=0,\"\",'Terugvordering reiskosten OAH'!CM136)","v":""}]
[{"$f":"IF('Terugvordering reiskosten OAH'!D137=\"\",\"\",IF('Terugvordering reiskosten OAH'!$T$36=\"\",\"\",'Terugvordering reiskosten OAH'!$T$36))","v":""},{"$f":"IF(A65=\"\",\"\",'Terugvordering reiskosten OAH'!$T$38)","v":""},{"$f":"IF(A65=\"\",\"\",'gegevensblad samenvatting vord.'!$C$2)","v":""},{"$f":"IF('Terugvordering reiskosten OAH'!D137=\"\",\"\",TEXT('Terugvordering reiskosten OAH'!D137,\"mm-jjjj\"))","v":""},{"$f":"IF('Terugvordering reiskosten OAH'!H137=\"\",\"\",'Terugvordering reiskosten OAH'!H137)","v":""},{"$f":"IF('Terugvordering reiskosten OAH'!R137=\"\",\"\",'Terugvordering reiskosten OAH'!R137)","v":""},{"$f":"IF('Terugvordering reiskosten OAH'!X137=\"\",\"\",'Terugvordering reiskosten OAH'!X137)","v":""},{"$f":"IF('Terugvordering reiskosten OAH'!AJ137=\"\",\"\",'Terugvordering reiskosten OAH'!AJ137)","v":""},{"$f":"IF('Terugvordering reiskosten OAH'!AR137=\"\",\"\",'Terugvordering reiskosten OAH'!AR137)","v":""},{"$f":"IF('Terugvordering reiskosten OAH'!AY137=\"\",\"\",'Terugvordering reiskosten OAH'!AY137)","v":""},{"$f":"IF('Terugvordering reiskosten OAH'!BC137=0,\"\",'Terugvordering reiskosten OAH'!BC137)","v":""},{"$f":"IF('Terugvordering reiskosten OAH'!BK137=0,\"\",'Terugvordering reiskosten OAH'!BK137)","v":""},{"$f":"IF('Terugvordering reiskosten OAH'!BR137=0,\"\",'Terugvordering reiskosten OAH'!BR137)","v":""},{"$f":"IF('Terugvordering reiskosten OAH'!BZ137=0,\"\",'Terugvordering reiskosten OAH'!BZ137)","v":""},{"$f":"IF('Terugvordering reiskosten OAH'!CG137=\"\",\"\",'Terugvordering reiskosten OAH'!CG137)","v":""},{"$f":"IF('Terugvordering reiskosten OAH'!CM137=0,\"\",'Terugvordering reiskosten OAH'!CM137)","v":""}]
[{"$f":"IF('Terugvordering reiskosten OAH'!D138=\"\",\"\",IF('Terugvordering reiskosten OAH'!$T$36=\"\",\"\",'Terugvordering reiskosten OAH'!$T$36))","v":""},{"$f":"IF(A66=\"\",\"\",'Terugvordering reiskosten OAH'!$T$38)","v":""},{"$f":"IF(A66=\"\",\"\",'gegevensblad samenvatting vord.'!$C$2)","v":""},{"$f":"IF('Terugvordering reiskosten OAH'!D138=\"\",\"\",TEXT('Terugvordering reiskosten OAH'!D138,\"mm-jjjj\"))","v":""},{"$f":"IF('Terugvordering reiskosten OAH'!H138=\"\",\"\",'Terugvordering reiskosten OAH'!H138)","v":""},{"$f":"IF('Terugvordering reiskosten OAH'!R138=\"\",\"\",'Terugvordering reiskosten OAH'!R138)","v":""},{"$f":"IF('Terugvordering reiskosten OAH'!X138=\"\",\"\",'Terugvordering reiskosten OAH'!X138)","v":""},{"$f":"IF('Terugvordering reiskosten OAH'!AJ138=\"\",\"\",'Terugvordering reiskosten OAH'!AJ138)","v":""},{"$f":"IF('Terugvordering reiskosten OAH'!AR138=\"\",\"\",'Terugvordering reiskosten OAH'!AR138)","v":""},{"$f":"IF('Terugvordering reiskosten OAH'!AY138=\"\",\"\",'Terugvordering reiskosten OAH'!AY138)","v":""},{"$f":"IF('Terugvordering reiskosten OAH'!BC138=0,\"\",'Terugvordering reiskosten OAH'!BC138)","v":""},{"$f":"IF('Terugvordering reiskosten OAH'!BK138=0,\"\",'Terugvordering reiskosten OAH'!BK138)","v":""},{"$f":"IF('Terugvordering reiskosten OAH'!BR138=0,\"\",'Terugvordering reiskosten OAH'!BR138)","v":""},{"$f":"IF('Terugvordering reiskosten OAH'!BZ138=0,\"\",'Terugvordering reiskosten OAH'!BZ138)","v":""},{"$f":"IF('Terugvordering reiskosten OAH'!CG138=\"\",\"\",'Terugvordering reiskosten OAH'!CG138)","v":""},{"$f":"IF('Terugvordering reiskosten OAH'!CM138=0,\"\",'Terugvordering reiskosten OAH'!CM138)","v":""}]
[{"$f":"IF('Terugvordering reiskosten OAH'!D139=\"\",\"\",IF('Terugvordering reiskosten OAH'!$T$36=\"\",\"\",'Terugvordering reiskosten OAH'!$T$36))","v":""},{"$f":"IF(A67=\"\",\"\",'Terugvordering reiskosten OAH'!$T$38)","v":""},{"$f":"IF(A67=\"\",\"\",'gegevensblad samenvatting vord.'!$C$2)","v":""},{"$f":"IF('Terugvordering reiskosten OAH'!D139=\"\",\"\",TEXT('Terugvordering reiskosten OAH'!D139,\"mm-jjjj\"))","v":""},{"$f":"IF('Terugvordering reiskosten OAH'!H139=\"\",\"\",'Terugvordering reiskosten OAH'!H139)","v":""},{"$f":"IF('Terugvordering reiskosten OAH'!R139=\"\",\"\",'Terugvordering reiskosten OAH'!R139)","v":""},{"$f":"IF('Terugvordering reiskosten OAH'!X139=\"\",\"\",'Terugvordering reiskosten OAH'!X139)","v":""},{"$f":"IF('Terugvordering reiskosten OAH'!AJ139=\"\",\"\",'Terugvordering reiskosten OAH'!AJ139)","v":""},{"$f":"IF('Terugvordering reiskosten OAH'!AR139=\"\",\"\",'Terugvordering reiskosten OAH'!AR139)","v":""},{"$f":"IF('Terugvordering reiskosten OAH'!AY139=\"\",\"\",'Terugvordering reiskosten OAH'!AY139)","v":""},{"$f":"IF('Terugvordering reiskosten OAH'!BC139=0,\"\",'Terugvordering reiskosten OAH'!BC139)","v":""},{"$f":"IF('Terugvordering reiskosten OAH'!BK139=0,\"\",'Terugvordering reiskosten OAH'!BK139)","v":""},{"$f":"IF('Terugvordering reiskosten OAH'!BR139=0,\"\",'Terugvordering reiskosten OAH'!BR139)","v":""},{"$f":"IF('Terugvordering reiskosten OAH'!BZ139=0,\"\",'Terugvordering reiskosten OAH'!BZ139)","v":""},{"$f":"IF('Terugvordering reiskosten OAH'!CG139=\"\",\"\",'Terugvordering reiskosten OAH'!CG139)","v":""},{"$f":"IF('Terugvordering reiskosten OAH'!CM139=0,\"\",'Terugvordering reiskosten OAH'!CM139)","v":""}]
[{"$f":"IF('Terugvordering reiskosten OAH'!D140=\"\",\"\",IF('Terugvordering reiskosten OAH'!$T$36=\"\",\"\",'Terugvordering reiskosten OAH'!$T$36))","v":""},{"$f":"IF(A68=\"\",\"\",'Terugvordering reiskosten OAH'!$T$38)","v":""},{"$f":"IF(A68=\"\",\"\",'gegevensblad samenvatting vord.'!$C$2)","v":""},{"$f":"IF('Terugvordering reiskosten OAH'!D140=\"\",\"\",TEXT('Terugvordering reiskosten OAH'!D140,\"mm-jjjj\"))","v":""},{"$f":"IF('Terugvordering reiskosten OAH'!H140=\"\",\"\",'Terugvordering reiskosten OAH'!H140)","v":""},{"$f":"IF('Terugvordering reiskosten OAH'!R140=\"\",\"\",'Terugvordering reiskosten OAH'!R140)","v":""},{"$f":"IF('Terugvordering reiskosten OAH'!X140=\"\",\"\",'Terugvordering reiskosten OAH'!X140)","v":""},{"$f":"IF('Terugvordering reiskosten OAH'!AJ140=\"\",\"\",'Terugvordering reiskosten OAH'!AJ140)","v":""},{"$f":"IF('Terugvordering reiskosten OAH'!AR140=\"\",\"\",'Terugvordering reiskosten OAH'!AR140)","v":""},{"$f":"IF('Terugvordering reiskosten OAH'!AY140=\"\",\"\",'Terugvordering reiskosten OAH'!AY140)","v":""},{"$f":"IF('Terugvordering reiskosten OAH'!BC140=0,\"\",'Terugvordering reiskosten OAH'!BC140)","v":""},{"$f":"IF('Terugvordering reiskosten OAH'!BK140=0,\"\",'Terugvordering reiskosten OAH'!BK140)","v":""},{"$f":"IF('Terugvordering reiskosten OAH'!BR140=0,\"\",'Terugvordering reiskosten OAH'!BR140)","v":""},{"$f":"IF('Terugvordering reiskosten OAH'!BZ140=0,\"\",'Terugvordering reiskosten OAH'!BZ140)","v":""},{"$f":"IF('Terugvordering reiskosten OAH'!CG140=\"\",\"\",'Terugvordering reiskosten OAH'!CG140)","v":""},{"$f":"IF('Terugvordering reiskosten OAH'!CM140=0,\"\",'Terugvordering reiskosten OAH'!CM140)","v":""}]
[{"$f":"IF('Terugvordering reiskosten OAH'!D141=\"\",\"\",IF('Terugvordering reiskosten OAH'!$T$36=\"\",\"\",'Terugvordering reiskosten OAH'!$T$36))","v":""},{"$f":"IF(A69=\"\",\"\",'Terugvordering reiskosten OAH'!$T$38)","v":""},{"$f":"IF(A69=\"\",\"\",'gegevensblad samenvatting vord.'!$C$2)","v":""},{"$f":"IF('Terugvordering reiskosten OAH'!D141=\"\",\"\",TEXT('Terugvordering reiskosten OAH'!D141,\"mm-jjjj\"))","v":""},{"$f":"IF('Terugvordering reiskosten OAH'!H141=\"\",\"\",'Terugvordering reiskosten OAH'!H141)","v":""},{"$f":"IF('Terugvordering reiskosten OAH'!R141=\"\",\"\",'Terugvordering reiskosten OAH'!R141)","v":""},{"$f":"IF('Terugvordering reiskosten OAH'!X141=\"\",\"\",'Terugvordering reiskosten OAH'!X141)","v":""},{"$f":"IF('Terugvordering reiskosten OAH'!AJ141=\"\",\"\",'Terugvordering reiskosten OAH'!AJ141)","v":""},{"$f":"IF('Terugvordering reiskosten OAH'!AR141=\"\",\"\",'Terugvordering reiskosten OAH'!AR141)","v":""},{"$f":"IF('Terugvordering reiskosten OAH'!AY141=\"\",\"\",'Terugvordering reiskosten OAH'!AY141)","v":""},{"$f":"IF('Terugvordering reiskosten OAH'!BC141=0,\"\",'Terugvordering reiskosten OAH'!BC141)","v":""},{"$f":"IF('Terugvordering reiskosten OAH'!BK141=0,\"\",'Terugvordering reiskosten OAH'!BK141)","v":""},{"$f":"IF('Terugvordering reiskosten OAH'!BR141=0,\"\",'Terugvordering reiskosten OAH'!BR141)","v":""},{"$f":"IF('Terugvordering reiskosten OAH'!BZ141=0,\"\",'Terugvordering reiskosten OAH'!BZ141)","v":""},{"$f":"IF('Terugvordering reiskosten OAH'!CG141=\"\",\"\",'Terugvordering reiskosten OAH'!CG141)","v":""},{"$f":"IF('Terugvordering reiskosten OAH'!CM141=0,\"\",'Terugvordering reiskosten OAH'!CM141)","v":""}]
[{"$f":"IF('Terugvordering reiskosten OAH'!D142=\"\",\"\",IF('Terugvordering reiskosten OAH'!$T$36=\"\",\"\",'Terugvordering reiskosten OAH'!$T$36))","v":""},{"$f":"IF(A70=\"\",\"\",'Terugvordering reiskosten OAH'!$T$38)","v":""},{"$f":"IF(A70=\"\",\"\",'gegevensblad samenvatting vord.'!$C$2)","v":""},{"$f":"IF('Terugvordering reiskosten OAH'!D142=\"\",\"\",TEXT('Terugvordering reiskosten OAH'!D142,\"mm-jjjj\"))","v":""},{"$f":"IF('Terugvordering reiskosten OAH'!H142=\"\",\"\",'Terugvordering reiskosten OAH'!H142)","v":""},{"$f":"IF('Terugvordering reiskosten OAH'!R142=\"\",\"\",'Terugvordering reiskosten OAH'!R142)","v":""},{"$f":"IF('Terugvordering reiskosten OAH'!X142=\"\",\"\",'Terugvordering reiskosten OAH'!X142)","v":""},{"$f":"IF('Terugvordering reiskosten OAH'!AJ142=\"\",\"\",'Terugvordering reiskosten OAH'!AJ142)","v":""},{"$f":"IF('Terugvordering reiskosten OAH'!AR142=\"\",\"\",'Terugvordering reiskosten OAH'!AR142)","v":""},{"$f":"IF('Terugvordering reiskosten OAH'!AY142=\"\",\"\",'Terugvordering reiskosten OAH'!AY142)","v":""},{"$f":"IF('Terugvordering reiskosten OAH'!BC142=0,\"\",'Terugvordering reiskosten OAH'!BC142)","v":""},{"$f":"IF('Terugvordering reiskosten OAH'!BK142=0,\"\",'Terugvordering reiskosten OAH'!BK142)","v":""},{"$f":"IF('Terugvordering reiskosten OAH'!BR142=0,\"\",'Terugvordering reiskosten OAH'!BR142)","v":""},{"$f":"IF('Terugvordering reiskosten OAH'!BZ142=0,\"\",'Terugvordering reiskosten OAH'!BZ142)","v":""},{"$f":"IF('Terugvordering reiskosten OAH'!CG142=\"\",\"\",'Terugvordering reiskosten OAH'!CG142)","v":""},{"$f":"IF('Terugvordering reiskosten OAH'!CM142=0,\"\",'Terugvordering reiskosten OAH'!CM142)","v":""}]
[{"$f":"IF('Terugvordering reiskosten OAH'!D143=\"\",\"\",IF('Terugvordering reiskosten OAH'!$T$36=\"\",\"\",'Terugvordering reiskosten OAH'!$T$36))","v":""},{"$f":"IF(A71=\"\",\"\",'Terugvordering reiskosten OAH'!$T$38)","v":""},{"$f":"IF(A71=\"\",\"\",'gegevensblad samenvatting vord.'!$C$2)","v":""},{"$f":"IF('Terugvordering reiskosten OAH'!D143=\"\",\"\",TEXT('Terugvordering reiskosten OAH'!D143,\"mm-jjjj\"))","v":""},{"$f":"IF('Terugvordering reiskosten OAH'!H143=\"\",\"\",'Terugvordering reiskosten OAH'!H143)","v":""},{"$f":"IF('Terugvordering reiskosten OAH'!R143=\"\",\"\",'Terugvordering reiskosten OAH'!R143)","v":""},{"$f":"IF('Terugvordering reiskosten OAH'!X143=\"\",\"\",'Terugvordering reiskosten OAH'!X143)","v":""},{"$f":"IF('Terugvordering reiskosten OAH'!AJ143=\"\",\"\",'Terugvordering reiskosten OAH'!AJ143)","v":""},{"$f":"IF('Terugvordering reiskosten OAH'!AR143=\"\",\"\",'Terugvordering reiskosten OAH'!AR143)","v":""},{"$f":"IF('Terugvordering reiskosten OAH'!AY143=\"\",\"\",'Terugvordering reiskosten OAH'!AY143)","v":""},{"$f":"IF('Terugvordering reiskosten OAH'!BC143=0,\"\",'Terugvordering reiskosten OAH'!BC143)","v":""},{"$f":"IF('Terugvordering reiskosten OAH'!BK143=0,\"\",'Terugvordering reiskosten OAH'!BK143)","v":""},{"$f":"IF('Terugvordering reiskosten OAH'!BR143=0,\"\",'Terugvordering reiskosten OAH'!BR143)","v":""},{"$f":"IF('Terugvordering reiskosten OAH'!BZ143=0,\"\",'Terugvordering reiskosten OAH'!BZ143)","v":""},{"$f":"IF('Terugvordering reiskosten OAH'!CG143=\"\",\"\",'Terugvordering reiskosten OAH'!CG143)","v":""},{"$f":"IF('Terugvordering reiskosten OAH'!CM143=0,\"\",'Terugvordering reiskosten OAH'!CM143)","v":""}]
[{"$f":"IF('Terugvordering reiskosten OAH'!D144=\"\",\"\",IF('Terugvordering reiskosten OAH'!$T$36=\"\",\"\",'Terugvordering reiskosten OAH'!$T$36))","v":""},{"$f":"IF(A72=\"\",\"\",'Terugvordering reiskosten OAH'!$T$38)","v":""},{"$f":"IF(A72=\"\",\"\",'gegevensblad samenvatting vord.'!$C$2)","v":""},{"$f":"IF('Terugvordering reiskosten OAH'!D144=\"\",\"\",TEXT('Terugvordering reiskosten OAH'!D144,\"mm-jjjj\"))","v":""},{"$f":"IF('Terugvordering reiskosten OAH'!H144=\"\",\"\",'Terugvordering reiskosten OAH'!H144)","v":""},{"$f":"IF('Terugvordering reiskosten OAH'!R144=\"\",\"\",'Terugvordering reiskosten OAH'!R144)","v":""},{"$f":"IF('Terugvordering reiskosten OAH'!X144=\"\",\"\",'Terugvordering reiskosten OAH'!X144)","v":""},{"$f":"IF('Terugvordering reiskosten OAH'!AJ144=\"\",\"\",'Terugvordering reiskosten OAH'!AJ144)","v":""},{"$f":"IF('Terugvordering reiskosten OAH'!AR144=\"\",\"\",'Terugvordering reiskosten OAH'!AR144)","v":""},{"$f":"IF('Terugvordering reiskosten OAH'!AY144=\"\",\"\",'Terugvordering reiskosten OAH'!AY144)","v":""},{"$f":"IF('Terugvordering reiskosten OAH'!BC144=0,\"\",'Terugvordering reiskosten OAH'!BC144)","v":""},{"$f":"IF('Terugvordering reiskosten OAH'!BK144=0,\"\",'Terugvordering reiskosten OAH'!BK144)","v":""},{"$f":"IF('Terugvordering reiskosten OAH'!BR144=0,\"\",'Terugvordering reiskosten OAH'!BR144)","v":""},{"$f":"IF('Terugvordering reiskosten OAH'!BZ144=0,\"\",'Terugvordering reiskosten OAH'!BZ144)","v":""},{"$f":"IF('Terugvordering reiskosten OAH'!CG144=\"\",\"\",'Terugvordering reiskosten OAH'!CG144)","v":""},{"$f":"IF('Terugvordering reiskosten OAH'!CM144=0,\"\",'Terugvordering reiskosten OAH'!CM144)","v":""}]
[{"$f":"IF('Terugvordering reiskosten OAH'!D145=\"\",\"\",IF('Terugvordering reiskosten OAH'!$T$36=\"\",\"\",'Terugvordering reiskosten OAH'!$T$36))","v":""},{"$f":"IF(A73=\"\",\"\",'Terugvordering reiskosten OAH'!$T$38)","v":""},{"$f":"IF(A73=\"\",\"\",'gegevensblad samenvatting vord.'!$C$2)","v":""},{"$f":"IF('Terugvordering reiskosten OAH'!D145=\"\",\"\",TEXT('Terugvordering reiskosten OAH'!D145,\"mm-jjjj\"))","v":""},{"$f":"IF('Terugvordering reiskosten OAH'!H145=\"\",\"\",'Terugvordering reiskosten OAH'!H145)","v":""},{"$f":"IF('Terugvordering reiskosten OAH'!R145=\"\",\"\",'Terugvordering reiskosten OAH'!R145)","v":""},{"$f":"IF('Terugvordering reiskosten OAH'!X145=\"\",\"\",'Terugvordering reiskosten OAH'!X145)","v":""},{"$f":"IF('Terugvordering reiskosten OAH'!AJ145=\"\",\"\",'Terugvordering reiskosten OAH'!AJ145)","v":""},{"$f":"IF('Terugvordering reiskosten OAH'!AR145=\"\",\"\",'Terugvordering reiskosten OAH'!AR145)","v":""},{"$f":"IF('Terugvordering reiskosten OAH'!AY145=\"\",\"\",'Terugvordering reiskosten OAH'!AY145)","v":""},{"$f":"IF('Terugvordering reiskosten OAH'!BC145=0,\"\",'Terugvordering reiskosten OAH'!BC145)","v":""},{"$f":"IF('Terugvordering reiskosten OAH'!BK145=0,\"\",'Terugvordering reiskosten OAH'!BK145)","v":""},{"$f":"IF('Terugvordering reiskosten OAH'!BR145=0,\"\",'Terugvordering reiskosten OAH'!BR145)","v":""},{"$f":"IF('Terugvordering reiskosten OAH'!BZ145=0,\"\",'Terugvordering reiskosten OAH'!BZ145)","v":""},{"$f":"IF('Terugvordering reiskosten OAH'!CG145=\"\",\"\",'Terugvordering reiskosten OAH'!CG145)","v":""},{"$f":"IF('Terugvordering reiskosten OAH'!CM145=0,\"\",'Terugvordering reiskosten OAH'!CM145)","v":""}]
[{"$f":"IF('Terugvordering reiskosten OAH'!D146=\"\",\"\",IF('Terugvordering reiskosten OAH'!$T$36=\"\",\"\",'Terugvordering reiskosten OAH'!$T$36))","v":""},{"$f":"IF(A74=\"\",\"\",'Terugvordering reiskosten OAH'!$T$38)","v":""},{"$f":"IF(A74=\"\",\"\",'gegevensblad samenvatting vord.'!$C$2)","v":""},{"$f":"IF('Terugvordering reiskosten OAH'!D146=\"\",\"\",TEXT('Terugvordering reiskosten OAH'!D146,\"mm-jjjj\"))","v":""},{"$f":"IF('Terugvordering reiskosten OAH'!H146=\"\",\"\",'Terugvordering reiskosten OAH'!H146)","v":""},{"$f":"IF('Terugvordering reiskosten OAH'!R146=\"\",\"\",'Terugvordering reiskosten OAH'!R146)","v":""},{"$f":"IF('Terugvordering reiskosten OAH'!X146=\"\",\"\",'Terugvordering reiskosten OAH'!X146)","v":""},{"$f":"IF('Terugvordering reiskosten OAH'!AJ146=\"\",\"\",'Terugvordering reiskosten OAH'!AJ146)","v":""},{"$f":"IF('Terugvordering reiskosten OAH'!AR146=\"\",\"\",'Terugvordering reiskosten OAH'!AR146)","v":""},{"$f":"IF('Terugvordering reiskosten OAH'!AY146=\"\",\"\",'Terugvordering reiskosten OAH'!AY146)","v":""},{"$f":"IF('Terugvordering reiskosten OAH'!BC146=0,\"\",'Terugvordering reiskosten OAH'!BC146)","v":""},{"$f":"IF('Terugvordering reiskosten OAH'!BK146=0,\"\",'Terugvordering reiskosten OAH'!BK146)","v":""},{"$f":"IF('Terugvordering reiskosten OAH'!BR146=0,\"\",'Terugvordering reiskosten OAH'!BR146)","v":""},{"$f":"IF('Terugvordering reiskosten OAH'!BZ146=0,\"\",'Terugvordering reiskosten OAH'!BZ146)","v":""},{"$f":"IF('Terugvordering reiskosten OAH'!CG146=\"\",\"\",'Terugvordering reiskosten OAH'!CG146)","v":""},{"$f":"IF('Terugvordering reiskosten OAH'!CM146=0,\"\",'Terugvordering reiskosten OAH'!CM146)","v":""}]
[{"$f":"IF('Terugvordering reiskosten OAH'!D147=\"\",\"\",IF('Terugvordering reiskosten OAH'!$T$36=\"\",\"\",'Terugvordering reiskosten OAH'!$T$36))","v":""},{"$f":"IF(A75=\"\",\"\",'Terugvordering reiskosten OAH'!$T$38)","v":""},{"$f":"IF(A75=\"\",\"\",'gegevensblad samenvatting vord.'!$C$2)","v":""},{"$f":"IF('Terugvordering reiskosten OAH'!D147=\"\",\"\",TEXT('Terugvordering reiskosten OAH'!D147,\"mm-jjjj\"))","v":""},{"$f":"IF('Terugvordering reiskosten OAH'!H147=\"\",\"\",'Terugvordering reiskosten OAH'!H147)","v":""},{"$f":"IF('Terugvordering reiskosten OAH'!R147=\"\",\"\",'Terugvordering reiskosten OAH'!R147)","v":""},{"$f":"IF('Terugvordering reiskosten OAH'!X147=\"\",\"\",'Terugvordering reiskosten OAH'!X147)","v":""},{"$f":"IF('Terugvordering reiskosten OAH'!AJ147=\"\",\"\",'Terugvordering reiskosten OAH'!AJ147)","v":""},{"$f":"IF('Terugvordering reiskosten OAH'!AR147=\"\",\"\",'Terugvordering reiskosten OAH'!AR147)","v":""},{"$f":"IF('Terugvordering reiskosten OAH'!AY147=\"\",\"\",'Terugvordering reiskosten OAH'!AY147)","v":""},{"$f":"IF('Terugvordering reiskosten OAH'!BC147=0,\"\",'Terugvordering reiskosten OAH'!BC147)","v":""},{"$f":"IF('Terugvordering reiskosten OAH'!BK147=0,\"\",'Terugvordering reiskosten OAH'!BK147)","v":""},{"$f":"IF('Terugvordering reiskosten OAH'!BR147=0,\"\",'Terugvordering reiskosten OAH'!BR147)","v":""},{"$f":"IF('Terugvordering reiskosten OAH'!BZ147=0,\"\",'Terugvordering reiskosten OAH'!BZ147)","v":""},{"$f":"IF('Terugvordering reiskosten OAH'!CG147=\"\",\"\",'Terugvordering reiskosten OAH'!CG147)","v":""},{"$f":"IF('Terugvordering reiskosten OAH'!CM147=0,\"\",'Terugvordering reiskosten OAH'!CM147)","v":""}]
[{"$f":"IF('Terugvordering reiskosten OAH'!D148=\"\",\"\",IF('Terugvordering reiskosten OAH'!$T$36=\"\",\"\",'Terugvordering reiskosten OAH'!$T$36))","v":""},{"$f":"IF(A76=\"\",\"\",'Terugvordering reiskosten OAH'!$T$38)","v":""},{"$f":"IF(A76=\"\",\"\",'gegevensblad samenvatting vord.'!$C$2)","v":""},{"$f":"IF('Terugvordering reiskosten OAH'!D148=\"\",\"\",TEXT('Terugvordering reiskosten OAH'!D148,\"mm-jjjj\"))","v":""},{"$f":"IF('Terugvordering reiskosten OAH'!H148=\"\",\"\",'Terugvordering reiskosten OAH'!H148)","v":""},{"$f":"IF('Terugvordering reiskosten OAH'!R148=\"\",\"\",'Terugvordering reiskosten OAH'!R148)","v":""},{"$f":"IF('Terugvordering reiskosten OAH'!X148=\"\",\"\",'Terugvordering reiskosten OAH'!X148)","v":""},{"$f":"IF('Terugvordering reiskosten OAH'!AJ148=\"\",\"\",'Terugvordering reiskosten OAH'!AJ148)","v":""},{"$f":"IF('Terugvordering reiskosten OAH'!AR148=\"\",\"\",'Terugvordering reiskosten OAH'!AR148)","v":""},{"$f":"IF('Terugvordering reiskosten OAH'!AY148=\"\",\"\",'Terugvordering reiskosten OAH'!AY148)","v":""},{"$f":"IF('Terugvordering reiskosten OAH'!BC148=0,\"\",'Terugvordering reiskosten OAH'!BC148)","v":""},{"$f":"IF('Terugvordering reiskosten OAH'!BK148=0,\"\",'Terugvordering reiskosten OAH'!BK148)","v":""},{"$f":"IF('Terugvordering reiskosten OAH'!BR148=0,\"\",'Terugvordering reiskosten OAH'!BR148)","v":""},{"$f":"IF('Terugvordering reiskosten OAH'!BZ148=0,\"\",'Terugvordering reiskosten OAH'!BZ148)","v":""},{"$f":"IF('Terugvordering reiskosten OAH'!CG148=\"\",\"\",'Terugvordering reiskosten OAH'!CG148)","v":""},{"$f":"IF('Terugvordering reiskosten OAH'!CM148=0,\"\",'Terugvordering reiskosten OAH'!CM148)","v":""}]
[{"$f":"IF('Terugvordering reiskosten OAH'!D149=\"\",\"\",IF('Terugvordering reiskosten OAH'!$T$36=\"\",\"\",'Terugvordering reiskosten OAH'!$T$36))","v":""},{"$f":"IF(A77=\"\",\"\",'Terugvordering reiskosten OAH'!$T$38)","v":""},{"$f":"IF(A77=\"\",\"\",'gegevensblad samenvatting vord.'!$C$2)","v":""},{"$f":"IF('Terugvordering reiskosten OAH'!D149=\"\",\"\",TEXT('Terugvordering reiskosten OAH'!D149,\"mm-jjjj\"))","v":""},{"$f":"IF('Terugvordering reiskosten OAH'!H149=\"\",\"\",'Terugvordering reiskosten OAH'!H149)","v":""},{"$f":"IF('Terugvordering reiskosten OAH'!R149=\"\",\"\",'Terugvordering reiskosten OAH'!R149)","v":""},{"$f":"IF('Terugvordering reiskosten OAH'!X149=\"\",\"\",'Terugvordering reiskosten OAH'!X149)","v":""},{"$f":"IF('Terugvordering reiskosten OAH'!AJ149=\"\",\"\",'Terugvordering reiskosten OAH'!AJ149)","v":""},{"$f":"IF('Terugvordering reiskosten OAH'!AR149=\"\",\"\",'Terugvordering reiskosten OAH'!AR149)","v":""},{"$f":"IF('Terugvordering reiskosten OAH'!AY149=\"\",\"\",'Terugvordering reiskosten OAH'!AY149)","v":""},{"$f":"IF('Terugvordering reiskosten OAH'!BC149=0,\"\",'Terugvordering reiskosten OAH'!BC149)","v":""},{"$f":"IF('Terugvordering reiskosten OAH'!BK149=0,\"\",'Terugvordering reiskosten OAH'!BK149)","v":""},{"$f":"IF('Terugvordering reiskosten OAH'!BR149=0,\"\",'Terugvordering reiskosten OAH'!BR149)","v":""},{"$f":"IF('Terugvordering reiskosten OAH'!BZ149=0,\"\",'Terugvordering reiskosten OAH'!BZ149)","v":""},{"$f":"IF('Terugvordering reiskosten OAH'!CG149=\"\",\"\",'Terugvordering reiskosten OAH'!CG149)","v":""},{"$f":"IF('Terugvordering reiskosten OAH'!CM149=0,\"\",'Terugvordering reiskosten OAH'!CM149)","v":""}]
[{"$f":"IF('Terugvordering reiskosten OAH'!D150=\"\",\"\",IF('Terugvordering reiskosten OAH'!$T$36=\"\",\"\",'Terugvordering reiskosten OAH'!$T$36))","v":""},{"$f":"IF(A78=\"\",\"\",'Terugvordering reiskosten OAH'!$T$38)","v":""},{"$f":"IF(A78=\"\",\"\",'gegevensblad samenvatting vord.'!$C$2)","v":""},{"$f":"IF('Terugvordering reiskosten OAH'!D150=\"\",\"\",TEXT('Terugvordering reiskosten OAH'!D150,\"mm-jjjj\"))","v":""},{"$f":"IF('Terugvordering reiskosten OAH'!H150=\"\",\"\",'Terugvordering reiskosten OAH'!H150)","v":""},{"$f":"IF('Terugvordering reiskosten OAH'!R150=\"\",\"\",'Terugvordering reiskosten OAH'!R150)","v":""},{"$f":"IF('Terugvordering reiskosten OAH'!X150=\"\",\"\",'Terugvordering reiskosten OAH'!X150)","v":""},{"$f":"IF('Terugvordering reiskosten OAH'!AJ150=\"\",\"\",'Terugvordering reiskosten OAH'!AJ150)","v":""},{"$f":"IF('Terugvordering reiskosten OAH'!AR150=\"\",\"\",'Terugvordering reiskosten OAH'!AR150)","v":""},{"$f":"IF('Terugvordering reiskosten OAH'!AY150=\"\",\"\",'Terugvordering reiskosten OAH'!AY150)","v":""},{"$f":"IF('Terugvordering reiskosten OAH'!BC150=0,\"\",'Terugvordering reiskosten OAH'!BC150)","v":""},{"$f":"IF('Terugvordering reiskosten OAH'!BK150=0,\"\",'Terugvordering reiskosten OAH'!BK150)","v":""},{"$f":"IF('Terugvordering reiskosten OAH'!BR150=0,\"\",'Terugvordering reiskosten OAH'!BR150)","v":""},{"$f":"IF('Terugvordering reiskosten OAH'!BZ150=0,\"\",'Terugvordering reiskosten OAH'!BZ150)","v":""},{"$f":"IF('Terugvordering reiskosten OAH'!CG150=\"\",\"\",'Terugvordering reiskosten OAH'!CG150)","v":""},{"$f":"IF('Terugvordering reiskosten OAH'!CM150=0,\"\",'Terugvordering reiskosten OAH'!CM150)","v":""}]
[{"$f":"IF('Terugvordering reiskosten OAH'!D151=\"\",\"\",IF('Terugvordering reiskosten OAH'!$T$36=\"\",\"\",'Terugvordering reiskosten OAH'!$T$36))","v":""},{"$f":"IF(A79=\"\",\"\",'Terugvordering reiskosten OAH'!$T$38)","v":""},{"$f":"IF(A79=\"\",\"\",'gegevensblad samenvatting vord.'!$C$2)","v":""},{"$f":"IF('Terugvordering reiskosten OAH'!D151=\"\",\"\",TEXT('Terugvordering reiskosten OAH'!D151,\"mm-jjjj\"))","v":""},{"$f":"IF('Terugvordering reiskosten OAH'!H151=\"\",\"\",'Terugvordering reiskosten OAH'!H151)","v":""},{"$f":"IF('Terugvordering reiskosten OAH'!R151=\"\",\"\",'Terugvordering reiskosten OAH'!R151)","v":""},{"$f":"IF('Terugvordering reiskosten OAH'!X151=\"\",\"\",'Terugvordering reiskosten OAH'!X151)","v":""},{"$f":"IF('Terugvordering reiskosten OAH'!AJ151=\"\",\"\",'Terugvordering reiskosten OAH'!AJ151)","v":""},{"$f":"IF('Terugvordering reiskosten OAH'!AR151=\"\",\"\",'Terugvordering reiskosten OAH'!AR151)","v":""},{"$f":"IF('Terugvordering reiskosten OAH'!AY151=\"\",\"\",'Terugvordering reiskosten OAH'!AY151)","v":""},{"$f":"IF('Terugvordering reiskosten OAH'!BC151=0,\"\",'Terugvordering reiskosten OAH'!BC151)","v":""},{"$f":"IF('Terugvordering reiskosten OAH'!BK151=0,\"\",'Terugvordering reiskosten OAH'!BK151)","v":""},{"$f":"IF('Terugvordering reiskosten OAH'!BR151=0,\"\",'Terugvordering reiskosten OAH'!BR151)","v":""},{"$f":"IF('Terugvordering reiskosten OAH'!BZ151=0,\"\",'Terugvordering reiskosten OAH'!BZ151)","v":""},{"$f":"IF('Terugvordering reiskosten OAH'!CG151=\"\",\"\",'Terugvordering reiskosten OAH'!CG151)","v":""},{"$f":"IF('Terugvordering reiskosten OAH'!CM151=0,\"\",'Terugvordering reiskosten OAH'!CM151)","v":""}]
[{"$f":"IF('Terugvordering reiskosten OAH'!D152=\"\",\"\",IF('Terugvordering reiskosten OAH'!$T$36=\"\",\"\",'Terugvordering reiskosten OAH'!$T$36))","v":""},{"$f":"IF(A80=\"\",\"\",'Terugvordering reiskosten OAH'!$T$38)","v":""},{"$f":"IF(A80=\"\",\"\",'gegevensblad samenvatting vord.'!$C$2)","v":""},{"$f":"IF('Terugvordering reiskosten OAH'!D152=\"\",\"\",TEXT('Terugvordering reiskosten OAH'!D152,\"mm-jjjj\"))","v":""},{"$f":"IF('Terugvordering reiskosten OAH'!H152=\"\",\"\",'Terugvordering reiskosten OAH'!H152)","v":""},{"$f":"IF('Terugvordering reiskosten OAH'!R152=\"\",\"\",'Terugvordering reiskosten OAH'!R152)","v":""},{"$f":"IF('Terugvordering reiskosten OAH'!X152=\"\",\"\",'Terugvordering reiskosten OAH'!X152)","v":""},{"$f":"IF('Terugvordering reiskosten OAH'!AJ152=\"\",\"\",'Terugvordering reiskosten OAH'!AJ152)","v":""},{"$f":"IF('Terugvordering reiskosten OAH'!AR152=\"\",\"\",'Terugvordering reiskosten OAH'!AR152)","v":""},{"$f":"IF('Terugvordering reiskosten OAH'!AY152=\"\",\"\",'Terugvordering reiskosten OAH'!AY152)","v":""},{"$f":"IF('Terugvordering reiskosten OAH'!BC152=0,\"\",'Terugvordering reiskosten OAH'!BC152)","v":""},{"$f":"IF('Terugvordering reiskosten OAH'!BK152=0,\"\",'Terugvordering reiskosten OAH'!BK152)","v":""},{"$f":"IF('Terugvordering reiskosten OAH'!BR152=0,\"\",'Terugvordering reiskosten OAH'!BR152)","v":""},{"$f":"IF('Terugvordering reiskosten OAH'!BZ152=0,\"\",'Terugvordering reiskosten OAH'!BZ152)","v":""},{"$f":"IF('Terugvordering reiskosten OAH'!CG152=\"\",\"\",'Terugvordering reiskosten OAH'!CG152)","v":""},{"$f":"IF('Terugvordering reiskosten OAH'!CM152=0,\"\",'Terugvordering reiskosten OAH'!CM152)","v":""}]
[{"$f":"IF('Terugvordering reiskosten OAH'!D153=\"\",\"\",IF('Terugvordering reiskosten OAH'!$T$36=\"\",\"\",'Terugvordering reiskosten OAH'!$T$36))","v":""},{"$f":"IF(A81=\"\",\"\",'Terugvordering reiskosten OAH'!$T$38)","v":""},{"$f":"IF(A81=\"\",\"\",'gegevensblad samenvatting vord.'!$C$2)","v":""},{"$f":"IF('Terugvordering reiskosten OAH'!D153=\"\",\"\",TEXT('Terugvordering reiskosten OAH'!D153,\"mm-jjjj\"))","v":""},{"$f":"IF('Terugvordering reiskosten OAH'!H153=\"\",\"\",'Terugvordering reiskosten OAH'!H153)","v":""},{"$f":"IF('Terugvordering reiskosten OAH'!R153=\"\",\"\",'Terugvordering reiskosten OAH'!R153)","v":""},{"$f":"IF('Terugvordering reiskosten OAH'!X153=\"\",\"\",'Terugvordering reiskosten OAH'!X153)","v":""},{"$f":"IF('Terugvordering reiskosten OAH'!AJ153=\"\",\"\",'Terugvordering reiskosten OAH'!AJ153)","v":""},{"$f":"IF('Terugvordering reiskosten OAH'!AR153=\"\",\"\",'Terugvordering reiskosten OAH'!AR153)","v":""},{"$f":"IF('Terugvordering reiskosten OAH'!AY153=\"\",\"\",'Terugvordering reiskosten OAH'!AY153)","v":""},{"$f":"IF('Terugvordering reiskosten OAH'!BC153=0,\"\",'Terugvordering reiskosten OAH'!BC153)","v":""},{"$f":"IF('Terugvordering reiskosten OAH'!BK153=0,\"\",'Terugvordering reiskosten OAH'!BK153)","v":""},{"$f":"IF('Terugvordering reiskosten OAH'!BR153=0,\"\",'Terugvordering reiskosten OAH'!BR153)","v":""},{"$f":"IF('Terugvordering reiskosten OAH'!BZ153=0,\"\",'Terugvordering reiskosten OAH'!BZ153)","v":""},{"$f":"IF('Terugvordering reiskosten OAH'!CG153=\"\",\"\",'Terugvordering reiskosten OAH'!CG153)","v":""},{"$f":"IF('Terugvordering reiskosten OAH'!CM153=0,\"\",'Terugvordering reiskosten OAH'!CM153)","v":""}]
[{"$f":"IF('Terugvordering reiskosten OAH'!D154=\"\",\"\",IF('Terugvordering reiskosten OAH'!$T$36=\"\",\"\",'Terugvordering reiskosten OAH'!$T$36))","v":""},{"$f":"IF(A82=\"\",\"\",'Terugvordering reiskosten OAH'!$T$38)","v":""},{"$f":"IF(A82=\"\",\"\",'gegevensblad samenvatting vord.'!$C$2)","v":""},{"$f":"IF('Terugvordering reiskosten OAH'!D154=\"\",\"\",TEXT('Terugvordering reiskosten OAH'!D154,\"mm-jjjj\"))","v":""},{"$f":"IF('Terugvordering reiskosten OAH'!H154=\"\",\"\",'Terugvordering reiskosten OAH'!H154)","v":""},{"$f":"IF('Terugvordering reiskosten OAH'!R154=\"\",\"\",'Terugvordering reiskosten OAH'!R154)","v":""},{"$f":"IF('Terugvordering reiskosten OAH'!X154=\"\",\"\",'Terugvordering reiskosten OAH'!X154)","v":""},{"$f":"IF('Terugvordering reiskosten OAH'!AJ154=\"\",\"\",'Terugvordering reiskosten OAH'!AJ154)","v":""},{"$f":"IF('Terugvordering reiskosten OAH'!AR154=\"\",\"\",'Terugvordering reiskosten OAH'!AR154)","v":""},{"$f":"IF('Terugvordering reiskosten OAH'!AY154=\"\",\"\",'Terugvordering reiskosten OAH'!AY154)","v":""},{"$f":"IF('Terugvordering reiskosten OAH'!BC154=0,\"\",'Terugvordering reiskosten OAH'!BC154)","v":""},{"$f":"IF('Terugvordering reiskosten OAH'!BK154=0,\"\",'Terugvordering reiskosten OAH'!BK154)","v":""},{"$f":"IF('Terugvordering reiskosten OAH'!BR154=0,\"\",'Terugvordering reiskosten OAH'!BR154)","v":""},{"$f":"IF('Terugvordering reiskosten OAH'!BZ154=0,\"\",'Terugvordering reiskosten OAH'!BZ154)","v":""},{"$f":"IF('Terugvordering reiskosten OAH'!CG154=\"\",\"\",'Terugvordering reiskosten OAH'!CG154)","v":""},{"$f":"IF('Terugvordering reiskosten OAH'!CM154=0,\"\",'Terugvordering reiskosten OAH'!CM154)","v":""}]
[{"$f":"IF('Terugvordering reiskosten OAH'!D155=\"\",\"\",IF('Terugvordering reiskosten OAH'!$T$36=\"\",\"\",'Terugvordering reiskosten OAH'!$T$36))","v":""},{"$f":"IF(A83=\"\",\"\",'Terugvordering reiskosten OAH'!$T$38)","v":""},{"$f":"IF(A83=\"\",\"\",'gegevensblad samenvatting vord.'!$C$2)","v":""},{"$f":"IF('Terugvordering reiskosten OAH'!D155=\"\",\"\",TEXT('Terugvordering reiskosten OAH'!D155,\"mm-jjjj\"))","v":""},{"$f":"IF('Terugvordering reiskosten OAH'!H155=\"\",\"\",'Terugvordering reiskosten OAH'!H155)","v":""},{"$f":"IF('Terugvordering reiskosten OAH'!R155=\"\",\"\",'Terugvordering reiskosten OAH'!R155)","v":""},{"$f":"IF('Terugvordering reiskosten OAH'!X155=\"\",\"\",'Terugvordering reiskosten OAH'!X155)","v":""},{"$f":"IF('Terugvordering reiskosten OAH'!AJ155=\"\",\"\",'Terugvordering reiskosten OAH'!AJ155)","v":""},{"$f":"IF('Terugvordering reiskosten OAH'!AR155=\"\",\"\",'Terugvordering reiskosten OAH'!AR155)","v":""},{"$f":"IF('Terugvordering reiskosten OAH'!AY155=\"\",\"\",'Terugvordering reiskosten OAH'!AY155)","v":""},{"$f":"IF('Terugvordering reiskosten OAH'!BC155=0,\"\",'Terugvordering reiskosten OAH'!BC155)","v":""},{"$f":"IF('Terugvordering reiskosten OAH'!BK155=0,\"\",'Terugvordering reiskosten OAH'!BK155)","v":""},{"$f":"IF('Terugvordering reiskosten OAH'!BR155=0,\"\",'Terugvordering reiskosten OAH'!BR155)","v":""},{"$f":"IF('Terugvordering reiskosten OAH'!BZ155=0,\"\",'Terugvordering reiskosten OAH'!BZ155)","v":""},{"$f":"IF('Terugvordering reiskosten OAH'!CG155=\"\",\"\",'Terugvordering reiskosten OAH'!CG155)","v":""},{"$f":"IF('Terugvordering reiskosten OAH'!CM155=0,\"\",'Terugvordering reiskosten OAH'!CM155)","v":""}]
[{"$f":"IF('Terugvordering reiskosten OAH'!D156=\"\",\"\",IF('Terugvordering reiskosten OAH'!$T$36=\"\",\"\",'Terugvordering reiskosten OAH'!$T$36))","v":""},{"$f":"IF(A84=\"\",\"\",'Terugvordering reiskosten OAH'!$T$38)","v":""},{"$f":"IF(A84=\"\",\"\",'gegevensblad samenvatting vord.'!$C$2)","v":""},{"$f":"IF('Terugvordering reiskosten OAH'!D156=\"\",\"\",TEXT('Terugvordering reiskosten OAH'!D156,\"mm-jjjj\"))","v":""},{"$f":"IF('Terugvordering reiskosten OAH'!H156=\"\",\"\",'Terugvordering reiskosten OAH'!H156)","v":""},{"$f":"IF('Terugvordering reiskosten OAH'!R156=\"\",\"\",'Terugvordering reiskosten OAH'!R156)","v":""},{"$f":"IF('Terugvordering reiskosten OAH'!X156=\"\",\"\",'Terugvordering reiskosten OAH'!X156)","v":""},{"$f":"IF('Terugvordering reiskosten OAH'!AJ156=\"\",\"\",'Terugvordering reiskosten OAH'!AJ156)","v":""},{"$f":"IF('Terugvordering reiskosten OAH'!AR156=\"\",\"\",'Terugvordering reiskosten OAH'!AR156)","v":""},{"$f":"IF('Terugvordering reiskosten OAH'!AY156=\"\",\"\",'Terugvordering reiskosten OAH'!AY156)","v":""},{"$f":"IF('Terugvordering reiskosten OAH'!BC156=0,\"\",'Terugvordering reiskosten OAH'!BC156)","v":""},{"$f":"IF('Terugvordering reiskosten OAH'!BK156=0,\"\",'Terugvordering reiskosten OAH'!BK156)","v":""},{"$f":"IF('Terugvordering reiskosten OAH'!BR156=0,\"\",'Terugvordering reiskosten OAH'!BR156)","v":""},{"$f":"IF('Terugvordering reiskosten OAH'!BZ156=0,\"\",'Terugvordering reiskosten OAH'!BZ156)","v":""},{"$f":"IF('Terugvordering reiskosten OAH'!CG156=\"\",\"\",'Terugvordering reiskosten OAH'!CG156)","v":""},{"$f":"IF('Terugvordering reiskosten OAH'!CM156=0,\"\",'Terugvordering reiskosten OAH'!CM156)","v":""}]
[{"$f":"IF('Terugvordering reiskosten OAH'!D157=\"\",\"\",IF('Terugvordering reiskosten OAH'!$T$36=\"\",\"\",'Terugvordering reiskosten OAH'!$T$36))","v":""},{"$f":"IF(A85=\"\",\"\",'Terugvordering reiskosten OAH'!$T$38)","v":""},{"$f":"IF(A85=\"\",\"\",'gegevensblad samenvatting vord.'!$C$2)","v":""},{"$f":"IF('Terugvordering reiskosten OAH'!D157=\"\",\"\",TEXT('Terugvordering reiskosten OAH'!D157,\"mm-jjjj\"))","v":""},{"$f":"IF('Terugvordering reiskosten OAH'!H157=\"\",\"\",'Terugvordering reiskosten OAH'!H157)","v":""},{"$f":"IF('Terugvordering reiskosten OAH'!R157=\"\",\"\",'Terugvordering reiskosten OAH'!R157)","v":""},{"$f":"IF('Terugvordering reiskosten OAH'!X157=\"\",\"\",'Terugvordering reiskosten OAH'!X157)","v":""},{"$f":"IF('Terugvordering reiskosten OAH'!AJ157=\"\",\"\",'Terugvordering reiskosten OAH'!AJ157)","v":""},{"$f":"IF('Terugvordering reiskosten OAH'!AR157=\"\",\"\",'Terugvordering reiskosten OAH'!AR157)","v":""},{"$f":"IF('Terugvordering reiskosten OAH'!AY157=\"\",\"\",'Terugvordering reiskosten OAH'!AY157)","v":""},{"$f":"IF('Terugvordering reiskosten OAH'!BC157=0,\"\",'Terugvordering reiskosten OAH'!BC157)","v":""},{"$f":"IF('Terugvordering reiskosten OAH'!BK157=0,\"\",'Terugvordering reiskosten OAH'!BK157)","v":""},{"$f":"IF('Terugvordering reiskosten OAH'!BR157=0,\"\",'Terugvordering reiskosten OAH'!BR157)","v":""},{"$f":"IF('Terugvordering reiskosten OAH'!BZ157=0,\"\",'Terugvordering reiskosten OAH'!BZ157)","v":""},{"$f":"IF('Terugvordering reiskosten OAH'!CG157=\"\",\"\",'Terugvordering reiskosten OAH'!CG157)","v":""},{"$f":"IF('Terugvordering reiskosten OAH'!CM157=0,\"\",'Terugvordering reiskosten OAH'!CM157)","v":""}]
[{"$f":"IF('Terugvordering reiskosten OAH'!D158=\"\",\"\",IF('Terugvordering reiskosten OAH'!$T$36=\"\",\"\",'Terugvordering reiskosten OAH'!$T$36))","v":""},{"$f":"IF(A86=\"\",\"\",'Terugvordering reiskosten OAH'!$T$38)","v":""},{"$f":"IF(A86=\"\",\"\",'gegevensblad samenvatting vord.'!$C$2)","v":""},{"$f":"IF('Terugvordering reiskosten OAH'!D158=\"\",\"\",TEXT('Terugvordering reiskosten OAH'!D158,\"mm-jjjj\"))","v":""},{"$f":"IF('Terugvordering reiskosten OAH'!H158=\"\",\"\",'Terugvordering reiskosten OAH'!H158)","v":""},{"$f":"IF('Terugvordering reiskosten OAH'!R158=\"\",\"\",'Terugvordering reiskosten OAH'!R158)","v":""},{"$f":"IF('Terugvordering reiskosten OAH'!X158=\"\",\"\",'Terugvordering reiskosten OAH'!X158)","v":""},{"$f":"IF('Terugvordering reiskosten OAH'!AJ158=\"\",\"\",'Terugvordering reiskosten OAH'!AJ158)","v":""},{"$f":"IF('Terugvordering reiskosten OAH'!AR158=\"\",\"\",'Terugvordering reiskosten OAH'!AR158)","v":""},{"$f":"IF('Terugvordering reiskosten OAH'!AY158=\"\",\"\",'Terugvordering reiskosten OAH'!AY158)","v":""},{"$f":"IF('Terugvordering reiskosten OAH'!BC158=0,\"\",'Terugvordering reiskosten OAH'!BC158)","v":""},{"$f":"IF('Terugvordering reiskosten OAH'!BK158=0,\"\",'Terugvordering reiskosten OAH'!BK158)","v":""},{"$f":"IF('Terugvordering reiskosten OAH'!BR158=0,\"\",'Terugvordering reiskosten OAH'!BR158)","v":""},{"$f":"IF('Terugvordering reiskosten OAH'!BZ158=0,\"\",'Terugvordering reiskosten OAH'!BZ158)","v":""},{"$f":"IF('Terugvordering reiskosten OAH'!CG158=\"\",\"\",'Terugvordering reiskosten OAH'!CG158)","v":""},{"$f":"IF('Terugvordering reiskosten OAH'!CM158=0,\"\",'Terugvordering reiskosten OAH'!CM158)","v":""}]
[{"$f":"IF('Terugvordering reiskosten OAH'!D159=\"\",\"\",IF('Terugvordering reiskosten OAH'!$T$36=\"\",\"\",'Terugvordering reiskosten OAH'!$T$36))","v":""},{"$f":"IF(A87=\"\",\"\",'Terugvordering reiskosten OAH'!$T$38)","v":""},{"$f":"IF(A87=\"\",\"\",'gegevensblad samenvatting vord.'!$C$2)","v":""},{"$f":"IF('Terugvordering reiskosten OAH'!D159=\"\",\"\",TEXT('Terugvordering reiskosten OAH'!D159,\"mm-jjjj\"))","v":""},{"$f":"IF('Terugvordering reiskosten OAH'!H159=\"\",\"\",'Terugvordering reiskosten OAH'!H159)","v":""},{"$f":"IF('Terugvordering reiskosten OAH'!R159=\"\",\"\",'Terugvordering reiskosten OAH'!R159)","v":""},{"$f":"IF('Terugvordering reiskosten OAH'!X159=\"\",\"\",'Terugvordering reiskosten OAH'!X159)","v":""},{"$f":"IF('Terugvordering reiskosten OAH'!AJ159=\"\",\"\",'Terugvordering reiskosten OAH'!AJ159)","v":""},{"$f":"IF('Terugvordering reiskosten OAH'!AR159=\"\",\"\",'Terugvordering reiskosten OAH'!AR159)","v":""},{"$f":"IF('Terugvordering reiskosten OAH'!AY159=\"\",\"\",'Terugvordering reiskosten OAH'!AY159)","v":""},{"$f":"IF('Terugvordering reiskosten OAH'!BC159=0,\"\",'Terugvordering reiskosten OAH'!BC159)","v":""},{"$f":"IF('Terugvordering reiskosten OAH'!BK159=0,\"\",'Terugvordering reiskosten OAH'!BK159)","v":""},{"$f":"IF('Terugvordering reiskosten OAH'!BR159=0,\"\",'Terugvordering reiskosten OAH'!BR159)","v":""},{"$f":"IF('Terugvordering reiskosten OAH'!BZ159=0,\"\",'Terugvordering reiskosten OAH'!BZ159)","v":""},{"$f":"IF('Terugvordering reiskosten OAH'!CG159=\"\",\"\",'Terugvordering reiskosten OAH'!CG159)","v":""},{"$f":"IF('Terugvordering reiskosten OAH'!CM159=0,\"\",'Terugvordering reiskosten OAH'!CM159)","v":""}]
[{"$f":"IF('Terugvordering reiskosten OAH'!D160=\"\",\"\",IF('Terugvordering reiskosten OAH'!$T$36=\"\",\"\",'Terugvordering reiskosten OAH'!$T$36))","v":""},{"$f":"IF(A88=\"\",\"\",'Terugvordering reiskosten OAH'!$T$38)","v":""},{"$f":"IF(A88=\"\",\"\",'gegevensblad samenvatting vord.'!$C$2)","v":""},{"$f":"IF('Terugvordering reiskosten OAH'!D160=\"\",\"\",TEXT('Terugvordering reiskosten OAH'!D160,\"mm-jjjj\"))","v":""},{"$f":"IF('Terugvordering reiskosten OAH'!H160=\"\",\"\",'Terugvordering reiskosten OAH'!H160)","v":""},{"$f":"IF('Terugvordering reiskosten OAH'!R160=\"\",\"\",'Terugvordering reiskosten OAH'!R160)","v":""},{"$f":"IF('Terugvordering reiskosten OAH'!X160=\"\",\"\",'Terugvordering reiskosten OAH'!X160)","v":""},{"$f":"IF('Terugvordering reiskosten OAH'!AJ160=\"\",\"\",'Terugvordering reiskosten OAH'!AJ160)","v":""},{"$f":"IF('Terugvordering reiskosten OAH'!AR160=\"\",\"\",'Terugvordering reiskosten OAH'!AR160)","v":""},{"$f":"IF('Terugvordering reiskosten OAH'!AY160=\"\",\"\",'Terugvordering reiskosten OAH'!AY160)","v":""},{"$f":"IF('Terugvordering reiskosten OAH'!BC160=0,\"\",'Terugvordering reiskosten OAH'!BC160)","v":""},{"$f":"IF('Terugvordering reiskosten OAH'!BK160=0,\"\",'Terugvordering reiskosten OAH'!BK160)","v":""},{"$f":"IF('Terugvordering reiskosten OAH'!BR160=0,\"\",'Terugvordering reiskosten OAH'!BR160)","v":""},{"$f":"IF('Terugvordering reiskosten OAH'!BZ160=0,\"\",'Terugvordering reiskosten OAH'!BZ160)","v":""},{"$f":"IF('Terugvordering reiskosten OAH'!CG160=\"\",\"\",'Terugvordering reiskosten OAH'!CG160)","v":""},{"$f":"IF('Terugvordering reiskosten OAH'!CM160=0,\"\",'Terugvordering reiskosten OAH'!CM160)","v":""}]
[{"$f":"IF('Terugvordering reiskosten OAH'!D161=\"\",\"\",IF('Terugvordering reiskosten OAH'!$T$36=\"\",\"\",'Terugvordering reiskosten OAH'!$T$36))","v":""},{"$f":"IF(A89=\"\",\"\",'Terugvordering reiskosten OAH'!$T$38)","v":""},{"$f":"IF(A89=\"\",\"\",'gegevensblad samenvatting vord.'!$C$2)","v":""},{"$f":"IF('Terugvordering reiskosten OAH'!D161=\"\",\"\",TEXT('Terugvordering reiskosten OAH'!D161,\"mm-jjjj\"))","v":""},{"$f":"IF('Terugvordering reiskosten OAH'!H161=\"\",\"\",'Terugvordering reiskosten OAH'!H161)","v":""},{"$f":"IF('Terugvordering reiskosten OAH'!R161=\"\",\"\",'Terugvordering reiskosten OAH'!R161)","v":""},{"$f":"IF('Terugvordering reiskosten OAH'!X161=\"\",\"\",'Terugvordering reiskosten OAH'!X161)","v":""},{"$f":"IF('Terugvordering reiskosten OAH'!AJ161=\"\",\"\",'Terugvordering reiskosten OAH'!AJ161)","v":""},{"$f":"IF('Terugvordering reiskosten OAH'!AR161=\"\",\"\",'Terugvordering reiskosten OAH'!AR161)","v":""},{"$f":"IF('Terugvordering reiskosten OAH'!AY161=\"\",\"\",'Terugvordering reiskosten OAH'!AY161)","v":""},{"$f":"IF('Terugvordering reiskosten OAH'!BC161=0,\"\",'Terugvordering reiskosten OAH'!BC161)","v":""},{"$f":"IF('Terugvordering reiskosten OAH'!BK161=0,\"\",'Terugvordering reiskosten OAH'!BK161)","v":""},{"$f":"IF('Terugvordering reiskosten OAH'!BR161=0,\"\",'Terugvordering reiskosten OAH'!BR161)","v":""},{"$f":"IF('Terugvordering reiskosten OAH'!BZ161=0,\"\",'Terugvordering reiskosten OAH'!BZ161)","v":""},{"$f":"IF('Terugvordering reiskosten OAH'!CG161=\"\",\"\",'Terugvordering reiskosten OAH'!CG161)","v":""},{"$f":"IF('Terugvordering reiskosten OAH'!CM161=0,\"\",'Terugvordering reiskosten OAH'!CM161)","v":""}]
[{"$f":"IF('Terugvordering reiskosten OAH'!D162=\"\",\"\",IF('Terugvordering reiskosten OAH'!$T$36=\"\",\"\",'Terugvordering reiskosten OAH'!$T$36))","v":""},{"$f":"IF(A90=\"\",\"\",'Terugvordering reiskosten OAH'!$T$38)","v":""},{"$f":"IF(A90=\"\",\"\",'gegevensblad samenvatting vord.'!$C$2)","v":""},{"$f":"IF('Terugvordering reiskosten OAH'!D162=\"\",\"\",TEXT('Terugvordering reiskosten OAH'!D162,\"mm-jjjj\"))","v":""},{"$f":"IF('Terugvordering reiskosten OAH'!H162=\"\",\"\",'Terugvordering reiskosten OAH'!H162)","v":""},{"$f":"IF('Terugvordering reiskosten OAH'!R162=\"\",\"\",'Terugvordering reiskosten OAH'!R162)","v":""},{"$f":"IF('Terugvordering reiskosten OAH'!X162=\"\",\"\",'Terugvordering reiskosten OAH'!X162)","v":""},{"$f":"IF('Terugvordering reiskosten OAH'!AJ162=\"\",\"\",'Terugvordering reiskosten OAH'!AJ162)","v":""},{"$f":"IF('Terugvordering reiskosten OAH'!AR162=\"\",\"\",'Terugvordering reiskosten OAH'!AR162)","v":""},{"$f":"IF('Terugvordering reiskosten OAH'!AY162=\"\",\"\",'Terugvordering reiskosten OAH'!AY162)","v":""},{"$f":"IF('Terugvordering reiskosten OAH'!BC162=0,\"\",'Terugvordering reiskosten OAH'!BC162)","v":""},{"$f":"IF('Terugvordering reiskosten OAH'!BK162=0,\"\",'Terugvordering reiskosten OAH'!BK162)","v":""},{"$f":"IF('Terugvordering reiskosten OAH'!BR162=0,\"\",'Terugvordering reiskosten OAH'!BR162)","v":""},{"$f":"IF('Terugvordering reiskosten OAH'!BZ162=0,\"\",'Terugvordering reiskosten OAH'!BZ162)","v":""},{"$f":"IF('Terugvordering reiskosten OAH'!CG162=\"\",\"\",'Terugvordering reiskosten OAH'!CG162)","v":""},{"$f":"IF('Terugvordering reiskosten OAH'!CM162=0,\"\",'Terugvordering reiskosten OAH'!CM162)","v":""}]
[{"$f":"IF('Terugvordering reiskosten OAH'!D163=\"\",\"\",IF('Terugvordering reiskosten OAH'!$T$36=\"\",\"\",'Terugvordering reiskosten OAH'!$T$36))","v":""},{"$f":"IF(A91=\"\",\"\",'Terugvordering reiskosten OAH'!$T$38)","v":""},{"$f":"IF(A91=\"\",\"\",'gegevensblad samenvatting vord.'!$C$2)","v":""},{"$f":"IF('Terugvordering reiskosten OAH'!D163=\"\",\"\",TEXT('Terugvordering reiskosten OAH'!D163,\"mm-jjjj\"))","v":""},{"$f":"IF('Terugvordering reiskosten OAH'!H163=\"\",\"\",'Terugvordering reiskosten OAH'!H163)","v":""},{"$f":"IF('Terugvordering reiskosten OAH'!R163=\"\",\"\",'Terugvordering reiskosten OAH'!R163)","v":""},{"$f":"IF('Terugvordering reiskosten OAH'!X163=\"\",\"\",'Terugvordering reiskosten OAH'!X163)","v":""},{"$f":"IF('Terugvordering reiskosten OAH'!AJ163=\"\",\"\",'Terugvordering reiskosten OAH'!AJ163)","v":""},{"$f":"IF('Terugvordering reiskosten OAH'!AR163=\"\",\"\",'Terugvordering reiskosten OAH'!AR163)","v":""},{"$f":"IF('Terugvordering reiskosten OAH'!AY163=\"\",\"\",'Terugvordering reiskosten OAH'!AY163)","v":""},{"$f":"IF('Terugvordering reiskosten OAH'!BC163=0,\"\",'Terugvordering reiskosten OAH'!BC163)","v":""},{"$f":"IF('Terugvordering reiskosten OAH'!BK163=0,\"\",'Terugvordering reiskosten OAH'!BK163)","v":""},{"$f":"IF('Terugvordering reiskosten OAH'!BR163=0,\"\",'Terugvordering reiskosten OAH'!BR163)","v":""},{"$f":"IF('Terugvordering reiskosten OAH'!BZ163=0,\"\",'Terugvordering reiskosten OAH'!BZ163)","v":""},{"$f":"IF('Terugvordering reiskosten OAH'!CG163=\"\",\"\",'Terugvordering reiskosten OAH'!CG163)","v":""},{"$f":"IF('Terugvordering reiskosten OAH'!CM163=0,\"\",'Terugvordering reiskosten OAH'!CM163)","v":""}]
[{"$f":"IF('Terugvordering reiskosten OAH'!D164=\"\",\"\",IF('Terugvordering reiskosten OAH'!$T$36=\"\",\"\",'Terugvordering reiskosten OAH'!$T$36))","v":""},{"$f":"IF(A92=\"\",\"\",'Terugvordering reiskosten OAH'!$T$38)","v":""},{"$f":"IF(A92=\"\",\"\",'gegevensblad samenvatting vord.'!$C$2)","v":""},{"$f":"IF('Terugvordering reiskosten OAH'!D164=\"\",\"\",TEXT('Terugvordering reiskosten OAH'!D164,\"mm-jjjj\"))","v":""},{"$f":"IF('Terugvordering reiskosten OAH'!H164=\"\",\"\",'Terugvordering reiskosten OAH'!H164)","v":""},{"$f":"IF('Terugvordering reiskosten OAH'!R164=\"\",\"\",'Terugvordering reiskosten OAH'!R164)","v":""},{"$f":"IF('Terugvordering reiskosten OAH'!X164=\"\",\"\",'Terugvordering reiskosten OAH'!X164)","v":""},{"$f":"IF('Terugvordering reiskosten OAH'!AJ164=\"\",\"\",'Terugvordering reiskosten OAH'!AJ164)","v":""},{"$f":"IF('Terugvordering reiskosten OAH'!AR164=\"\",\"\",'Terugvordering reiskosten OAH'!AR164)","v":""},{"$f":"IF('Terugvordering reiskosten OAH'!AY164=\"\",\"\",'Terugvordering reiskosten OAH'!AY164)","v":""},{"$f":"IF('Terugvordering reiskosten OAH'!BC164=0,\"\",'Terugvordering reiskosten OAH'!BC164)","v":""},{"$f":"IF('Terugvordering reiskosten OAH'!BK164=0,\"\",'Terugvordering reiskosten OAH'!BK164)","v":""},{"$f":"IF('Terugvordering reiskosten OAH'!BR164=0,\"\",'Terugvordering reiskosten OAH'!BR164)","v":""},{"$f":"IF('Terugvordering reiskosten OAH'!BZ164=0,\"\",'Terugvordering reiskosten OAH'!BZ164)","v":""},{"$f":"IF('Terugvordering reiskosten OAH'!CG164=\"\",\"\",'Terugvordering reiskosten OAH'!CG164)","v":""},{"$f":"IF('Terugvordering reiskosten OAH'!CM164=0,\"\",'Terugvordering reiskosten OAH'!CM164)","v":""}]
[{"$f":"IF('Terugvordering reiskosten OAH'!D165=\"\",\"\",IF('Terugvordering reiskosten OAH'!$T$36=\"\",\"\",'Terugvordering reiskosten OAH'!$T$36))","v":""},{"$f":"IF(A93=\"\",\"\",'Terugvordering reiskosten OAH'!$T$38)","v":""},{"$f":"IF(A93=\"\",\"\",'gegevensblad samenvatting vord.'!$C$2)","v":""},{"$f":"IF('Terugvordering reiskosten OAH'!D165=\"\",\"\",TEXT('Terugvordering reiskosten OAH'!D165,\"mm-jjjj\"))","v":""},{"$f":"IF('Terugvordering reiskosten OAH'!H165=\"\",\"\",'Terugvordering reiskosten OAH'!H165)","v":""},{"$f":"IF('Terugvordering reiskosten OAH'!R165=\"\",\"\",'Terugvordering reiskosten OAH'!R165)","v":""},{"$f":"IF('Terugvordering reiskosten OAH'!X165=\"\",\"\",'Terugvordering reiskosten OAH'!X165)","v":""},{"$f":"IF('Terugvordering reiskosten OAH'!AJ165=\"\",\"\",'Terugvordering reiskosten OAH'!AJ165)","v":""},{"$f":"IF('Terugvordering reiskosten OAH'!AR165=\"\",\"\",'Terugvordering reiskosten OAH'!AR165)","v":""},{"$f":"IF('Terugvordering reiskosten OAH'!AY165=\"\",\"\",'Terugvordering reiskosten OAH'!AY165)","v":""},{"$f":"IF('Terugvordering reiskosten OAH'!BC165=0,\"\",'Terugvordering reiskosten OAH'!BC165)","v":""},{"$f":"IF('Terugvordering reiskosten OAH'!BK165=0,\"\",'Terugvordering reiskosten OAH'!BK165)","v":""},{"$f":"IF('Terugvordering reiskosten OAH'!BR165=0,\"\",'Terugvordering reiskosten OAH'!BR165)","v":""},{"$f":"IF('Terugvordering reiskosten OAH'!BZ165=0,\"\",'Terugvordering reiskosten OAH'!BZ165)","v":""},{"$f":"IF('Terugvordering reiskosten OAH'!CG165=\"\",\"\",'Terugvordering reiskosten OAH'!CG165)","v":""},{"$f":"IF('Terugvordering reiskosten OAH'!CM165=0,\"\",'Terugvordering reiskosten OAH'!CM165)","v":""}]
[{"$f":"IF('Terugvordering reiskosten OAH'!D166=\"\",\"\",IF('Terugvordering reiskosten OAH'!$T$36=\"\",\"\",'Terugvordering reiskosten OAH'!$T$36))","v":""},{"$f":"IF(A94=\"\",\"\",'Terugvordering reiskosten OAH'!$T$38)","v":""},{"$f":"IF(A94=\"\",\"\",'gegevensblad samenvatting vord.'!$C$2)","v":""},{"$f":"IF('Terugvordering reiskosten OAH'!D166=\"\",\"\",TEXT('Terugvordering reiskosten OAH'!D166,\"mm-jjjj\"))","v":""},{"$f":"IF('Terugvordering reiskosten OAH'!H166=\"\",\"\",'Terugvordering reiskosten OAH'!H166)","v":""},{"$f":"IF('Terugvordering reiskosten OAH'!R166=\"\",\"\",'Terugvordering reiskosten OAH'!R166)","v":""},{"$f":"IF('Terugvordering reiskosten OAH'!X166=\"\",\"\",'Terugvordering reiskosten OAH'!X166)","v":""},{"$f":"IF('Terugvordering reiskosten OAH'!AJ166=\"\",\"\",'Terugvordering reiskosten OAH'!AJ166)","v":""},{"$f":"IF('Terugvordering reiskosten OAH'!AR166=\"\",\"\",'Terugvordering reiskosten OAH'!AR166)","v":""},{"$f":"IF('Terugvordering reiskosten OAH'!AY166=\"\",\"\",'Terugvordering reiskosten OAH'!AY166)","v":""},{"$f":"IF('Terugvordering reiskosten OAH'!BC166=0,\"\",'Terugvordering reiskosten OAH'!BC166)","v":""},{"$f":"IF('Terugvordering reiskosten OAH'!BK166=0,\"\",'Terugvordering reiskosten OAH'!BK166)","v":""},{"$f":"IF('Terugvordering reiskosten OAH'!BR166=0,\"\",'Terugvordering reiskosten OAH'!BR166)","v":""},{"$f":"IF('Terugvordering reiskosten OAH'!BZ166=0,\"\",'Terugvordering reiskosten OAH'!BZ166)","v":""},{"$f":"IF('Terugvordering reiskosten OAH'!CG166=\"\",\"\",'Terugvordering reiskosten OAH'!CG166)","v":""},{"$f":"IF('Terugvordering reiskosten OAH'!CM166=0,\"\",'Terugvordering reiskosten OAH'!CM166)","v":""}]
[{"$f":"IF('Terugvordering reiskosten OAH'!D167=\"\",\"\",IF('Terugvordering reiskosten OAH'!$T$36=\"\",\"\",'Terugvordering reiskosten OAH'!$T$36))","v":""},{"$f":"IF(A95=\"\",\"\",'Terugvordering reiskosten OAH'!$T$38)","v":""},{"$f":"IF(A95=\"\",\"\",'gegevensblad samenvatting vord.'!$C$2)","v":""},{"$f":"IF('Terugvordering reiskosten OAH'!D167=\"\",\"\",TEXT('Terugvordering reiskosten OAH'!D167,\"mm-jjjj\"))","v":""},{"$f":"IF('Terugvordering reiskosten OAH'!H167=\"\",\"\",'Terugvordering reiskosten OAH'!H167)","v":""},{"$f":"IF('Terugvordering reiskosten OAH'!R167=\"\",\"\",'Terugvordering reiskosten OAH'!R167)","v":""},{"$f":"IF('Terugvordering reiskosten OAH'!X167=\"\",\"\",'Terugvordering reiskosten OAH'!X167)","v":""},{"$f":"IF('Terugvordering reiskosten OAH'!AJ167=\"\",\"\",'Terugvordering reiskosten OAH'!AJ167)","v":""},{"$f":"IF('Terugvordering reiskosten OAH'!AR167=\"\",\"\",'Terugvordering reiskosten OAH'!AR167)","v":""},{"$f":"IF('Terugvordering reiskosten OAH'!AY167=\"\",\"\",'Terugvordering reiskosten OAH'!AY167)","v":""},{"$f":"IF('Terugvordering reiskosten OAH'!BC167=0,\"\",'Terugvordering reiskosten OAH'!BC167)","v":""},{"$f":"IF('Terugvordering reiskosten OAH'!BK167=0,\"\",'Terugvordering reiskosten OAH'!BK167)","v":""},{"$f":"IF('Terugvordering reiskosten OAH'!BR167=0,\"\",'Terugvordering reiskosten OAH'!BR167)","v":""},{"$f":"IF('Terugvordering reiskosten OAH'!BZ167=0,\"\",'Terugvordering reiskosten OAH'!BZ167)","v":""},{"$f":"IF('Terugvordering reiskosten OAH'!CG167=\"\",\"\",'Terugvordering reiskosten OAH'!CG167)","v":""},{"$f":"IF('Terugvordering reiskosten OAH'!CM167=0,\"\",'Terugvordering reiskosten OAH'!CM167)","v":""}]
[{"$f":"IF('Terugvordering reiskosten OAH'!D168=\"\",\"\",IF('Terugvordering reiskosten OAH'!$T$36=\"\",\"\",'Terugvordering reiskosten OAH'!$T$36))","v":""},{"$f":"IF(A96=\"\",\"\",'Terugvordering reiskosten OAH'!$T$38)","v":""},{"$f":"IF(A96=\"\",\"\",'gegevensblad samenvatting vord.'!$C$2)","v":""},{"$f":"IF('Terugvordering reiskosten OAH'!D168=\"\",\"\",TEXT('Terugvordering reiskosten OAH'!D168,\"mm-jjjj\"))","v":""},{"$f":"IF('Terugvordering reiskosten OAH'!H168=\"\",\"\",'Terugvordering reiskosten OAH'!H168)","v":""},{"$f":"IF('Terugvordering reiskosten OAH'!R168=\"\",\"\",'Terugvordering reiskosten OAH'!R168)","v":""},{"$f":"IF('Terugvordering reiskosten OAH'!X168=\"\",\"\",'Terugvordering reiskosten OAH'!X168)","v":""},{"$f":"IF('Terugvordering reiskosten OAH'!AJ168=\"\",\"\",'Terugvordering reiskosten OAH'!AJ168)","v":""},{"$f":"IF('Terugvordering reiskosten OAH'!AR168=\"\",\"\",'Terugvordering reiskosten OAH'!AR168)","v":""},{"$f":"IF('Terugvordering reiskosten OAH'!AY168=\"\",\"\",'Terugvordering reiskosten OAH'!AY168)","v":""},{"$f":"IF('Terugvordering reiskosten OAH'!BC168=0,\"\",'Terugvordering reiskosten OAH'!BC168)","v":""},{"$f":"IF('Terugvordering reiskosten OAH'!BK168=0,\"\",'Terugvordering reiskosten OAH'!BK168)","v":""},{"$f":"IF('Terugvordering reiskosten OAH'!BR168=0,\"\",'Terugvordering reiskosten OAH'!BR168)","v":""},{"$f":"IF('Terugvordering reiskosten OAH'!BZ168=0,\"\",'Terugvordering reiskosten OAH'!BZ168)","v":""},{"$f":"IF('Terugvordering reiskosten OAH'!CG168=\"\",\"\",'Terugvordering reiskosten OAH'!CG168)","v":""},{"$f":"IF('Terugvordering reiskosten OAH'!CM168=0,\"\",'Terugvordering reiskosten OAH'!CM168)","v":""}]
[{"$f":"IF('Terugvordering reiskosten OAH'!D169=\"\",\"\",IF('Terugvordering reiskosten OAH'!$T$36=\"\",\"\",'Terugvordering reiskosten OAH'!$T$36))","v":""},{"$f":"IF(A97=\"\",\"\",'Terugvordering reiskosten OAH'!$T$38)","v":""},{"$f":"IF(A97=\"\",\"\",'gegevensblad samenvatting vord.'!$C$2)","v":""},{"$f":"IF('Terugvordering reiskosten OAH'!D169=\"\",\"\",TEXT('Terugvordering reiskosten OAH'!D169,\"mm-jjjj\"))","v":""},{"$f":"IF('Terugvordering reiskosten OAH'!H169=\"\",\"\",'Terugvordering reiskosten OAH'!H169)","v":""},{"$f":"IF('Terugvordering reiskosten OAH'!R169=\"\",\"\",'Terugvordering reiskosten OAH'!R169)","v":""},{"$f":"IF('Terugvordering reiskosten OAH'!X169=\"\",\"\",'Terugvordering reiskosten OAH'!X169)","v":""},{"$f":"IF('Terugvordering reiskosten OAH'!AJ169=\"\",\"\",'Terugvordering reiskosten OAH'!AJ169)","v":""},{"$f":"IF('Terugvordering reiskosten OAH'!AR169=\"\",\"\",'Terugvordering reiskosten OAH'!AR169)","v":""},{"$f":"IF('Terugvordering reiskosten OAH'!AY169=\"\",\"\",'Terugvordering reiskosten OAH'!AY169)","v":""},{"$f":"IF('Terugvordering reiskosten OAH'!BC169=0,\"\",'Terugvordering reiskosten OAH'!BC169)","v":""},{"$f":"IF('Terugvordering reiskosten OAH'!BK169=0,\"\",'Terugvordering reiskosten OAH'!BK169)","v":""},{"$f":"IF('Terugvordering reiskosten OAH'!BR169=0,\"\",'Terugvordering reiskosten OAH'!BR169)","v":""},{"$f":"IF('Terugvordering reiskosten OAH'!BZ169=0,\"\",'Terugvordering reiskosten OAH'!BZ169)","v":""},{"$f":"IF('Terugvordering reiskosten OAH'!CG169=\"\",\"\",'Terugvordering reiskosten OAH'!CG169)","v":""},{"$f":"IF('Terugvordering reiskosten OAH'!CM169=0,\"\",'Terugvordering reiskosten OAH'!CM169)","v":""}]
[{"$f":"IF('Terugvordering reiskosten OAH'!D170=\"\",\"\",IF('Terugvordering reiskosten OAH'!$T$36=\"\",\"\",'Terugvordering reiskosten OAH'!$T$36))","v":""},{"$f":"IF(A98=\"\",\"\",'Terugvordering reiskosten OAH'!$T$38)","v":""},{"$f":"IF(A98=\"\",\"\",'gegevensblad samenvatting vord.'!$C$2)","v":""},{"$f":"IF('Terugvordering reiskosten OAH'!D170=\"\",\"\",TEXT('Terugvordering reiskosten OAH'!D170,\"mm-jjjj\"))","v":""},{"$f":"IF('Terugvordering reiskosten OAH'!H170=\"\",\"\",'Terugvordering reiskosten OAH'!H170)","v":""},{"$f":"IF('Terugvordering reiskosten OAH'!R170=\"\",\"\",'Terugvordering reiskosten OAH'!R170)","v":""},{"$f":"IF('Terugvordering reiskosten OAH'!X170=\"\",\"\",'Terugvordering reiskosten OAH'!X170)","v":""},{"$f":"IF('Terugvordering reiskosten OAH'!AJ170=\"\",\"\",'Terugvordering reiskosten OAH'!AJ170)","v":""},{"$f":"IF('Terugvordering reiskosten OAH'!AR170=\"\",\"\",'Terugvordering reiskosten OAH'!AR170)","v":""},{"$f":"IF('Terugvordering reiskosten OAH'!AY170=\"\",\"\",'Terugvordering reiskosten OAH'!AY170)","v":""},{"$f":"IF('Terugvordering reiskosten OAH'!BC170=0,\"\",'Terugvordering reiskosten OAH'!BC170)","v":""},{"$f":"IF('Terugvordering reiskosten OAH'!BK170=0,\"\",'Terugvordering reiskosten OAH'!BK170)","v":""},{"$f":"IF('Terugvordering reiskosten OAH'!BR170=0,\"\",'Terugvordering reiskosten OAH'!BR170)","v":""},{"$f":"IF('Terugvordering reiskosten OAH'!BZ170=0,\"\",'Terugvordering reiskosten OAH'!BZ170)","v":""},{"$f":"IF('Terugvordering reiskosten OAH'!CG170=\"\",\"\",'Terugvordering reiskosten OAH'!CG170)","v":""},{"$f":"IF('Terugvordering reiskosten OAH'!CM170=0,\"\",'Terugvordering reiskosten OAH'!CM170)","v":""}]
[{"$f":"IF('Terugvordering reiskosten OAH'!D171=\"\",\"\",IF('Terugvordering reiskosten OAH'!$T$36=\"\",\"\",'Terugvordering reiskosten OAH'!$T$36))","v":""},{"$f":"IF(A99=\"\",\"\",'Terugvordering reiskosten OAH'!$T$38)","v":""},{"$f":"IF(A99=\"\",\"\",'gegevensblad samenvatting vord.'!$C$2)","v":""},{"$f":"IF('Terugvordering reiskosten OAH'!D171=\"\",\"\",TEXT('Terugvordering reiskosten OAH'!D171,\"mm-jjjj\"))","v":""},{"$f":"IF('Terugvordering reiskosten OAH'!H171=\"\",\"\",'Terugvordering reiskosten OAH'!H171)","v":""},{"$f":"IF('Terugvordering reiskosten OAH'!R171=\"\",\"\",'Terugvordering reiskosten OAH'!R171)","v":""},{"$f":"IF('Terugvordering reiskosten OAH'!X171=\"\",\"\",'Terugvordering reiskosten OAH'!X171)","v":""},{"$f":"IF('Terugvordering reiskosten OAH'!AJ171=\"\",\"\",'Terugvordering reiskosten OAH'!AJ171)","v":""},{"$f":"IF('Terugvordering reiskosten OAH'!AR171=\"\",\"\",'Terugvordering reiskosten OAH'!AR171)","v":""},{"$f":"IF('Terugvordering reiskosten OAH'!AY171=\"\",\"\",'Terugvordering reiskosten OAH'!AY171)","v":""},{"$f":"IF('Terugvordering reiskosten OAH'!BC171=0,\"\",'Terugvordering reiskosten OAH'!BC171)","v":""},{"$f":"IF('Terugvordering reiskosten OAH'!BK171=0,\"\",'Terugvordering reiskosten OAH'!BK171)","v":""},{"$f":"IF('Terugvordering reiskosten OAH'!BR171=0,\"\",'Terugvordering reiskosten OAH'!BR171)","v":""},{"$f":"IF('Terugvordering reiskosten OAH'!BZ171=0,\"\",'Terugvordering reiskosten OAH'!BZ171)","v":""},{"$f":"IF('Terugvordering reiskosten OAH'!CG171=\"\",\"\",'Terugvordering reiskosten OAH'!CG171)","v":""},{"$f":"IF('Terugvordering reiskosten OAH'!CM171=0,\"\",'Terugvordering reiskosten OAH'!CM171)","v":""}]
[{"$f":"IF('Terugvordering reiskosten OAH'!D172=\"\",\"\",IF('Terugvordering reiskosten OAH'!$T$36=\"\",\"\",'Terugvordering reiskosten OAH'!$T$36))","v":""},{"$f":"IF(A100=\"\",\"\",'Terugvordering reiskosten OAH'!$T$38)","v":""},{"$f":"IF(A100=\"\",\"\",'gegevensblad samenvatting vord.'!$C$2)","v":""},{"$f":"IF('Terugvordering reiskosten OAH'!D172=\"\",\"\",TEXT('Terugvordering reiskosten OAH'!D172,\"mm-jjjj\"))","v":""},{"$f":"IF('Terugvordering reiskosten OAH'!H172=\"\",\"\",'Terugvordering reiskosten OAH'!H172)","v":""},{"$f":"IF('Terugvordering reiskosten OAH'!R172=\"\",\"\",'Terugvordering reiskosten OAH'!R172)","v":""},{"$f":"IF('Terugvordering reiskosten OAH'!X172=\"\",\"\",'Terugvordering reiskosten OAH'!X172)","v":""},{"$f":"IF('Terugvordering reiskosten OAH'!AJ172=\"\",\"\",'Terugvordering reiskosten OAH'!AJ172)","v":""},{"$f":"IF('Terugvordering reiskosten OAH'!AR172=\"\",\"\",'Terugvordering reiskosten OAH'!AR172)","v":""},{"$f":"IF('Terugvordering reiskosten OAH'!AY172=\"\",\"\",'Terugvordering reiskosten OAH'!AY172)","v":""},{"$f":"IF('Terugvordering reiskosten OAH'!BC172=0,\"\",'Terugvordering reiskosten OAH'!BC172)","v":""},{"$f":"IF('Terugvordering reiskosten OAH'!BK172=0,\"\",'Terugvordering reiskosten OAH'!BK172)","v":""},{"$f":"IF('Terugvordering reiskosten OAH'!BR172=0,\"\",'Terugvordering reiskosten OAH'!BR172)","v":""},{"$f":"IF('Terugvordering reiskosten OAH'!BZ172=0,\"\",'Terugvordering reiskosten OAH'!BZ172)","v":""},{"$f":"IF('Terugvordering reiskosten OAH'!CG172=\"\",\"\",'Terugvordering reiskosten OAH'!CG172)","v":""},{"$f":"IF('Terugvordering reiskosten OAH'!CM172=0,\"\",'Terugvordering reiskosten OAH'!CM172)","v":""}]
[{"$f":"IF('Terugvordering reiskosten OAH'!D173=\"\",\"\",IF('Terugvordering reiskosten OAH'!$T$36=\"\",\"\",'Terugvordering reiskosten OAH'!$T$36))","v":""},{"$f":"IF(A101=\"\",\"\",'Terugvordering reiskosten OAH'!$T$38)","v":""},{"$f":"IF(A101=\"\",\"\",'gegevensblad samenvatting vord.'!$C$2)","v":""},{"$f":"IF('Terugvordering reiskosten OAH'!D173=\"\",\"\",TEXT('Terugvordering reiskosten OAH'!D173,\"mm-jjjj\"))","v":""},{"$f":"IF('Terugvordering reiskosten OAH'!H173=\"\",\"\",'Terugvordering reiskosten OAH'!H173)","v":""},{"$f":"IF('Terugvordering reiskosten OAH'!R173=\"\",\"\",'Terugvordering reiskosten OAH'!R173)","v":""},{"$f":"IF('Terugvordering reiskosten OAH'!X173=\"\",\"\",'Terugvordering reiskosten OAH'!X173)","v":""},{"$f":"IF('Terugvordering reiskosten OAH'!AJ173=\"\",\"\",'Terugvordering reiskosten OAH'!AJ173)","v":""},{"$f":"IF('Terugvordering reiskosten OAH'!AR173=\"\",\"\",'Terugvordering reiskosten OAH'!AR173)","v":""},{"$f":"IF('Terugvordering reiskosten OAH'!AY173=\"\",\"\",'Terugvordering reiskosten OAH'!AY173)","v":""},{"$f":"IF('Terugvordering reiskosten OAH'!BC173=0,\"\",'Terugvordering reiskosten OAH'!BC173)","v":""},{"$f":"IF('Terugvordering reiskosten OAH'!BK173=0,\"\",'Terugvordering reiskosten OAH'!BK173)","v":""},{"$f":"IF('Terugvordering reiskosten OAH'!BR173=0,\"\",'Terugvordering reiskosten OAH'!BR173)","v":""},{"$f":"IF('Terugvordering reiskosten OAH'!BZ173=0,\"\",'Terugvordering reiskosten OAH'!BZ173)","v":""},{"$f":"IF('Terugvordering reiskosten OAH'!CG173=\"\",\"\",'Terugvordering reiskosten OAH'!CG173)","v":""},{"$f":"IF('Terugvordering reiskosten OAH'!CM173=0,\"\",'Terugvordering reiskosten OAH'!CM173)","v":""}]
[{"$f":"IF('Terugvordering reiskosten OAH'!D174=\"\",\"\",IF('Terugvordering reiskosten OAH'!$T$36=\"\",\"\",'Terugvordering reiskosten OAH'!$T$36))","v":""},{"$f":"IF(A102=\"\",\"\",'Terugvordering reiskosten OAH'!$T$38)","v":""},{"$f":"IF(A102=\"\",\"\",'gegevensblad samenvatting vord.'!$C$2)","v":""},{"$f":"IF('Terugvordering reiskosten OAH'!D174=\"\",\"\",TEXT('Terugvordering reiskosten OAH'!D174,\"mm-jjjj\"))","v":""},{"$f":"IF('Terugvordering reiskosten OAH'!H174=\"\",\"\",'Terugvordering reiskosten OAH'!H174)","v":""},{"$f":"IF('Terugvordering reiskosten OAH'!R174=\"\",\"\",'Terugvordering reiskosten OAH'!R174)","v":""},{"$f":"IF('Terugvordering reiskosten OAH'!X174=\"\",\"\",'Terugvordering reiskosten OAH'!X174)","v":""},{"$f":"IF('Terugvordering reiskosten OAH'!AJ174=\"\",\"\",'Terugvordering reiskosten OAH'!AJ174)","v":""},{"$f":"IF('Terugvordering reiskosten OAH'!AR174=\"\",\"\",'Terugvordering reiskosten OAH'!AR174)","v":""},{"$f":"IF('Terugvordering reiskosten OAH'!AY174=\"\",\"\",'Terugvordering reiskosten OAH'!AY174)","v":""},{"$f":"IF('Terugvordering reiskosten OAH'!BC174=0,\"\",'Terugvordering reiskosten OAH'!BC174)","v":""},{"$f":"IF('Terugvordering reiskosten OAH'!BK174=0,\"\",'Terugvordering reiskosten OAH'!BK174)","v":""},{"$f":"IF('Terugvordering reiskosten OAH'!BR174=0,\"\",'Terugvordering reiskosten OAH'!BR174)","v":""},{"$f":"IF('Terugvordering reiskosten OAH'!BZ174=0,\"\",'Terugvordering reiskosten OAH'!BZ174)","v":""},{"$f":"IF('Terugvordering reiskosten OAH'!CG174=\"\",\"\",'Terugvordering reiskosten OAH'!CG174)","v":""},{"$f":"IF('Terugvordering reiskosten OAH'!CM174=0,\"\",'Terugvordering reiskosten OAH'!CM174)","v":""}]
[{"$f":"IF('Terugvordering reiskosten OAH'!D175=\"\",\"\",IF('Terugvordering reiskosten OAH'!$T$36=\"\",\"\",'Terugvordering reiskosten OAH'!$T$36))","v":""},{"$f":"IF(A103=\"\",\"\",'Terugvordering reiskosten OAH'!$T$38)","v":""},{"$f":"IF(A103=\"\",\"\",'gegevensblad samenvatting vord.'!$C$2)","v":""},{"$f":"IF('Terugvordering reiskosten OAH'!D175=\"\",\"\",TEXT('Terugvordering reiskosten OAH'!D175,\"mm-jjjj\"))","v":""},{"$f":"IF('Terugvordering reiskosten OAH'!H175=\"\",\"\",'Terugvordering reiskosten OAH'!H175)","v":""},{"$f":"IF('Terugvordering reiskosten OAH'!R175=\"\",\"\",'Terugvordering reiskosten OAH'!R175)","v":""},{"$f":"IF('Terugvordering reiskosten OAH'!X175=\"\",\"\",'Terugvordering reiskosten OAH'!X175)","v":""},{"$f":"IF('Terugvordering reiskosten OAH'!AJ175=\"\",\"\",'Terugvordering reiskosten OAH'!AJ175)","v":""},{"$f":"IF('Terugvordering reiskosten OAH'!AR175=\"\",\"\",'Terugvordering reiskosten OAH'!AR175)","v":""},{"$f":"IF('Terugvordering reiskosten OAH'!AY175=\"\",\"\",'Terugvordering reiskosten OAH'!AY175)","v":""},{"$f":"IF('Terugvordering reiskosten OAH'!BC175=0,\"\",'Terugvordering reiskosten OAH'!BC175)","v":""},{"$f":"IF('Terugvordering reiskosten OAH'!BK175=0,\"\",'Terugvordering reiskosten OAH'!BK175)","v":""},{"$f":"IF('Terugvordering reiskosten OAH'!BR175=0,\"\",'Terugvordering reiskosten OAH'!BR175)","v":""},{"$f":"IF('Terugvordering reiskosten OAH'!BZ175=0,\"\",'Terugvordering reiskosten OAH'!BZ175)","v":""},{"$f":"IF('Terugvordering reiskosten OAH'!CG175=\"\",\"\",'Terugvordering reiskosten OAH'!CG175)","v":""},{"$f":"IF('Terugvordering reiskosten OAH'!CM175=0,\"\",'Terugvordering reiskosten OAH'!CM175)","v":""}]
[{"$f":"IF('Terugvordering reiskosten OAH'!D176=\"\",\"\",IF('Terugvordering reiskosten OAH'!$T$36=\"\",\"\",'Terugvordering reiskosten OAH'!$T$36))","v":""},{"$f":"IF(A104=\"\",\"\",'Terugvordering reiskosten OAH'!$T$38)","v":""},{"$f":"IF(A104=\"\",\"\",'gegevensblad samenvatting vord.'!$C$2)","v":""},{"$f":"IF('Terugvordering reiskosten OAH'!D176=\"\",\"\",TEXT('Terugvordering reiskosten OAH'!D176,\"mm-jjjj\"))","v":""},{"$f":"IF('Terugvordering reiskosten OAH'!H176=\"\",\"\",'Terugvordering reiskosten OAH'!H176)","v":""},{"$f":"IF('Terugvordering reiskosten OAH'!R176=\"\",\"\",'Terugvordering reiskosten OAH'!R176)","v":""},{"$f":"IF('Terugvordering reiskosten OAH'!X176=\"\",\"\",'Terugvordering reiskosten OAH'!X176)","v":""},{"$f":"IF('Terugvordering reiskosten OAH'!AJ176=\"\",\"\",'Terugvordering reiskosten OAH'!AJ176)","v":""},{"$f":"IF('Terugvordering reiskosten OAH'!AR176=\"\",\"\",'Terugvordering reiskosten OAH'!AR176)","v":""},{"$f":"IF('Terugvordering reiskosten OAH'!AY176=\"\",\"\",'Terugvordering reiskosten OAH'!AY176)","v":""},{"$f":"IF('Terugvordering reiskosten OAH'!BC176=0,\"\",'Terugvordering reiskosten OAH'!BC176)","v":""},{"$f":"IF('Terugvordering reiskosten OAH'!BK176=0,\"\",'Terugvordering reiskosten OAH'!BK176)","v":""},{"$f":"IF('Terugvordering reiskosten OAH'!BR176=0,\"\",'Terugvordering reiskosten OAH'!BR176)","v":""},{"$f":"IF('Terugvordering reiskosten OAH'!BZ176=0,\"\",'Terugvordering reiskosten OAH'!BZ176)","v":""},{"$f":"IF('Terugvordering reiskosten OAH'!CG176=\"\",\"\",'Terugvordering reiskosten OAH'!CG176)","v":""},{"$f":"IF('Terugvordering reiskosten OAH'!CM176=0,\"\",'Terugvordering reiskosten OAH'!CM176)","v":""}]
[{"$f":"IF('Terugvordering reiskosten OAH'!D177=\"\",\"\",IF('Terugvordering reiskosten OAH'!$T$36=\"\",\"\",'Terugvordering reiskosten OAH'!$T$36))","v":""},{"$f":"IF(A105=\"\",\"\",'Terugvordering reiskosten OAH'!$T$38)","v":""},{"$f":"IF(A105=\"\",\"\",'gegevensblad samenvatting vord.'!$C$2)","v":""},{"$f":"IF('Terugvordering reiskosten OAH'!D177=\"\",\"\",TEXT('Terugvordering reiskosten OAH'!D177,\"mm-jjjj\"))","v":""},{"$f":"IF('Terugvordering reiskosten OAH'!H177=\"\",\"\",'Terugvordering reiskosten OAH'!H177)","v":""},{"$f":"IF('Terugvordering reiskosten OAH'!R177=\"\",\"\",'Terugvordering reiskosten OAH'!R177)","v":""},{"$f":"IF('Terugvordering reiskosten OAH'!X177=\"\",\"\",'Terugvordering reiskosten OAH'!X177)","v":""},{"$f":"IF('Terugvordering reiskosten OAH'!AJ177=\"\",\"\",'Terugvordering reiskosten OAH'!AJ177)","v":""},{"$f":"IF('Terugvordering reiskosten OAH'!AR177=\"\",\"\",'Terugvordering reiskosten OAH'!AR177)","v":""},{"$f":"IF('Terugvordering reiskosten OAH'!AY177=\"\",\"\",'Terugvordering reiskosten OAH'!AY177)","v":""},{"$f":"IF('Terugvordering reiskosten OAH'!BC177=0,\"\",'Terugvordering reiskosten OAH'!BC177)","v":""},{"$f":"IF('Terugvordering reiskosten OAH'!BK177=0,\"\",'Terugvordering reiskosten OAH'!BK177)","v":""},{"$f":"IF('Terugvordering reiskosten OAH'!BR177=0,\"\",'Terugvordering reiskosten OAH'!BR177)","v":""},{"$f":"IF('Terugvordering reiskosten OAH'!BZ177=0,\"\",'Terugvordering reiskosten OAH'!BZ177)","v":""},{"$f":"IF('Terugvordering reiskosten OAH'!CG177=\"\",\"\",'Terugvordering reiskosten OAH'!CG177)","v":""},{"$f":"IF('Terugvordering reiskosten OAH'!CM177=0,\"\",'Terugvordering reiskosten OAH'!CM177)","v":""}]
[{"$f":"IF('Terugvordering reiskosten OAH'!D178=\"\",\"\",IF('Terugvordering reiskosten OAH'!$T$36=\"\",\"\",'Terugvordering reiskosten OAH'!$T$36))","v":""},{"$f":"IF(A106=\"\",\"\",'Terugvordering reiskosten OAH'!$T$38)","v":""},{"$f":"IF(A106=\"\",\"\",'gegevensblad samenvatting vord.'!$C$2)","v":""},{"$f":"IF('Terugvordering reiskosten OAH'!D178=\"\",\"\",TEXT('Terugvordering reiskosten OAH'!D178,\"mm-jjjj\"))","v":""},{"$f":"IF('Terugvordering reiskosten OAH'!H178=\"\",\"\",'Terugvordering reiskosten OAH'!H178)","v":""},{"$f":"IF('Terugvordering reiskosten OAH'!R178=\"\",\"\",'Terugvordering reiskosten OAH'!R178)","v":""},{"$f":"IF('Terugvordering reiskosten OAH'!X178=\"\",\"\",'Terugvordering reiskosten OAH'!X178)","v":""},{"$f":"IF('Terugvordering reiskosten OAH'!AJ178=\"\",\"\",'Terugvordering reiskosten OAH'!AJ178)","v":""},{"$f":"IF('Terugvordering reiskosten OAH'!AR178=\"\",\"\",'Terugvordering reiskosten OAH'!AR178)","v":""},{"$f":"IF('Terugvordering reiskosten OAH'!AY178=\"\",\"\",'Terugvordering reiskosten OAH'!AY178)","v":""},{"$f":"IF('Terugvordering reiskosten OAH'!BC178=0,\"\",'Terugvordering reiskosten OAH'!BC178)","v":""},{"$f":"IF('Terugvordering reiskosten OAH'!BK178=0,\"\",'Terugvordering reiskosten OAH'!BK178)","v":""},{"$f":"IF('Terugvordering reiskosten OAH'!BR178=0,\"\",'Terugvordering reiskosten OAH'!BR178)","v":""},{"$f":"IF('Terugvordering reiskosten OAH'!BZ178=0,\"\",'Terugvordering reiskosten OAH'!BZ178)","v":""},{"$f":"IF('Terugvordering reiskosten OAH'!CG178=\"\",\"\",'Terugvordering reiskosten OAH'!CG178)","v":""},{"$f":"IF('Terugvordering reiskosten OAH'!CM178=0,\"\",'Terugvordering reiskosten OAH'!CM178)","v":""}]
[{"$f":"IF('Terugvordering reiskosten OAH'!D179=\"\",\"\",IF('Terugvordering reiskosten OAH'!$T$36=\"\",\"\",'Terugvordering reiskosten OAH'!$T$36))","v":""},{"$f":"IF(A107=\"\",\"\",'Terugvordering reiskosten OAH'!$T$38)","v":""},{"$f":"IF(A107=\"\",\"\",'gegevensblad samenvatting vord.'!$C$2)","v":""},{"$f":"IF('Terugvordering reiskosten OAH'!D179=\"\",\"\",TEXT('Terugvordering reiskosten OAH'!D179,\"mm-jjjj\"))","v":""},{"$f":"IF('Terugvordering reiskosten OAH'!H179=\"\",\"\",'Terugvordering reiskosten OAH'!H179)","v":""},{"$f":"IF('Terugvordering reiskosten OAH'!R179=\"\",\"\",'Terugvordering reiskosten OAH'!R179)","v":""},{"$f":"IF('Terugvordering reiskosten OAH'!X179=\"\",\"\",'Terugvordering reiskosten OAH'!X179)","v":""},{"$f":"IF('Terugvordering reiskosten OAH'!AJ179=\"\",\"\",'Terugvordering reiskosten OAH'!AJ179)","v":""},{"$f":"IF('Terugvordering reiskosten OAH'!AR179=\"\",\"\",'Terugvordering reiskosten OAH'!AR179)","v":""},{"$f":"IF('Terugvordering reiskosten OAH'!AY179=\"\",\"\",'Terugvordering reiskosten OAH'!AY179)","v":""},{"$f":"IF('Terugvordering reiskosten OAH'!BC179=0,\"\",'Terugvordering reiskosten OAH'!BC179)","v":""},{"$f":"IF('Terugvordering reiskosten OAH'!BK179=0,\"\",'Terugvordering reiskosten OAH'!BK179)","v":""},{"$f":"IF('Terugvordering reiskosten OAH'!BR179=0,\"\",'Terugvordering reiskosten OAH'!BR179)","v":""},{"$f":"IF('Terugvordering reiskosten OAH'!BZ179=0,\"\",'Terugvordering reiskosten OAH'!BZ179)","v":""},{"$f":"IF('Terugvordering reiskosten OAH'!CG179=\"\",\"\",'Terugvordering reiskosten OAH'!CG179)","v":""},{"$f":"IF('Terugvordering reiskosten OAH'!CM179=0,\"\",'Terugvordering reiskosten OAH'!CM179)","v":""}]
[{"$f":"IF('Terugvordering reiskosten OAH'!D180=\"\",\"\",IF('Terugvordering reiskosten OAH'!$T$36=\"\",\"\",'Terugvordering reiskosten OAH'!$T$36))","v":""},{"$f":"IF(A108=\"\",\"\",'Terugvordering reiskosten OAH'!$T$38)","v":""},{"$f":"IF(A108=\"\",\"\",'gegevensblad samenvatting vord.'!$C$2)","v":""},{"$f":"IF('Terugvordering reiskosten OAH'!D180=\"\",\"\",TEXT('Terugvordering reiskosten OAH'!D180,\"mm-jjjj\"))","v":""},{"$f":"IF('Terugvordering reiskosten OAH'!H180=\"\",\"\",'Terugvordering reiskosten OAH'!H180)","v":""},{"$f":"IF('Terugvordering reiskosten OAH'!R180=\"\",\"\",'Terugvordering reiskosten OAH'!R180)","v":""},{"$f":"IF('Terugvordering reiskosten OAH'!X180=\"\",\"\",'Terugvordering reiskosten OAH'!X180)","v":""},{"$f":"IF('Terugvordering reiskosten OAH'!AJ180=\"\",\"\",'Terugvordering reiskosten OAH'!AJ180)","v":""},{"$f":"IF('Terugvordering reiskosten OAH'!AR180=\"\",\"\",'Terugvordering reiskosten OAH'!AR180)","v":""},{"$f":"IF('Terugvordering reiskosten OAH'!AY180=\"\",\"\",'Terugvordering reiskosten OAH'!AY180)","v":""},{"$f":"IF('Terugvordering reiskosten OAH'!BC180=0,\"\",'Terugvordering reiskosten OAH'!BC180)","v":""},{"$f":"IF('Terugvordering reiskosten OAH'!BK180=0,\"\",'Terugvordering reiskosten OAH'!BK180)","v":""},{"$f":"IF('Terugvordering reiskosten OAH'!BR180=0,\"\",'Terugvordering reiskosten OAH'!BR180)","v":""},{"$f":"IF('Terugvordering reiskosten OAH'!BZ180=0,\"\",'Terugvordering reiskosten OAH'!BZ180)","v":""},{"$f":"IF('Terugvordering reiskosten OAH'!CG180=\"\",\"\",'Terugvordering reiskosten OAH'!CG180)","v":""},{"$f":"IF('Terugvordering reiskosten OAH'!CM180=0,\"\",'Terugvordering reiskosten OAH'!CM180)","v":""}]
[{"$f":"IF('Terugvordering reiskosten OAH'!D181=\"\",\"\",IF('Terugvordering reiskosten OAH'!$T$36=\"\",\"\",'Terugvordering reiskosten OAH'!$T$36))","v":""},{"$f":"IF(A109=\"\",\"\",'Terugvordering reiskosten OAH'!$T$38)","v":""},{"$f":"IF(A109=\"\",\"\",'gegevensblad samenvatting vord.'!$C$2)","v":""},{"$f":"IF('Terugvordering reiskosten OAH'!D181=\"\",\"\",TEXT('Terugvordering reiskosten OAH'!D181,\"mm-jjjj\"))","v":""},{"$f":"IF('Terugvordering reiskosten OAH'!H181=\"\",\"\",'Terugvordering reiskosten OAH'!H181)","v":""},{"$f":"IF('Terugvordering reiskosten OAH'!R181=\"\",\"\",'Terugvordering reiskosten OAH'!R181)","v":""},{"$f":"IF('Terugvordering reiskosten OAH'!X181=\"\",\"\",'Terugvordering reiskosten OAH'!X181)","v":""},{"$f":"IF('Terugvordering reiskosten OAH'!AJ181=\"\",\"\",'Terugvordering reiskosten OAH'!AJ181)","v":""},{"$f":"IF('Terugvordering reiskosten OAH'!AR181=\"\",\"\",'Terugvordering reiskosten OAH'!AR181)","v":""},{"$f":"IF('Terugvordering reiskosten OAH'!AY181=\"\",\"\",'Terugvordering reiskosten OAH'!AY181)","v":""},{"$f":"IF('Terugvordering reiskosten OAH'!BC181=0,\"\",'Terugvordering reiskosten OAH'!BC181)","v":""},{"$f":"IF('Terugvordering reiskosten OAH'!BK181=0,\"\",'Terugvordering reiskosten OAH'!BK181)","v":""},{"$f":"IF('Terugvordering reiskosten OAH'!BR181=0,\"\",'Terugvordering reiskosten OAH'!BR181)","v":""},{"$f":"IF('Terugvordering reiskosten OAH'!BZ181=0,\"\",'Terugvordering reiskosten OAH'!BZ181)","v":""},{"$f":"IF('Terugvordering reiskosten OAH'!CG181=\"\",\"\",'Terugvordering reiskosten OAH'!CG181)","v":""},{"$f":"IF('Terugvordering reiskosten OAH'!CM181=0,\"\",'Terugvordering reiskosten OAH'!CM181)","v":""}]
[{"$f":"IF('Terugvordering reiskosten OAH'!D182=\"\",\"\",IF('Terugvordering reiskosten OAH'!$T$36=\"\",\"\",'Terugvordering reiskosten OAH'!$T$36))","v":""},{"$f":"IF(A110=\"\",\"\",'Terugvordering reiskosten OAH'!$T$38)","v":""},{"$f":"IF(A110=\"\",\"\",'gegevensblad samenvatting vord.'!$C$2)","v":""},{"$f":"IF('Terugvordering reiskosten OAH'!D182=\"\",\"\",TEXT('Terugvordering reiskosten OAH'!D182,\"mm-jjjj\"))","v":""},{"$f":"IF('Terugvordering reiskosten OAH'!H182=\"\",\"\",'Terugvordering reiskosten OAH'!H182)","v":""},{"$f":"IF('Terugvordering reiskosten OAH'!R182=\"\",\"\",'Terugvordering reiskosten OAH'!R182)","v":""},{"$f":"IF('Terugvordering reiskosten OAH'!X182=\"\",\"\",'Terugvordering reiskosten OAH'!X182)","v":""},{"$f":"IF('Terugvordering reiskosten OAH'!AJ182=\"\",\"\",'Terugvordering reiskosten OAH'!AJ182)","v":""},{"$f":"IF('Terugvordering reiskosten OAH'!AR182=\"\",\"\",'Terugvordering reiskosten OAH'!AR182)","v":""},{"$f":"IF('Terugvordering reiskosten OAH'!AY182=\"\",\"\",'Terugvordering reiskosten OAH'!AY182)","v":""},{"$f":"IF('Terugvordering reiskosten OAH'!BC182=0,\"\",'Terugvordering reiskosten OAH'!BC182)","v":""},{"$f":"IF('Terugvordering reiskosten OAH'!BK182=0,\"\",'Terugvordering reiskosten OAH'!BK182)","v":""},{"$f":"IF('Terugvordering reiskosten OAH'!BR182=0,\"\",'Terugvordering reiskosten OAH'!BR182)","v":""},{"$f":"IF('Terugvordering reiskosten OAH'!BZ182=0,\"\",'Terugvordering reiskosten OAH'!BZ182)","v":""},{"$f":"IF('Terugvordering reiskosten OAH'!CG182=\"\",\"\",'Terugvordering reiskosten OAH'!CG182)","v":""},{"$f":"IF('Terugvordering reiskosten OAH'!CM182=0,\"\",'Terugvordering reiskosten OAH'!CM182)","v":""}]
[{"$f":"IF('Terugvordering reiskosten OAH'!D183=\"\",\"\",IF('Terugvordering reiskosten OAH'!$T$36=\"\",\"\",'Terugvordering reiskosten OAH'!$T$36))","v":""},{"$f":"IF(A111=\"\",\"\",'Terugvordering reiskosten OAH'!$T$38)","v":""},{"$f":"IF(A111=\"\",\"\",'gegevensblad samenvatting vord.'!$C$2)","v":""},{"$f":"IF('Terugvordering reiskosten OAH'!D183=\"\",\"\",TEXT('Terugvordering reiskosten OAH'!D183,\"mm-jjjj\"))","v":""},{"$f":"IF('Terugvordering reiskosten OAH'!H183=\"\",\"\",'Terugvordering reiskosten OAH'!H183)","v":""},{"$f":"IF('Terugvordering reiskosten OAH'!R183=\"\",\"\",'Terugvordering reiskosten OAH'!R183)","v":""},{"$f":"IF('Terugvordering reiskosten OAH'!X183=\"\",\"\",'Terugvordering reiskosten OAH'!X183)","v":""},{"$f":"IF('Terugvordering reiskosten OAH'!AJ183=\"\",\"\",'Terugvordering reiskosten OAH'!AJ183)","v":""},{"$f":"IF('Terugvordering reiskosten OAH'!AR183=\"\",\"\",'Terugvordering reiskosten OAH'!AR183)","v":""},{"$f":"IF('Terugvordering reiskosten OAH'!AY183=\"\",\"\",'Terugvordering reiskosten OAH'!AY183)","v":""},{"$f":"IF('Terugvordering reiskosten OAH'!BC183=0,\"\",'Terugvordering reiskosten OAH'!BC183)","v":""},{"$f":"IF('Terugvordering reiskosten OAH'!BK183=0,\"\",'Terugvordering reiskosten OAH'!BK183)","v":""},{"$f":"IF('Terugvordering reiskosten OAH'!BR183=0,\"\",'Terugvordering reiskosten OAH'!BR183)","v":""},{"$f":"IF('Terugvordering reiskosten OAH'!BZ183=0,\"\",'Terugvordering reiskosten OAH'!BZ183)","v":""},{"$f":"IF('Terugvordering reiskosten OAH'!CG183=\"\",\"\",'Terugvordering reiskosten OAH'!CG183)","v":""},{"$f":"IF('Terugvordering reiskosten OAH'!CM183=0,\"\",'Terugvordering reiskosten OAH'!CM183)","v":""}]
[{"$f":"IF('Terugvordering reiskosten OAH'!D184=\"\",\"\",IF('Terugvordering reiskosten OAH'!$T$36=\"\",\"\",'Terugvordering reiskosten OAH'!$T$36))","v":""},{"$f":"IF(A112=\"\",\"\",'Terugvordering reiskosten OAH'!$T$38)","v":""},{"$f":"IF(A112=\"\",\"\",'gegevensblad samenvatting vord.'!$C$2)","v":""},{"$f":"IF('Terugvordering reiskosten OAH'!D184=\"\",\"\",TEXT('Terugvordering reiskosten OAH'!D184,\"mm-jjjj\"))","v":""},{"$f":"IF('Terugvordering reiskosten OAH'!H184=\"\",\"\",'Terugvordering reiskosten OAH'!H184)","v":""},{"$f":"IF('Terugvordering reiskosten OAH'!R184=\"\",\"\",'Terugvordering reiskosten OAH'!R184)","v":""},{"$f":"IF('Terugvordering reiskosten OAH'!X184=\"\",\"\",'Terugvordering reiskosten OAH'!X184)","v":""},{"$f":"IF('Terugvordering reiskosten OAH'!AJ184=\"\",\"\",'Terugvordering reiskosten OAH'!AJ184)","v":""},{"$f":"IF('Terugvordering reiskosten OAH'!AR184=\"\",\"\",'Terugvordering reiskosten OAH'!AR184)","v":""},{"$f":"IF('Terugvordering reiskosten OAH'!AY184=\"\",\"\",'Terugvordering reiskosten OAH'!AY184)","v":""},{"$f":"IF('Terugvordering reiskosten OAH'!BC184=0,\"\",'Terugvordering reiskosten OAH'!BC184)","v":""},{"$f":"IF('Terugvordering reiskosten OAH'!BK184=0,\"\",'Terugvordering reiskosten OAH'!BK184)","v":""},{"$f":"IF('Terugvordering reiskosten OAH'!BR184=0,\"\",'Terugvordering reiskosten OAH'!BR184)","v":""},{"$f":"IF('Terugvordering reiskosten OAH'!BZ184=0,\"\",'Terugvordering reiskosten OAH'!BZ184)","v":""},{"$f":"IF('Terugvordering reiskosten OAH'!CG184=\"\",\"\",'Terugvordering reiskosten OAH'!CG184)","v":""},{"$f":"IF('Terugvordering reiskosten OAH'!CM184=0,\"\",'Terugvordering reiskosten OAH'!CM184)","v":""}]
[{"$f":"IF('Terugvordering reiskosten OAH'!D185=\"\",\"\",IF('Terugvordering reiskosten OAH'!$T$36=\"\",\"\",'Terugvordering reiskosten OAH'!$T$36))","v":""},{"$f":"IF(A113=\"\",\"\",'Terugvordering reiskosten OAH'!$T$38)","v":""},{"$f":"IF(A113=\"\",\"\",'gegevensblad samenvatting vord.'!$C$2)","v":""},{"$f":"IF('Terugvordering reiskosten OAH'!D185=\"\",\"\",TEXT('Terugvordering reiskosten OAH'!D185,\"mm-jjjj\"))","v":""},{"$f":"IF('Terugvordering reiskosten OAH'!H185=\"\",\"\",'Terugvordering reiskosten OAH'!H185)","v":""},{"$f":"IF('Terugvordering reiskosten OAH'!R185=\"\",\"\",'Terugvordering reiskosten OAH'!R185)","v":""},{"$f":"IF('Terugvordering reiskosten OAH'!X185=\"\",\"\",'Terugvordering reiskosten OAH'!X185)","v":""},{"$f":"IF('Terugvordering reiskosten OAH'!AJ185=\"\",\"\",'Terugvordering reiskosten OAH'!AJ185)","v":""},{"$f":"IF('Terugvordering reiskosten OAH'!AR185=\"\",\"\",'Terugvordering reiskosten OAH'!AR185)","v":""},{"$f":"IF('Terugvordering reiskosten OAH'!AY185=\"\",\"\",'Terugvordering reiskosten OAH'!AY185)","v":""},{"$f":"IF('Terugvordering reiskosten OAH'!BC185=0,\"\",'Terugvordering reiskosten OAH'!BC185)","v":""},{"$f":"IF('Terugvordering reiskosten OAH'!BK185=0,\"\",'Terugvordering reiskosten OAH'!BK185)","v":""},{"$f":"IF('Terugvordering reiskosten OAH'!BR185=0,\"\",'Terugvordering reiskosten OAH'!BR185)","v":""},{"$f":"IF('Terugvordering reiskosten OAH'!BZ185=0,\"\",'Terugvordering reiskosten OAH'!BZ185)","v":""},{"$f":"IF('Terugvordering reiskosten OAH'!CG185=\"\",\"\",'Terugvordering reiskosten OAH'!CG185)","v":""},{"$f":"IF('Terugvordering reiskosten OAH'!CM185=0,\"\",'Terugvordering reiskosten OAH'!CM185)","v":""}]
[{"$f":"IF('Terugvordering reiskosten OAH'!D186=\"\",\"\",IF('Terugvordering reiskosten OAH'!$T$36=\"\",\"\",'Terugvordering reiskosten OAH'!$T$36))","v":""},{"$f":"IF(A114=\"\",\"\",'Terugvordering reiskosten OAH'!$T$38)","v":""},{"$f":"IF(A114=\"\",\"\",'gegevensblad samenvatting vord.'!$C$2)","v":""},{"$f":"IF('Terugvordering reiskosten OAH'!D186=\"\",\"\",TEXT('Terugvordering reiskosten OAH'!D186,\"mm-jjjj\"))","v":""},{"$f":"IF('Terugvordering reiskosten OAH'!H186=\"\",\"\",'Terugvordering reiskosten OAH'!H186)","v":""},{"$f":"IF('Terugvordering reiskosten OAH'!R186=\"\",\"\",'Terugvordering reiskosten OAH'!R186)","v":""},{"$f":"IF('Terugvordering reiskosten OAH'!X186=\"\",\"\",'Terugvordering reiskosten OAH'!X186)","v":""},{"$f":"IF('Terugvordering reiskosten OAH'!AJ186=\"\",\"\",'Terugvordering reiskosten OAH'!AJ186)","v":""},{"$f":"IF('Terugvordering reiskosten OAH'!AR186=\"\",\"\",'Terugvordering reiskosten OAH'!AR186)","v":""},{"$f":"IF('Terugvordering reiskosten OAH'!AY186=\"\",\"\",'Terugvordering reiskosten OAH'!AY186)","v":""},{"$f":"IF('Terugvordering reiskosten OAH'!BC186=0,\"\",'Terugvordering reiskosten OAH'!BC186)","v":""},{"$f":"IF('Terugvordering reiskosten OAH'!BK186=0,\"\",'Terugvordering reiskosten OAH'!BK186)","v":""},{"$f":"IF('Terugvordering reiskosten OAH'!BR186=0,\"\",'Terugvordering reiskosten OAH'!BR186)","v":""},{"$f":"IF('Terugvordering reiskosten OAH'!BZ186=0,\"\",'Terugvordering reiskosten OAH'!BZ186)","v":""},{"$f":"IF('Terugvordering reiskosten OAH'!CG186=\"\",\"\",'Terugvordering reiskosten OAH'!CG186)","v":""},{"$f":"IF('Terugvordering reiskosten OAH'!CM186=0,\"\",'Terugvordering reiskosten OAH'!CM186)","v":""}]
[{"$f":"IF('Terugvordering reiskosten OAH'!D187=\"\",\"\",IF('Terugvordering reiskosten OAH'!$T$36=\"\",\"\",'Terugvordering reiskosten OAH'!$T$36))","v":""},{"$f":"IF(A115=\"\",\"\",'Terugvordering reiskosten OAH'!$T$38)","v":""},{"$f":"IF(A115=\"\",\"\",'gegevensblad samenvatting vord.'!$C$2)","v":""},{"$f":"IF('Terugvordering reiskosten OAH'!D187=\"\",\"\",TEXT('Terugvordering reiskosten OAH'!D187,\"mm-jjjj\"))","v":""},{"$f":"IF('Terugvordering reiskosten OAH'!H187=\"\",\"\",'Terugvordering reiskosten OAH'!H187)","v":""},{"$f":"IF('Terugvordering reiskosten OAH'!R187=\"\",\"\",'Terugvordering reiskosten OAH'!R187)","v":""},{"$f":"IF('Terugvordering reiskosten OAH'!X187=\"\",\"\",'Terugvordering reiskosten OAH'!X187)","v":""},{"$f":"IF('Terugvordering reiskosten OAH'!AJ187=\"\",\"\",'Terugvordering reiskosten OAH'!AJ187)","v":""},{"$f":"IF('Terugvordering reiskosten OAH'!AR187=\"\",\"\",'Terugvordering reiskosten OAH'!AR187)","v":""},{"$f":"IF('Terugvordering reiskosten OAH'!AY187=\"\",\"\",'Terugvordering reiskosten OAH'!AY187)","v":""},{"$f":"IF('Terugvordering reiskosten OAH'!BC187=0,\"\",'Terugvordering reiskosten OAH'!BC187)","v":""},{"$f":"IF('Terugvordering reiskosten OAH'!BK187=0,\"\",'Terugvordering reiskosten OAH'!BK187)","v":""},{"$f":"IF('Terugvordering reiskosten OAH'!BR187=0,\"\",'Terugvordering reiskosten OAH'!BR187)","v":""},{"$f":"IF('Terugvordering reiskosten OAH'!BZ187=0,\"\",'Terugvordering reiskosten OAH'!BZ187)","v":""},{"$f":"IF('Terugvordering reiskosten OAH'!CG187=\"\",\"\",'Terugvordering reiskosten OAH'!CG187)","v":""},{"$f":"IF('Terugvordering reiskosten OAH'!CM187=0,\"\",'Terugvordering reiskosten OAH'!CM187)","v":""}]
[{"$f":"IF('Terugvordering reiskosten OAH'!D188=\"\",\"\",IF('Terugvordering reiskosten OAH'!$T$36=\"\",\"\",'Terugvordering reiskosten OAH'!$T$36))","v":""},{"$f":"IF(A116=\"\",\"\",'Terugvordering reiskosten OAH'!$T$38)","v":""},{"$f":"IF(A116=\"\",\"\",'gegevensblad samenvatting vord.'!$C$2)","v":""},{"$f":"IF('Terugvordering reiskosten OAH'!D188=\"\",\"\",TEXT('Terugvordering reiskosten OAH'!D188,\"mm-jjjj\"))","v":""},{"$f":"IF('Terugvordering reiskosten OAH'!H188=\"\",\"\",'Terugvordering reiskosten OAH'!H188)","v":""},{"$f":"IF('Terugvordering reiskosten OAH'!R188=\"\",\"\",'Terugvordering reiskosten OAH'!R188)","v":""},{"$f":"IF('Terugvordering reiskosten OAH'!X188=\"\",\"\",'Terugvordering reiskosten OAH'!X188)","v":""},{"$f":"IF('Terugvordering reiskosten OAH'!AJ188=\"\",\"\",'Terugvordering reiskosten OAH'!AJ188)","v":""},{"$f":"IF('Terugvordering reiskosten OAH'!AR188=\"\",\"\",'Terugvordering reiskosten OAH'!AR188)","v":""},{"$f":"IF('Terugvordering reiskosten OAH'!AY188=\"\",\"\",'Terugvordering reiskosten OAH'!AY188)","v":""},{"$f":"IF('Terugvordering reiskosten OAH'!BC188=0,\"\",'Terugvordering reiskosten OAH'!BC188)","v":""},{"$f":"IF('Terugvordering reiskosten OAH'!BK188=0,\"\",'Terugvordering reiskosten OAH'!BK188)","v":""},{"$f":"IF('Terugvordering reiskosten OAH'!BR188=0,\"\",'Terugvordering reiskosten OAH'!BR188)","v":""},{"$f":"IF('Terugvordering reiskosten OAH'!BZ188=0,\"\",'Terugvordering reiskosten OAH'!BZ188)","v":""},{"$f":"IF('Terugvordering reiskosten OAH'!CG188=\"\",\"\",'Terugvordering reiskosten OAH'!CG188)","v":""},{"$f":"IF('Terugvordering reiskosten OAH'!CM188=0,\"\",'Terugvordering reiskosten OAH'!CM188)","v":""}]
[{"$f":"IF('Terugvordering reiskosten OAH'!D189=\"\",\"\",IF('Terugvordering reiskosten OAH'!$T$36=\"\",\"\",'Terugvordering reiskosten OAH'!$T$36))","v":""},{"$f":"IF(A117=\"\",\"\",'Terugvordering reiskosten OAH'!$T$38)","v":""},{"$f":"IF(A117=\"\",\"\",'gegevensblad samenvatting vord.'!$C$2)","v":""},{"$f":"IF('Terugvordering reiskosten OAH'!D189=\"\",\"\",TEXT('Terugvordering reiskosten OAH'!D189,\"mm-jjjj\"))","v":""},{"$f":"IF('Terugvordering reiskosten OAH'!H189=\"\",\"\",'Terugvordering reiskosten OAH'!H189)","v":""},{"$f":"IF('Terugvordering reiskosten OAH'!R189=\"\",\"\",'Terugvordering reiskosten OAH'!R189)","v":""},{"$f":"IF('Terugvordering reiskosten OAH'!X189=\"\",\"\",'Terugvordering reiskosten OAH'!X189)","v":""},{"$f":"IF('Terugvordering reiskosten OAH'!AJ189=\"\",\"\",'Terugvordering reiskosten OAH'!AJ189)","v":""},{"$f":"IF('Terugvordering reiskosten OAH'!AR189=\"\",\"\",'Terugvordering reiskosten OAH'!AR189)","v":""},{"$f":"IF('Terugvordering reiskosten OAH'!AY189=\"\",\"\",'Terugvordering reiskosten OAH'!AY189)","v":""},{"$f":"IF('Terugvordering reiskosten OAH'!BC189=0,\"\",'Terugvordering reiskosten OAH'!BC189)","v":""},{"$f":"IF('Terugvordering reiskosten OAH'!BK189=0,\"\",'Terugvordering reiskosten OAH'!BK189)","v":""},{"$f":"IF('Terugvordering reiskosten OAH'!BR189=0,\"\",'Terugvordering reiskosten OAH'!BR189)","v":""},{"$f":"IF('Terugvordering reiskosten OAH'!BZ189=0,\"\",'Terugvordering reiskosten OAH'!BZ189)","v":""},{"$f":"IF('Terugvordering reiskosten OAH'!CG189=\"\",\"\",'Terugvordering reiskosten OAH'!CG189)","v":""},{"$f":"IF('Terugvordering reiskosten OAH'!CM189=0,\"\",'Terugvordering reiskosten OAH'!CM189)","v":""}]
[{"$f":"IF('Terugvordering reiskosten OAH'!D190=\"\",\"\",IF('Terugvordering reiskosten OAH'!$T$36=\"\",\"\",'Terugvordering reiskosten OAH'!$T$36))","v":""},{"$f":"IF(A118=\"\",\"\",'Terugvordering reiskosten OAH'!$T$38)","v":""},{"$f":"IF(A118=\"\",\"\",'gegevensblad samenvatting vord.'!$C$2)","v":""},{"$f":"IF('Terugvordering reiskosten OAH'!D190=\"\",\"\",TEXT('Terugvordering reiskosten OAH'!D190,\"mm-jjjj\"))","v":""},{"$f":"IF('Terugvordering reiskosten OAH'!H190=\"\",\"\",'Terugvordering reiskosten OAH'!H190)","v":""},{"$f":"IF('Terugvordering reiskosten OAH'!R190=\"\",\"\",'Terugvordering reiskosten OAH'!R190)","v":""},{"$f":"IF('Terugvordering reiskosten OAH'!X190=\"\",\"\",'Terugvordering reiskosten OAH'!X190)","v":""},{"$f":"IF('Terugvordering reiskosten OAH'!AJ190=\"\",\"\",'Terugvordering reiskosten OAH'!AJ190)","v":""},{"$f":"IF('Terugvordering reiskosten OAH'!AR190=\"\",\"\",'Terugvordering reiskosten OAH'!AR190)","v":""},{"$f":"IF('Terugvordering reiskosten OAH'!AY190=\"\",\"\",'Terugvordering reiskosten OAH'!AY190)","v":""},{"$f":"IF('Terugvordering reiskosten OAH'!BC190=0,\"\",'Terugvordering reiskosten OAH'!BC190)","v":""},{"$f":"IF('Terugvordering reiskosten OAH'!BK190=0,\"\",'Terugvordering reiskosten OAH'!BK190)","v":""},{"$f":"IF('Terugvordering reiskosten OAH'!BR190=0,\"\",'Terugvordering reiskosten OAH'!BR190)","v":""},{"$f":"IF('Terugvordering reiskosten OAH'!BZ190=0,\"\",'Terugvordering reiskosten OAH'!BZ190)","v":""},{"$f":"IF('Terugvordering reiskosten OAH'!CG190=\"\",\"\",'Terugvordering reiskosten OAH'!CG190)","v":""},{"$f":"IF('Terugvordering reiskosten OAH'!CM190=0,\"\",'Terugvordering reiskosten OAH'!CM190)","v":""}]
[{"$f":"IF('Terugvordering reiskosten OAH'!D191=\"\",\"\",IF('Terugvordering reiskosten OAH'!$T$36=\"\",\"\",'Terugvordering reiskosten OAH'!$T$36))","v":""},{"$f":"IF(A119=\"\",\"\",'Terugvordering reiskosten OAH'!$T$38)","v":""},{"$f":"IF(A119=\"\",\"\",'gegevensblad samenvatting vord.'!$C$2)","v":""},{"$f":"IF('Terugvordering reiskosten OAH'!D191=\"\",\"\",TEXT('Terugvordering reiskosten OAH'!D191,\"mm-jjjj\"))","v":""},{"$f":"IF('Terugvordering reiskosten OAH'!H191=\"\",\"\",'Terugvordering reiskosten OAH'!H191)","v":""},{"$f":"IF('Terugvordering reiskosten OAH'!R191=\"\",\"\",'Terugvordering reiskosten OAH'!R191)","v":""},{"$f":"IF('Terugvordering reiskosten OAH'!X191=\"\",\"\",'Terugvordering reiskosten OAH'!X191)","v":""},{"$f":"IF('Terugvordering reiskosten OAH'!AJ191=\"\",\"\",'Terugvordering reiskosten OAH'!AJ191)","v":""},{"$f":"IF('Terugvordering reiskosten OAH'!AR191=\"\",\"\",'Terugvordering reiskosten OAH'!AR191)","v":""},{"$f":"IF('Terugvordering reiskosten OAH'!AY191=\"\",\"\",'Terugvordering reiskosten OAH'!AY191)","v":""},{"$f":"IF('Terugvordering reiskosten OAH'!BC191=0,\"\",'Terugvordering reiskosten OAH'!BC191)","v":""},{"$f":"IF('Terugvordering reiskosten OAH'!BK191=0,\"\",'Terugvordering reiskosten OAH'!BK191)","v":""},{"$f":"IF('Terugvordering reiskosten OAH'!BR191=0,\"\",'Terugvordering reiskosten OAH'!BR191)","v":""},{"$f":"IF('Terugvordering reiskosten OAH'!BZ191=0,\"\",'Terugvordering reiskosten OAH'!BZ191)","v":""},{"$f":"IF('Terugvordering reiskosten OAH'!CG191=\"\",\"\",'Terugvordering reiskosten OAH'!CG191)","v":""},{"$f":"IF('Terugvordering reiskosten OAH'!CM191=0,\"\",'Terugvordering reiskosten OAH'!CM191)","v":""}]
[{"$f":"IF('Terugvordering reiskosten OAH'!D192=\"\",\"\",IF('Terugvordering reiskosten OAH'!$T$36=\"\",\"\",'Terugvordering reiskosten OAH'!$T$36))","v":""},{"$f":"IF(A120=\"\",\"\",'Terugvordering reiskosten OAH'!$T$38)","v":""},{"$f":"IF(A120=\"\",\"\",'gegevensblad samenvatting vord.'!$C$2)","v":""},{"$f":"IF('Terugvordering reiskosten OAH'!D192=\"\",\"\",TEXT('Terugvordering reiskosten OAH'!D192,\"mm-jjjj\"))","v":""},{"$f":"IF('Terugvordering reiskosten OAH'!H192=\"\",\"\",'Terugvordering reiskosten OAH'!H192)","v":""},{"$f":"IF('Terugvordering reiskosten OAH'!R192=\"\",\"\",'Terugvordering reiskosten OAH'!R192)","v":""},{"$f":"IF('Terugvordering reiskosten OAH'!X192=\"\",\"\",'Terugvordering reiskosten OAH'!X192)","v":""},{"$f":"IF('Terugvordering reiskosten OAH'!AJ192=\"\",\"\",'Terugvordering reiskosten OAH'!AJ192)","v":""},{"$f":"IF('Terugvordering reiskosten OAH'!AR192=\"\",\"\",'Terugvordering reiskosten OAH'!AR192)","v":""},{"$f":"IF('Terugvordering reiskosten OAH'!AY192=\"\",\"\",'Terugvordering reiskosten OAH'!AY192)","v":""},{"$f":"IF('Terugvordering reiskosten OAH'!BC192=0,\"\",'Terugvordering reiskosten OAH'!BC192)","v":""},{"$f":"IF('Terugvordering reiskosten OAH'!BK192=0,\"\",'Terugvordering reiskosten OAH'!BK192)","v":""},{"$f":"IF('Terugvordering reiskosten OAH'!BR192=0,\"\",'Terugvordering reiskosten OAH'!BR192)","v":""},{"$f":"IF('Terugvordering reiskosten OAH'!BZ192=0,\"\",'Terugvordering reiskosten OAH'!BZ192)","v":""},{"$f":"IF('Terugvordering reiskosten OAH'!CG192=\"\",\"\",'Terugvordering reiskosten OAH'!CG192)","v":""},{"$f":"IF('Terugvordering reiskosten OAH'!CM192=0,\"\",'Terugvordering reiskosten OAH'!CM192)","v":""}]
[{"$f":"IF('Terugvordering reiskosten OAH'!D193=\"\",\"\",IF('Terugvordering reiskosten OAH'!$T$36=\"\",\"\",'Terugvordering reiskosten OAH'!$T$36))","v":""},{"$f":"IF(A121=\"\",\"\",'Terugvordering reiskosten OAH'!$T$38)","v":""},{"$f":"IF(A121=\"\",\"\",'gegevensblad samenvatting vord.'!$C$2)","v":""},{"$f":"IF('Terugvordering reiskosten OAH'!D193=\"\",\"\",TEXT('Terugvordering reiskosten OAH'!D193,\"mm-jjjj\"))","v":""},{"$f":"IF('Terugvordering reiskosten OAH'!H193=\"\",\"\",'Terugvordering reiskosten OAH'!H193)","v":""},{"$f":"IF('Terugvordering reiskosten OAH'!R193=\"\",\"\",'Terugvordering reiskosten OAH'!R193)","v":""},{"$f":"IF('Terugvordering reiskosten OAH'!X193=\"\",\"\",'Terugvordering reiskosten OAH'!X193)","v":""},{"$f":"IF('Terugvordering reiskosten OAH'!AJ193=\"\",\"\",'Terugvordering reiskosten OAH'!AJ193)","v":""},{"$f":"IF('Terugvordering reiskosten OAH'!AR193=\"\",\"\",'Terugvordering reiskosten OAH'!AR193)","v":""},{"$f":"IF('Terugvordering reiskosten OAH'!AY193=\"\",\"\",'Terugvordering reiskosten OAH'!AY193)","v":""},{"$f":"IF('Terugvordering reiskosten OAH'!BC193=0,\"\",'Terugvordering reiskosten OAH'!BC193)","v":""},{"$f":"IF('Terugvordering reiskosten OAH'!BK193=0,\"\",'Terugvordering reiskosten OAH'!BK193)","v":""},{"$f":"IF('Terugvordering reiskosten OAH'!BR193=0,\"\",'Terugvordering reiskosten OAH'!BR193)","v":""},{"$f":"IF('Terugvordering reiskosten OAH'!BZ193=0,\"\",'Terugvordering reiskosten OAH'!BZ193)","v":""},{"$f":"IF('Terugvordering reiskosten OAH'!CG193=\"\",\"\",'Terugvordering reiskosten OAH'!CG193)","v":""},{"$f":"IF('Terugvordering reiskosten OAH'!CM193=0,\"\",'Terugvordering reiskosten OAH'!CM193)","v":""}]
[{"$f":"IF('Terugvordering reiskosten OAH'!D194=\"\",\"\",IF('Terugvordering reiskosten OAH'!$T$36=\"\",\"\",'Terugvordering reiskosten OAH'!$T$36))","v":""},{"$f":"IF(A122=\"\",\"\",'Terugvordering reiskosten OAH'!$T$38)","v":""},{"$f":"IF(A122=\"\",\"\",'gegevensblad samenvatting vord.'!$C$2)","v":""},{"$f":"IF('Terugvordering reiskosten OAH'!D194=\"\",\"\",TEXT('Terugvordering reiskosten OAH'!D194,\"mm-jjjj\"))","v":""},{"$f":"IF('Terugvordering reiskosten OAH'!H194=\"\",\"\",'Terugvordering reiskosten OAH'!H194)","v":""},{"$f":"IF('Terugvordering reiskosten OAH'!R194=\"\",\"\",'Terugvordering reiskosten OAH'!R194)","v":""},{"$f":"IF('Terugvordering reiskosten OAH'!X194=\"\",\"\",'Terugvordering reiskosten OAH'!X194)","v":""},{"$f":"IF('Terugvordering reiskosten OAH'!AJ194=\"\",\"\",'Terugvordering reiskosten OAH'!AJ194)","v":""},{"$f":"IF('Terugvordering reiskosten OAH'!AR194=\"\",\"\",'Terugvordering reiskosten OAH'!AR194)","v":""},{"$f":"IF('Terugvordering reiskosten OAH'!AY194=\"\",\"\",'Terugvordering reiskosten OAH'!AY194)","v":""},{"$f":"IF('Terugvordering reiskosten OAH'!BC194=0,\"\",'Terugvordering reiskosten OAH'!BC194)","v":""},{"$f":"IF('Terugvordering reiskosten OAH'!BK194=0,\"\",'Terugvordering reiskosten OAH'!BK194)","v":""},{"$f":"IF('Terugvordering reiskosten OAH'!BR194=0,\"\",'Terugvordering reiskosten OAH'!BR194)","v":""},{"$f":"IF('Terugvordering reiskosten OAH'!BZ194=0,\"\",'Terugvordering reiskosten OAH'!BZ194)","v":""},{"$f":"IF('Terugvordering reiskosten OAH'!CG194=\"\",\"\",'Terugvordering reiskosten OAH'!CG194)","v":""},{"$f":"IF('Terugvordering reiskosten OAH'!CM194=0,\"\",'Terugvordering reiskosten OAH'!CM194)","v":""}]
[{"$f":"IF('Terugvordering reiskosten OAH'!D195=\"\",\"\",IF('Terugvordering reiskosten OAH'!$T$36=\"\",\"\",'Terugvordering reiskosten OAH'!$T$36))","v":""},{"$f":"IF(A123=\"\",\"\",'Terugvordering reiskosten OAH'!$T$38)","v":""},{"$f":"IF(A123=\"\",\"\",'gegevensblad samenvatting vord.'!$C$2)","v":""},{"$f":"IF('Terugvordering reiskosten OAH'!D195=\"\",\"\",TEXT('Terugvordering reiskosten OAH'!D195,\"mm-jjjj\"))","v":""},{"$f":"IF('Terugvordering reiskosten OAH'!H195=\"\",\"\",'Terugvordering reiskosten OAH'!H195)","v":""},{"$f":"IF('Terugvordering reiskosten OAH'!R195=\"\",\"\",'Terugvordering reiskosten OAH'!R195)","v":""},{"$f":"IF('Terugvordering reiskosten OAH'!X195=\"\",\"\",'Terugvordering reiskosten OAH'!X195)","v":""},{"$f":"IF('Terugvordering reiskosten OAH'!AJ195=\"\",\"\",'Terugvordering reiskosten OAH'!AJ195)","v":""},{"$f":"IF('Terugvordering reiskosten OAH'!AR195=\"\",\"\",'Terugvordering reiskosten OAH'!AR195)","v":""},{"$f":"IF('Terugvordering reiskosten OAH'!AY195=\"\",\"\",'Terugvordering reiskosten OAH'!AY195)","v":""},{"$f":"IF('Terugvordering reiskosten OAH'!BC195=0,\"\",'Terugvordering reiskosten OAH'!BC195)","v":""},{"$f":"IF('Terugvordering reiskosten OAH'!BK195=0,\"\",'Terugvordering reiskosten OAH'!BK195)","v":""},{"$f":"IF('Terugvordering reiskosten OAH'!BR195=0,\"\",'Terugvordering reiskosten OAH'!BR195)","v":""},{"$f":"IF('Terugvordering reiskosten OAH'!BZ195=0,\"\",'Terugvordering reiskosten OAH'!BZ195)","v":""},{"$f":"IF('Terugvordering reiskosten OAH'!CG195=\"\",\"\",'Terugvordering reiskosten OAH'!CG195)","v":""},{"$f":"IF('Terugvordering reiskosten OAH'!CM195=0,\"\",'Terugvordering reiskosten OAH'!CM195)","v":""}]
[{"$f":"IF('Terugvordering reiskosten OAH'!D196=\"\",\"\",IF('Terugvordering reiskosten OAH'!$T$36=\"\",\"\",'Terugvordering reiskosten OAH'!$T$36))","v":""},{"$f":"IF(A124=\"\",\"\",'Terugvordering reiskosten OAH'!$T$38)","v":""},{"$f":"IF(A124=\"\",\"\",'gegevensblad samenvatting vord.'!$C$2)","v":""},{"$f":"IF('Terugvordering reiskosten OAH'!D196=\"\",\"\",TEXT('Terugvordering reiskosten OAH'!D196,\"mm-jjjj\"))","v":""},{"$f":"IF('Terugvordering reiskosten OAH'!H196=\"\",\"\",'Terugvordering reiskosten OAH'!H196)","v":""},{"$f":"IF('Terugvordering reiskosten OAH'!R196=\"\",\"\",'Terugvordering reiskosten OAH'!R196)","v":""},{"$f":"IF('Terugvordering reiskosten OAH'!X196=\"\",\"\",'Terugvordering reiskosten OAH'!X196)","v":""},{"$f":"IF('Terugvordering reiskosten OAH'!AJ196=\"\",\"\",'Terugvordering reiskosten OAH'!AJ196)","v":""},{"$f":"IF('Terugvordering reiskosten OAH'!AR196=\"\",\"\",'Terugvordering reiskosten OAH'!AR196)","v":""},{"$f":"IF('Terugvordering reiskosten OAH'!AY196=\"\",\"\",'Terugvordering reiskosten OAH'!AY196)","v":""},{"$f":"IF('Terugvordering reiskosten OAH'!BC196=0,\"\",'Terugvordering reiskosten OAH'!BC196)","v":""},{"$f":"IF('Terugvordering reiskosten OAH'!BK196=0,\"\",'Terugvordering reiskosten OAH'!BK196)","v":""},{"$f":"IF('Terugvordering reiskosten OAH'!BR196=0,\"\",'Terugvordering reiskosten OAH'!BR196)","v":""},{"$f":"IF('Terugvordering reiskosten OAH'!BZ196=0,\"\",'Terugvordering reiskosten OAH'!BZ196)","v":""},{"$f":"IF('Terugvordering reiskosten OAH'!CG196=\"\",\"\",'Terugvordering reiskosten OAH'!CG196)","v":""},{"$f":"IF('Terugvordering reiskosten OAH'!CM196=0,\"\",'Terugvordering reiskosten OAH'!CM196)","v":""}]
[{"$f":"IF('Terugvordering reiskosten OAH'!D197=\"\",\"\",IF('Terugvordering reiskosten OAH'!$T$36=\"\",\"\",'Terugvordering reiskosten OAH'!$T$36))","v":""},{"$f":"IF(A125=\"\",\"\",'Terugvordering reiskosten OAH'!$T$38)","v":""},{"$f":"IF(A125=\"\",\"\",'gegevensblad samenvatting vord.'!$C$2)","v":""},{"$f":"IF('Terugvordering reiskosten OAH'!D197=\"\",\"\",TEXT('Terugvordering reiskosten OAH'!D197,\"mm-jjjj\"))","v":""},{"$f":"IF('Terugvordering reiskosten OAH'!H197=\"\",\"\",'Terugvordering reiskosten OAH'!H197)","v":""},{"$f":"IF('Terugvordering reiskosten OAH'!R197=\"\",\"\",'Terugvordering reiskosten OAH'!R197)","v":""},{"$f":"IF('Terugvordering reiskosten OAH'!X197=\"\",\"\",'Terugvordering reiskosten OAH'!X197)","v":""},{"$f":"IF('Terugvordering reiskosten OAH'!AJ197=\"\",\"\",'Terugvordering reiskosten OAH'!AJ197)","v":""},{"$f":"IF('Terugvordering reiskosten OAH'!AR197=\"\",\"\",'Terugvordering reiskosten OAH'!AR197)","v":""},{"$f":"IF('Terugvordering reiskosten OAH'!AY197=\"\",\"\",'Terugvordering reiskosten OAH'!AY197)","v":""},{"$f":"IF('Terugvordering reiskosten OAH'!BC197=0,\"\",'Terugvordering reiskosten OAH'!BC197)","v":""},{"$f":"IF('Terugvordering reiskosten OAH'!BK197=0,\"\",'Terugvordering reiskosten OAH'!BK197)","v":""},{"$f":"IF('Terugvordering reiskosten OAH'!BR197=0,\"\",'Terugvordering reiskosten OAH'!BR197)","v":""},{"$f":"IF('Terugvordering reiskosten OAH'!BZ197=0,\"\",'Terugvordering reiskosten OAH'!BZ197)","v":""},{"$f":"IF('Terugvordering reiskosten OAH'!CG197=\"\",\"\",'Terugvordering reiskosten OAH'!CG197)","v":""},{"$f":"IF('Terugvordering reiskosten OAH'!CM197=0,\"\",'Terugvordering reiskosten OAH'!CM197)","v":""}]
[{"$f":"IF('Terugvordering reiskosten OAH'!D198=\"\",\"\",IF('Terugvordering reiskosten OAH'!$T$36=\"\",\"\",'Terugvordering reiskosten OAH'!$T$36))","v":""},{"$f":"IF(A126=\"\",\"\",'Terugvordering reiskosten OAH'!$T$38)","v":""},{"$f":"IF(A126=\"\",\"\",'gegevensblad samenvatting vord.'!$C$2)","v":""},{"$f":"IF('Terugvordering reiskosten OAH'!D198=\"\",\"\",TEXT('Terugvordering reiskosten OAH'!D198,\"mm-jjjj\"))","v":""},{"$f":"IF('Terugvordering reiskosten OAH'!H198=\"\",\"\",'Terugvordering reiskosten OAH'!H198)","v":""},{"$f":"IF('Terugvordering reiskosten OAH'!R198=\"\",\"\",'Terugvordering reiskosten OAH'!R198)","v":""},{"$f":"IF('Terugvordering reiskosten OAH'!X198=\"\",\"\",'Terugvordering reiskosten OAH'!X198)","v":""},{"$f":"IF('Terugvordering reiskosten OAH'!AJ198=\"\",\"\",'Terugvordering reiskosten OAH'!AJ198)","v":""},{"$f":"IF('Terugvordering reiskosten OAH'!AR198=\"\",\"\",'Terugvordering reiskosten OAH'!AR198)","v":""},{"$f":"IF('Terugvordering reiskosten OAH'!AY198=\"\",\"\",'Terugvordering reiskosten OAH'!AY198)","v":""},{"$f":"IF('Terugvordering reiskosten OAH'!BC198=0,\"\",'Terugvordering reiskosten OAH'!BC198)","v":""},{"$f":"IF('Terugvordering reiskosten OAH'!BK198=0,\"\",'Terugvordering reiskosten OAH'!BK198)","v":""},{"$f":"IF('Terugvordering reiskosten OAH'!BR198=0,\"\",'Terugvordering reiskosten OAH'!BR198)","v":""},{"$f":"IF('Terugvordering reiskosten OAH'!BZ198=0,\"\",'Terugvordering reiskosten OAH'!BZ198)","v":""},{"$f":"IF('Terugvordering reiskosten OAH'!CG198=\"\",\"\",'Terugvordering reiskosten OAH'!CG198)","v":""},{"$f":"IF('Terugvordering reiskosten OAH'!CM198=0,\"\",'Terugvordering reiskosten OAH'!CM198)","v":""}]
[{"$f":"IF('Terugvordering reiskosten OAH'!D199=\"\",\"\",IF('Terugvordering reiskosten OAH'!$T$36=\"\",\"\",'Terugvordering reiskosten OAH'!$T$36))","v":""},{"$f":"IF(A127=\"\",\"\",'Terugvordering reiskosten OAH'!$T$38)","v":""},{"$f":"IF(A127=\"\",\"\",'gegevensblad samenvatting vord.'!$C$2)","v":""},{"$f":"IF('Terugvordering reiskosten OAH'!D199=\"\",\"\",TEXT('Terugvordering reiskosten OAH'!D199,\"mm-jjjj\"))","v":""},{"$f":"IF('Terugvordering reiskosten OAH'!H199=\"\",\"\",'Terugvordering reiskosten OAH'!H199)","v":""},{"$f":"IF('Terugvordering reiskosten OAH'!R199=\"\",\"\",'Terugvordering reiskosten OAH'!R199)","v":""},{"$f":"IF('Terugvordering reiskosten OAH'!X199=\"\",\"\",'Terugvordering reiskosten OAH'!X199)","v":""},{"$f":"IF('Terugvordering reiskosten OAH'!AJ199=\"\",\"\",'Terugvordering reiskosten OAH'!AJ199)","v":""},{"$f":"IF('Terugvordering reiskosten OAH'!AR199=\"\",\"\",'Terugvordering reiskosten OAH'!AR199)","v":""},{"$f":"IF('Terugvordering reiskosten OAH'!AY199=\"\",\"\",'Terugvordering reiskosten OAH'!AY199)","v":""},{"$f":"IF('Terugvordering reiskosten OAH'!BC199=0,\"\",'Terugvordering reiskosten OAH'!BC199)","v":""},{"$f":"IF('Terugvordering reiskosten OAH'!BK199=0,\"\",'Terugvordering reiskosten OAH'!BK199)","v":""},{"$f":"IF('Terugvordering reiskosten OAH'!BR199=0,\"\",'Terugvordering reiskosten OAH'!BR199)","v":""},{"$f":"IF('Terugvordering reiskosten OAH'!BZ199=0,\"\",'Terugvordering reiskosten OAH'!BZ199)","v":""},{"$f":"IF('Terugvordering reiskosten OAH'!CG199=\"\",\"\",'Terugvordering reiskosten OAH'!CG199)","v":""},{"$f":"IF('Terugvordering reiskosten OAH'!CM199=0,\"\",'Terugvordering reiskosten OAH'!CM199)","v":""}]
[{"$f":"IF('Terugvordering reiskosten OAH'!D200=\"\",\"\",IF('Terugvordering reiskosten OAH'!$T$36=\"\",\"\",'Terugvordering reiskosten OAH'!$T$36))","v":""},{"$f":"IF(A128=\"\",\"\",'Terugvordering reiskosten OAH'!$T$38)","v":""},{"$f":"IF(A128=\"\",\"\",'gegevensblad samenvatting vord.'!$C$2)","v":""},{"$f":"IF('Terugvordering reiskosten OAH'!D200=\"\",\"\",TEXT('Terugvordering reiskosten OAH'!D200,\"mm-jjjj\"))","v":""},{"$f":"IF('Terugvordering reiskosten OAH'!H200=\"\",\"\",'Terugvordering reiskosten OAH'!H200)","v":""},{"$f":"IF('Terugvordering reiskosten OAH'!R200=\"\",\"\",'Terugvordering reiskosten OAH'!R200)","v":""},{"$f":"IF('Terugvordering reiskosten OAH'!X200=\"\",\"\",'Terugvordering reiskosten OAH'!X200)","v":""},{"$f":"IF('Terugvordering reiskosten OAH'!AJ200=\"\",\"\",'Terugvordering reiskosten OAH'!AJ200)","v":""},{"$f":"IF('Terugvordering reiskosten OAH'!AR200=\"\",\"\",'Terugvordering reiskosten OAH'!AR200)","v":""},{"$f":"IF('Terugvordering reiskosten OAH'!AY200=\"\",\"\",'Terugvordering reiskosten OAH'!AY200)","v":""},{"$f":"IF('Terugvordering reiskosten OAH'!BC200=0,\"\",'Terugvordering reiskosten OAH'!BC200)","v":""},{"$f":"IF('Terugvordering reiskosten OAH'!BK200=0,\"\",'Terugvordering reiskosten OAH'!BK200)","v":""},{"$f":"IF('Terugvordering reiskosten OAH'!BR200=0,\"\",'Terugvordering reiskosten OAH'!BR200)","v":""},{"$f":"IF('Terugvordering reiskosten OAH'!BZ200=0,\"\",'Terugvordering reiskosten OAH'!BZ200)","v":""},{"$f":"IF('Terugvordering reiskosten OAH'!CG200=\"\",\"\",'Terugvordering reiskosten OAH'!CG200)","v":""},{"$f":"IF('Terugvordering reiskosten OAH'!CM200=0,\"\",'Terugvordering reiskosten OAH'!CM200)","v":""}]
[{"$f":"IF('Terugvordering reiskosten OAH'!D201=\"\",\"\",IF('Terugvordering reiskosten OAH'!$T$36=\"\",\"\",'Terugvordering reiskosten OAH'!$T$36))","v":""},{"$f":"IF(A129=\"\",\"\",'Terugvordering reiskosten OAH'!$T$38)","v":""},{"$f":"IF(A129=\"\",\"\",'gegevensblad samenvatting vord.'!$C$2)","v":""},{"$f":"IF('Terugvordering reiskosten OAH'!D201=\"\",\"\",TEXT('Terugvordering reiskosten OAH'!D201,\"mm-jjjj\"))","v":""},{"$f":"IF('Terugvordering reiskosten OAH'!H201=\"\",\"\",'Terugvordering reiskosten OAH'!H201)","v":""},{"$f":"IF('Terugvordering reiskosten OAH'!R201=\"\",\"\",'Terugvordering reiskosten OAH'!R201)","v":""},{"$f":"IF('Terugvordering reiskosten OAH'!X201=\"\",\"\",'Terugvordering reiskosten OAH'!X201)","v":""},{"$f":"IF('Terugvordering reiskosten OAH'!AJ201=\"\",\"\",'Terugvordering reiskosten OAH'!AJ201)","v":""},{"$f":"IF('Terugvordering reiskosten OAH'!AR201=\"\",\"\",'Terugvordering reiskosten OAH'!AR201)","v":""},{"$f":"IF('Terugvordering reiskosten OAH'!AY201=\"\",\"\",'Terugvordering reiskosten OAH'!AY201)","v":""},{"$f":"IF('Terugvordering reiskosten OAH'!BC201=0,\"\",'Terugvordering reiskosten OAH'!BC201)","v":""},{"$f":"IF('Terugvordering reiskosten OAH'!BK201=0,\"\",'Terugvordering reiskosten OAH'!BK201)","v":""},{"$f":"IF('Terugvordering reiskosten OAH'!BR201=0,\"\",'Terugvordering reiskosten OAH'!BR201)","v":""},{"$f":"IF('Terugvordering reiskosten OAH'!BZ201=0,\"\",'Terugvordering reiskosten OAH'!BZ201)","v":""},{"$f":"IF('Terugvordering reiskosten OAH'!CG201=\"\",\"\",'Terugvordering reiskosten OAH'!CG201)","v":""},{"$f":"IF('Terugvordering reiskosten OAH'!CM201=0,\"\",'Terugvordering reiskosten OAH'!CM201)","v":""}]
[{"$f":"IF('Terugvordering reiskosten OAH'!D202=\"\",\"\",IF('Terugvordering reiskosten OAH'!$T$36=\"\",\"\",'Terugvordering reiskosten OAH'!$T$36))","v":""},{"$f":"IF(A130=\"\",\"\",'Terugvordering reiskosten OAH'!$T$38)","v":""},{"$f":"IF(A130=\"\",\"\",'gegevensblad samenvatting vord.'!$C$2)","v":""},{"$f":"IF('Terugvordering reiskosten OAH'!D202=\"\",\"\",TEXT('Terugvordering reiskosten OAH'!D202,\"mm-jjjj\"))","v":""},{"$f":"IF('Terugvordering reiskosten OAH'!H202=\"\",\"\",'Terugvordering reiskosten OAH'!H202)","v":""},{"$f":"IF('Terugvordering reiskosten OAH'!R202=\"\",\"\",'Terugvordering reiskosten OAH'!R202)","v":""},{"$f":"IF('Terugvordering reiskosten OAH'!X202=\"\",\"\",'Terugvordering reiskosten OAH'!X202)","v":""},{"$f":"IF('Terugvordering reiskosten OAH'!AJ202=\"\",\"\",'Terugvordering reiskosten OAH'!AJ202)","v":""},{"$f":"IF('Terugvordering reiskosten OAH'!AR202=\"\",\"\",'Terugvordering reiskosten OAH'!AR202)","v":""},{"$f":"IF('Terugvordering reiskosten OAH'!AY202=\"\",\"\",'Terugvordering reiskosten OAH'!AY202)","v":""},{"$f":"IF('Terugvordering reiskosten OAH'!BC202=0,\"\",'Terugvordering reiskosten OAH'!BC202)","v":""},{"$f":"IF('Terugvordering reiskosten OAH'!BK202=0,\"\",'Terugvordering reiskosten OAH'!BK202)","v":""},{"$f":"IF('Terugvordering reiskosten OAH'!BR202=0,\"\",'Terugvordering reiskosten OAH'!BR202)","v":""},{"$f":"IF('Terugvordering reiskosten OAH'!BZ202=0,\"\",'Terugvordering reiskosten OAH'!BZ202)","v":""},{"$f":"IF('Terugvordering reiskosten OAH'!CG202=\"\",\"\",'Terugvordering reiskosten OAH'!CG202)","v":""},{"$f":"IF('Terugvordering reiskosten OAH'!CM202=0,\"\",'Terugvordering reiskosten OAH'!CM202)","v":""}]
[{"$f":"IF('Terugvordering reiskosten OAH'!D203=\"\",\"\",IF('Terugvordering reiskosten OAH'!$T$36=\"\",\"\",'Terugvordering reiskosten OAH'!$T$36))","v":""},{"$f":"IF(A131=\"\",\"\",'Terugvordering reiskosten OAH'!$T$38)","v":""},{"$f":"IF(A131=\"\",\"\",'gegevensblad samenvatting vord.'!$C$2)","v":""},{"$f":"IF('Terugvordering reiskosten OAH'!D203=\"\",\"\",TEXT('Terugvordering reiskosten OAH'!D203,\"mm-jjjj\"))","v":""},{"$f":"IF('Terugvordering reiskosten OAH'!H203=\"\",\"\",'Terugvordering reiskosten OAH'!H203)","v":""},{"$f":"IF('Terugvordering reiskosten OAH'!R203=\"\",\"\",'Terugvordering reiskosten OAH'!R203)","v":""},{"$f":"IF('Terugvordering reiskosten OAH'!X203=\"\",\"\",'Terugvordering reiskosten OAH'!X203)","v":""},{"$f":"IF('Terugvordering reiskosten OAH'!AJ203=\"\",\"\",'Terugvordering reiskosten OAH'!AJ203)","v":""},{"$f":"IF('Terugvordering reiskosten OAH'!AR203=\"\",\"\",'Terugvordering reiskosten OAH'!AR203)","v":""},{"$f":"IF('Terugvordering reiskosten OAH'!AY203=\"\",\"\",'Terugvordering reiskosten OAH'!AY203)","v":""},{"$f":"IF('Terugvordering reiskosten OAH'!BC203=0,\"\",'Terugvordering reiskosten OAH'!BC203)","v":""},{"$f":"IF('Terugvordering reiskosten OAH'!BK203=0,\"\",'Terugvordering reiskosten OAH'!BK203)","v":""},{"$f":"IF('Terugvordering reiskosten OAH'!BR203=0,\"\",'Terugvordering reiskosten OAH'!BR203)","v":""},{"$f":"IF('Terugvordering reiskosten OAH'!BZ203=0,\"\",'Terugvordering reiskosten OAH'!BZ203)","v":""},{"$f":"IF('Terugvordering reiskosten OAH'!CG203=\"\",\"\",'Terugvordering reiskosten OAH'!CG203)","v":""},{"$f":"IF('Terugvordering reiskosten OAH'!CM203=0,\"\",'Terugvordering reiskosten OAH'!CM203)","v":""}]
[{"$f":"IF('Terugvordering reiskosten OAH'!D204=\"\",\"\",IF('Terugvordering reiskosten OAH'!$T$36=\"\",\"\",'Terugvordering reiskosten OAH'!$T$36))","v":""},{"$f":"IF(A132=\"\",\"\",'Terugvordering reiskosten OAH'!$T$38)","v":""},{"$f":"IF(A132=\"\",\"\",'gegevensblad samenvatting vord.'!$C$2)","v":""},{"$f":"IF('Terugvordering reiskosten OAH'!D204=\"\",\"\",TEXT('Terugvordering reiskosten OAH'!D204,\"mm-jjjj\"))","v":""},{"$f":"IF('Terugvordering reiskosten OAH'!H204=\"\",\"\",'Terugvordering reiskosten OAH'!H204)","v":""},{"$f":"IF('Terugvordering reiskosten OAH'!R204=\"\",\"\",'Terugvordering reiskosten OAH'!R204)","v":""},{"$f":"IF('Terugvordering reiskosten OAH'!X204=\"\",\"\",'Terugvordering reiskosten OAH'!X204)","v":""},{"$f":"IF('Terugvordering reiskosten OAH'!AJ204=\"\",\"\",'Terugvordering reiskosten OAH'!AJ204)","v":""},{"$f":"IF('Terugvordering reiskosten OAH'!AR204=\"\",\"\",'Terugvordering reiskosten OAH'!AR204)","v":""},{"$f":"IF('Terugvordering reiskosten OAH'!AY204=\"\",\"\",'Terugvordering reiskosten OAH'!AY204)","v":""},{"$f":"IF('Terugvordering reiskosten OAH'!BC204=0,\"\",'Terugvordering reiskosten OAH'!BC204)","v":""},{"$f":"IF('Terugvordering reiskosten OAH'!BK204=0,\"\",'Terugvordering reiskosten OAH'!BK204)","v":""},{"$f":"IF('Terugvordering reiskosten OAH'!BR204=0,\"\",'Terugvordering reiskosten OAH'!BR204)","v":""},{"$f":"IF('Terugvordering reiskosten OAH'!BZ204=0,\"\",'Terugvordering reiskosten OAH'!BZ204)","v":""},{"$f":"IF('Terugvordering reiskosten OAH'!CG204=\"\",\"\",'Terugvordering reiskosten OAH'!CG204)","v":""},{"$f":"IF('Terugvordering reiskosten OAH'!CM204=0,\"\",'Terugvordering reiskosten OAH'!CM204)","v":""}]
[{"$f":"IF('Terugvordering reiskosten OAH'!D205=\"\",\"\",IF('Terugvordering reiskosten OAH'!$T$36=\"\",\"\",'Terugvordering reiskosten OAH'!$T$36))","v":""},{"$f":"IF(A133=\"\",\"\",'Terugvordering reiskosten OAH'!$T$38)","v":""},{"$f":"IF(A133=\"\",\"\",'gegevensblad samenvatting vord.'!$C$2)","v":""},{"$f":"IF('Terugvordering reiskosten OAH'!D205=\"\",\"\",TEXT('Terugvordering reiskosten OAH'!D205,\"mm-jjjj\"))","v":""},{"$f":"IF('Terugvordering reiskosten OAH'!H205=\"\",\"\",'Terugvordering reiskosten OAH'!H205)","v":""},{"$f":"IF('Terugvordering reiskosten OAH'!R205=\"\",\"\",'Terugvordering reiskosten OAH'!R205)","v":""},{"$f":"IF('Terugvordering reiskosten OAH'!X205=\"\",\"\",'Terugvordering reiskosten OAH'!X205)","v":""},{"$f":"IF('Terugvordering reiskosten OAH'!AJ205=\"\",\"\",'Terugvordering reiskosten OAH'!AJ205)","v":""},{"$f":"IF('Terugvordering reiskosten OAH'!AR205=\"\",\"\",'Terugvordering reiskosten OAH'!AR205)","v":""},{"$f":"IF('Terugvordering reiskosten OAH'!AY205=\"\",\"\",'Terugvordering reiskosten OAH'!AY205)","v":""},{"$f":"IF('Terugvordering reiskosten OAH'!BC205=0,\"\",'Terugvordering reiskosten OAH'!BC205)","v":""},{"$f":"IF('Terugvordering reiskosten OAH'!BK205=0,\"\",'Terugvordering reiskosten OAH'!BK205)","v":""},{"$f":"IF('Terugvordering reiskosten OAH'!BR205=0,\"\",'Terugvordering reiskosten OAH'!BR205)","v":""},{"$f":"IF('Terugvordering reiskosten OAH'!BZ205=0,\"\",'Terugvordering reiskosten OAH'!BZ205)","v":""},{"$f":"IF('Terugvordering reiskosten OAH'!CG205=\"\",\"\",'Terugvordering reiskosten OAH'!CG205)","v":""},{"$f":"IF('Terugvordering reiskosten OAH'!CM205=0,\"\",'Terugvordering reiskosten OAH'!CM205)","v":""}]
[{"$f":"IF('Terugvordering reiskosten OAH'!D206=\"\",\"\",IF('Terugvordering reiskosten OAH'!$T$36=\"\",\"\",'Terugvordering reiskosten OAH'!$T$36))","v":""},{"$f":"IF(A134=\"\",\"\",'Terugvordering reiskosten OAH'!$T$38)","v":""},{"$f":"IF(A134=\"\",\"\",'gegevensblad samenvatting vord.'!$C$2)","v":""},{"$f":"IF('Terugvordering reiskosten OAH'!D206=\"\",\"\",TEXT('Terugvordering reiskosten OAH'!D206,\"mm-jjjj\"))","v":""},{"$f":"IF('Terugvordering reiskosten OAH'!H206=\"\",\"\",'Terugvordering reiskosten OAH'!H206)","v":""},{"$f":"IF('Terugvordering reiskosten OAH'!R206=\"\",\"\",'Terugvordering reiskosten OAH'!R206)","v":""},{"$f":"IF('Terugvordering reiskosten OAH'!X206=\"\",\"\",'Terugvordering reiskosten OAH'!X206)","v":""},{"$f":"IF('Terugvordering reiskosten OAH'!AJ206=\"\",\"\",'Terugvordering reiskosten OAH'!AJ206)","v":""},{"$f":"IF('Terugvordering reiskosten OAH'!AR206=\"\",\"\",'Terugvordering reiskosten OAH'!AR206)","v":""},{"$f":"IF('Terugvordering reiskosten OAH'!AY206=\"\",\"\",'Terugvordering reiskosten OAH'!AY206)","v":""},{"$f":"IF('Terugvordering reiskosten OAH'!BC206=0,\"\",'Terugvordering reiskosten OAH'!BC206)","v":""},{"$f":"IF('Terugvordering reiskosten OAH'!BK206=0,\"\",'Terugvordering reiskosten OAH'!BK206)","v":""},{"$f":"IF('Terugvordering reiskosten OAH'!BR206=0,\"\",'Terugvordering reiskosten OAH'!BR206)","v":""},{"$f":"IF('Terugvordering reiskosten OAH'!BZ206=0,\"\",'Terugvordering reiskosten OAH'!BZ206)","v":""},{"$f":"IF('Terugvordering reiskosten OAH'!CG206=\"\",\"\",'Terugvordering reiskosten OAH'!CG206)","v":""},{"$f":"IF('Terugvordering reiskosten OAH'!CM206=0,\"\",'Terugvordering reiskosten OAH'!CM206)","v":""}]
[{"$f":"IF('Terugvordering reiskosten OAH'!D207=\"\",\"\",IF('Terugvordering reiskosten OAH'!$T$36=\"\",\"\",'Terugvordering reiskosten OAH'!$T$36))","v":""},{"$f":"IF(A135=\"\",\"\",'Terugvordering reiskosten OAH'!$T$38)","v":""},{"$f":"IF(A135=\"\",\"\",'gegevensblad samenvatting vord.'!$C$2)","v":""},{"$f":"IF('Terugvordering reiskosten OAH'!D207=\"\",\"\",TEXT('Terugvordering reiskosten OAH'!D207,\"mm-jjjj\"))","v":""},{"$f":"IF('Terugvordering reiskosten OAH'!H207=\"\",\"\",'Terugvordering reiskosten OAH'!H207)","v":""},{"$f":"IF('Terugvordering reiskosten OAH'!R207=\"\",\"\",'Terugvordering reiskosten OAH'!R207)","v":""},{"$f":"IF('Terugvordering reiskosten OAH'!X207=\"\",\"\",'Terugvordering reiskosten OAH'!X207)","v":""},{"$f":"IF('Terugvordering reiskosten OAH'!AJ207=\"\",\"\",'Terugvordering reiskosten OAH'!AJ207)","v":""},{"$f":"IF('Terugvordering reiskosten OAH'!AR207=\"\",\"\",'Terugvordering reiskosten OAH'!AR207)","v":""},{"$f":"IF('Terugvordering reiskosten OAH'!AY207=\"\",\"\",'Terugvordering reiskosten OAH'!AY207)","v":""},{"$f":"IF('Terugvordering reiskosten OAH'!BC207=0,\"\",'Terugvordering reiskosten OAH'!BC207)","v":""},{"$f":"IF('Terugvordering reiskosten OAH'!BK207=0,\"\",'Terugvordering reiskosten OAH'!BK207)","v":""},{"$f":"IF('Terugvordering reiskosten OAH'!BR207=0,\"\",'Terugvordering reiskosten OAH'!BR207)","v":""},{"$f":"IF('Terugvordering reiskosten OAH'!BZ207=0,\"\",'Terugvordering reiskosten OAH'!BZ207)","v":""},{"$f":"IF('Terugvordering reiskosten OAH'!CG207=\"\",\"\",'Terugvordering reiskosten OAH'!CG207)","v":""},{"$f":"IF('Terugvordering reiskosten OAH'!CM207=0,\"\",'Terugvordering reiskosten OAH'!CM207)","v":""}]
[{"$f":"IF('Terugvordering reiskosten OAH'!D208=\"\",\"\",IF('Terugvordering reiskosten OAH'!$T$36=\"\",\"\",'Terugvordering reiskosten OAH'!$T$36))","v":""},{"$f":"IF(A136=\"\",\"\",'Terugvordering reiskosten OAH'!$T$38)","v":""},{"$f":"IF(A136=\"\",\"\",'gegevensblad samenvatting vord.'!$C$2)","v":""},{"$f":"IF('Terugvordering reiskosten OAH'!D208=\"\",\"\",TEXT('Terugvordering reiskosten OAH'!D208,\"mm-jjjj\"))","v":""},{"$f":"IF('Terugvordering reiskosten OAH'!H208=\"\",\"\",'Terugvordering reiskosten OAH'!H208)","v":""},{"$f":"IF('Terugvordering reiskosten OAH'!R208=\"\",\"\",'Terugvordering reiskosten OAH'!R208)","v":""},{"$f":"IF('Terugvordering reiskosten OAH'!X208=\"\",\"\",'Terugvordering reiskosten OAH'!X208)","v":""},{"$f":"IF('Terugvordering reiskosten OAH'!AJ208=\"\",\"\",'Terugvordering reiskosten OAH'!AJ208)","v":""},{"$f":"IF('Terugvordering reiskosten OAH'!AR208=\"\",\"\",'Terugvordering reiskosten OAH'!AR208)","v":""},{"$f":"IF('Terugvordering reiskosten OAH'!AY208=\"\",\"\",'Terugvordering reiskosten OAH'!AY208)","v":""},{"$f":"IF('Terugvordering reiskosten OAH'!BC208=0,\"\",'Terugvordering reiskosten OAH'!BC208)","v":""},{"$f":"IF('Terugvordering reiskosten OAH'!BK208=0,\"\",'Terugvordering reiskosten OAH'!BK208)","v":""},{"$f":"IF('Terugvordering reiskosten OAH'!BR208=0,\"\",'Terugvordering reiskosten OAH'!BR208)","v":""},{"$f":"IF('Terugvordering reiskosten OAH'!BZ208=0,\"\",'Terugvordering reiskosten OAH'!BZ208)","v":""},{"$f":"IF('Terugvordering reiskosten OAH'!CG208=\"\",\"\",'Terugvordering reiskosten OAH'!CG208)","v":""},{"$f":"IF('Terugvordering reiskosten OAH'!CM208=0,\"\",'Terugvordering reiskosten OAH'!CM208)","v":""}]
[{"$f":"IF('Terugvordering reiskosten OAH'!D209=\"\",\"\",IF('Terugvordering reiskosten OAH'!$T$36=\"\",\"\",'Terugvordering reiskosten OAH'!$T$36))","v":""},{"$f":"IF(A137=\"\",\"\",'Terugvordering reiskosten OAH'!$T$38)","v":""},{"$f":"IF(A137=\"\",\"\",'gegevensblad samenvatting vord.'!$C$2)","v":""},{"$f":"IF('Terugvordering reiskosten OAH'!D209=\"\",\"\",TEXT('Terugvordering reiskosten OAH'!D209,\"mm-jjjj\"))","v":""},{"$f":"IF('Terugvordering reiskosten OAH'!H209=\"\",\"\",'Terugvordering reiskosten OAH'!H209)","v":""},{"$f":"IF('Terugvordering reiskosten OAH'!R209=\"\",\"\",'Terugvordering reiskosten OAH'!R209)","v":""},{"$f":"IF('Terugvordering reiskosten OAH'!X209=\"\",\"\",'Terugvordering reiskosten OAH'!X209)","v":""},{"$f":"IF('Terugvordering reiskosten OAH'!AJ209=\"\",\"\",'Terugvordering reiskosten OAH'!AJ209)","v":""},{"$f":"IF('Terugvordering reiskosten OAH'!AR209=\"\",\"\",'Terugvordering reiskosten OAH'!AR209)","v":""},{"$f":"IF('Terugvordering reiskosten OAH'!AY209=\"\",\"\",'Terugvordering reiskosten OAH'!AY209)","v":""},{"$f":"IF('Terugvordering reiskosten OAH'!BC209=0,\"\",'Terugvordering reiskosten OAH'!BC209)","v":""},{"$f":"IF('Terugvordering reiskosten OAH'!BK209=0,\"\",'Terugvordering reiskosten OAH'!BK209)","v":""},{"$f":"IF('Terugvordering reiskosten OAH'!BR209=0,\"\",'Terugvordering reiskosten OAH'!BR209)","v":""},{"$f":"IF('Terugvordering reiskosten OAH'!BZ209=0,\"\",'Terugvordering reiskosten OAH'!BZ209)","v":""},{"$f":"IF('Terugvordering reiskosten OAH'!CG209=\"\",\"\",'Terugvordering reiskosten OAH'!CG209)","v":""},{"$f":"IF('Terugvordering reiskosten OAH'!CM209=0,\"\",'Terugvordering reiskosten OAH'!CM209)","v":""}]
[{"$f":"IF('Terugvordering reiskosten OAH'!D210=\"\",\"\",IF('Terugvordering reiskosten OAH'!$T$36=\"\",\"\",'Terugvordering reiskosten OAH'!$T$36))","v":""},{"$f":"IF(A138=\"\",\"\",'Terugvordering reiskosten OAH'!$T$38)","v":""},{"$f":"IF(A138=\"\",\"\",'gegevensblad samenvatting vord.'!$C$2)","v":""},{"$f":"IF('Terugvordering reiskosten OAH'!D210=\"\",\"\",TEXT('Terugvordering reiskosten OAH'!D210,\"mm-jjjj\"))","v":""},{"$f":"IF('Terugvordering reiskosten OAH'!H210=\"\",\"\",'Terugvordering reiskosten OAH'!H210)","v":""},{"$f":"IF('Terugvordering reiskosten OAH'!R210=\"\",\"\",'Terugvordering reiskosten OAH'!R210)","v":""},{"$f":"IF('Terugvordering reiskosten OAH'!X210=\"\",\"\",'Terugvordering reiskosten OAH'!X210)","v":""},{"$f":"IF('Terugvordering reiskosten OAH'!AJ210=\"\",\"\",'Terugvordering reiskosten OAH'!AJ210)","v":""},{"$f":"IF('Terugvordering reiskosten OAH'!AR210=\"\",\"\",'Terugvordering reiskosten OAH'!AR210)","v":""},{"$f":"IF('Terugvordering reiskosten OAH'!AY210=\"\",\"\",'Terugvordering reiskosten OAH'!AY210)","v":""},{"$f":"IF('Terugvordering reiskosten OAH'!BC210=0,\"\",'Terugvordering reiskosten OAH'!BC210)","v":""},{"$f":"IF('Terugvordering reiskosten OAH'!BK210=0,\"\",'Terugvordering reiskosten OAH'!BK210)","v":""},{"$f":"IF('Terugvordering reiskosten OAH'!BR210=0,\"\",'Terugvordering reiskosten OAH'!BR210)","v":""},{"$f":"IF('Terugvordering reiskosten OAH'!BZ210=0,\"\",'Terugvordering reiskosten OAH'!BZ210)","v":""},{"$f":"IF('Terugvordering reiskosten OAH'!CG210=\"\",\"\",'Terugvordering reiskosten OAH'!CG210)","v":""},{"$f":"IF('Terugvordering reiskosten OAH'!CM210=0,\"\",'Terugvordering reiskosten OAH'!CM210)","v":""}]
[{"$f":"IF('Terugvordering reiskosten OAH'!D211=\"\",\"\",IF('Terugvordering reiskosten OAH'!$T$36=\"\",\"\",'Terugvordering reiskosten OAH'!$T$36))","v":""},{"$f":"IF(A139=\"\",\"\",'Terugvordering reiskosten OAH'!$T$38)","v":""},{"$f":"IF(A139=\"\",\"\",'gegevensblad samenvatting vord.'!$C$2)","v":""},{"$f":"IF('Terugvordering reiskosten OAH'!D211=\"\",\"\",TEXT('Terugvordering reiskosten OAH'!D211,\"mm-jjjj\"))","v":""},{"$f":"IF('Terugvordering reiskosten OAH'!H211=\"\",\"\",'Terugvordering reiskosten OAH'!H211)","v":""},{"$f":"IF('Terugvordering reiskosten OAH'!R211=\"\",\"\",'Terugvordering reiskosten OAH'!R211)","v":""},{"$f":"IF('Terugvordering reiskosten OAH'!X211=\"\",\"\",'Terugvordering reiskosten OAH'!X211)","v":""},{"$f":"IF('Terugvordering reiskosten OAH'!AJ211=\"\",\"\",'Terugvordering reiskosten OAH'!AJ211)","v":""},{"$f":"IF('Terugvordering reiskosten OAH'!AR211=\"\",\"\",'Terugvordering reiskosten OAH'!AR211)","v":""},{"$f":"IF('Terugvordering reiskosten OAH'!AY211=\"\",\"\",'Terugvordering reiskosten OAH'!AY211)","v":""},{"$f":"IF('Terugvordering reiskosten OAH'!BC211=0,\"\",'Terugvordering reiskosten OAH'!BC211)","v":""},{"$f":"IF('Terugvordering reiskosten OAH'!BK211=0,\"\",'Terugvordering reiskosten OAH'!BK211)","v":""},{"$f":"IF('Terugvordering reiskosten OAH'!BR211=0,\"\",'Terugvordering reiskosten OAH'!BR211)","v":""},{"$f":"IF('Terugvordering reiskosten OAH'!BZ211=0,\"\",'Terugvordering reiskosten OAH'!BZ211)","v":""},{"$f":"IF('Terugvordering reiskosten OAH'!CG211=\"\",\"\",'Terugvordering reiskosten OAH'!CG211)","v":""},{"$f":"IF('Terugvordering reiskosten OAH'!CM211=0,\"\",'Terugvordering reiskosten OAH'!CM211)","v":""}]
[{"$f":"IF('Terugvordering reiskosten OAH'!D212=\"\",\"\",IF('Terugvordering reiskosten OAH'!$T$36=\"\",\"\",'Terugvordering reiskosten OAH'!$T$36))","v":""},{"$f":"IF(A140=\"\",\"\",'Terugvordering reiskosten OAH'!$T$38)","v":""},{"$f":"IF(A140=\"\",\"\",'gegevensblad samenvatting vord.'!$C$2)","v":""},{"$f":"IF('Terugvordering reiskosten OAH'!D212=\"\",\"\",TEXT('Terugvordering reiskosten OAH'!D212,\"mm-jjjj\"))","v":""},{"$f":"IF('Terugvordering reiskosten OAH'!H212=\"\",\"\",'Terugvordering reiskosten OAH'!H212)","v":""},{"$f":"IF('Terugvordering reiskosten OAH'!R212=\"\",\"\",'Terugvordering reiskosten OAH'!R212)","v":""},{"$f":"IF('Terugvordering reiskosten OAH'!X212=\"\",\"\",'Terugvordering reiskosten OAH'!X212)","v":""},{"$f":"IF('Terugvordering reiskosten OAH'!AJ212=\"\",\"\",'Terugvordering reiskosten OAH'!AJ212)","v":""},{"$f":"IF('Terugvordering reiskosten OAH'!AR212=\"\",\"\",'Terugvordering reiskosten OAH'!AR212)","v":""},{"$f":"IF('Terugvordering reiskosten OAH'!AY212=\"\",\"\",'Terugvordering reiskosten OAH'!AY212)","v":""},{"$f":"IF('Terugvordering reiskosten OAH'!BC212=0,\"\",'Terugvordering reiskosten OAH'!BC212)","v":""},{"$f":"IF('Terugvordering reiskosten OAH'!BK212=0,\"\",'Terugvordering reiskosten OAH'!BK212)","v":""},{"$f":"IF('Terugvordering reiskosten OAH'!BR212=0,\"\",'Terugvordering reiskosten OAH'!BR212)","v":""},{"$f":"IF('Terugvordering reiskosten OAH'!BZ212=0,\"\",'Terugvordering reiskosten OAH'!BZ212)","v":""},{"$f":"IF('Terugvordering reiskosten OAH'!CG212=\"\",\"\",'Terugvordering reiskosten OAH'!CG212)","v":""},{"$f":"IF('Terugvordering reiskosten OAH'!CM212=0,\"\",'Terugvordering reiskosten OAH'!CM212)","v":""}]
[{"$f":"IF('Terugvordering reiskosten OAH'!D213=\"\",\"\",IF('Terugvordering reiskosten OAH'!$T$36=\"\",\"\",'Terugvordering reiskosten OAH'!$T$36))","v":""},{"$f":"IF(A141=\"\",\"\",'Terugvordering reiskosten OAH'!$T$38)","v":""},{"$f":"IF(A141=\"\",\"\",'gegevensblad samenvatting vord.'!$C$2)","v":""},{"$f":"IF('Terugvordering reiskosten OAH'!D213=\"\",\"\",TEXT('Terugvordering reiskosten OAH'!D213,\"mm-jjjj\"))","v":""},{"$f":"IF('Terugvordering reiskosten OAH'!H213=\"\",\"\",'Terugvordering reiskosten OAH'!H213)","v":""},{"$f":"IF('Terugvordering reiskosten OAH'!R213=\"\",\"\",'Terugvordering reiskosten OAH'!R213)","v":""},{"$f":"IF('Terugvordering reiskosten OAH'!X213=\"\",\"\",'Terugvordering reiskosten OAH'!X213)","v":""},{"$f":"IF('Terugvordering reiskosten OAH'!AJ213=\"\",\"\",'Terugvordering reiskosten OAH'!AJ213)","v":""},{"$f":"IF('Terugvordering reiskosten OAH'!AR213=\"\",\"\",'Terugvordering reiskosten OAH'!AR213)","v":""},{"$f":"IF('Terugvordering reiskosten OAH'!AY213=\"\",\"\",'Terugvordering reiskosten OAH'!AY213)","v":""},{"$f":"IF('Terugvordering reiskosten OAH'!BC213=0,\"\",'Terugvordering reiskosten OAH'!BC213)","v":""},{"$f":"IF('Terugvordering reiskosten OAH'!BK213=0,\"\",'Terugvordering reiskosten OAH'!BK213)","v":""},{"$f":"IF('Terugvordering reiskosten OAH'!BR213=0,\"\",'Terugvordering reiskosten OAH'!BR213)","v":""},{"$f":"IF('Terugvordering reiskosten OAH'!BZ213=0,\"\",'Terugvordering reiskosten OAH'!BZ213)","v":""},{"$f":"IF('Terugvordering reiskosten OAH'!CG213=\"\",\"\",'Terugvordering reiskosten OAH'!CG213)","v":""},{"$f":"IF('Terugvordering reiskosten OAH'!CM213=0,\"\",'Terugvordering reiskosten OAH'!CM213)","v":""}]
[{"$f":"IF('Terugvordering reiskosten OAH'!D214=\"\",\"\",IF('Terugvordering reiskosten OAH'!$T$36=\"\",\"\",'Terugvordering reiskosten OAH'!$T$36))","v":""},{"$f":"IF(A142=\"\",\"\",'Terugvordering reiskosten OAH'!$T$38)","v":""},{"$f":"IF(A142=\"\",\"\",'gegevensblad samenvatting vord.'!$C$2)","v":""},{"$f":"IF('Terugvordering reiskosten OAH'!D214=\"\",\"\",TEXT('Terugvordering reiskosten OAH'!D214,\"mm-jjjj\"))","v":""},{"$f":"IF('Terugvordering reiskosten OAH'!H214=\"\",\"\",'Terugvordering reiskosten OAH'!H214)","v":""},{"$f":"IF('Terugvordering reiskosten OAH'!R214=\"\",\"\",'Terugvordering reiskosten OAH'!R214)","v":""},{"$f":"IF('Terugvordering reiskosten OAH'!X214=\"\",\"\",'Terugvordering reiskosten OAH'!X214)","v":""},{"$f":"IF('Terugvordering reiskosten OAH'!AJ214=\"\",\"\",'Terugvordering reiskosten OAH'!AJ214)","v":""},{"$f":"IF('Terugvordering reiskosten OAH'!AR214=\"\",\"\",'Terugvordering reiskosten OAH'!AR214)","v":""},{"$f":"IF('Terugvordering reiskosten OAH'!AY214=\"\",\"\",'Terugvordering reiskosten OAH'!AY214)","v":""},{"$f":"IF('Terugvordering reiskosten OAH'!BC214=0,\"\",'Terugvordering reiskosten OAH'!BC214)","v":""},{"$f":"IF('Terugvordering reiskosten OAH'!BK214=0,\"\",'Terugvordering reiskosten OAH'!BK214)","v":""},{"$f":"IF('Terugvordering reiskosten OAH'!BR214=0,\"\",'Terugvordering reiskosten OAH'!BR214)","v":""},{"$f":"IF('Terugvordering reiskosten OAH'!BZ214=0,\"\",'Terugvordering reiskosten OAH'!BZ214)","v":""},{"$f":"IF('Terugvordering reiskosten OAH'!CG214=\"\",\"\",'Terugvordering reiskosten OAH'!CG214)","v":""},{"$f":"IF('Terugvordering reiskosten OAH'!CM214=0,\"\",'Terugvordering reiskosten OAH'!CM214)","v":""}]
[{"$f":"IF('Terugvordering reiskosten OAH'!D215=\"\",\"\",IF('Terugvordering reiskosten OAH'!$T$36=\"\",\"\",'Terugvordering reiskosten OAH'!$T$36))","v":""},{"$f":"IF(A143=\"\",\"\",'Terugvordering reiskosten OAH'!$T$38)","v":""},{"$f":"IF(A143=\"\",\"\",'gegevensblad samenvatting vord.'!$C$2)","v":""},{"$f":"IF('Terugvordering reiskosten OAH'!D215=\"\",\"\",TEXT('Terugvordering reiskosten OAH'!D215,\"mm-jjjj\"))","v":""},{"$f":"IF('Terugvordering reiskosten OAH'!H215=\"\",\"\",'Terugvordering reiskosten OAH'!H215)","v":""},{"$f":"IF('Terugvordering reiskosten OAH'!R215=\"\",\"\",'Terugvordering reiskosten OAH'!R215)","v":""},{"$f":"IF('Terugvordering reiskosten OAH'!X215=\"\",\"\",'Terugvordering reiskosten OAH'!X215)","v":""},{"$f":"IF('Terugvordering reiskosten OAH'!AJ215=\"\",\"\",'Terugvordering reiskosten OAH'!AJ215)","v":""},{"$f":"IF('Terugvordering reiskosten OAH'!AR215=\"\",\"\",'Terugvordering reiskosten OAH'!AR215)","v":""},{"$f":"IF('Terugvordering reiskosten OAH'!AY215=\"\",\"\",'Terugvordering reiskosten OAH'!AY215)","v":""},{"$f":"IF('Terugvordering reiskosten OAH'!BC215=0,\"\",'Terugvordering reiskosten OAH'!BC215)","v":""},{"$f":"IF('Terugvordering reiskosten OAH'!BK215=0,\"\",'Terugvordering reiskosten OAH'!BK215)","v":""},{"$f":"IF('Terugvordering reiskosten OAH'!BR215=0,\"\",'Terugvordering reiskosten OAH'!BR215)","v":""},{"$f":"IF('Terugvordering reiskosten OAH'!BZ215=0,\"\",'Terugvordering reiskosten OAH'!BZ215)","v":""},{"$f":"IF('Terugvordering reiskosten OAH'!CG215=\"\",\"\",'Terugvordering reiskosten OAH'!CG215)","v":""},{"$f":"IF('Terugvordering reiskosten OAH'!CM215=0,\"\",'Terugvordering reiskosten OAH'!CM215)","v":""}]
[{"$f":"IF('Terugvordering reiskosten OAH'!D216=\"\",\"\",IF('Terugvordering reiskosten OAH'!$T$36=\"\",\"\",'Terugvordering reiskosten OAH'!$T$36))","v":""},{"$f":"IF(A144=\"\",\"\",'Terugvordering reiskosten OAH'!$T$38)","v":""},{"$f":"IF(A144=\"\",\"\",'gegevensblad samenvatting vord.'!$C$2)","v":""},{"$f":"IF('Terugvordering reiskosten OAH'!D216=\"\",\"\",TEXT('Terugvordering reiskosten OAH'!D216,\"mm-jjjj\"))","v":""},{"$f":"IF('Terugvordering reiskosten OAH'!H216=\"\",\"\",'Terugvordering reiskosten OAH'!H216)","v":""},{"$f":"IF('Terugvordering reiskosten OAH'!R216=\"\",\"\",'Terugvordering reiskosten OAH'!R216)","v":""},{"$f":"IF('Terugvordering reiskosten OAH'!X216=\"\",\"\",'Terugvordering reiskosten OAH'!X216)","v":""},{"$f":"IF('Terugvordering reiskosten OAH'!AJ216=\"\",\"\",'Terugvordering reiskosten OAH'!AJ216)","v":""},{"$f":"IF('Terugvordering reiskosten OAH'!AR216=\"\",\"\",'Terugvordering reiskosten OAH'!AR216)","v":""},{"$f":"IF('Terugvordering reiskosten OAH'!AY216=\"\",\"\",'Terugvordering reiskosten OAH'!AY216)","v":""},{"$f":"IF('Terugvordering reiskosten OAH'!BC216=0,\"\",'Terugvordering reiskosten OAH'!BC216)","v":""},{"$f":"IF('Terugvordering reiskosten OAH'!BK216=0,\"\",'Terugvordering reiskosten OAH'!BK216)","v":""},{"$f":"IF('Terugvordering reiskosten OAH'!BR216=0,\"\",'Terugvordering reiskosten OAH'!BR216)","v":""},{"$f":"IF('Terugvordering reiskosten OAH'!BZ216=0,\"\",'Terugvordering reiskosten OAH'!BZ216)","v":""},{"$f":"IF('Terugvordering reiskosten OAH'!CG216=\"\",\"\",'Terugvordering reiskosten OAH'!CG216)","v":""},{"$f":"IF('Terugvordering reiskosten OAH'!CM216=0,\"\",'Terugvordering reiskosten OAH'!CM216)","v":""}]
[{"$f":"IF('Terugvordering reiskosten OAH'!D217=\"\",\"\",IF('Terugvordering reiskosten OAH'!$T$36=\"\",\"\",'Terugvordering reiskosten OAH'!$T$36))","v":""},{"$f":"IF(A145=\"\",\"\",'Terugvordering reiskosten OAH'!$T$38)","v":""},{"$f":"IF(A145=\"\",\"\",'gegevensblad samenvatting vord.'!$C$2)","v":""},{"$f":"IF('Terugvordering reiskosten OAH'!D217=\"\",\"\",TEXT('Terugvordering reiskosten OAH'!D217,\"mm-jjjj\"))","v":""},{"$f":"IF('Terugvordering reiskosten OAH'!H217=\"\",\"\",'Terugvordering reiskosten OAH'!H217)","v":""},{"$f":"IF('Terugvordering reiskosten OAH'!R217=\"\",\"\",'Terugvordering reiskosten OAH'!R217)","v":""},{"$f":"IF('Terugvordering reiskosten OAH'!X217=\"\",\"\",'Terugvordering reiskosten OAH'!X217)","v":""},{"$f":"IF('Terugvordering reiskosten OAH'!AJ217=\"\",\"\",'Terugvordering reiskosten OAH'!AJ217)","v":""},{"$f":"IF('Terugvordering reiskosten OAH'!AR217=\"\",\"\",'Terugvordering reiskosten OAH'!AR217)","v":""},{"$f":"IF('Terugvordering reiskosten OAH'!AY217=\"\",\"\",'Terugvordering reiskosten OAH'!AY217)","v":""},{"$f":"IF('Terugvordering reiskosten OAH'!BC217=0,\"\",'Terugvordering reiskosten OAH'!BC217)","v":""},{"$f":"IF('Terugvordering reiskosten OAH'!BK217=0,\"\",'Terugvordering reiskosten OAH'!BK217)","v":""},{"$f":"IF('Terugvordering reiskosten OAH'!BR217=0,\"\",'Terugvordering reiskosten OAH'!BR217)","v":""},{"$f":"IF('Terugvordering reiskosten OAH'!BZ217=0,\"\",'Terugvordering reiskosten OAH'!BZ217)","v":""},{"$f":"IF('Terugvordering reiskosten OAH'!CG217=\"\",\"\",'Terugvordering reiskosten OAH'!CG217)","v":""},{"$f":"IF('Terugvordering reiskosten OAH'!CM217=0,\"\",'Terugvordering reiskosten OAH'!CM217)","v":""}]
[{"$f":"IF('Terugvordering reiskosten OAH'!D218=\"\",\"\",IF('Terugvordering reiskosten OAH'!$T$36=\"\",\"\",'Terugvordering reiskosten OAH'!$T$36))","v":""},{"$f":"IF(A146=\"\",\"\",'Terugvordering reiskosten OAH'!$T$38)","v":""},{"$f":"IF(A146=\"\",\"\",'gegevensblad samenvatting vord.'!$C$2)","v":""},{"$f":"IF('Terugvordering reiskosten OAH'!D218=\"\",\"\",TEXT('Terugvordering reiskosten OAH'!D218,\"mm-jjjj\"))","v":""},{"$f":"IF('Terugvordering reiskosten OAH'!H218=\"\",\"\",'Terugvordering reiskosten OAH'!H218)","v":""},{"$f":"IF('Terugvordering reiskosten OAH'!R218=\"\",\"\",'Terugvordering reiskosten OAH'!R218)","v":""},{"$f":"IF('Terugvordering reiskosten OAH'!X218=\"\",\"\",'Terugvordering reiskosten OAH'!X218)","v":""},{"$f":"IF('Terugvordering reiskosten OAH'!AJ218=\"\",\"\",'Terugvordering reiskosten OAH'!AJ218)","v":""},{"$f":"IF('Terugvordering reiskosten OAH'!AR218=\"\",\"\",'Terugvordering reiskosten OAH'!AR218)","v":""},{"$f":"IF('Terugvordering reiskosten OAH'!AY218=\"\",\"\",'Terugvordering reiskosten OAH'!AY218)","v":""},{"$f":"IF('Terugvordering reiskosten OAH'!BC218=0,\"\",'Terugvordering reiskosten OAH'!BC218)","v":""},{"$f":"IF('Terugvordering reiskosten OAH'!BK218=0,\"\",'Terugvordering reiskosten OAH'!BK218)","v":""},{"$f":"IF('Terugvordering reiskosten OAH'!BR218=0,\"\",'Terugvordering reiskosten OAH'!BR218)","v":""},{"$f":"IF('Terugvordering reiskosten OAH'!BZ218=0,\"\",'Terugvordering reiskosten OAH'!BZ218)","v":""},{"$f":"IF('Terugvordering reiskosten OAH'!CG218=\"\",\"\",'Terugvordering reiskosten OAH'!CG218)","v":""},{"$f":"IF('Terugvordering reiskosten OAH'!CM218=0,\"\",'Terugvordering reiskosten OAH'!CM218)","v":""}]
[{"$f":"IF('Terugvordering reiskosten OAH'!D219=\"\",\"\",IF('Terugvordering reiskosten OAH'!$T$36=\"\",\"\",'Terugvordering reiskosten OAH'!$T$36))","v":""},{"$f":"IF(A147=\"\",\"\",'Terugvordering reiskosten OAH'!$T$38)","v":""},{"$f":"IF(A147=\"\",\"\",'gegevensblad samenvatting vord.'!$C$2)","v":""},{"$f":"IF('Terugvordering reiskosten OAH'!D219=\"\",\"\",TEXT('Terugvordering reiskosten OAH'!D219,\"mm-jjjj\"))","v":""},{"$f":"IF('Terugvordering reiskosten OAH'!H219=\"\",\"\",'Terugvordering reiskosten OAH'!H219)","v":""},{"$f":"IF('Terugvordering reiskosten OAH'!R219=\"\",\"\",'Terugvordering reiskosten OAH'!R219)","v":""},{"$f":"IF('Terugvordering reiskosten OAH'!X219=\"\",\"\",'Terugvordering reiskosten OAH'!X219)","v":""},{"$f":"IF('Terugvordering reiskosten OAH'!AJ219=\"\",\"\",'Terugvordering reiskosten OAH'!AJ219)","v":""},{"$f":"IF('Terugvordering reiskosten OAH'!AR219=\"\",\"\",'Terugvordering reiskosten OAH'!AR219)","v":""},{"$f":"IF('Terugvordering reiskosten OAH'!AY219=\"\",\"\",'Terugvordering reiskosten OAH'!AY219)","v":""},{"$f":"IF('Terugvordering reiskosten OAH'!BC219=0,\"\",'Terugvordering reiskosten OAH'!BC219)","v":""},{"$f":"IF('Terugvordering reiskosten OAH'!BK219=0,\"\",'Terugvordering reiskosten OAH'!BK219)","v":""},{"$f":"IF('Terugvordering reiskosten OAH'!BR219=0,\"\",'Terugvordering reiskosten OAH'!BR219)","v":""},{"$f":"IF('Terugvordering reiskosten OAH'!BZ219=0,\"\",'Terugvordering reiskosten OAH'!BZ219)","v":""},{"$f":"IF('Terugvordering reiskosten OAH'!CG219=\"\",\"\",'Terugvordering reiskosten OAH'!CG219)","v":""},{"$f":"IF('Terugvordering reiskosten OAH'!CM219=0,\"\",'Terugvordering reiskosten OAH'!CM219)","v":""}]
[{"$f":"IF('Terugvordering reiskosten OAH'!D220=\"\",\"\",IF('Terugvordering reiskosten OAH'!$T$36=\"\",\"\",'Terugvordering reiskosten OAH'!$T$36))","v":""},{"$f":"IF(A148=\"\",\"\",'Terugvordering reiskosten OAH'!$T$38)","v":""},{"$f":"IF(A148=\"\",\"\",'gegevensblad samenvatting vord.'!$C$2)","v":""},{"$f":"IF('Terugvordering reiskosten OAH'!D220=\"\",\"\",TEXT('Terugvordering reiskosten OAH'!D220,\"mm-jjjj\"))","v":""},{"$f":"IF('Terugvordering reiskosten OAH'!H220=\"\",\"\",'Terugvordering reiskosten OAH'!H220)","v":""},{"$f":"IF('Terugvordering reiskosten OAH'!R220=\"\",\"\",'Terugvordering reiskosten OAH'!R220)","v":""},{"$f":"IF('Terugvordering reiskosten OAH'!X220=\"\",\"\",'Terugvordering reiskosten OAH'!X220)","v":""},{"$f":"IF('Terugvordering reiskosten OAH'!AJ220=\"\",\"\",'Terugvordering reiskosten OAH'!AJ220)","v":""},{"$f":"IF('Terugvordering reiskosten OAH'!AR220=\"\",\"\",'Terugvordering reiskosten OAH'!AR220)","v":""},{"$f":"IF('Terugvordering reiskosten OAH'!AY220=\"\",\"\",'Terugvordering reiskosten OAH'!AY220)","v":""},{"$f":"IF('Terugvordering reiskosten OAH'!BC220=0,\"\",'Terugvordering reiskosten OAH'!BC220)","v":""},{"$f":"IF('Terugvordering reiskosten OAH'!BK220=0,\"\",'Terugvordering reiskosten OAH'!BK220)","v":""},{"$f":"IF('Terugvordering reiskosten OAH'!BR220=0,\"\",'Terugvordering reiskosten OAH'!BR220)","v":""},{"$f":"IF('Terugvordering reiskosten OAH'!BZ220=0,\"\",'Terugvordering reiskosten OAH'!BZ220)","v":""},{"$f":"IF('Terugvordering reiskosten OAH'!CG220=\"\",\"\",'Terugvordering reiskosten OAH'!CG220)","v":""},{"$f":"IF('Terugvordering reiskosten OAH'!CM220=0,\"\",'Terugvordering reiskosten OAH'!CM220)","v":""}]
[{"$f":"IF('Terugvordering reiskosten OAH'!D221=\"\",\"\",IF('Terugvordering reiskosten OAH'!$T$36=\"\",\"\",'Terugvordering reiskosten OAH'!$T$36))","v":""},{"$f":"IF(A149=\"\",\"\",'Terugvordering reiskosten OAH'!$T$38)","v":""},{"$f":"IF(A149=\"\",\"\",'gegevensblad samenvatting vord.'!$C$2)","v":""},{"$f":"IF('Terugvordering reiskosten OAH'!D221=\"\",\"\",TEXT('Terugvordering reiskosten OAH'!D221,\"mm-jjjj\"))","v":""},{"$f":"IF('Terugvordering reiskosten OAH'!H221=\"\",\"\",'Terugvordering reiskosten OAH'!H221)","v":""},{"$f":"IF('Terugvordering reiskosten OAH'!R221=\"\",\"\",'Terugvordering reiskosten OAH'!R221)","v":""},{"$f":"IF('Terugvordering reiskosten OAH'!X221=\"\",\"\",'Terugvordering reiskosten OAH'!X221)","v":""},{"$f":"IF('Terugvordering reiskosten OAH'!AJ221=\"\",\"\",'Terugvordering reiskosten OAH'!AJ221)","v":""},{"$f":"IF('Terugvordering reiskosten OAH'!AR221=\"\",\"\",'Terugvordering reiskosten OAH'!AR221)","v":""},{"$f":"IF('Terugvordering reiskosten OAH'!AY221=\"\",\"\",'Terugvordering reiskosten OAH'!AY221)","v":""},{"$f":"IF('Terugvordering reiskosten OAH'!BC221=0,\"\",'Terugvordering reiskosten OAH'!BC221)","v":""},{"$f":"IF('Terugvordering reiskosten OAH'!BK221=0,\"\",'Terugvordering reiskosten OAH'!BK221)","v":""},{"$f":"IF('Terugvordering reiskosten OAH'!BR221=0,\"\",'Terugvordering reiskosten OAH'!BR221)","v":""},{"$f":"IF('Terugvordering reiskosten OAH'!BZ221=0,\"\",'Terugvordering reiskosten OAH'!BZ221)","v":""},{"$f":"IF('Terugvordering reiskosten OAH'!CG221=\"\",\"\",'Terugvordering reiskosten OAH'!CG221)","v":""},{"$f":"IF('Terugvordering reiskosten OAH'!CM221=0,\"\",'Terugvordering reiskosten OAH'!CM221)","v":""}]
[{"$f":"IF('Terugvordering reiskosten OAH'!D222=\"\",\"\",IF('Terugvordering reiskosten OAH'!$T$36=\"\",\"\",'Terugvordering reiskosten OAH'!$T$36))","v":""},{"$f":"IF(A150=\"\",\"\",'Terugvordering reiskosten OAH'!$T$38)","v":""},{"$f":"IF(A150=\"\",\"\",'gegevensblad samenvatting vord.'!$C$2)","v":""},{"$f":"IF('Terugvordering reiskosten OAH'!D222=\"\",\"\",TEXT('Terugvordering reiskosten OAH'!D222,\"mm-jjjj\"))","v":""},{"$f":"IF('Terugvordering reiskosten OAH'!H222=\"\",\"\",'Terugvordering reiskosten OAH'!H222)","v":""},{"$f":"IF('Terugvordering reiskosten OAH'!R222=\"\",\"\",'Terugvordering reiskosten OAH'!R222)","v":""},{"$f":"IF('Terugvordering reiskosten OAH'!X222=\"\",\"\",'Terugvordering reiskosten OAH'!X222)","v":""},{"$f":"IF('Terugvordering reiskosten OAH'!AJ222=\"\",\"\",'Terugvordering reiskosten OAH'!AJ222)","v":""},{"$f":"IF('Terugvordering reiskosten OAH'!AR222=\"\",\"\",'Terugvordering reiskosten OAH'!AR222)","v":""},{"$f":"IF('Terugvordering reiskosten OAH'!AY222=\"\",\"\",'Terugvordering reiskosten OAH'!AY222)","v":""},{"$f":"IF('Terugvordering reiskosten OAH'!BC222=0,\"\",'Terugvordering reiskosten OAH'!BC222)","v":""},{"$f":"IF('Terugvordering reiskosten OAH'!BK222=0,\"\",'Terugvordering reiskosten OAH'!BK222)","v":""},{"$f":"IF('Terugvordering reiskosten OAH'!BR222=0,\"\",'Terugvordering reiskosten OAH'!BR222)","v":""},{"$f":"IF('Terugvordering reiskosten OAH'!BZ222=0,\"\",'Terugvordering reiskosten OAH'!BZ222)","v":""},{"$f":"IF('Terugvordering reiskosten OAH'!CG222=\"\",\"\",'Terugvordering reiskosten OAH'!CG222)","v":""},{"$f":"IF('Terugvordering reiskosten OAH'!CM222=0,\"\",'Terugvordering reiskosten OAH'!CM222)","v":""}]
[{"$f":"IF('Terugvordering reiskosten OAH'!D223=\"\",\"\",IF('Terugvordering reiskosten OAH'!$T$36=\"\",\"\",'Terugvordering reiskosten OAH'!$T$36))","v":""},{"$f":"IF(A151=\"\",\"\",'Terugvordering reiskosten OAH'!$T$38)","v":""},{"$f":"IF(A151=\"\",\"\",'gegevensblad samenvatting vord.'!$C$2)","v":""},{"$f":"IF('Terugvordering reiskosten OAH'!D223=\"\",\"\",TEXT('Terugvordering reiskosten OAH'!D223,\"mm-jjjj\"))","v":""},{"$f":"IF('Terugvordering reiskosten OAH'!H223=\"\",\"\",'Terugvordering reiskosten OAH'!H223)","v":""},{"$f":"IF('Terugvordering reiskosten OAH'!R223=\"\",\"\",'Terugvordering reiskosten OAH'!R223)","v":""},{"$f":"IF('Terugvordering reiskosten OAH'!X223=\"\",\"\",'Terugvordering reiskosten OAH'!X223)","v":""},{"$f":"IF('Terugvordering reiskosten OAH'!AJ223=\"\",\"\",'Terugvordering reiskosten OAH'!AJ223)","v":""},{"$f":"IF('Terugvordering reiskosten OAH'!AR223=\"\",\"\",'Terugvordering reiskosten OAH'!AR223)","v":""},{"$f":"IF('Terugvordering reiskosten OAH'!AY223=\"\",\"\",'Terugvordering reiskosten OAH'!AY223)","v":""},{"$f":"IF('Terugvordering reiskosten OAH'!BC223=0,\"\",'Terugvordering reiskosten OAH'!BC223)","v":""},{"$f":"IF('Terugvordering reiskosten OAH'!BK223=0,\"\",'Terugvordering reiskosten OAH'!BK223)","v":""},{"$f":"IF('Terugvordering reiskosten OAH'!BR223=0,\"\",'Terugvordering reiskosten OAH'!BR223)","v":""},{"$f":"IF('Terugvordering reiskosten OAH'!BZ223=0,\"\",'Terugvordering reiskosten OAH'!BZ223)","v":""},{"$f":"IF('Terugvordering reiskosten OAH'!CG223=\"\",\"\",'Terugvordering reiskosten OAH'!CG223)","v":""},{"$f":"IF('Terugvordering reiskosten OAH'!CM223=0,\"\",'Terugvordering reiskosten OAH'!CM223)","v":""}]
[{"$f":"IF('Terugvordering reiskosten OAH'!D224=\"\",\"\",IF('Terugvordering reiskosten OAH'!$T$36=\"\",\"\",'Terugvordering reiskosten OAH'!$T$36))","v":""},{"$f":"IF(A152=\"\",\"\",'Terugvordering reiskosten OAH'!$T$38)","v":""},{"$f":"IF(A152=\"\",\"\",'gegevensblad samenvatting vord.'!$C$2)","v":""},{"$f":"IF('Terugvordering reiskosten OAH'!D224=\"\",\"\",TEXT('Terugvordering reiskosten OAH'!D224,\"mm-jjjj\"))","v":""},{"$f":"IF('Terugvordering reiskosten OAH'!H224=\"\",\"\",'Terugvordering reiskosten OAH'!H224)","v":""},{"$f":"IF('Terugvordering reiskosten OAH'!R224=\"\",\"\",'Terugvordering reiskosten OAH'!R224)","v":""},{"$f":"IF('Terugvordering reiskosten OAH'!X224=\"\",\"\",'Terugvordering reiskosten OAH'!X224)","v":""},{"$f":"IF('Terugvordering reiskosten OAH'!AJ224=\"\",\"\",'Terugvordering reiskosten OAH'!AJ224)","v":""},{"$f":"IF('Terugvordering reiskosten OAH'!AR224=\"\",\"\",'Terugvordering reiskosten OAH'!AR224)","v":""},{"$f":"IF('Terugvordering reiskosten OAH'!AY224=\"\",\"\",'Terugvordering reiskosten OAH'!AY224)","v":""},{"$f":"IF('Terugvordering reiskosten OAH'!BC224=0,\"\",'Terugvordering reiskosten OAH'!BC224)","v":""},{"$f":"IF('Terugvordering reiskosten OAH'!BK224=0,\"\",'Terugvordering reiskosten OAH'!BK224)","v":""},{"$f":"IF('Terugvordering reiskosten OAH'!BR224=0,\"\",'Terugvordering reiskosten OAH'!BR224)","v":""},{"$f":"IF('Terugvordering reiskosten OAH'!BZ224=0,\"\",'Terugvordering reiskosten OAH'!BZ224)","v":""},{"$f":"IF('Terugvordering reiskosten OAH'!CG224=\"\",\"\",'Terugvordering reiskosten OAH'!CG224)","v":""},{"$f":"IF('Terugvordering reiskosten OAH'!CM224=0,\"\",'Terugvordering reiskosten OAH'!CM224)","v":""}]
[{"$f":"IF('Terugvordering reiskosten OAH'!D225=\"\",\"\",IF('Terugvordering reiskosten OAH'!$T$36=\"\",\"\",'Terugvordering reiskosten OAH'!$T$36))","v":""},{"$f":"IF(A153=\"\",\"\",'Terugvordering reiskosten OAH'!$T$38)","v":""},{"$f":"IF(A153=\"\",\"\",'gegevensblad samenvatting vord.'!$C$2)","v":""},{"$f":"IF('Terugvordering reiskosten OAH'!D225=\"\",\"\",TEXT('Terugvordering reiskosten OAH'!D225,\"mm-jjjj\"))","v":""},{"$f":"IF('Terugvordering reiskosten OAH'!H225=\"\",\"\",'Terugvordering reiskosten OAH'!H225)","v":""},{"$f":"IF('Terugvordering reiskosten OAH'!R225=\"\",\"\",'Terugvordering reiskosten OAH'!R225)","v":""},{"$f":"IF('Terugvordering reiskosten OAH'!X225=\"\",\"\",'Terugvordering reiskosten OAH'!X225)","v":""},{"$f":"IF('Terugvordering reiskosten OAH'!AJ225=\"\",\"\",'Terugvordering reiskosten OAH'!AJ225)","v":""},{"$f":"IF('Terugvordering reiskosten OAH'!AR225=\"\",\"\",'Terugvordering reiskosten OAH'!AR225)","v":""},{"$f":"IF('Terugvordering reiskosten OAH'!AY225=\"\",\"\",'Terugvordering reiskosten OAH'!AY225)","v":""},{"$f":"IF('Terugvordering reiskosten OAH'!BC225=0,\"\",'Terugvordering reiskosten OAH'!BC225)","v":""},{"$f":"IF('Terugvordering reiskosten OAH'!BK225=0,\"\",'Terugvordering reiskosten OAH'!BK225)","v":""},{"$f":"IF('Terugvordering reiskosten OAH'!BR225=0,\"\",'Terugvordering reiskosten OAH'!BR225)","v":""},{"$f":"IF('Terugvordering reiskosten OAH'!BZ225=0,\"\",'Terugvordering reiskosten OAH'!BZ225)","v":""},{"$f":"IF('Terugvordering reiskosten OAH'!CG225=\"\",\"\",'Terugvordering reiskosten OAH'!CG225)","v":""},{"$f":"IF('Terugvordering reiskosten OAH'!CM225=0,\"\",'Terugvordering reiskosten OAH'!CM225)","v":""}]
[{"$f":"IF('Terugvordering reiskosten OAH'!D226=\"\",\"\",IF('Terugvordering reiskosten OAH'!$T$36=\"\",\"\",'Terugvordering reiskosten OAH'!$T$36))","v":""},{"$f":"IF(A154=\"\",\"\",'Terugvordering reiskosten OAH'!$T$38)","v":""},{"$f":"IF(A154=\"\",\"\",'gegevensblad samenvatting vord.'!$C$2)","v":""},{"$f":"IF('Terugvordering reiskosten OAH'!D226=\"\",\"\",TEXT('Terugvordering reiskosten OAH'!D226,\"mm-jjjj\"))","v":""},{"$f":"IF('Terugvordering reiskosten OAH'!H226=\"\",\"\",'Terugvordering reiskosten OAH'!H226)","v":""},{"$f":"IF('Terugvordering reiskosten OAH'!R226=\"\",\"\",'Terugvordering reiskosten OAH'!R226)","v":""},{"$f":"IF('Terugvordering reiskosten OAH'!X226=\"\",\"\",'Terugvordering reiskosten OAH'!X226)","v":""},{"$f":"IF('Terugvordering reiskosten OAH'!AJ226=\"\",\"\",'Terugvordering reiskosten OAH'!AJ226)","v":""},{"$f":"IF('Terugvordering reiskosten OAH'!AR226=\"\",\"\",'Terugvordering reiskosten OAH'!AR226)","v":""},{"$f":"IF('Terugvordering reiskosten OAH'!AY226=\"\",\"\",'Terugvordering reiskosten OAH'!AY226)","v":""},{"$f":"IF('Terugvordering reiskosten OAH'!BC226=0,\"\",'Terugvordering reiskosten OAH'!BC226)","v":""},{"$f":"IF('Terugvordering reiskosten OAH'!BK226=0,\"\",'Terugvordering reiskosten OAH'!BK226)","v":""},{"$f":"IF('Terugvordering reiskosten OAH'!BR226=0,\"\",'Terugvordering reiskosten OAH'!BR226)","v":""},{"$f":"IF('Terugvordering reiskosten OAH'!BZ226=0,\"\",'Terugvordering reiskosten OAH'!BZ226)","v":""},{"$f":"IF('Terugvordering reiskosten OAH'!CG226=\"\",\"\",'Terugvordering reiskosten OAH'!CG226)","v":""},{"$f":"IF('Terugvordering reiskosten OAH'!CM226=0,\"\",'Terugvordering reiskosten OAH'!CM226)","v":""}]
[{"$f":"IF('Terugvordering reiskosten OAH'!D227=\"\",\"\",IF('Terugvordering reiskosten OAH'!$T$36=\"\",\"\",'Terugvordering reiskosten OAH'!$T$36))","v":""},{"$f":"IF(A155=\"\",\"\",'Terugvordering reiskosten OAH'!$T$38)","v":""},{"$f":"IF(A155=\"\",\"\",'gegevensblad samenvatting vord.'!$C$2)","v":""},{"$f":"IF('Terugvordering reiskosten OAH'!D227=\"\",\"\",TEXT('Terugvordering reiskosten OAH'!D227,\"mm-jjjj\"))","v":""},{"$f":"IF('Terugvordering reiskosten OAH'!H227=\"\",\"\",'Terugvordering reiskosten OAH'!H227)","v":""},{"$f":"IF('Terugvordering reiskosten OAH'!R227=\"\",\"\",'Terugvordering reiskosten OAH'!R227)","v":""},{"$f":"IF('Terugvordering reiskosten OAH'!X227=\"\",\"\",'Terugvordering reiskosten OAH'!X227)","v":""},{"$f":"IF('Terugvordering reiskosten OAH'!AJ227=\"\",\"\",'Terugvordering reiskosten OAH'!AJ227)","v":""},{"$f":"IF('Terugvordering reiskosten OAH'!AR227=\"\",\"\",'Terugvordering reiskosten OAH'!AR227)","v":""},{"$f":"IF('Terugvordering reiskosten OAH'!AY227=\"\",\"\",'Terugvordering reiskosten OAH'!AY227)","v":""},{"$f":"IF('Terugvordering reiskosten OAH'!BC227=0,\"\",'Terugvordering reiskosten OAH'!BC227)","v":""},{"$f":"IF('Terugvordering reiskosten OAH'!BK227=0,\"\",'Terugvordering reiskosten OAH'!BK227)","v":""},{"$f":"IF('Terugvordering reiskosten OAH'!BR227=0,\"\",'Terugvordering reiskosten OAH'!BR227)","v":""},{"$f":"IF('Terugvordering reiskosten OAH'!BZ227=0,\"\",'Terugvordering reiskosten OAH'!BZ227)","v":""},{"$f":"IF('Terugvordering reiskosten OAH'!CG227=\"\",\"\",'Terugvordering reiskosten OAH'!CG227)","v":""},{"$f":"IF('Terugvordering reiskosten OAH'!CM227=0,\"\",'Terugvordering reiskosten OAH'!CM227)","v":""}]
[{"$f":"IF('Terugvordering reiskosten OAH'!D228=\"\",\"\",IF('Terugvordering reiskosten OAH'!$T$36=\"\",\"\",'Terugvordering reiskosten OAH'!$T$36))","v":""},{"$f":"IF(A156=\"\",\"\",'Terugvordering reiskosten OAH'!$T$38)","v":""},{"$f":"IF(A156=\"\",\"\",'gegevensblad samenvatting vord.'!$C$2)","v":""},{"$f":"IF('Terugvordering reiskosten OAH'!D228=\"\",\"\",TEXT('Terugvordering reiskosten OAH'!D228,\"mm-jjjj\"))","v":""},{"$f":"IF('Terugvordering reiskosten OAH'!H228=\"\",\"\",'Terugvordering reiskosten OAH'!H228)","v":""},{"$f":"IF('Terugvordering reiskosten OAH'!R228=\"\",\"\",'Terugvordering reiskosten OAH'!R228)","v":""},{"$f":"IF('Terugvordering reiskosten OAH'!X228=\"\",\"\",'Terugvordering reiskosten OAH'!X228)","v":""},{"$f":"IF('Terugvordering reiskosten OAH'!AJ228=\"\",\"\",'Terugvordering reiskosten OAH'!AJ228)","v":""},{"$f":"IF('Terugvordering reiskosten OAH'!AR228=\"\",\"\",'Terugvordering reiskosten OAH'!AR228)","v":""},{"$f":"IF('Terugvordering reiskosten OAH'!AY228=\"\",\"\",'Terugvordering reiskosten OAH'!AY228)","v":""},{"$f":"IF('Terugvordering reiskosten OAH'!BC228=0,\"\",'Terugvordering reiskosten OAH'!BC228)","v":""},{"$f":"IF('Terugvordering reiskosten OAH'!BK228=0,\"\",'Terugvordering reiskosten OAH'!BK228)","v":""},{"$f":"IF('Terugvordering reiskosten OAH'!BR228=0,\"\",'Terugvordering reiskosten OAH'!BR228)","v":""},{"$f":"IF('Terugvordering reiskosten OAH'!BZ228=0,\"\",'Terugvordering reiskosten OAH'!BZ228)","v":""},{"$f":"IF('Terugvordering reiskosten OAH'!CG228=\"\",\"\",'Terugvordering reiskosten OAH'!CG228)","v":""},{"$f":"IF('Terugvordering reiskosten OAH'!CM228=0,\"\",'Terugvordering reiskosten OAH'!CM228)","v":""}]
[{"$f":"IF('Terugvordering reiskosten OAH'!D229=\"\",\"\",IF('Terugvordering reiskosten OAH'!$T$36=\"\",\"\",'Terugvordering reiskosten OAH'!$T$36))","v":""},{"$f":"IF(A157=\"\",\"\",'Terugvordering reiskosten OAH'!$T$38)","v":""},{"$f":"IF(A157=\"\",\"\",'gegevensblad samenvatting vord.'!$C$2)","v":""},{"$f":"IF('Terugvordering reiskosten OAH'!D229=\"\",\"\",TEXT('Terugvordering reiskosten OAH'!D229,\"mm-jjjj\"))","v":""},{"$f":"IF('Terugvordering reiskosten OAH'!H229=\"\",\"\",'Terugvordering reiskosten OAH'!H229)","v":""},{"$f":"IF('Terugvordering reiskosten OAH'!R229=\"\",\"\",'Terugvordering reiskosten OAH'!R229)","v":""},{"$f":"IF('Terugvordering reiskosten OAH'!X229=\"\",\"\",'Terugvordering reiskosten OAH'!X229)","v":""},{"$f":"IF('Terugvordering reiskosten OAH'!AJ229=\"\",\"\",'Terugvordering reiskosten OAH'!AJ229)","v":""},{"$f":"IF('Terugvordering reiskosten OAH'!AR229=\"\",\"\",'Terugvordering reiskosten OAH'!AR229)","v":""},{"$f":"IF('Terugvordering reiskosten OAH'!AY229=\"\",\"\",'Terugvordering reiskosten OAH'!AY229)","v":""},{"$f":"IF('Terugvordering reiskosten OAH'!BC229=0,\"\",'Terugvordering reiskosten OAH'!BC229)","v":""},{"$f":"IF('Terugvordering reiskosten OAH'!BK229=0,\"\",'Terugvordering reiskosten OAH'!BK229)","v":""},{"$f":"IF('Terugvordering reiskosten OAH'!BR229=0,\"\",'Terugvordering reiskosten OAH'!BR229)","v":""},{"$f":"IF('Terugvordering reiskosten OAH'!BZ229=0,\"\",'Terugvordering reiskosten OAH'!BZ229)","v":""},{"$f":"IF('Terugvordering reiskosten OAH'!CG229=\"\",\"\",'Terugvordering reiskosten OAH'!CG229)","v":""},{"$f":"IF('Terugvordering reiskosten OAH'!CM229=0,\"\",'Terugvordering reiskosten OAH'!CM229)","v":""}]
[{"$f":"IF('Terugvordering reiskosten OAH'!D230=\"\",\"\",IF('Terugvordering reiskosten OAH'!$T$36=\"\",\"\",'Terugvordering reiskosten OAH'!$T$36))","v":""},{"$f":"IF(A158=\"\",\"\",'Terugvordering reiskosten OAH'!$T$38)","v":""},{"$f":"IF(A158=\"\",\"\",'gegevensblad samenvatting vord.'!$C$2)","v":""},{"$f":"IF('Terugvordering reiskosten OAH'!D230=\"\",\"\",TEXT('Terugvordering reiskosten OAH'!D230,\"mm-jjjj\"))","v":""},{"$f":"IF('Terugvordering reiskosten OAH'!H230=\"\",\"\",'Terugvordering reiskosten OAH'!H230)","v":""},{"$f":"IF('Terugvordering reiskosten OAH'!R230=\"\",\"\",'Terugvordering reiskosten OAH'!R230)","v":""},{"$f":"IF('Terugvordering reiskosten OAH'!X230=\"\",\"\",'Terugvordering reiskosten OAH'!X230)","v":""},{"$f":"IF('Terugvordering reiskosten OAH'!AJ230=\"\",\"\",'Terugvordering reiskosten OAH'!AJ230)","v":""},{"$f":"IF('Terugvordering reiskosten OAH'!AR230=\"\",\"\",'Terugvordering reiskosten OAH'!AR230)","v":""},{"$f":"IF('Terugvordering reiskosten OAH'!AY230=\"\",\"\",'Terugvordering reiskosten OAH'!AY230)","v":""},{"$f":"IF('Terugvordering reiskosten OAH'!BC230=0,\"\",'Terugvordering reiskosten OAH'!BC230)","v":""},{"$f":"IF('Terugvordering reiskosten OAH'!BK230=0,\"\",'Terugvordering reiskosten OAH'!BK230)","v":""},{"$f":"IF('Terugvordering reiskosten OAH'!BR230=0,\"\",'Terugvordering reiskosten OAH'!BR230)","v":""},{"$f":"IF('Terugvordering reiskosten OAH'!BZ230=0,\"\",'Terugvordering reiskosten OAH'!BZ230)","v":""},{"$f":"IF('Terugvordering reiskosten OAH'!CG230=\"\",\"\",'Terugvordering reiskosten OAH'!CG230)","v":""},{"$f":"IF('Terugvordering reiskosten OAH'!CM230=0,\"\",'Terugvordering reiskosten OAH'!CM230)","v":""}]
[{"$f":"IF('Terugvordering reiskosten OAH'!D231=\"\",\"\",IF('Terugvordering reiskosten OAH'!$T$36=\"\",\"\",'Terugvordering reiskosten OAH'!$T$36))","v":""},{"$f":"IF(A159=\"\",\"\",'Terugvordering reiskosten OAH'!$T$38)","v":""},{"$f":"IF(A159=\"\",\"\",'gegevensblad samenvatting vord.'!$C$2)","v":""},{"$f":"IF('Terugvordering reiskosten OAH'!D231=\"\",\"\",TEXT('Terugvordering reiskosten OAH'!D231,\"mm-jjjj\"))","v":""},{"$f":"IF('Terugvordering reiskosten OAH'!H231=\"\",\"\",'Terugvordering reiskosten OAH'!H231)","v":""},{"$f":"IF('Terugvordering reiskosten OAH'!R231=\"\",\"\",'Terugvordering reiskosten OAH'!R231)","v":""},{"$f":"IF('Terugvordering reiskosten OAH'!X231=\"\",\"\",'Terugvordering reiskosten OAH'!X231)","v":""},{"$f":"IF('Terugvordering reiskosten OAH'!AJ231=\"\",\"\",'Terugvordering reiskosten OAH'!AJ231)","v":""},{"$f":"IF('Terugvordering reiskosten OAH'!AR231=\"\",\"\",'Terugvordering reiskosten OAH'!AR231)","v":""},{"$f":"IF('Terugvordering reiskosten OAH'!AY231=\"\",\"\",'Terugvordering reiskosten OAH'!AY231)","v":""},{"$f":"IF('Terugvordering reiskosten OAH'!BC231=0,\"\",'Terugvordering reiskosten OAH'!BC231)","v":""},{"$f":"IF('Terugvordering reiskosten OAH'!BK231=0,\"\",'Terugvordering reiskosten OAH'!BK231)","v":""},{"$f":"IF('Terugvordering reiskosten OAH'!BR231=0,\"\",'Terugvordering reiskosten OAH'!BR231)","v":""},{"$f":"IF('Terugvordering reiskosten OAH'!BZ231=0,\"\",'Terugvordering reiskosten OAH'!BZ231)","v":""},{"$f":"IF('Terugvordering reiskosten OAH'!CG231=\"\",\"\",'Terugvordering reiskosten OAH'!CG231)","v":""},{"$f":"IF('Terugvordering reiskosten OAH'!CM231=0,\"\",'Terugvordering reiskosten OAH'!CM231)","v":""}]
[{"$f":"IF('Terugvordering reiskosten OAH'!D232=\"\",\"\",IF('Terugvordering reiskosten OAH'!$T$36=\"\",\"\",'Terugvordering reiskosten OAH'!$T$36))","v":""},{"$f":"IF(A160=\"\",\"\",'Terugvordering reiskosten OAH'!$T$38)","v":""},{"$f":"IF(A160=\"\",\"\",'gegevensblad samenvatting vord.'!$C$2)","v":""},{"$f":"IF('Terugvordering reiskosten OAH'!D232=\"\",\"\",TEXT('Terugvordering reiskosten OAH'!D232,\"mm-jjjj\"))","v":""},{"$f":"IF('Terugvordering reiskosten OAH'!H232=\"\",\"\",'Terugvordering reiskosten OAH'!H232)","v":""},{"$f":"IF('Terugvordering reiskosten OAH'!R232=\"\",\"\",'Terugvordering reiskosten OAH'!R232)","v":""},{"$f":"IF('Terugvordering reiskosten OAH'!X232=\"\",\"\",'Terugvordering reiskosten OAH'!X232)","v":""},{"$f":"IF('Terugvordering reiskosten OAH'!AJ232=\"\",\"\",'Terugvordering reiskosten OAH'!AJ232)","v":""},{"$f":"IF('Terugvordering reiskosten OAH'!AR232=\"\",\"\",'Terugvordering reiskosten OAH'!AR232)","v":""},{"$f":"IF('Terugvordering reiskosten OAH'!AY232=\"\",\"\",'Terugvordering reiskosten OAH'!AY232)","v":""},{"$f":"IF('Terugvordering reiskosten OAH'!BC232=0,\"\",'Terugvordering reiskosten OAH'!BC232)","v":""},{"$f":"IF('Terugvordering reiskosten OAH'!BK232=0,\"\",'Terugvordering reiskosten OAH'!BK232)","v":""},{"$f":"IF('Terugvordering reiskosten OAH'!BR232=0,\"\",'Terugvordering reiskosten OAH'!BR232)","v":""},{"$f":"IF('Terugvordering reiskosten OAH'!BZ232=0,\"\",'Terugvordering reiskosten OAH'!BZ232)","v":""},{"$f":"IF('Terugvordering reiskosten OAH'!CG232=\"\",\"\",'Terugvordering reiskosten OAH'!CG232)","v":""},{"$f":"IF('Terugvordering reiskosten OAH'!CM232=0,\"\",'Terugvordering reiskosten OAH'!CM232)","v":""}]
[{"$f":"IF('Terugvordering reiskosten OAH'!D233=\"\",\"\",IF('Terugvordering reiskosten OAH'!$T$36=\"\",\"\",'Terugvordering reiskosten OAH'!$T$36))","v":""},{"$f":"IF(A161=\"\",\"\",'Terugvordering reiskosten OAH'!$T$38)","v":""},{"$f":"IF(A161=\"\",\"\",'gegevensblad samenvatting vord.'!$C$2)","v":""},{"$f":"IF('Terugvordering reiskosten OAH'!D233=\"\",\"\",TEXT('Terugvordering reiskosten OAH'!D233,\"mm-jjjj\"))","v":""},{"$f":"IF('Terugvordering reiskosten OAH'!H233=\"\",\"\",'Terugvordering reiskosten OAH'!H233)","v":""},{"$f":"IF('Terugvordering reiskosten OAH'!R233=\"\",\"\",'Terugvordering reiskosten OAH'!R233)","v":""},{"$f":"IF('Terugvordering reiskosten OAH'!X233=\"\",\"\",'Terugvordering reiskosten OAH'!X233)","v":""},{"$f":"IF('Terugvordering reiskosten OAH'!AJ233=\"\",\"\",'Terugvordering reiskosten OAH'!AJ233)","v":""},{"$f":"IF('Terugvordering reiskosten OAH'!AR233=\"\",\"\",'Terugvordering reiskosten OAH'!AR233)","v":""},{"$f":"IF('Terugvordering reiskosten OAH'!AY233=\"\",\"\",'Terugvordering reiskosten OAH'!AY233)","v":""},{"$f":"IF('Terugvordering reiskosten OAH'!BC233=0,\"\",'Terugvordering reiskosten OAH'!BC233)","v":""},{"$f":"IF('Terugvordering reiskosten OAH'!BK233=0,\"\",'Terugvordering reiskosten OAH'!BK233)","v":""},{"$f":"IF('Terugvordering reiskosten OAH'!BR233=0,\"\",'Terugvordering reiskosten OAH'!BR233)","v":""},{"$f":"IF('Terugvordering reiskosten OAH'!BZ233=0,\"\",'Terugvordering reiskosten OAH'!BZ233)","v":""},{"$f":"IF('Terugvordering reiskosten OAH'!CG233=\"\",\"\",'Terugvordering reiskosten OAH'!CG233)","v":""},{"$f":"IF('Terugvordering reiskosten OAH'!CM233=0,\"\",'Terugvordering reiskosten OAH'!CM233)","v":""}]
[{"$f":"IF('Terugvordering reiskosten OAH'!D234=\"\",\"\",IF('Terugvordering reiskosten OAH'!$T$36=\"\",\"\",'Terugvordering reiskosten OAH'!$T$36))","v":""},{"$f":"IF(A162=\"\",\"\",'Terugvordering reiskosten OAH'!$T$38)","v":""},{"$f":"IF(A162=\"\",\"\",'gegevensblad samenvatting vord.'!$C$2)","v":""},{"$f":"IF('Terugvordering reiskosten OAH'!D234=\"\",\"\",TEXT('Terugvordering reiskosten OAH'!D234,\"mm-jjjj\"))","v":""},{"$f":"IF('Terugvordering reiskosten OAH'!H234=\"\",\"\",'Terugvordering reiskosten OAH'!H234)","v":""},{"$f":"IF('Terugvordering reiskosten OAH'!R234=\"\",\"\",'Terugvordering reiskosten OAH'!R234)","v":""},{"$f":"IF('Terugvordering reiskosten OAH'!X234=\"\",\"\",'Terugvordering reiskosten OAH'!X234)","v":""},{"$f":"IF('Terugvordering reiskosten OAH'!AJ234=\"\",\"\",'Terugvordering reiskosten OAH'!AJ234)","v":""},{"$f":"IF('Terugvordering reiskosten OAH'!AR234=\"\",\"\",'Terugvordering reiskosten OAH'!AR234)","v":""},{"$f":"IF('Terugvordering reiskosten OAH'!AY234=\"\",\"\",'Terugvordering reiskosten OAH'!AY234)","v":""},{"$f":"IF('Terugvordering reiskosten OAH'!BC234=0,\"\",'Terugvordering reiskosten OAH'!BC234)","v":""},{"$f":"IF('Terugvordering reiskosten OAH'!BK234=0,\"\",'Terugvordering reiskosten OAH'!BK234)","v":""},{"$f":"IF('Terugvordering reiskosten OAH'!BR234=0,\"\",'Terugvordering reiskosten OAH'!BR234)","v":""},{"$f":"IF('Terugvordering reiskosten OAH'!BZ234=0,\"\",'Terugvordering reiskosten OAH'!BZ234)","v":""},{"$f":"IF('Terugvordering reiskosten OAH'!CG234=\"\",\"\",'Terugvordering reiskosten OAH'!CG234)","v":""},{"$f":"IF('Terugvordering reiskosten OAH'!CM234=0,\"\",'Terugvordering reiskosten OAH'!CM234)","v":""}]
[{"$f":"IF('Terugvordering reiskosten OAH'!D235=\"\",\"\",IF('Terugvordering reiskosten OAH'!$T$36=\"\",\"\",'Terugvordering reiskosten OAH'!$T$36))","v":""},{"$f":"IF(A163=\"\",\"\",'Terugvordering reiskosten OAH'!$T$38)","v":""},{"$f":"IF(A163=\"\",\"\",'gegevensblad samenvatting vord.'!$C$2)","v":""},{"$f":"IF('Terugvordering reiskosten OAH'!D235=\"\",\"\",TEXT('Terugvordering reiskosten OAH'!D235,\"mm-jjjj\"))","v":""},{"$f":"IF('Terugvordering reiskosten OAH'!H235=\"\",\"\",'Terugvordering reiskosten OAH'!H235)","v":""},{"$f":"IF('Terugvordering reiskosten OAH'!R235=\"\",\"\",'Terugvordering reiskosten OAH'!R235)","v":""},{"$f":"IF('Terugvordering reiskosten OAH'!X235=\"\",\"\",'Terugvordering reiskosten OAH'!X235)","v":""},{"$f":"IF('Terugvordering reiskosten OAH'!AJ235=\"\",\"\",'Terugvordering reiskosten OAH'!AJ235)","v":""},{"$f":"IF('Terugvordering reiskosten OAH'!AR235=\"\",\"\",'Terugvordering reiskosten OAH'!AR235)","v":""},{"$f":"IF('Terugvordering reiskosten OAH'!AY235=\"\",\"\",'Terugvordering reiskosten OAH'!AY235)","v":""},{"$f":"IF('Terugvordering reiskosten OAH'!BC235=0,\"\",'Terugvordering reiskosten OAH'!BC235)","v":""},{"$f":"IF('Terugvordering reiskosten OAH'!BK235=0,\"\",'Terugvordering reiskosten OAH'!BK235)","v":""},{"$f":"IF('Terugvordering reiskosten OAH'!BR235=0,\"\",'Terugvordering reiskosten OAH'!BR235)","v":""},{"$f":"IF('Terugvordering reiskosten OAH'!BZ235=0,\"\",'Terugvordering reiskosten OAH'!BZ235)","v":""},{"$f":"IF('Terugvordering reiskosten OAH'!CG235=\"\",\"\",'Terugvordering reiskosten OAH'!CG235)","v":""},{"$f":"IF('Terugvordering reiskosten OAH'!CM235=0,\"\",'Terugvordering reiskosten OAH'!CM235)","v":""}]
[{"$f":"IF('Terugvordering reiskosten OAH'!D236=\"\",\"\",IF('Terugvordering reiskosten OAH'!$T$36=\"\",\"\",'Terugvordering reiskosten OAH'!$T$36))","v":""},{"$f":"IF(A164=\"\",\"\",'Terugvordering reiskosten OAH'!$T$38)","v":""},{"$f":"IF(A164=\"\",\"\",'gegevensblad samenvatting vord.'!$C$2)","v":""},{"$f":"IF('Terugvordering reiskosten OAH'!D236=\"\",\"\",TEXT('Terugvordering reiskosten OAH'!D236,\"mm-jjjj\"))","v":""},{"$f":"IF('Terugvordering reiskosten OAH'!H236=\"\",\"\",'Terugvordering reiskosten OAH'!H236)","v":""},{"$f":"IF('Terugvordering reiskosten OAH'!R236=\"\",\"\",'Terugvordering reiskosten OAH'!R236)","v":""},{"$f":"IF('Terugvordering reiskosten OAH'!X236=\"\",\"\",'Terugvordering reiskosten OAH'!X236)","v":""},{"$f":"IF('Terugvordering reiskosten OAH'!AJ236=\"\",\"\",'Terugvordering reiskosten OAH'!AJ236)","v":""},{"$f":"IF('Terugvordering reiskosten OAH'!AR236=\"\",\"\",'Terugvordering reiskosten OAH'!AR236)","v":""},{"$f":"IF('Terugvordering reiskosten OAH'!AY236=\"\",\"\",'Terugvordering reiskosten OAH'!AY236)","v":""},{"$f":"IF('Terugvordering reiskosten OAH'!BC236=0,\"\",'Terugvordering reiskosten OAH'!BC236)","v":""},{"$f":"IF('Terugvordering reiskosten OAH'!BK236=0,\"\",'Terugvordering reiskosten OAH'!BK236)","v":""},{"$f":"IF('Terugvordering reiskosten OAH'!BR236=0,\"\",'Terugvordering reiskosten OAH'!BR236)","v":""},{"$f":"IF('Terugvordering reiskosten OAH'!BZ236=0,\"\",'Terugvordering reiskosten OAH'!BZ236)","v":""},{"$f":"IF('Terugvordering reiskosten OAH'!CG236=\"\",\"\",'Terugvordering reiskosten OAH'!CG236)","v":""},{"$f":"IF('Terugvordering reiskosten OAH'!CM236=0,\"\",'Terugvordering reiskosten OAH'!CM236)","v":""}]
[{"$f":"IF('Terugvordering reiskosten OAH'!D237=\"\",\"\",IF('Terugvordering reiskosten OAH'!$T$36=\"\",\"\",'Terugvordering reiskosten OAH'!$T$36))","v":""},{"$f":"IF(A165=\"\",\"\",'Terugvordering reiskosten OAH'!$T$38)","v":""},{"$f":"IF(A165=\"\",\"\",'gegevensblad samenvatting vord.'!$C$2)","v":""},{"$f":"IF('Terugvordering reiskosten OAH'!D237=\"\",\"\",TEXT('Terugvordering reiskosten OAH'!D237,\"mm-jjjj\"))","v":""},{"$f":"IF('Terugvordering reiskosten OAH'!H237=\"\",\"\",'Terugvordering reiskosten OAH'!H237)","v":""},{"$f":"IF('Terugvordering reiskosten OAH'!R237=\"\",\"\",'Terugvordering reiskosten OAH'!R237)","v":""},{"$f":"IF('Terugvordering reiskosten OAH'!X237=\"\",\"\",'Terugvordering reiskosten OAH'!X237)","v":""},{"$f":"IF('Terugvordering reiskosten OAH'!AJ237=\"\",\"\",'Terugvordering reiskosten OAH'!AJ237)","v":""},{"$f":"IF('Terugvordering reiskosten OAH'!AR237=\"\",\"\",'Terugvordering reiskosten OAH'!AR237)","v":""},{"$f":"IF('Terugvordering reiskosten OAH'!AY237=\"\",\"\",'Terugvordering reiskosten OAH'!AY237)","v":""},{"$f":"IF('Terugvordering reiskosten OAH'!BC237=0,\"\",'Terugvordering reiskosten OAH'!BC237)","v":""},{"$f":"IF('Terugvordering reiskosten OAH'!BK237=0,\"\",'Terugvordering reiskosten OAH'!BK237)","v":""},{"$f":"IF('Terugvordering reiskosten OAH'!BR237=0,\"\",'Terugvordering reiskosten OAH'!BR237)","v":""},{"$f":"IF('Terugvordering reiskosten OAH'!BZ237=0,\"\",'Terugvordering reiskosten OAH'!BZ237)","v":""},{"$f":"IF('Terugvordering reiskosten OAH'!CG237=\"\",\"\",'Terugvordering reiskosten OAH'!CG237)","v":""},{"$f":"IF('Terugvordering reiskosten OAH'!CM237=0,\"\",'Terugvordering reiskosten OAH'!CM237)","v":""}]
[{"$f":"IF('Terugvordering reiskosten OAH'!D238=\"\",\"\",IF('Terugvordering reiskosten OAH'!$T$36=\"\",\"\",'Terugvordering reiskosten OAH'!$T$36))","v":""},{"$f":"IF(A166=\"\",\"\",'Terugvordering reiskosten OAH'!$T$38)","v":""},{"$f":"IF(A166=\"\",\"\",'gegevensblad samenvatting vord.'!$C$2)","v":""},{"$f":"IF('Terugvordering reiskosten OAH'!D238=\"\",\"\",TEXT('Terugvordering reiskosten OAH'!D238,\"mm-jjjj\"))","v":""},{"$f":"IF('Terugvordering reiskosten OAH'!H238=\"\",\"\",'Terugvordering reiskosten OAH'!H238)","v":""},{"$f":"IF('Terugvordering reiskosten OAH'!R238=\"\",\"\",'Terugvordering reiskosten OAH'!R238)","v":""},{"$f":"IF('Terugvordering reiskosten OAH'!X238=\"\",\"\",'Terugvordering reiskosten OAH'!X238)","v":""},{"$f":"IF('Terugvordering reiskosten OAH'!AJ238=\"\",\"\",'Terugvordering reiskosten OAH'!AJ238)","v":""},{"$f":"IF('Terugvordering reiskosten OAH'!AR238=\"\",\"\",'Terugvordering reiskosten OAH'!AR238)","v":""},{"$f":"IF('Terugvordering reiskosten OAH'!AY238=\"\",\"\",'Terugvordering reiskosten OAH'!AY238)","v":""},{"$f":"IF('Terugvordering reiskosten OAH'!BC238=0,\"\",'Terugvordering reiskosten OAH'!BC238)","v":""},{"$f":"IF('Terugvordering reiskosten OAH'!BK238=0,\"\",'Terugvordering reiskosten OAH'!BK238)","v":""},{"$f":"IF('Terugvordering reiskosten OAH'!BR238=0,\"\",'Terugvordering reiskosten OAH'!BR238)","v":""},{"$f":"IF('Terugvordering reiskosten OAH'!BZ238=0,\"\",'Terugvordering reiskosten OAH'!BZ238)","v":""},{"$f":"IF('Terugvordering reiskosten OAH'!CG238=\"\",\"\",'Terugvordering reiskosten OAH'!CG238)","v":""},{"$f":"IF('Terugvordering reiskosten OAH'!CM238=0,\"\",'Terugvordering reiskosten OAH'!CM238)","v":""}]
[{"$f":"IF('Terugvordering reiskosten OAH'!D239=\"\",\"\",IF('Terugvordering reiskosten OAH'!$T$36=\"\",\"\",'Terugvordering reiskosten OAH'!$T$36))","v":""},{"$f":"IF(A167=\"\",\"\",'Terugvordering reiskosten OAH'!$T$38)","v":""},{"$f":"IF(A167=\"\",\"\",'gegevensblad samenvatting vord.'!$C$2)","v":""},{"$f":"IF('Terugvordering reiskosten OAH'!D239=\"\",\"\",TEXT('Terugvordering reiskosten OAH'!D239,\"mm-jjjj\"))","v":""},{"$f":"IF('Terugvordering reiskosten OAH'!H239=\"\",\"\",'Terugvordering reiskosten OAH'!H239)","v":""},{"$f":"IF('Terugvordering reiskosten OAH'!R239=\"\",\"\",'Terugvordering reiskosten OAH'!R239)","v":""},{"$f":"IF('Terugvordering reiskosten OAH'!X239=\"\",\"\",'Terugvordering reiskosten OAH'!X239)","v":""},{"$f":"IF('Terugvordering reiskosten OAH'!AJ239=\"\",\"\",'Terugvordering reiskosten OAH'!AJ239)","v":""},{"$f":"IF('Terugvordering reiskosten OAH'!AR239=\"\",\"\",'Terugvordering reiskosten OAH'!AR239)","v":""},{"$f":"IF('Terugvordering reiskosten OAH'!AY239=\"\",\"\",'Terugvordering reiskosten OAH'!AY239)","v":""},{"$f":"IF('Terugvordering reiskosten OAH'!BC239=0,\"\",'Terugvordering reiskosten OAH'!BC239)","v":""},{"$f":"IF('Terugvordering reiskosten OAH'!BK239=0,\"\",'Terugvordering reiskosten OAH'!BK239)","v":""},{"$f":"IF('Terugvordering reiskosten OAH'!BR239=0,\"\",'Terugvordering reiskosten OAH'!BR239)","v":""},{"$f":"IF('Terugvordering reiskosten OAH'!BZ239=0,\"\",'Terugvordering reiskosten OAH'!BZ239)","v":""},{"$f":"IF('Terugvordering reiskosten OAH'!CG239=\"\",\"\",'Terugvordering reiskosten OAH'!CG239)","v":""},{"$f":"IF('Terugvordering reiskosten OAH'!CM239=0,\"\",'Terugvordering reiskosten OAH'!CM239)","v":""}]
[{"$f":"IF('Terugvordering reiskosten OAH'!D240=\"\",\"\",IF('Terugvordering reiskosten OAH'!$T$36=\"\",\"\",'Terugvordering reiskosten OAH'!$T$36))","v":""},{"$f":"IF(A168=\"\",\"\",'Terugvordering reiskosten OAH'!$T$38)","v":""},{"$f":"IF(A168=\"\",\"\",'gegevensblad samenvatting vord.'!$C$2)","v":""},{"$f":"IF('Terugvordering reiskosten OAH'!D240=\"\",\"\",TEXT('Terugvordering reiskosten OAH'!D240,\"mm-jjjj\"))","v":""},{"$f":"IF('Terugvordering reiskosten OAH'!H240=\"\",\"\",'Terugvordering reiskosten OAH'!H240)","v":""},{"$f":"IF('Terugvordering reiskosten OAH'!R240=\"\",\"\",'Terugvordering reiskosten OAH'!R240)","v":""},{"$f":"IF('Terugvordering reiskosten OAH'!X240=\"\",\"\",'Terugvordering reiskosten OAH'!X240)","v":""},{"$f":"IF('Terugvordering reiskosten OAH'!AJ240=\"\",\"\",'Terugvordering reiskosten OAH'!AJ240)","v":""},{"$f":"IF('Terugvordering reiskosten OAH'!AR240=\"\",\"\",'Terugvordering reiskosten OAH'!AR240)","v":""},{"$f":"IF('Terugvordering reiskosten OAH'!AY240=\"\",\"\",'Terugvordering reiskosten OAH'!AY240)","v":""},{"$f":"IF('Terugvordering reiskosten OAH'!BC240=0,\"\",'Terugvordering reiskosten OAH'!BC240)","v":""},{"$f":"IF('Terugvordering reiskosten OAH'!BK240=0,\"\",'Terugvordering reiskosten OAH'!BK240)","v":""},{"$f":"IF('Terugvordering reiskosten OAH'!BR240=0,\"\",'Terugvordering reiskosten OAH'!BR240)","v":""},{"$f":"IF('Terugvordering reiskosten OAH'!BZ240=0,\"\",'Terugvordering reiskosten OAH'!BZ240)","v":""},{"$f":"IF('Terugvordering reiskosten OAH'!CG240=\"\",\"\",'Terugvordering reiskosten OAH'!CG240)","v":""},{"$f":"IF('Terugvordering reiskosten OAH'!CM240=0,\"\",'Terugvordering reiskosten OAH'!CM240)","v":""}]
[{"$f":"IF('Terugvordering reiskosten OAH'!D241=\"\",\"\",IF('Terugvordering reiskosten OAH'!$T$36=\"\",\"\",'Terugvordering reiskosten OAH'!$T$36))","v":""},{"$f":"IF(A169=\"\",\"\",'Terugvordering reiskosten OAH'!$T$38)","v":""},{"$f":"IF(A169=\"\",\"\",'gegevensblad samenvatting vord.'!$C$2)","v":""},{"$f":"IF('Terugvordering reiskosten OAH'!D241=\"\",\"\",TEXT('Terugvordering reiskosten OAH'!D241,\"mm-jjjj\"))","v":""},{"$f":"IF('Terugvordering reiskosten OAH'!H241=\"\",\"\",'Terugvordering reiskosten OAH'!H241)","v":""},{"$f":"IF('Terugvordering reiskosten OAH'!R241=\"\",\"\",'Terugvordering reiskosten OAH'!R241)","v":""},{"$f":"IF('Terugvordering reiskosten OAH'!X241=\"\",\"\",'Terugvordering reiskosten OAH'!X241)","v":""},{"$f":"IF('Terugvordering reiskosten OAH'!AJ241=\"\",\"\",'Terugvordering reiskosten OAH'!AJ241)","v":""},{"$f":"IF('Terugvordering reiskosten OAH'!AR241=\"\",\"\",'Terugvordering reiskosten OAH'!AR241)","v":""},{"$f":"IF('Terugvordering reiskosten OAH'!AY241=\"\",\"\",'Terugvordering reiskosten OAH'!AY241)","v":""},{"$f":"IF('Terugvordering reiskosten OAH'!BC241=0,\"\",'Terugvordering reiskosten OAH'!BC241)","v":""},{"$f":"IF('Terugvordering reiskosten OAH'!BK241=0,\"\",'Terugvordering reiskosten OAH'!BK241)","v":""},{"$f":"IF('Terugvordering reiskosten OAH'!BR241=0,\"\",'Terugvordering reiskosten OAH'!BR241)","v":""},{"$f":"IF('Terugvordering reiskosten OAH'!BZ241=0,\"\",'Terugvordering reiskosten OAH'!BZ241)","v":""},{"$f":"IF('Terugvordering reiskosten OAH'!CG241=\"\",\"\",'Terugvordering reiskosten OAH'!CG241)","v":""},{"$f":"IF('Terugvordering reiskosten OAH'!CM241=0,\"\",'Terugvordering reiskosten OAH'!CM241)","v":""}]
[{"$f":"IF('Terugvordering reiskosten OAH'!D242=\"\",\"\",IF('Terugvordering reiskosten OAH'!$T$36=\"\",\"\",'Terugvordering reiskosten OAH'!$T$36))","v":""},{"$f":"IF(A170=\"\",\"\",'Terugvordering reiskosten OAH'!$T$38)","v":""},{"$f":"IF(A170=\"\",\"\",'gegevensblad samenvatting vord.'!$C$2)","v":""},{"$f":"IF('Terugvordering reiskosten OAH'!D242=\"\",\"\",TEXT('Terugvordering reiskosten OAH'!D242,\"mm-jjjj\"))","v":""},{"$f":"IF('Terugvordering reiskosten OAH'!H242=\"\",\"\",'Terugvordering reiskosten OAH'!H242)","v":""},{"$f":"IF('Terugvordering reiskosten OAH'!R242=\"\",\"\",'Terugvordering reiskosten OAH'!R242)","v":""},{"$f":"IF('Terugvordering reiskosten OAH'!X242=\"\",\"\",'Terugvordering reiskosten OAH'!X242)","v":""},{"$f":"IF('Terugvordering reiskosten OAH'!AJ242=\"\",\"\",'Terugvordering reiskosten OAH'!AJ242)","v":""},{"$f":"IF('Terugvordering reiskosten OAH'!AR242=\"\",\"\",'Terugvordering reiskosten OAH'!AR242)","v":""},{"$f":"IF('Terugvordering reiskosten OAH'!AY242=\"\",\"\",'Terugvordering reiskosten OAH'!AY242)","v":""},{"$f":"IF('Terugvordering reiskosten OAH'!BC242=0,\"\",'Terugvordering reiskosten OAH'!BC242)","v":""},{"$f":"IF('Terugvordering reiskosten OAH'!BK242=0,\"\",'Terugvordering reiskosten OAH'!BK242)","v":""},{"$f":"IF('Terugvordering reiskosten OAH'!BR242=0,\"\",'Terugvordering reiskosten OAH'!BR242)","v":""},{"$f":"IF('Terugvordering reiskosten OAH'!BZ242=0,\"\",'Terugvordering reiskosten OAH'!BZ242)","v":""},{"$f":"IF('Terugvordering reiskosten OAH'!CG242=\"\",\"\",'Terugvordering reiskosten OAH'!CG242)","v":""},{"$f":"IF('Terugvordering reiskosten OAH'!CM242=0,\"\",'Terugvordering reiskosten OAH'!CM242)","v":""}]
[{"$f":"IF('Terugvordering reiskosten OAH'!D243=\"\",\"\",IF('Terugvordering reiskosten OAH'!$T$36=\"\",\"\",'Terugvordering reiskosten OAH'!$T$36))","v":""},{"$f":"IF(A171=\"\",\"\",'Terugvordering reiskosten OAH'!$T$38)","v":""},{"$f":"IF(A171=\"\",\"\",'gegevensblad samenvatting vord.'!$C$2)","v":""},{"$f":"IF('Terugvordering reiskosten OAH'!D243=\"\",\"\",TEXT('Terugvordering reiskosten OAH'!D243,\"mm-jjjj\"))","v":""},{"$f":"IF('Terugvordering reiskosten OAH'!H243=\"\",\"\",'Terugvordering reiskosten OAH'!H243)","v":""},{"$f":"IF('Terugvordering reiskosten OAH'!R243=\"\",\"\",'Terugvordering reiskosten OAH'!R243)","v":""},{"$f":"IF('Terugvordering reiskosten OAH'!X243=\"\",\"\",'Terugvordering reiskosten OAH'!X243)","v":""},{"$f":"IF('Terugvordering reiskosten OAH'!AJ243=\"\",\"\",'Terugvordering reiskosten OAH'!AJ243)","v":""},{"$f":"IF('Terugvordering reiskosten OAH'!AR243=\"\",\"\",'Terugvordering reiskosten OAH'!AR243)","v":""},{"$f":"IF('Terugvordering reiskosten OAH'!AY243=\"\",\"\",'Terugvordering reiskosten OAH'!AY243)","v":""},{"$f":"IF('Terugvordering reiskosten OAH'!BC243=0,\"\",'Terugvordering reiskosten OAH'!BC243)","v":""},{"$f":"IF('Terugvordering reiskosten OAH'!BK243=0,\"\",'Terugvordering reiskosten OAH'!BK243)","v":""},{"$f":"IF('Terugvordering reiskosten OAH'!BR243=0,\"\",'Terugvordering reiskosten OAH'!BR243)","v":""},{"$f":"IF('Terugvordering reiskosten OAH'!BZ243=0,\"\",'Terugvordering reiskosten OAH'!BZ243)","v":""},{"$f":"IF('Terugvordering reiskosten OAH'!CG243=\"\",\"\",'Terugvordering reiskosten OAH'!CG243)","v":""},{"$f":"IF('Terugvordering reiskosten OAH'!CM243=0,\"\",'Terugvordering reiskosten OAH'!CM243)","v":""}]
[{"$f":"IF('Terugvordering reiskosten OAH'!D244=\"\",\"\",IF('Terugvordering reiskosten OAH'!$T$36=\"\",\"\",'Terugvordering reiskosten OAH'!$T$36))","v":""},{"$f":"IF(A172=\"\",\"\",'Terugvordering reiskosten OAH'!$T$38)","v":""},{"$f":"IF(A172=\"\",\"\",'gegevensblad samenvatting vord.'!$C$2)","v":""},{"$f":"IF('Terugvordering reiskosten OAH'!D244=\"\",\"\",TEXT('Terugvordering reiskosten OAH'!D244,\"mm-jjjj\"))","v":""},{"$f":"IF('Terugvordering reiskosten OAH'!H244=\"\",\"\",'Terugvordering reiskosten OAH'!H244)","v":""},{"$f":"IF('Terugvordering reiskosten OAH'!R244=\"\",\"\",'Terugvordering reiskosten OAH'!R244)","v":""},{"$f":"IF('Terugvordering reiskosten OAH'!X244=\"\",\"\",'Terugvordering reiskosten OAH'!X244)","v":""},{"$f":"IF('Terugvordering reiskosten OAH'!AJ244=\"\",\"\",'Terugvordering reiskosten OAH'!AJ244)","v":""},{"$f":"IF('Terugvordering reiskosten OAH'!AR244=\"\",\"\",'Terugvordering reiskosten OAH'!AR244)","v":""},{"$f":"IF('Terugvordering reiskosten OAH'!AY244=\"\",\"\",'Terugvordering reiskosten OAH'!AY244)","v":""},{"$f":"IF('Terugvordering reiskosten OAH'!BC244=0,\"\",'Terugvordering reiskosten OAH'!BC244)","v":""},{"$f":"IF('Terugvordering reiskosten OAH'!BK244=0,\"\",'Terugvordering reiskosten OAH'!BK244)","v":""},{"$f":"IF('Terugvordering reiskosten OAH'!BR244=0,\"\",'Terugvordering reiskosten OAH'!BR244)","v":""},{"$f":"IF('Terugvordering reiskosten OAH'!BZ244=0,\"\",'Terugvordering reiskosten OAH'!BZ244)","v":""},{"$f":"IF('Terugvordering reiskosten OAH'!CG244=\"\",\"\",'Terugvordering reiskosten OAH'!CG244)","v":""},{"$f":"IF('Terugvordering reiskosten OAH'!CM244=0,\"\",'Terugvordering reiskosten OAH'!CM244)","v":""}]
[{"$f":"IF('Terugvordering reiskosten OAH'!D245=\"\",\"\",IF('Terugvordering reiskosten OAH'!$T$36=\"\",\"\",'Terugvordering reiskosten OAH'!$T$36))","v":""},{"$f":"IF(A173=\"\",\"\",'Terugvordering reiskosten OAH'!$T$38)","v":""},{"$f":"IF(A173=\"\",\"\",'gegevensblad samenvatting vord.'!$C$2)","v":""},{"$f":"IF('Terugvordering reiskosten OAH'!D245=\"\",\"\",TEXT('Terugvordering reiskosten OAH'!D245,\"mm-jjjj\"))","v":""},{"$f":"IF('Terugvordering reiskosten OAH'!H245=\"\",\"\",'Terugvordering reiskosten OAH'!H245)","v":""},{"$f":"IF('Terugvordering reiskosten OAH'!R245=\"\",\"\",'Terugvordering reiskosten OAH'!R245)","v":""},{"$f":"IF('Terugvordering reiskosten OAH'!X245=\"\",\"\",'Terugvordering reiskosten OAH'!X245)","v":""},{"$f":"IF('Terugvordering reiskosten OAH'!AJ245=\"\",\"\",'Terugvordering reiskosten OAH'!AJ245)","v":""},{"$f":"IF('Terugvordering reiskosten OAH'!AR245=\"\",\"\",'Terugvordering reiskosten OAH'!AR245)","v":""},{"$f":"IF('Terugvordering reiskosten OAH'!AY245=\"\",\"\",'Terugvordering reiskosten OAH'!AY245)","v":""},{"$f":"IF('Terugvordering reiskosten OAH'!BC245=0,\"\",'Terugvordering reiskosten OAH'!BC245)","v":""},{"$f":"IF('Terugvordering reiskosten OAH'!BK245=0,\"\",'Terugvordering reiskosten OAH'!BK245)","v":""},{"$f":"IF('Terugvordering reiskosten OAH'!BR245=0,\"\",'Terugvordering reiskosten OAH'!BR245)","v":""},{"$f":"IF('Terugvordering reiskosten OAH'!BZ245=0,\"\",'Terugvordering reiskosten OAH'!BZ245)","v":""},{"$f":"IF('Terugvordering reiskosten OAH'!CG245=\"\",\"\",'Terugvordering reiskosten OAH'!CG245)","v":""},{"$f":"IF('Terugvordering reiskosten OAH'!CM245=0,\"\",'Terugvordering reiskosten OAH'!CM245)","v":""}]
[{"$f":"IF('Terugvordering reiskosten OAH'!D246=\"\",\"\",IF('Terugvordering reiskosten OAH'!$T$36=\"\",\"\",'Terugvordering reiskosten OAH'!$T$36))","v":""},{"$f":"IF(A174=\"\",\"\",'Terugvordering reiskosten OAH'!$T$38)","v":""},{"$f":"IF(A174=\"\",\"\",'gegevensblad samenvatting vord.'!$C$2)","v":""},{"$f":"IF('Terugvordering reiskosten OAH'!D246=\"\",\"\",TEXT('Terugvordering reiskosten OAH'!D246,\"mm-jjjj\"))","v":""},{"$f":"IF('Terugvordering reiskosten OAH'!H246=\"\",\"\",'Terugvordering reiskosten OAH'!H246)","v":""},{"$f":"IF('Terugvordering reiskosten OAH'!R246=\"\",\"\",'Terugvordering reiskosten OAH'!R246)","v":""},{"$f":"IF('Terugvordering reiskosten OAH'!X246=\"\",\"\",'Terugvordering reiskosten OAH'!X246)","v":""},{"$f":"IF('Terugvordering reiskosten OAH'!AJ246=\"\",\"\",'Terugvordering reiskosten OAH'!AJ246)","v":""},{"$f":"IF('Terugvordering reiskosten OAH'!AR246=\"\",\"\",'Terugvordering reiskosten OAH'!AR246)","v":""},{"$f":"IF('Terugvordering reiskosten OAH'!AY246=\"\",\"\",'Terugvordering reiskosten OAH'!AY246)","v":""},{"$f":"IF('Terugvordering reiskosten OAH'!BC246=0,\"\",'Terugvordering reiskosten OAH'!BC246)","v":""},{"$f":"IF('Terugvordering reiskosten OAH'!BK246=0,\"\",'Terugvordering reiskosten OAH'!BK246)","v":""},{"$f":"IF('Terugvordering reiskosten OAH'!BR246=0,\"\",'Terugvordering reiskosten OAH'!BR246)","v":""},{"$f":"IF('Terugvordering reiskosten OAH'!BZ246=0,\"\",'Terugvordering reiskosten OAH'!BZ246)","v":""},{"$f":"IF('Terugvordering reiskosten OAH'!CG246=\"\",\"\",'Terugvordering reiskosten OAH'!CG246)","v":""},{"$f":"IF('Terugvordering reiskosten OAH'!CM246=0,\"\",'Terugvordering reiskosten OAH'!CM246)","v":""}]
[{"$f":"IF('Terugvordering reiskosten OAH'!D247=\"\",\"\",IF('Terugvordering reiskosten OAH'!$T$36=\"\",\"\",'Terugvordering reiskosten OAH'!$T$36))","v":""},{"$f":"IF(A175=\"\",\"\",'Terugvordering reiskosten OAH'!$T$38)","v":""},{"$f":"IF(A175=\"\",\"\",'gegevensblad samenvatting vord.'!$C$2)","v":""},{"$f":"IF('Terugvordering reiskosten OAH'!D247=\"\",\"\",TEXT('Terugvordering reiskosten OAH'!D247,\"mm-jjjj\"))","v":""},{"$f":"IF('Terugvordering reiskosten OAH'!H247=\"\",\"\",'Terugvordering reiskosten OAH'!H247)","v":""},{"$f":"IF('Terugvordering reiskosten OAH'!R247=\"\",\"\",'Terugvordering reiskosten OAH'!R247)","v":""},{"$f":"IF('Terugvordering reiskosten OAH'!X247=\"\",\"\",'Terugvordering reiskosten OAH'!X247)","v":""},{"$f":"IF('Terugvordering reiskosten OAH'!AJ247=\"\",\"\",'Terugvordering reiskosten OAH'!AJ247)","v":""},{"$f":"IF('Terugvordering reiskosten OAH'!AR247=\"\",\"\",'Terugvordering reiskosten OAH'!AR247)","v":""},{"$f":"IF('Terugvordering reiskosten OAH'!AY247=\"\",\"\",'Terugvordering reiskosten OAH'!AY247)","v":""},{"$f":"IF('Terugvordering reiskosten OAH'!BC247=0,\"\",'Terugvordering reiskosten OAH'!BC247)","v":""},{"$f":"IF('Terugvordering reiskosten OAH'!BK247=0,\"\",'Terugvordering reiskosten OAH'!BK247)","v":""},{"$f":"IF('Terugvordering reiskosten OAH'!BR247=0,\"\",'Terugvordering reiskosten OAH'!BR247)","v":""},{"$f":"IF('Terugvordering reiskosten OAH'!BZ247=0,\"\",'Terugvordering reiskosten OAH'!BZ247)","v":""},{"$f":"IF('Terugvordering reiskosten OAH'!CG247=\"\",\"\",'Terugvordering reiskosten OAH'!CG247)","v":""},{"$f":"IF('Terugvordering reiskosten OAH'!CM247=0,\"\",'Terugvordering reiskosten OAH'!CM247)","v":""}]
[{"$f":"IF('Terugvordering reiskosten OAH'!D248=\"\",\"\",IF('Terugvordering reiskosten OAH'!$T$36=\"\",\"\",'Terugvordering reiskosten OAH'!$T$36))","v":""},{"$f":"IF(A176=\"\",\"\",'Terugvordering reiskosten OAH'!$T$38)","v":""},{"$f":"IF(A176=\"\",\"\",'gegevensblad samenvatting vord.'!$C$2)","v":""},{"$f":"IF('Terugvordering reiskosten OAH'!D248=\"\",\"\",TEXT('Terugvordering reiskosten OAH'!D248,\"mm-jjjj\"))","v":""},{"$f":"IF('Terugvordering reiskosten OAH'!H248=\"\",\"\",'Terugvordering reiskosten OAH'!H248)","v":""},{"$f":"IF('Terugvordering reiskosten OAH'!R248=\"\",\"\",'Terugvordering reiskosten OAH'!R248)","v":""},{"$f":"IF('Terugvordering reiskosten OAH'!X248=\"\",\"\",'Terugvordering reiskosten OAH'!X248)","v":""},{"$f":"IF('Terugvordering reiskosten OAH'!AJ248=\"\",\"\",'Terugvordering reiskosten OAH'!AJ248)","v":""},{"$f":"IF('Terugvordering reiskosten OAH'!AR248=\"\",\"\",'Terugvordering reiskosten OAH'!AR248)","v":""},{"$f":"IF('Terugvordering reiskosten OAH'!AY248=\"\",\"\",'Terugvordering reiskosten OAH'!AY248)","v":""},{"$f":"IF('Terugvordering reiskosten OAH'!BC248=0,\"\",'Terugvordering reiskosten OAH'!BC248)","v":""},{"$f":"IF('Terugvordering reiskosten OAH'!BK248=0,\"\",'Terugvordering reiskosten OAH'!BK248)","v":""},{"$f":"IF('Terugvordering reiskosten OAH'!BR248=0,\"\",'Terugvordering reiskosten OAH'!BR248)","v":""},{"$f":"IF('Terugvordering reiskosten OAH'!BZ248=0,\"\",'Terugvordering reiskosten OAH'!BZ248)","v":""},{"$f":"IF('Terugvordering reiskosten OAH'!CG248=\"\",\"\",'Terugvordering reiskosten OAH'!CG248)","v":""},{"$f":"IF('Terugvordering reiskosten OAH'!CM248=0,\"\",'Terugvordering reiskosten OAH'!CM248)","v":""}]
[{"$f":"IF('Terugvordering reiskosten OAH'!D249=\"\",\"\",IF('Terugvordering reiskosten OAH'!$T$36=\"\",\"\",'Terugvordering reiskosten OAH'!$T$36))","v":""},{"$f":"IF(A177=\"\",\"\",'Terugvordering reiskosten OAH'!$T$38)","v":""},{"$f":"IF(A177=\"\",\"\",'gegevensblad samenvatting vord.'!$C$2)","v":""},{"$f":"IF('Terugvordering reiskosten OAH'!D249=\"\",\"\",TEXT('Terugvordering reiskosten OAH'!D249,\"mm-jjjj\"))","v":""},{"$f":"IF('Terugvordering reiskosten OAH'!H249=\"\",\"\",'Terugvordering reiskosten OAH'!H249)","v":""},{"$f":"IF('Terugvordering reiskosten OAH'!R249=\"\",\"\",'Terugvordering reiskosten OAH'!R249)","v":""},{"$f":"IF('Terugvordering reiskosten OAH'!X249=\"\",\"\",'Terugvordering reiskosten OAH'!X249)","v":""},{"$f":"IF('Terugvordering reiskosten OAH'!AJ249=\"\",\"\",'Terugvordering reiskosten OAH'!AJ249)","v":""},{"$f":"IF('Terugvordering reiskosten OAH'!AR249=\"\",\"\",'Terugvordering reiskosten OAH'!AR249)","v":""},{"$f":"IF('Terugvordering reiskosten OAH'!AY249=\"\",\"\",'Terugvordering reiskosten OAH'!AY249)","v":""},{"$f":"IF('Terugvordering reiskosten OAH'!BC249=0,\"\",'Terugvordering reiskosten OAH'!BC249)","v":""},{"$f":"IF('Terugvordering reiskosten OAH'!BK249=0,\"\",'Terugvordering reiskosten OAH'!BK249)","v":""},{"$f":"IF('Terugvordering reiskosten OAH'!BR249=0,\"\",'Terugvordering reiskosten OAH'!BR249)","v":""},{"$f":"IF('Terugvordering reiskosten OAH'!BZ249=0,\"\",'Terugvordering reiskosten OAH'!BZ249)","v":""},{"$f":"IF('Terugvordering reiskosten OAH'!CG249=\"\",\"\",'Terugvordering reiskosten OAH'!CG249)","v":""},{"$f":"IF('Terugvordering reiskosten OAH'!CM249=0,\"\",'Terugvordering reiskosten OAH'!CM249)","v":""}]
[{"$f":"IF('Terugvordering reiskosten OAH'!D250=\"\",\"\",IF('Terugvordering reiskosten OAH'!$T$36=\"\",\"\",'Terugvordering reiskosten OAH'!$T$36))","v":""},{"$f":"IF(A178=\"\",\"\",'Terugvordering reiskosten OAH'!$T$38)","v":""},{"$f":"IF(A178=\"\",\"\",'gegevensblad samenvatting vord.'!$C$2)","v":""},{"$f":"IF('Terugvordering reiskosten OAH'!D250=\"\",\"\",TEXT('Terugvordering reiskosten OAH'!D250,\"mm-jjjj\"))","v":""},{"$f":"IF('Terugvordering reiskosten OAH'!H250=\"\",\"\",'Terugvordering reiskosten OAH'!H250)","v":""},{"$f":"IF('Terugvordering reiskosten OAH'!R250=\"\",\"\",'Terugvordering reiskosten OAH'!R250)","v":""},{"$f":"IF('Terugvordering reiskosten OAH'!X250=\"\",\"\",'Terugvordering reiskosten OAH'!X250)","v":""},{"$f":"IF('Terugvordering reiskosten OAH'!AJ250=\"\",\"\",'Terugvordering reiskosten OAH'!AJ250)","v":""},{"$f":"IF('Terugvordering reiskosten OAH'!AR250=\"\",\"\",'Terugvordering reiskosten OAH'!AR250)","v":""},{"$f":"IF('Terugvordering reiskosten OAH'!AY250=\"\",\"\",'Terugvordering reiskosten OAH'!AY250)","v":""},{"$f":"IF('Terugvordering reiskosten OAH'!BC250=0,\"\",'Terugvordering reiskosten OAH'!BC250)","v":""},{"$f":"IF('Terugvordering reiskosten OAH'!BK250=0,\"\",'Terugvordering reiskosten OAH'!BK250)","v":""},{"$f":"IF('Terugvordering reiskosten OAH'!BR250=0,\"\",'Terugvordering reiskosten OAH'!BR250)","v":""},{"$f":"IF('Terugvordering reiskosten OAH'!BZ250=0,\"\",'Terugvordering reiskosten OAH'!BZ250)","v":""},{"$f":"IF('Terugvordering reiskosten OAH'!CG250=\"\",\"\",'Terugvordering reiskosten OAH'!CG250)","v":""},{"$f":"IF('Terugvordering reiskosten OAH'!CM250=0,\"\",'Terugvordering reiskosten OAH'!CM250)","v":""}]
[{"$f":"IF('Terugvordering reiskosten OAH'!D251=\"\",\"\",IF('Terugvordering reiskosten OAH'!$T$36=\"\",\"\",'Terugvordering reiskosten OAH'!$T$36))","v":""},{"$f":"IF(A179=\"\",\"\",'Terugvordering reiskosten OAH'!$T$38)","v":""},{"$f":"IF(A179=\"\",\"\",'gegevensblad samenvatting vord.'!$C$2)","v":""},{"$f":"IF('Terugvordering reiskosten OAH'!D251=\"\",\"\",TEXT('Terugvordering reiskosten OAH'!D251,\"mm-jjjj\"))","v":""},{"$f":"IF('Terugvordering reiskosten OAH'!H251=\"\",\"\",'Terugvordering reiskosten OAH'!H251)","v":""},{"$f":"IF('Terugvordering reiskosten OAH'!R251=\"\",\"\",'Terugvordering reiskosten OAH'!R251)","v":""},{"$f":"IF('Terugvordering reiskosten OAH'!X251=\"\",\"\",'Terugvordering reiskosten OAH'!X251)","v":""},{"$f":"IF('Terugvordering reiskosten OAH'!AJ251=\"\",\"\",'Terugvordering reiskosten OAH'!AJ251)","v":""},{"$f":"IF('Terugvordering reiskosten OAH'!AR251=\"\",\"\",'Terugvordering reiskosten OAH'!AR251)","v":""},{"$f":"IF('Terugvordering reiskosten OAH'!AY251=\"\",\"\",'Terugvordering reiskosten OAH'!AY251)","v":""},{"$f":"IF('Terugvordering reiskosten OAH'!BC251=0,\"\",'Terugvordering reiskosten OAH'!BC251)","v":""},{"$f":"IF('Terugvordering reiskosten OAH'!BK251=0,\"\",'Terugvordering reiskosten OAH'!BK251)","v":""},{"$f":"IF('Terugvordering reiskosten OAH'!BR251=0,\"\",'Terugvordering reiskosten OAH'!BR251)","v":""},{"$f":"IF('Terugvordering reiskosten OAH'!BZ251=0,\"\",'Terugvordering reiskosten OAH'!BZ251)","v":""},{"$f":"IF('Terugvordering reiskosten OAH'!CG251=\"\",\"\",'Terugvordering reiskosten OAH'!CG251)","v":""},{"$f":"IF('Terugvordering reiskosten OAH'!CM251=0,\"\",'Terugvordering reiskosten OAH'!CM251)","v":""}]
[{"$f":"IF('Terugvordering reiskosten OAH'!D252=\"\",\"\",IF('Terugvordering reiskosten OAH'!$T$36=\"\",\"\",'Terugvordering reiskosten OAH'!$T$36))","v":""},{"$f":"IF(A180=\"\",\"\",'Terugvordering reiskosten OAH'!$T$38)","v":""},{"$f":"IF(A180=\"\",\"\",'gegevensblad samenvatting vord.'!$C$2)","v":""},{"$f":"IF('Terugvordering reiskosten OAH'!D252=\"\",\"\",TEXT('Terugvordering reiskosten OAH'!D252,\"mm-jjjj\"))","v":""},{"$f":"IF('Terugvordering reiskosten OAH'!H252=\"\",\"\",'Terugvordering reiskosten OAH'!H252)","v":""},{"$f":"IF('Terugvordering reiskosten OAH'!R252=\"\",\"\",'Terugvordering reiskosten OAH'!R252)","v":""},{"$f":"IF('Terugvordering reiskosten OAH'!X252=\"\",\"\",'Terugvordering reiskosten OAH'!X252)","v":""},{"$f":"IF('Terugvordering reiskosten OAH'!AJ252=\"\",\"\",'Terugvordering reiskosten OAH'!AJ252)","v":""},{"$f":"IF('Terugvordering reiskosten OAH'!AR252=\"\",\"\",'Terugvordering reiskosten OAH'!AR252)","v":""},{"$f":"IF('Terugvordering reiskosten OAH'!AY252=\"\",\"\",'Terugvordering reiskosten OAH'!AY252)","v":""},{"$f":"IF('Terugvordering reiskosten OAH'!BC252=0,\"\",'Terugvordering reiskosten OAH'!BC252)","v":""},{"$f":"IF('Terugvordering reiskosten OAH'!BK252=0,\"\",'Terugvordering reiskosten OAH'!BK252)","v":""},{"$f":"IF('Terugvordering reiskosten OAH'!BR252=0,\"\",'Terugvordering reiskosten OAH'!BR252)","v":""},{"$f":"IF('Terugvordering reiskosten OAH'!BZ252=0,\"\",'Terugvordering reiskosten OAH'!BZ252)","v":""},{"$f":"IF('Terugvordering reiskosten OAH'!CG252=\"\",\"\",'Terugvordering reiskosten OAH'!CG252)","v":""},{"$f":"IF('Terugvordering reiskosten OAH'!CM252=0,\"\",'Terugvordering reiskosten OAH'!CM252)","v":""}]
[{"$f":"IF('Terugvordering reiskosten OAH'!D253=\"\",\"\",IF('Terugvordering reiskosten OAH'!$T$36=\"\",\"\",'Terugvordering reiskosten OAH'!$T$36))","v":""},{"$f":"IF(A181=\"\",\"\",'Terugvordering reiskosten OAH'!$T$38)","v":""},{"$f":"IF(A181=\"\",\"\",'gegevensblad samenvatting vord.'!$C$2)","v":""},{"$f":"IF('Terugvordering reiskosten OAH'!D253=\"\",\"\",TEXT('Terugvordering reiskosten OAH'!D253,\"mm-jjjj\"))","v":""},{"$f":"IF('Terugvordering reiskosten OAH'!H253=\"\",\"\",'Terugvordering reiskosten OAH'!H253)","v":""},{"$f":"IF('Terugvordering reiskosten OAH'!R253=\"\",\"\",'Terugvordering reiskosten OAH'!R253)","v":""},{"$f":"IF('Terugvordering reiskosten OAH'!X253=\"\",\"\",'Terugvordering reiskosten OAH'!X253)","v":""},{"$f":"IF('Terugvordering reiskosten OAH'!AJ253=\"\",\"\",'Terugvordering reiskosten OAH'!AJ253)","v":""},{"$f":"IF('Terugvordering reiskosten OAH'!AR253=\"\",\"\",'Terugvordering reiskosten OAH'!AR253)","v":""},{"$f":"IF('Terugvordering reiskosten OAH'!AY253=\"\",\"\",'Terugvordering reiskosten OAH'!AY253)","v":""},{"$f":"IF('Terugvordering reiskosten OAH'!BC253=0,\"\",'Terugvordering reiskosten OAH'!BC253)","v":""},{"$f":"IF('Terugvordering reiskosten OAH'!BK253=0,\"\",'Terugvordering reiskosten OAH'!BK253)","v":""},{"$f":"IF('Terugvordering reiskosten OAH'!BR253=0,\"\",'Terugvordering reiskosten OAH'!BR253)","v":""},{"$f":"IF('Terugvordering reiskosten OAH'!BZ253=0,\"\",'Terugvordering reiskosten OAH'!BZ253)","v":""},{"$f":"IF('Terugvordering reiskosten OAH'!CG253=\"\",\"\",'Terugvordering reiskosten OAH'!CG253)","v":""},{"$f":"IF('Terugvordering reiskosten OAH'!CM253=0,\"\",'Terugvordering reiskosten OAH'!CM253)","v":""}]
[{"$f":"IF('Terugvordering reiskosten OAH'!D254=\"\",\"\",IF('Terugvordering reiskosten OAH'!$T$36=\"\",\"\",'Terugvordering reiskosten OAH'!$T$36))","v":""},{"$f":"IF(A182=\"\",\"\",'Terugvordering reiskosten OAH'!$T$38)","v":""},{"$f":"IF(A182=\"\",\"\",'gegevensblad samenvatting vord.'!$C$2)","v":""},{"$f":"IF('Terugvordering reiskosten OAH'!D254=\"\",\"\",TEXT('Terugvordering reiskosten OAH'!D254,\"mm-jjjj\"))","v":""},{"$f":"IF('Terugvordering reiskosten OAH'!H254=\"\",\"\",'Terugvordering reiskosten OAH'!H254)","v":""},{"$f":"IF('Terugvordering reiskosten OAH'!R254=\"\",\"\",'Terugvordering reiskosten OAH'!R254)","v":""},{"$f":"IF('Terugvordering reiskosten OAH'!X254=\"\",\"\",'Terugvordering reiskosten OAH'!X254)","v":""},{"$f":"IF('Terugvordering reiskosten OAH'!AJ254=\"\",\"\",'Terugvordering reiskosten OAH'!AJ254)","v":""},{"$f":"IF('Terugvordering reiskosten OAH'!AR254=\"\",\"\",'Terugvordering reiskosten OAH'!AR254)","v":""},{"$f":"IF('Terugvordering reiskosten OAH'!AY254=\"\",\"\",'Terugvordering reiskosten OAH'!AY254)","v":""},{"$f":"IF('Terugvordering reiskosten OAH'!BC254=0,\"\",'Terugvordering reiskosten OAH'!BC254)","v":""},{"$f":"IF('Terugvordering reiskosten OAH'!BK254=0,\"\",'Terugvordering reiskosten OAH'!BK254)","v":""},{"$f":"IF('Terugvordering reiskosten OAH'!BR254=0,\"\",'Terugvordering reiskosten OAH'!BR254)","v":""},{"$f":"IF('Terugvordering reiskosten OAH'!BZ254=0,\"\",'Terugvordering reiskosten OAH'!BZ254)","v":""},{"$f":"IF('Terugvordering reiskosten OAH'!CG254=\"\",\"\",'Terugvordering reiskosten OAH'!CG254)","v":""},{"$f":"IF('Terugvordering reiskosten OAH'!CM254=0,\"\",'Terugvordering reiskosten OAH'!CM254)","v":""}]
[{"$f":"IF('Terugvordering reiskosten OAH'!D255=\"\",\"\",IF('Terugvordering reiskosten OAH'!$T$36=\"\",\"\",'Terugvordering reiskosten OAH'!$T$36))","v":""},{"$f":"IF(A183=\"\",\"\",'Terugvordering reiskosten OAH'!$T$38)","v":""},{"$f":"IF(A183=\"\",\"\",'gegevensblad samenvatting vord.'!$C$2)","v":""},{"$f":"IF('Terugvordering reiskosten OAH'!D255=\"\",\"\",TEXT('Terugvordering reiskosten OAH'!D255,\"mm-jjjj\"))","v":""},{"$f":"IF('Terugvordering reiskosten OAH'!H255=\"\",\"\",'Terugvordering reiskosten OAH'!H255)","v":""},{"$f":"IF('Terugvordering reiskosten OAH'!R255=\"\",\"\",'Terugvordering reiskosten OAH'!R255)","v":""},{"$f":"IF('Terugvordering reiskosten OAH'!X255=\"\",\"\",'Terugvordering reiskosten OAH'!X255)","v":""},{"$f":"IF('Terugvordering reiskosten OAH'!AJ255=\"\",\"\",'Terugvordering reiskosten OAH'!AJ255)","v":""},{"$f":"IF('Terugvordering reiskosten OAH'!AR255=\"\",\"\",'Terugvordering reiskosten OAH'!AR255)","v":""},{"$f":"IF('Terugvordering reiskosten OAH'!AY255=\"\",\"\",'Terugvordering reiskosten OAH'!AY255)","v":""},{"$f":"IF('Terugvordering reiskosten OAH'!BC255=0,\"\",'Terugvordering reiskosten OAH'!BC255)","v":""},{"$f":"IF('Terugvordering reiskosten OAH'!BK255=0,\"\",'Terugvordering reiskosten OAH'!BK255)","v":""},{"$f":"IF('Terugvordering reiskosten OAH'!BR255=0,\"\",'Terugvordering reiskosten OAH'!BR255)","v":""},{"$f":"IF('Terugvordering reiskosten OAH'!BZ255=0,\"\",'Terugvordering reiskosten OAH'!BZ255)","v":""},{"$f":"IF('Terugvordering reiskosten OAH'!CG255=\"\",\"\",'Terugvordering reiskosten OAH'!CG255)","v":""},{"$f":"IF('Terugvordering reiskosten OAH'!CM255=0,\"\",'Terugvordering reiskosten OAH'!CM255)","v":""}]
[{"$f":"IF('Terugvordering reiskosten OAH'!D256=\"\",\"\",IF('Terugvordering reiskosten OAH'!$T$36=\"\",\"\",'Terugvordering reiskosten OAH'!$T$36))","v":""},{"$f":"IF(A184=\"\",\"\",'Terugvordering reiskosten OAH'!$T$38)","v":""},{"$f":"IF(A184=\"\",\"\",'gegevensblad samenvatting vord.'!$C$2)","v":""},{"$f":"IF('Terugvordering reiskosten OAH'!D256=\"\",\"\",TEXT('Terugvordering reiskosten OAH'!D256,\"mm-jjjj\"))","v":""},{"$f":"IF('Terugvordering reiskosten OAH'!H256=\"\",\"\",'Terugvordering reiskosten OAH'!H256)","v":""},{"$f":"IF('Terugvordering reiskosten OAH'!R256=\"\",\"\",'Terugvordering reiskosten OAH'!R256)","v":""},{"$f":"IF('Terugvordering reiskosten OAH'!X256=\"\",\"\",'Terugvordering reiskosten OAH'!X256)","v":""},{"$f":"IF('Terugvordering reiskosten OAH'!AJ256=\"\",\"\",'Terugvordering reiskosten OAH'!AJ256)","v":""},{"$f":"IF('Terugvordering reiskosten OAH'!AR256=\"\",\"\",'Terugvordering reiskosten OAH'!AR256)","v":""},{"$f":"IF('Terugvordering reiskosten OAH'!AY256=\"\",\"\",'Terugvordering reiskosten OAH'!AY256)","v":""},{"$f":"IF('Terugvordering reiskosten OAH'!BC256=0,\"\",'Terugvordering reiskosten OAH'!BC256)","v":""},{"$f":"IF('Terugvordering reiskosten OAH'!BK256=0,\"\",'Terugvordering reiskosten OAH'!BK256)","v":""},{"$f":"IF('Terugvordering reiskosten OAH'!BR256=0,\"\",'Terugvordering reiskosten OAH'!BR256)","v":""},{"$f":"IF('Terugvordering reiskosten OAH'!BZ256=0,\"\",'Terugvordering reiskosten OAH'!BZ256)","v":""},{"$f":"IF('Terugvordering reiskosten OAH'!CG256=\"\",\"\",'Terugvordering reiskosten OAH'!CG256)","v":""},{"$f":"IF('Terugvordering reiskosten OAH'!CM256=0,\"\",'Terugvordering reiskosten OAH'!CM256)","v":""}]
[{"$f":"IF('Terugvordering reiskosten OAH'!D257=\"\",\"\",IF('Terugvordering reiskosten OAH'!$T$36=\"\",\"\",'Terugvordering reiskosten OAH'!$T$36))","v":""},{"$f":"IF(A185=\"\",\"\",'Terugvordering reiskosten OAH'!$T$38)","v":""},{"$f":"IF(A185=\"\",\"\",'gegevensblad samenvatting vord.'!$C$2)","v":""},{"$f":"IF('Terugvordering reiskosten OAH'!D257=\"\",\"\",TEXT('Terugvordering reiskosten OAH'!D257,\"mm-jjjj\"))","v":""},{"$f":"IF('Terugvordering reiskosten OAH'!H257=\"\",\"\",'Terugvordering reiskosten OAH'!H257)","v":""},{"$f":"IF('Terugvordering reiskosten OAH'!R257=\"\",\"\",'Terugvordering reiskosten OAH'!R257)","v":""},{"$f":"IF('Terugvordering reiskosten OAH'!X257=\"\",\"\",'Terugvordering reiskosten OAH'!X257)","v":""},{"$f":"IF('Terugvordering reiskosten OAH'!AJ257=\"\",\"\",'Terugvordering reiskosten OAH'!AJ257)","v":""},{"$f":"IF('Terugvordering reiskosten OAH'!AR257=\"\",\"\",'Terugvordering reiskosten OAH'!AR257)","v":""},{"$f":"IF('Terugvordering reiskosten OAH'!AY257=\"\",\"\",'Terugvordering reiskosten OAH'!AY257)","v":""},{"$f":"IF('Terugvordering reiskosten OAH'!BC257=0,\"\",'Terugvordering reiskosten OAH'!BC257)","v":""},{"$f":"IF('Terugvordering reiskosten OAH'!BK257=0,\"\",'Terugvordering reiskosten OAH'!BK257)","v":""},{"$f":"IF('Terugvordering reiskosten OAH'!BR257=0,\"\",'Terugvordering reiskosten OAH'!BR257)","v":""},{"$f":"IF('Terugvordering reiskosten OAH'!BZ257=0,\"\",'Terugvordering reiskosten OAH'!BZ257)","v":""},{"$f":"IF('Terugvordering reiskosten OAH'!CG257=\"\",\"\",'Terugvordering reiskosten OAH'!CG257)","v":""},{"$f":"IF('Terugvordering reiskosten OAH'!CM257=0,\"\",'Terugvordering reiskosten OAH'!CM257)","v":""}]
[{"$f":"IF('Terugvordering reiskosten OAH'!D258=\"\",\"\",IF('Terugvordering reiskosten OAH'!$T$36=\"\",\"\",'Terugvordering reiskosten OAH'!$T$36))","v":""},{"$f":"IF(A186=\"\",\"\",'Terugvordering reiskosten OAH'!$T$38)","v":""},{"$f":"IF(A186=\"\",\"\",'gegevensblad samenvatting vord.'!$C$2)","v":""},{"$f":"IF('Terugvordering reiskosten OAH'!D258=\"\",\"\",TEXT('Terugvordering reiskosten OAH'!D258,\"mm-jjjj\"))","v":""},{"$f":"IF('Terugvordering reiskosten OAH'!H258=\"\",\"\",'Terugvordering reiskosten OAH'!H258)","v":""},{"$f":"IF('Terugvordering reiskosten OAH'!R258=\"\",\"\",'Terugvordering reiskosten OAH'!R258)","v":""},{"$f":"IF('Terugvordering reiskosten OAH'!X258=\"\",\"\",'Terugvordering reiskosten OAH'!X258)","v":""},{"$f":"IF('Terugvordering reiskosten OAH'!AJ258=\"\",\"\",'Terugvordering reiskosten OAH'!AJ258)","v":""},{"$f":"IF('Terugvordering reiskosten OAH'!AR258=\"\",\"\",'Terugvordering reiskosten OAH'!AR258)","v":""},{"$f":"IF('Terugvordering reiskosten OAH'!AY258=\"\",\"\",'Terugvordering reiskosten OAH'!AY258)","v":""},{"$f":"IF('Terugvordering reiskosten OAH'!BC258=0,\"\",'Terugvordering reiskosten OAH'!BC258)","v":""},{"$f":"IF('Terugvordering reiskosten OAH'!BK258=0,\"\",'Terugvordering reiskosten OAH'!BK258)","v":""},{"$f":"IF('Terugvordering reiskosten OAH'!BR258=0,\"\",'Terugvordering reiskosten OAH'!BR258)","v":""},{"$f":"IF('Terugvordering reiskosten OAH'!BZ258=0,\"\",'Terugvordering reiskosten OAH'!BZ258)","v":""},{"$f":"IF('Terugvordering reiskosten OAH'!CG258=\"\",\"\",'Terugvordering reiskosten OAH'!CG258)","v":""},{"$f":"IF('Terugvordering reiskosten OAH'!CM258=0,\"\",'Terugvordering reiskosten OAH'!CM258)","v":""}]
[{"$f":"IF('Terugvordering reiskosten OAH'!D259=\"\",\"\",IF('Terugvordering reiskosten OAH'!$T$36=\"\",\"\",'Terugvordering reiskosten OAH'!$T$36))","v":""},{"$f":"IF(A187=\"\",\"\",'Terugvordering reiskosten OAH'!$T$38)","v":""},{"$f":"IF(A187=\"\",\"\",'gegevensblad samenvatting vord.'!$C$2)","v":""},{"$f":"IF('Terugvordering reiskosten OAH'!D259=\"\",\"\",TEXT('Terugvordering reiskosten OAH'!D259,\"mm-jjjj\"))","v":""},{"$f":"IF('Terugvordering reiskosten OAH'!H259=\"\",\"\",'Terugvordering reiskosten OAH'!H259)","v":""},{"$f":"IF('Terugvordering reiskosten OAH'!R259=\"\",\"\",'Terugvordering reiskosten OAH'!R259)","v":""},{"$f":"IF('Terugvordering reiskosten OAH'!X259=\"\",\"\",'Terugvordering reiskosten OAH'!X259)","v":""},{"$f":"IF('Terugvordering reiskosten OAH'!AJ259=\"\",\"\",'Terugvordering reiskosten OAH'!AJ259)","v":""},{"$f":"IF('Terugvordering reiskosten OAH'!AR259=\"\",\"\",'Terugvordering reiskosten OAH'!AR259)","v":""},{"$f":"IF('Terugvordering reiskosten OAH'!AY259=\"\",\"\",'Terugvordering reiskosten OAH'!AY259)","v":""},{"$f":"IF('Terugvordering reiskosten OAH'!BC259=0,\"\",'Terugvordering reiskosten OAH'!BC259)","v":""},{"$f":"IF('Terugvordering reiskosten OAH'!BK259=0,\"\",'Terugvordering reiskosten OAH'!BK259)","v":""},{"$f":"IF('Terugvordering reiskosten OAH'!BR259=0,\"\",'Terugvordering reiskosten OAH'!BR259)","v":""},{"$f":"IF('Terugvordering reiskosten OAH'!BZ259=0,\"\",'Terugvordering reiskosten OAH'!BZ259)","v":""},{"$f":"IF('Terugvordering reiskosten OAH'!CG259=\"\",\"\",'Terugvordering reiskosten OAH'!CG259)","v":""},{"$f":"IF('Terugvordering reiskosten OAH'!CM259=0,\"\",'Terugvordering reiskosten OAH'!CM259)","v":""}]
[{"$f":"IF('Terugvordering reiskosten OAH'!D260=\"\",\"\",IF('Terugvordering reiskosten OAH'!$T$36=\"\",\"\",'Terugvordering reiskosten OAH'!$T$36))","v":""},{"$f":"IF(A188=\"\",\"\",'Terugvordering reiskosten OAH'!$T$38)","v":""},{"$f":"IF(A188=\"\",\"\",'gegevensblad samenvatting vord.'!$C$2)","v":""},{"$f":"IF('Terugvordering reiskosten OAH'!D260=\"\",\"\",TEXT('Terugvordering reiskosten OAH'!D260,\"mm-jjjj\"))","v":""},{"$f":"IF('Terugvordering reiskosten OAH'!H260=\"\",\"\",'Terugvordering reiskosten OAH'!H260)","v":""},{"$f":"IF('Terugvordering reiskosten OAH'!R260=\"\",\"\",'Terugvordering reiskosten OAH'!R260)","v":""},{"$f":"IF('Terugvordering reiskosten OAH'!X260=\"\",\"\",'Terugvordering reiskosten OAH'!X260)","v":""},{"$f":"IF('Terugvordering reiskosten OAH'!AJ260=\"\",\"\",'Terugvordering reiskosten OAH'!AJ260)","v":""},{"$f":"IF('Terugvordering reiskosten OAH'!AR260=\"\",\"\",'Terugvordering reiskosten OAH'!AR260)","v":""},{"$f":"IF('Terugvordering reiskosten OAH'!AY260=\"\",\"\",'Terugvordering reiskosten OAH'!AY260)","v":""},{"$f":"IF('Terugvordering reiskosten OAH'!BC260=0,\"\",'Terugvordering reiskosten OAH'!BC260)","v":""},{"$f":"IF('Terugvordering reiskosten OAH'!BK260=0,\"\",'Terugvordering reiskosten OAH'!BK260)","v":""},{"$f":"IF('Terugvordering reiskosten OAH'!BR260=0,\"\",'Terugvordering reiskosten OAH'!BR260)","v":""},{"$f":"IF('Terugvordering reiskosten OAH'!BZ260=0,\"\",'Terugvordering reiskosten OAH'!BZ260)","v":""},{"$f":"IF('Terugvordering reiskosten OAH'!CG260=\"\",\"\",'Terugvordering reiskosten OAH'!CG260)","v":""},{"$f":"IF('Terugvordering reiskosten OAH'!CM260=0,\"\",'Terugvordering reiskosten OAH'!CM260)","v":""}]
[{"$f":"IF('Terugvordering reiskosten OAH'!D261=\"\",\"\",IF('Terugvordering reiskosten OAH'!$T$36=\"\",\"\",'Terugvordering reiskosten OAH'!$T$36))","v":""},{"$f":"IF(A189=\"\",\"\",'Terugvordering reiskosten OAH'!$T$38)","v":""},{"$f":"IF(A189=\"\",\"\",'gegevensblad samenvatting vord.'!$C$2)","v":""},{"$f":"IF('Terugvordering reiskosten OAH'!D261=\"\",\"\",TEXT('Terugvordering reiskosten OAH'!D261,\"mm-jjjj\"))","v":""},{"$f":"IF('Terugvordering reiskosten OAH'!H261=\"\",\"\",'Terugvordering reiskosten OAH'!H261)","v":""},{"$f":"IF('Terugvordering reiskosten OAH'!R261=\"\",\"\",'Terugvordering reiskosten OAH'!R261)","v":""},{"$f":"IF('Terugvordering reiskosten OAH'!X261=\"\",\"\",'Terugvordering reiskosten OAH'!X261)","v":""},{"$f":"IF('Terugvordering reiskosten OAH'!AJ261=\"\",\"\",'Terugvordering reiskosten OAH'!AJ261)","v":""},{"$f":"IF('Terugvordering reiskosten OAH'!AR261=\"\",\"\",'Terugvordering reiskosten OAH'!AR261)","v":""},{"$f":"IF('Terugvordering reiskosten OAH'!AY261=\"\",\"\",'Terugvordering reiskosten OAH'!AY261)","v":""},{"$f":"IF('Terugvordering reiskosten OAH'!BC261=0,\"\",'Terugvordering reiskosten OAH'!BC261)","v":""},{"$f":"IF('Terugvordering reiskosten OAH'!BK261=0,\"\",'Terugvordering reiskosten OAH'!BK261)","v":""},{"$f":"IF('Terugvordering reiskosten OAH'!BR261=0,\"\",'Terugvordering reiskosten OAH'!BR261)","v":""},{"$f":"IF('Terugvordering reiskosten OAH'!BZ261=0,\"\",'Terugvordering reiskosten OAH'!BZ261)","v":""},{"$f":"IF('Terugvordering reiskosten OAH'!CG261=\"\",\"\",'Terugvordering reiskosten OAH'!CG261)","v":""},{"$f":"IF('Terugvordering reiskosten OAH'!CM261=0,\"\",'Terugvordering reiskosten OAH'!CM261)","v":""}]
[{"$f":"IF('Terugvordering reiskosten OAH'!D262=\"\",\"\",IF('Terugvordering reiskosten OAH'!$T$36=\"\",\"\",'Terugvordering reiskosten OAH'!$T$36))","v":""},{"$f":"IF(A190=\"\",\"\",'Terugvordering reiskosten OAH'!$T$38)","v":""},{"$f":"IF(A190=\"\",\"\",'gegevensblad samenvatting vord.'!$C$2)","v":""},{"$f":"IF('Terugvordering reiskosten OAH'!D262=\"\",\"\",TEXT('Terugvordering reiskosten OAH'!D262,\"mm-jjjj\"))","v":""},{"$f":"IF('Terugvordering reiskosten OAH'!H262=\"\",\"\",'Terugvordering reiskosten OAH'!H262)","v":""},{"$f":"IF('Terugvordering reiskosten OAH'!R262=\"\",\"\",'Terugvordering reiskosten OAH'!R262)","v":""},{"$f":"IF('Terugvordering reiskosten OAH'!X262=\"\",\"\",'Terugvordering reiskosten OAH'!X262)","v":""},{"$f":"IF('Terugvordering reiskosten OAH'!AJ262=\"\",\"\",'Terugvordering reiskosten OAH'!AJ262)","v":""},{"$f":"IF('Terugvordering reiskosten OAH'!AR262=\"\",\"\",'Terugvordering reiskosten OAH'!AR262)","v":""},{"$f":"IF('Terugvordering reiskosten OAH'!AY262=\"\",\"\",'Terugvordering reiskosten OAH'!AY262)","v":""},{"$f":"IF('Terugvordering reiskosten OAH'!BC262=0,\"\",'Terugvordering reiskosten OAH'!BC262)","v":""},{"$f":"IF('Terugvordering reiskosten OAH'!BK262=0,\"\",'Terugvordering reiskosten OAH'!BK262)","v":""},{"$f":"IF('Terugvordering reiskosten OAH'!BR262=0,\"\",'Terugvordering reiskosten OAH'!BR262)","v":""},{"$f":"IF('Terugvordering reiskosten OAH'!BZ262=0,\"\",'Terugvordering reiskosten OAH'!BZ262)","v":""},{"$f":"IF('Terugvordering reiskosten OAH'!CG262=\"\",\"\",'Terugvordering reiskosten OAH'!CG262)","v":""},{"$f":"IF('Terugvordering reiskosten OAH'!CM262=0,\"\",'Terugvordering reiskosten OAH'!CM262)","v":""}]
[{"$f":"IF('Terugvordering reiskosten OAH'!D263=\"\",\"\",IF('Terugvordering reiskosten OAH'!$T$36=\"\",\"\",'Terugvordering reiskosten OAH'!$T$36))","v":""},{"$f":"IF(A191=\"\",\"\",'Terugvordering reiskosten OAH'!$T$38)","v":""},{"$f":"IF(A191=\"\",\"\",'gegevensblad samenvatting vord.'!$C$2)","v":""},{"$f":"IF('Terugvordering reiskosten OAH'!D263=\"\",\"\",TEXT('Terugvordering reiskosten OAH'!D263,\"mm-jjjj\"))","v":""},{"$f":"IF('Terugvordering reiskosten OAH'!H263=\"\",\"\",'Terugvordering reiskosten OAH'!H263)","v":""},{"$f":"IF('Terugvordering reiskosten OAH'!R263=\"\",\"\",'Terugvordering reiskosten OAH'!R263)","v":""},{"$f":"IF('Terugvordering reiskosten OAH'!X263=\"\",\"\",'Terugvordering reiskosten OAH'!X263)","v":""},{"$f":"IF('Terugvordering reiskosten OAH'!AJ263=\"\",\"\",'Terugvordering reiskosten OAH'!AJ263)","v":""},{"$f":"IF('Terugvordering reiskosten OAH'!AR263=\"\",\"\",'Terugvordering reiskosten OAH'!AR263)","v":""},{"$f":"IF('Terugvordering reiskosten OAH'!AY263=\"\",\"\",'Terugvordering reiskosten OAH'!AY263)","v":""},{"$f":"IF('Terugvordering reiskosten OAH'!BC263=0,\"\",'Terugvordering reiskosten OAH'!BC263)","v":""},{"$f":"IF('Terugvordering reiskosten OAH'!BK263=0,\"\",'Terugvordering reiskosten OAH'!BK263)","v":""},{"$f":"IF('Terugvordering reiskosten OAH'!BR263=0,\"\",'Terugvordering reiskosten OAH'!BR263)","v":""},{"$f":"IF('Terugvordering reiskosten OAH'!BZ263=0,\"\",'Terugvordering reiskosten OAH'!BZ263)","v":""},{"$f":"IF('Terugvordering reiskosten OAH'!CG263=\"\",\"\",'Terugvordering reiskosten OAH'!CG263)","v":""},{"$f":"IF('Terugvordering reiskosten OAH'!CM263=0,\"\",'Terugvordering reiskosten OAH'!CM263)","v":""}]
[{"$f":"IF('Terugvordering reiskosten OAH'!D264=\"\",\"\",IF('Terugvordering reiskosten OAH'!$T$36=\"\",\"\",'Terugvordering reiskosten OAH'!$T$36))","v":""},{"$f":"IF(A192=\"\",\"\",'Terugvordering reiskosten OAH'!$T$38)","v":""},{"$f":"IF(A192=\"\",\"\",'gegevensblad samenvatting vord.'!$C$2)","v":""},{"$f":"IF('Terugvordering reiskosten OAH'!D264=\"\",\"\",TEXT('Terugvordering reiskosten OAH'!D264,\"mm-jjjj\"))","v":""},{"$f":"IF('Terugvordering reiskosten OAH'!H264=\"\",\"\",'Terugvordering reiskosten OAH'!H264)","v":""},{"$f":"IF('Terugvordering reiskosten OAH'!R264=\"\",\"\",'Terugvordering reiskosten OAH'!R264)","v":""},{"$f":"IF('Terugvordering reiskosten OAH'!X264=\"\",\"\",'Terugvordering reiskosten OAH'!X264)","v":""},{"$f":"IF('Terugvordering reiskosten OAH'!AJ264=\"\",\"\",'Terugvordering reiskosten OAH'!AJ264)","v":""},{"$f":"IF('Terugvordering reiskosten OAH'!AR264=\"\",\"\",'Terugvordering reiskosten OAH'!AR264)","v":""},{"$f":"IF('Terugvordering reiskosten OAH'!AY264=\"\",\"\",'Terugvordering reiskosten OAH'!AY264)","v":""},{"$f":"IF('Terugvordering reiskosten OAH'!BC264=0,\"\",'Terugvordering reiskosten OAH'!BC264)","v":""},{"$f":"IF('Terugvordering reiskosten OAH'!BK264=0,\"\",'Terugvordering reiskosten OAH'!BK264)","v":""},{"$f":"IF('Terugvordering reiskosten OAH'!BR264=0,\"\",'Terugvordering reiskosten OAH'!BR264)","v":""},{"$f":"IF('Terugvordering reiskosten OAH'!BZ264=0,\"\",'Terugvordering reiskosten OAH'!BZ264)","v":""},{"$f":"IF('Terugvordering reiskosten OAH'!CG264=\"\",\"\",'Terugvordering reiskosten OAH'!CG264)","v":""},{"$f":"IF('Terugvordering reiskosten OAH'!CM264=0,\"\",'Terugvordering reiskosten OAH'!CM264)","v":""}]
[{"$f":"IF('Terugvordering reiskosten OAH'!D265=\"\",\"\",IF('Terugvordering reiskosten OAH'!$T$36=\"\",\"\",'Terugvordering reiskosten OAH'!$T$36))","v":""},{"$f":"IF(A193=\"\",\"\",'Terugvordering reiskosten OAH'!$T$38)","v":""},{"$f":"IF(A193=\"\",\"\",'gegevensblad samenvatting vord.'!$C$2)","v":""},{"$f":"IF('Terugvordering reiskosten OAH'!D265=\"\",\"\",TEXT('Terugvordering reiskosten OAH'!D265,\"mm-jjjj\"))","v":""},{"$f":"IF('Terugvordering reiskosten OAH'!H265=\"\",\"\",'Terugvordering reiskosten OAH'!H265)","v":""},{"$f":"IF('Terugvordering reiskosten OAH'!R265=\"\",\"\",'Terugvordering reiskosten OAH'!R265)","v":""},{"$f":"IF('Terugvordering reiskosten OAH'!X265=\"\",\"\",'Terugvordering reiskosten OAH'!X265)","v":""},{"$f":"IF('Terugvordering reiskosten OAH'!AJ265=\"\",\"\",'Terugvordering reiskosten OAH'!AJ265)","v":""},{"$f":"IF('Terugvordering reiskosten OAH'!AR265=\"\",\"\",'Terugvordering reiskosten OAH'!AR265)","v":""},{"$f":"IF('Terugvordering reiskosten OAH'!AY265=\"\",\"\",'Terugvordering reiskosten OAH'!AY265)","v":""},{"$f":"IF('Terugvordering reiskosten OAH'!BC265=0,\"\",'Terugvordering reiskosten OAH'!BC265)","v":""},{"$f":"IF('Terugvordering reiskosten OAH'!BK265=0,\"\",'Terugvordering reiskosten OAH'!BK265)","v":""},{"$f":"IF('Terugvordering reiskosten OAH'!BR265=0,\"\",'Terugvordering reiskosten OAH'!BR265)","v":""},{"$f":"IF('Terugvordering reiskosten OAH'!BZ265=0,\"\",'Terugvordering reiskosten OAH'!BZ265)","v":""},{"$f":"IF('Terugvordering reiskosten OAH'!CG265=\"\",\"\",'Terugvordering reiskosten OAH'!CG265)","v":""},{"$f":"IF('Terugvordering reiskosten OAH'!CM265=0,\"\",'Terugvordering reiskosten OAH'!CM265)","v":""}]
[{"$f":"IF('Terugvordering reiskosten OAH'!D266=\"\",\"\",IF('Terugvordering reiskosten OAH'!$T$36=\"\",\"\",'Terugvordering reiskosten OAH'!$T$36))","v":""},{"$f":"IF(A194=\"\",\"\",'Terugvordering reiskosten OAH'!$T$38)","v":""},{"$f":"IF(A194=\"\",\"\",'gegevensblad samenvatting vord.'!$C$2)","v":""},{"$f":"IF('Terugvordering reiskosten OAH'!D266=\"\",\"\",TEXT('Terugvordering reiskosten OAH'!D266,\"mm-jjjj\"))","v":""},{"$f":"IF('Terugvordering reiskosten OAH'!H266=\"\",\"\",'Terugvordering reiskosten OAH'!H266)","v":""},{"$f":"IF('Terugvordering reiskosten OAH'!R266=\"\",\"\",'Terugvordering reiskosten OAH'!R266)","v":""},{"$f":"IF('Terugvordering reiskosten OAH'!X266=\"\",\"\",'Terugvordering reiskosten OAH'!X266)","v":""},{"$f":"IF('Terugvordering reiskosten OAH'!AJ266=\"\",\"\",'Terugvordering reiskosten OAH'!AJ266)","v":""},{"$f":"IF('Terugvordering reiskosten OAH'!AR266=\"\",\"\",'Terugvordering reiskosten OAH'!AR266)","v":""},{"$f":"IF('Terugvordering reiskosten OAH'!AY266=\"\",\"\",'Terugvordering reiskosten OAH'!AY266)","v":""},{"$f":"IF('Terugvordering reiskosten OAH'!BC266=0,\"\",'Terugvordering reiskosten OAH'!BC266)","v":""},{"$f":"IF('Terugvordering reiskosten OAH'!BK266=0,\"\",'Terugvordering reiskosten OAH'!BK266)","v":""},{"$f":"IF('Terugvordering reiskosten OAH'!BR266=0,\"\",'Terugvordering reiskosten OAH'!BR266)","v":""},{"$f":"IF('Terugvordering reiskosten OAH'!BZ266=0,\"\",'Terugvordering reiskosten OAH'!BZ266)","v":""},{"$f":"IF('Terugvordering reiskosten OAH'!CG266=\"\",\"\",'Terugvordering reiskosten OAH'!CG266)","v":""},{"$f":"IF('Terugvordering reiskosten OAH'!CM266=0,\"\",'Terugvordering reiskosten OAH'!CM266)","v":""}]
[{"$f":"IF('Terugvordering reiskosten OAH'!D267=\"\",\"\",IF('Terugvordering reiskosten OAH'!$T$36=\"\",\"\",'Terugvordering reiskosten OAH'!$T$36))","v":""},{"$f":"IF(A195=\"\",\"\",'Terugvordering reiskosten OAH'!$T$38)","v":""},{"$f":"IF(A195=\"\",\"\",'gegevensblad samenvatting vord.'!$C$2)","v":""},{"$f":"IF('Terugvordering reiskosten OAH'!D267=\"\",\"\",TEXT('Terugvordering reiskosten OAH'!D267,\"mm-jjjj\"))","v":""},{"$f":"IF('Terugvordering reiskosten OAH'!H267=\"\",\"\",'Terugvordering reiskosten OAH'!H267)","v":""},{"$f":"IF('Terugvordering reiskosten OAH'!R267=\"\",\"\",'Terugvordering reiskosten OAH'!R267)","v":""},{"$f":"IF('Terugvordering reiskosten OAH'!X267=\"\",\"\",'Terugvordering reiskosten OAH'!X267)","v":""},{"$f":"IF('Terugvordering reiskosten OAH'!AJ267=\"\",\"\",'Terugvordering reiskosten OAH'!AJ267)","v":""},{"$f":"IF('Terugvordering reiskosten OAH'!AR267=\"\",\"\",'Terugvordering reiskosten OAH'!AR267)","v":""},{"$f":"IF('Terugvordering reiskosten OAH'!AY267=\"\",\"\",'Terugvordering reiskosten OAH'!AY267)","v":""},{"$f":"IF('Terugvordering reiskosten OAH'!BC267=0,\"\",'Terugvordering reiskosten OAH'!BC267)","v":""},{"$f":"IF('Terugvordering reiskosten OAH'!BK267=0,\"\",'Terugvordering reiskosten OAH'!BK267)","v":""},{"$f":"IF('Terugvordering reiskosten OAH'!BR267=0,\"\",'Terugvordering reiskosten OAH'!BR267)","v":""},{"$f":"IF('Terugvordering reiskosten OAH'!BZ267=0,\"\",'Terugvordering reiskosten OAH'!BZ267)","v":""},{"$f":"IF('Terugvordering reiskosten OAH'!CG267=\"\",\"\",'Terugvordering reiskosten OAH'!CG267)","v":""},{"$f":"IF('Terugvordering reiskosten OAH'!CM267=0,\"\",'Terugvordering reiskosten OAH'!CM267)","v":""}]
[{"$f":"IF('Terugvordering reiskosten OAH'!D268=\"\",\"\",IF('Terugvordering reiskosten OAH'!$T$36=\"\",\"\",'Terugvordering reiskosten OAH'!$T$36))","v":""},{"$f":"IF(A196=\"\",\"\",'Terugvordering reiskosten OAH'!$T$38)","v":""},{"$f":"IF(A196=\"\",\"\",'gegevensblad samenvatting vord.'!$C$2)","v":""},{"$f":"IF('Terugvordering reiskosten OAH'!D268=\"\",\"\",TEXT('Terugvordering reiskosten OAH'!D268,\"mm-jjjj\"))","v":""},{"$f":"IF('Terugvordering reiskosten OAH'!H268=\"\",\"\",'Terugvordering reiskosten OAH'!H268)","v":""},{"$f":"IF('Terugvordering reiskosten OAH'!R268=\"\",\"\",'Terugvordering reiskosten OAH'!R268)","v":""},{"$f":"IF('Terugvordering reiskosten OAH'!X268=\"\",\"\",'Terugvordering reiskosten OAH'!X268)","v":""},{"$f":"IF('Terugvordering reiskosten OAH'!AJ268=\"\",\"\",'Terugvordering reiskosten OAH'!AJ268)","v":""},{"$f":"IF('Terugvordering reiskosten OAH'!AR268=\"\",\"\",'Terugvordering reiskosten OAH'!AR268)","v":""},{"$f":"IF('Terugvordering reiskosten OAH'!AY268=\"\",\"\",'Terugvordering reiskosten OAH'!AY268)","v":""},{"$f":"IF('Terugvordering reiskosten OAH'!BC268=0,\"\",'Terugvordering reiskosten OAH'!BC268)","v":""},{"$f":"IF('Terugvordering reiskosten OAH'!BK268=0,\"\",'Terugvordering reiskosten OAH'!BK268)","v":""},{"$f":"IF('Terugvordering reiskosten OAH'!BR268=0,\"\",'Terugvordering reiskosten OAH'!BR268)","v":""},{"$f":"IF('Terugvordering reiskosten OAH'!BZ268=0,\"\",'Terugvordering reiskosten OAH'!BZ268)","v":""},{"$f":"IF('Terugvordering reiskosten OAH'!CG268=\"\",\"\",'Terugvordering reiskosten OAH'!CG268)","v":""},{"$f":"IF('Terugvordering reiskosten OAH'!CM268=0,\"\",'Terugvordering reiskosten OAH'!CM268)","v":""}]
[{"$f":"IF('Terugvordering reiskosten OAH'!D269=\"\",\"\",IF('Terugvordering reiskosten OAH'!$T$36=\"\",\"\",'Terugvordering reiskosten OAH'!$T$36))","v":""},{"$f":"IF(A197=\"\",\"\",'Terugvordering reiskosten OAH'!$T$38)","v":""},{"$f":"IF(A197=\"\",\"\",'gegevensblad samenvatting vord.'!$C$2)","v":""},{"$f":"IF('Terugvordering reiskosten OAH'!D269=\"\",\"\",TEXT('Terugvordering reiskosten OAH'!D269,\"mm-jjjj\"))","v":""},{"$f":"IF('Terugvordering reiskosten OAH'!H269=\"\",\"\",'Terugvordering reiskosten OAH'!H269)","v":""},{"$f":"IF('Terugvordering reiskosten OAH'!R269=\"\",\"\",'Terugvordering reiskosten OAH'!R269)","v":""},{"$f":"IF('Terugvordering reiskosten OAH'!X269=\"\",\"\",'Terugvordering reiskosten OAH'!X269)","v":""},{"$f":"IF('Terugvordering reiskosten OAH'!AJ269=\"\",\"\",'Terugvordering reiskosten OAH'!AJ269)","v":""},{"$f":"IF('Terugvordering reiskosten OAH'!AR269=\"\",\"\",'Terugvordering reiskosten OAH'!AR269)","v":""},{"$f":"IF('Terugvordering reiskosten OAH'!AY269=\"\",\"\",'Terugvordering reiskosten OAH'!AY269)","v":""},{"$f":"IF('Terugvordering reiskosten OAH'!BC269=0,\"\",'Terugvordering reiskosten OAH'!BC269)","v":""},{"$f":"IF('Terugvordering reiskosten OAH'!BK269=0,\"\",'Terugvordering reiskosten OAH'!BK269)","v":""},{"$f":"IF('Terugvordering reiskosten OAH'!BR269=0,\"\",'Terugvordering reiskosten OAH'!BR269)","v":""},{"$f":"IF('Terugvordering reiskosten OAH'!BZ269=0,\"\",'Terugvordering reiskosten OAH'!BZ269)","v":""},{"$f":"IF('Terugvordering reiskosten OAH'!CG269=\"\",\"\",'Terugvordering reiskosten OAH'!CG269)","v":""},{"$f":"IF('Terugvordering reiskosten OAH'!CM269=0,\"\",'Terugvordering reiskosten OAH'!CM269)","v":""}]
[{"$f":"IF('Terugvordering reiskosten OAH'!D270=\"\",\"\",IF('Terugvordering reiskosten OAH'!$T$36=\"\",\"\",'Terugvordering reiskosten OAH'!$T$36))","v":""},{"$f":"IF(A198=\"\",\"\",'Terugvordering reiskosten OAH'!$T$38)","v":""},{"$f":"IF(A198=\"\",\"\",'gegevensblad samenvatting vord.'!$C$2)","v":""},{"$f":"IF('Terugvordering reiskosten OAH'!D270=\"\",\"\",TEXT('Terugvordering reiskosten OAH'!D270,\"mm-jjjj\"))","v":""},{"$f":"IF('Terugvordering reiskosten OAH'!H270=\"\",\"\",'Terugvordering reiskosten OAH'!H270)","v":""},{"$f":"IF('Terugvordering reiskosten OAH'!R270=\"\",\"\",'Terugvordering reiskosten OAH'!R270)","v":""},{"$f":"IF('Terugvordering reiskosten OAH'!X270=\"\",\"\",'Terugvordering reiskosten OAH'!X270)","v":""},{"$f":"IF('Terugvordering reiskosten OAH'!AJ270=\"\",\"\",'Terugvordering reiskosten OAH'!AJ270)","v":""},{"$f":"IF('Terugvordering reiskosten OAH'!AR270=\"\",\"\",'Terugvordering reiskosten OAH'!AR270)","v":""},{"$f":"IF('Terugvordering reiskosten OAH'!AY270=\"\",\"\",'Terugvordering reiskosten OAH'!AY270)","v":""},{"$f":"IF('Terugvordering reiskosten OAH'!BC270=0,\"\",'Terugvordering reiskosten OAH'!BC270)","v":""},{"$f":"IF('Terugvordering reiskosten OAH'!BK270=0,\"\",'Terugvordering reiskosten OAH'!BK270)","v":""},{"$f":"IF('Terugvordering reiskosten OAH'!BR270=0,\"\",'Terugvordering reiskosten OAH'!BR270)","v":""},{"$f":"IF('Terugvordering reiskosten OAH'!BZ270=0,\"\",'Terugvordering reiskosten OAH'!BZ270)","v":""},{"$f":"IF('Terugvordering reiskosten OAH'!CG270=\"\",\"\",'Terugvordering reiskosten OAH'!CG270)","v":""},{"$f":"IF('Terugvordering reiskosten OAH'!CM270=0,\"\",'Terugvordering reiskosten OAH'!CM270)","v":""}]
[{"$f":"IF('Terugvordering reiskosten OAH'!D271=\"\",\"\",IF('Terugvordering reiskosten OAH'!$T$36=\"\",\"\",'Terugvordering reiskosten OAH'!$T$36))","v":""},{"$f":"IF(A199=\"\",\"\",'Terugvordering reiskosten OAH'!$T$38)","v":""},{"$f":"IF(A199=\"\",\"\",'gegevensblad samenvatting vord.'!$C$2)","v":""},{"$f":"IF('Terugvordering reiskosten OAH'!D271=\"\",\"\",TEXT('Terugvordering reiskosten OAH'!D271,\"mm-jjjj\"))","v":""},{"$f":"IF('Terugvordering reiskosten OAH'!H271=\"\",\"\",'Terugvordering reiskosten OAH'!H271)","v":""},{"$f":"IF('Terugvordering reiskosten OAH'!R271=\"\",\"\",'Terugvordering reiskosten OAH'!R271)","v":""},{"$f":"IF('Terugvordering reiskosten OAH'!X271=\"\",\"\",'Terugvordering reiskosten OAH'!X271)","v":""},{"$f":"IF('Terugvordering reiskosten OAH'!AJ271=\"\",\"\",'Terugvordering reiskosten OAH'!AJ271)","v":""},{"$f":"IF('Terugvordering reiskosten OAH'!AR271=\"\",\"\",'Terugvordering reiskosten OAH'!AR271)","v":""},{"$f":"IF('Terugvordering reiskosten OAH'!AY271=\"\",\"\",'Terugvordering reiskosten OAH'!AY271)","v":""},{"$f":"IF('Terugvordering reiskosten OAH'!BC271=0,\"\",'Terugvordering reiskosten OAH'!BC271)","v":""},{"$f":"IF('Terugvordering reiskosten OAH'!BK271=0,\"\",'Terugvordering reiskosten OAH'!BK271)","v":""},{"$f":"IF('Terugvordering reiskosten OAH'!BR271=0,\"\",'Terugvordering reiskosten OAH'!BR271)","v":""},{"$f":"IF('Terugvordering reiskosten OAH'!BZ271=0,\"\",'Terugvordering reiskosten OAH'!BZ271)","v":""},{"$f":"IF('Terugvordering reiskosten OAH'!CG271=\"\",\"\",'Terugvordering reiskosten OAH'!CG271)","v":""},{"$f":"IF('Terugvordering reiskosten OAH'!CM271=0,\"\",'Terugvordering reiskosten OAH'!CM271)","v":""}]
[{"$f":"IF('Terugvordering reiskosten OAH'!D272=\"\",\"\",IF('Terugvordering reiskosten OAH'!$T$36=\"\",\"\",'Terugvordering reiskosten OAH'!$T$36))","v":""},{"$f":"IF(A200=\"\",\"\",'Terugvordering reiskosten OAH'!$T$38)","v":""},{"$f":"IF(A200=\"\",\"\",'gegevensblad samenvatting vord.'!$C$2)","v":""},{"$f":"IF('Terugvordering reiskosten OAH'!D272=\"\",\"\",TEXT('Terugvordering reiskosten OAH'!D272,\"mm-jjjj\"))","v":""},{"$f":"IF('Terugvordering reiskosten OAH'!H272=\"\",\"\",'Terugvordering reiskosten OAH'!H272)","v":""},{"$f":"IF('Terugvordering reiskosten OAH'!R272=\"\",\"\",'Terugvordering reiskosten OAH'!R272)","v":""},{"$f":"IF('Terugvordering reiskosten OAH'!X272=\"\",\"\",'Terugvordering reiskosten OAH'!X272)","v":""},{"$f":"IF('Terugvordering reiskosten OAH'!AJ272=\"\",\"\",'Terugvordering reiskosten OAH'!AJ272)","v":""},{"$f":"IF('Terugvordering reiskosten OAH'!AR272=\"\",\"\",'Terugvordering reiskosten OAH'!AR272)","v":""},{"$f":"IF('Terugvordering reiskosten OAH'!AY272=\"\",\"\",'Terugvordering reiskosten OAH'!AY272)","v":""},{"$f":"IF('Terugvordering reiskosten OAH'!BC272=0,\"\",'Terugvordering reiskosten OAH'!BC272)","v":""},{"$f":"IF('Terugvordering reiskosten OAH'!BK272=0,\"\",'Terugvordering reiskosten OAH'!BK272)","v":""},{"$f":"IF('Terugvordering reiskosten OAH'!BR272=0,\"\",'Terugvordering reiskosten OAH'!BR272)","v":""},{"$f":"IF('Terugvordering reiskosten OAH'!BZ272=0,\"\",'Terugvordering reiskosten OAH'!BZ272)","v":""},{"$f":"IF('Terugvordering reiskosten OAH'!CG272=\"\",\"\",'Terugvordering reiskosten OAH'!CG272)","v":""},{"$f":"IF('Terugvordering reiskosten OAH'!CM272=0,\"\",'Terugvordering reiskosten OAH'!CM272)","v":""}]
[{"$f":"IF('Terugvordering reiskosten OAH'!D273=\"\",\"\",IF('Terugvordering reiskosten OAH'!$T$36=\"\",\"\",'Terugvordering reiskosten OAH'!$T$36))","v":""},{"$f":"IF(A201=\"\",\"\",'Terugvordering reiskosten OAH'!$T$38)","v":""},{"$f":"IF(A201=\"\",\"\",'gegevensblad samenvatting vord.'!$C$2)","v":""},{"$f":"IF('Terugvordering reiskosten OAH'!D273=\"\",\"\",TEXT('Terugvordering reiskosten OAH'!D273,\"mm-jjjj\"))","v":""},{"$f":"IF('Terugvordering reiskosten OAH'!H273=\"\",\"\",'Terugvordering reiskosten OAH'!H273)","v":""},{"$f":"IF('Terugvordering reiskosten OAH'!R273=\"\",\"\",'Terugvordering reiskosten OAH'!R273)","v":""},{"$f":"IF('Terugvordering reiskosten OAH'!X273=\"\",\"\",'Terugvordering reiskosten OAH'!X273)","v":""},{"$f":"IF('Terugvordering reiskosten OAH'!AJ273=\"\",\"\",'Terugvordering reiskosten OAH'!AJ273)","v":""},{"$f":"IF('Terugvordering reiskosten OAH'!AR273=\"\",\"\",'Terugvordering reiskosten OAH'!AR273)","v":""},{"$f":"IF('Terugvordering reiskosten OAH'!AY273=\"\",\"\",'Terugvordering reiskosten OAH'!AY273)","v":""},{"$f":"IF('Terugvordering reiskosten OAH'!BC273=0,\"\",'Terugvordering reiskosten OAH'!BC273)","v":""},{"$f":"IF('Terugvordering reiskosten OAH'!BK273=0,\"\",'Terugvordering reiskosten OAH'!BK273)","v":""},{"$f":"IF('Terugvordering reiskosten OAH'!BR273=0,\"\",'Terugvordering reiskosten OAH'!BR273)","v":""},{"$f":"IF('Terugvordering reiskosten OAH'!BZ273=0,\"\",'Terugvordering reiskosten OAH'!BZ273)","v":""},{"$f":"IF('Terugvordering reiskosten OAH'!CG273=\"\",\"\",'Terugvordering reiskosten OAH'!CG273)","v":""},{"$f":"IF('Terugvordering reiskosten OAH'!CM273=0,\"\",'Terugvordering reiskosten OAH'!CM273)","v":""}]
[{"$f":"IF('Terugvordering reiskosten OAH'!D274=\"\",\"\",IF('Terugvordering reiskosten OAH'!$T$36=\"\",\"\",'Terugvordering reiskosten OAH'!$T$36))","v":""},{"$f":"IF(A202=\"\",\"\",'Terugvordering reiskosten OAH'!$T$38)","v":""},{"$f":"IF(A202=\"\",\"\",'gegevensblad samenvatting vord.'!$C$2)","v":""},{"$f":"IF('Terugvordering reiskosten OAH'!D274=\"\",\"\",TEXT('Terugvordering reiskosten OAH'!D274,\"mm-jjjj\"))","v":""},{"$f":"IF('Terugvordering reiskosten OAH'!H274=\"\",\"\",'Terugvordering reiskosten OAH'!H274)","v":""},{"$f":"IF('Terugvordering reiskosten OAH'!R274=\"\",\"\",'Terugvordering reiskosten OAH'!R274)","v":""},{"$f":"IF('Terugvordering reiskosten OAH'!X274=\"\",\"\",'Terugvordering reiskosten OAH'!X274)","v":""},{"$f":"IF('Terugvordering reiskosten OAH'!AJ274=\"\",\"\",'Terugvordering reiskosten OAH'!AJ274)","v":""},{"$f":"IF('Terugvordering reiskosten OAH'!AR274=\"\",\"\",'Terugvordering reiskosten OAH'!AR274)","v":""},{"$f":"IF('Terugvordering reiskosten OAH'!AY274=\"\",\"\",'Terugvordering reiskosten OAH'!AY274)","v":""},{"$f":"IF('Terugvordering reiskosten OAH'!BC274=0,\"\",'Terugvordering reiskosten OAH'!BC274)","v":""},{"$f":"IF('Terugvordering reiskosten OAH'!BK274=0,\"\",'Terugvordering reiskosten OAH'!BK274)","v":""},{"$f":"IF('Terugvordering reiskosten OAH'!BR274=0,\"\",'Terugvordering reiskosten OAH'!BR274)","v":""},{"$f":"IF('Terugvordering reiskosten OAH'!BZ274=0,\"\",'Terugvordering reiskosten OAH'!BZ274)","v":""},{"$f":"IF('Terugvordering reiskosten OAH'!CG274=\"\",\"\",'Terugvordering reiskosten OAH'!CG274)","v":""},{"$f":"IF('Terugvordering reiskosten OAH'!CM274=0,\"\",'Terugvordering reiskosten OAH'!CM274)","v":""}]
[{"$f":"IF('Terugvordering reiskosten OAH'!D275=\"\",\"\",IF('Terugvordering reiskosten OAH'!$T$36=\"\",\"\",'Terugvordering reiskosten OAH'!$T$36))","v":""},{"$f":"IF(A203=\"\",\"\",'Terugvordering reiskosten OAH'!$T$38)","v":""},{"$f":"IF(A203=\"\",\"\",'gegevensblad samenvatting vord.'!$C$2)","v":""},{"$f":"IF('Terugvordering reiskosten OAH'!D275=\"\",\"\",TEXT('Terugvordering reiskosten OAH'!D275,\"mm-jjjj\"))","v":""},{"$f":"IF('Terugvordering reiskosten OAH'!H275=\"\",\"\",'Terugvordering reiskosten OAH'!H275)","v":""},{"$f":"IF('Terugvordering reiskosten OAH'!R275=\"\",\"\",'Terugvordering reiskosten OAH'!R275)","v":""},{"$f":"IF('Terugvordering reiskosten OAH'!X275=\"\",\"\",'Terugvordering reiskosten OAH'!X275)","v":""},{"$f":"IF('Terugvordering reiskosten OAH'!AJ275=\"\",\"\",'Terugvordering reiskosten OAH'!AJ275)","v":""},{"$f":"IF('Terugvordering reiskosten OAH'!AR275=\"\",\"\",'Terugvordering reiskosten OAH'!AR275)","v":""},{"$f":"IF('Terugvordering reiskosten OAH'!AY275=\"\",\"\",'Terugvordering reiskosten OAH'!AY275)","v":""},{"$f":"IF('Terugvordering reiskosten OAH'!BC275=0,\"\",'Terugvordering reiskosten OAH'!BC275)","v":""},{"$f":"IF('Terugvordering reiskosten OAH'!BK275=0,\"\",'Terugvordering reiskosten OAH'!BK275)","v":""},{"$f":"IF('Terugvordering reiskosten OAH'!BR275=0,\"\",'Terugvordering reiskosten OAH'!BR275)","v":""},{"$f":"IF('Terugvordering reiskosten OAH'!BZ275=0,\"\",'Terugvordering reiskosten OAH'!BZ275)","v":""},{"$f":"IF('Terugvordering reiskosten OAH'!CG275=\"\",\"\",'Terugvordering reiskosten OAH'!CG275)","v":""},{"$f":"IF('Terugvordering reiskosten OAH'!CM275=0,\"\",'Terugvordering reiskosten OAH'!CM275)","v":""}]
[{"$f":"IF('Terugvordering reiskosten OAH'!D276=\"\",\"\",IF('Terugvordering reiskosten OAH'!$T$36=\"\",\"\",'Terugvordering reiskosten OAH'!$T$36))","v":""},{"$f":"IF(A204=\"\",\"\",'Terugvordering reiskosten OAH'!$T$38)","v":""},{"$f":"IF(A204=\"\",\"\",'gegevensblad samenvatting vord.'!$C$2)","v":""},{"$f":"IF('Terugvordering reiskosten OAH'!D276=\"\",\"\",TEXT('Terugvordering reiskosten OAH'!D276,\"mm-jjjj\"))","v":""},{"$f":"IF('Terugvordering reiskosten OAH'!H276=\"\",\"\",'Terugvordering reiskosten OAH'!H276)","v":""},{"$f":"IF('Terugvordering reiskosten OAH'!R276=\"\",\"\",'Terugvordering reiskosten OAH'!R276)","v":""},{"$f":"IF('Terugvordering reiskosten OAH'!X276=\"\",\"\",'Terugvordering reiskosten OAH'!X276)","v":""},{"$f":"IF('Terugvordering reiskosten OAH'!AJ276=\"\",\"\",'Terugvordering reiskosten OAH'!AJ276)","v":""},{"$f":"IF('Terugvordering reiskosten OAH'!AR276=\"\",\"\",'Terugvordering reiskosten OAH'!AR276)","v":""},{"$f":"IF('Terugvordering reiskosten OAH'!AY276=\"\",\"\",'Terugvordering reiskosten OAH'!AY276)","v":""},{"$f":"IF('Terugvordering reiskosten OAH'!BC276=0,\"\",'Terugvordering reiskosten OAH'!BC276)","v":""},{"$f":"IF('Terugvordering reiskosten OAH'!BK276=0,\"\",'Terugvordering reiskosten OAH'!BK276)","v":""},{"$f":"IF('Terugvordering reiskosten OAH'!BR276=0,\"\",'Terugvordering reiskosten OAH'!BR276)","v":""},{"$f":"IF('Terugvordering reiskosten OAH'!BZ276=0,\"\",'Terugvordering reiskosten OAH'!BZ276)","v":""},{"$f":"IF('Terugvordering reiskosten OAH'!CG276=\"\",\"\",'Terugvordering reiskosten OAH'!CG276)","v":""},{"$f":"IF('Terugvordering reiskosten OAH'!CM276=0,\"\",'Terugvordering reiskosten OAH'!CM276)","v":""}]
[{"$f":"IF('Terugvordering reiskosten OAH'!D277=\"\",\"\",IF('Terugvordering reiskosten OAH'!$T$36=\"\",\"\",'Terugvordering reiskosten OAH'!$T$36))","v":""},{"$f":"IF(A205=\"\",\"\",'Terugvordering reiskosten OAH'!$T$38)","v":""},{"$f":"IF(A205=\"\",\"\",'gegevensblad samenvatting vord.'!$C$2)","v":""},{"$f":"IF('Terugvordering reiskosten OAH'!D277=\"\",\"\",TEXT('Terugvordering reiskosten OAH'!D277,\"mm-jjjj\"))","v":""},{"$f":"IF('Terugvordering reiskosten OAH'!H277=\"\",\"\",'Terugvordering reiskosten OAH'!H277)","v":""},{"$f":"IF('Terugvordering reiskosten OAH'!R277=\"\",\"\",'Terugvordering reiskosten OAH'!R277)","v":""},{"$f":"IF('Terugvordering reiskosten OAH'!X277=\"\",\"\",'Terugvordering reiskosten OAH'!X277)","v":""},{"$f":"IF('Terugvordering reiskosten OAH'!AJ277=\"\",\"\",'Terugvordering reiskosten OAH'!AJ277)","v":""},{"$f":"IF('Terugvordering reiskosten OAH'!AR277=\"\",\"\",'Terugvordering reiskosten OAH'!AR277)","v":""},{"$f":"IF('Terugvordering reiskosten OAH'!AY277=\"\",\"\",'Terugvordering reiskosten OAH'!AY277)","v":""},{"$f":"IF('Terugvordering reiskosten OAH'!BC277=0,\"\",'Terugvordering reiskosten OAH'!BC277)","v":""},{"$f":"IF('Terugvordering reiskosten OAH'!BK277=0,\"\",'Terugvordering reiskosten OAH'!BK277)","v":""},{"$f":"IF('Terugvordering reiskosten OAH'!BR277=0,\"\",'Terugvordering reiskosten OAH'!BR277)","v":""},{"$f":"IF('Terugvordering reiskosten OAH'!BZ277=0,\"\",'Terugvordering reiskosten OAH'!BZ277)","v":""},{"$f":"IF('Terugvordering reiskosten OAH'!CG277=\"\",\"\",'Terugvordering reiskosten OAH'!CG277)","v":""},{"$f":"IF('Terugvordering reiskosten OAH'!CM277=0,\"\",'Terugvordering reiskosten OAH'!CM277)","v":""}]
[{"$f":"IF('Terugvordering reiskosten OAH'!D278=\"\",\"\",IF('Terugvordering reiskosten OAH'!$T$36=\"\",\"\",'Terugvordering reiskosten OAH'!$T$36))","v":""},{"$f":"IF(A206=\"\",\"\",'Terugvordering reiskosten OAH'!$T$38)","v":""},{"$f":"IF(A206=\"\",\"\",'gegevensblad samenvatting vord.'!$C$2)","v":""},{"$f":"IF('Terugvordering reiskosten OAH'!D278=\"\",\"\",TEXT('Terugvordering reiskosten OAH'!D278,\"mm-jjjj\"))","v":""},{"$f":"IF('Terugvordering reiskosten OAH'!H278=\"\",\"\",'Terugvordering reiskosten OAH'!H278)","v":""},{"$f":"IF('Terugvordering reiskosten OAH'!R278=\"\",\"\",'Terugvordering reiskosten OAH'!R278)","v":""},{"$f":"IF('Terugvordering reiskosten OAH'!X278=\"\",\"\",'Terugvordering reiskosten OAH'!X278)","v":""},{"$f":"IF('Terugvordering reiskosten OAH'!AJ278=\"\",\"\",'Terugvordering reiskosten OAH'!AJ278)","v":""},{"$f":"IF('Terugvordering reiskosten OAH'!AR278=\"\",\"\",'Terugvordering reiskosten OAH'!AR278)","v":""},{"$f":"IF('Terugvordering reiskosten OAH'!AY278=\"\",\"\",'Terugvordering reiskosten OAH'!AY278)","v":""},{"$f":"IF('Terugvordering reiskosten OAH'!BC278=0,\"\",'Terugvordering reiskosten OAH'!BC278)","v":""},{"$f":"IF('Terugvordering reiskosten OAH'!BK278=0,\"\",'Terugvordering reiskosten OAH'!BK278)","v":""},{"$f":"IF('Terugvordering reiskosten OAH'!BR278=0,\"\",'Terugvordering reiskosten OAH'!BR278)","v":""},{"$f":"IF('Terugvordering reiskosten OAH'!BZ278=0,\"\",'Terugvordering reiskosten OAH'!BZ278)","v":""},{"$f":"IF('Terugvordering reiskosten OAH'!CG278=\"\",\"\",'Terugvordering reiskosten OAH'!CG278)","v":""},{"$f":"IF('Terugvordering reiskosten OAH'!CM278=0,\"\",'Terugvordering reiskosten OAH'!CM278)","v":""}]
[{"$f":"IF('Terugvordering reiskosten OAH'!D279=\"\",\"\",IF('Terugvordering reiskosten OAH'!$T$36=\"\",\"\",'Terugvordering reiskosten OAH'!$T$36))","v":""},{"$f":"IF(A207=\"\",\"\",'Terugvordering reiskosten OAH'!$T$38)","v":""},{"$f":"IF(A207=\"\",\"\",'gegevensblad samenvatting vord.'!$C$2)","v":""},{"$f":"IF('Terugvordering reiskosten OAH'!D279=\"\",\"\",TEXT('Terugvordering reiskosten OAH'!D279,\"mm-jjjj\"))","v":""},{"$f":"IF('Terugvordering reiskosten OAH'!H279=\"\",\"\",'Terugvordering reiskosten OAH'!H279)","v":""},{"$f":"IF('Terugvordering reiskosten OAH'!R279=\"\",\"\",'Terugvordering reiskosten OAH'!R279)","v":""},{"$f":"IF('Terugvordering reiskosten OAH'!X279=\"\",\"\",'Terugvordering reiskosten OAH'!X279)","v":""},{"$f":"IF('Terugvordering reiskosten OAH'!AJ279=\"\",\"\",'Terugvordering reiskosten OAH'!AJ279)","v":""},{"$f":"IF('Terugvordering reiskosten OAH'!AR279=\"\",\"\",'Terugvordering reiskosten OAH'!AR279)","v":""},{"$f":"IF('Terugvordering reiskosten OAH'!AY279=\"\",\"\",'Terugvordering reiskosten OAH'!AY279)","v":""},{"$f":"IF('Terugvordering reiskosten OAH'!BC279=0,\"\",'Terugvordering reiskosten OAH'!BC279)","v":""},{"$f":"IF('Terugvordering reiskosten OAH'!BK279=0,\"\",'Terugvordering reiskosten OAH'!BK279)","v":""},{"$f":"IF('Terugvordering reiskosten OAH'!BR279=0,\"\",'Terugvordering reiskosten OAH'!BR279)","v":""},{"$f":"IF('Terugvordering reiskosten OAH'!BZ279=0,\"\",'Terugvordering reiskosten OAH'!BZ279)","v":""},{"$f":"IF('Terugvordering reiskosten OAH'!CG279=\"\",\"\",'Terugvordering reiskosten OAH'!CG279)","v":""},{"$f":"IF('Terugvordering reiskosten OAH'!CM279=0,\"\",'Terugvordering reiskosten OAH'!CM279)","v":""}]
[{"$f":"IF('Terugvordering reiskosten OAH'!D280=\"\",\"\",IF('Terugvordering reiskosten OAH'!$T$36=\"\",\"\",'Terugvordering reiskosten OAH'!$T$36))","v":""},{"$f":"IF(A208=\"\",\"\",'Terugvordering reiskosten OAH'!$T$38)","v":""},{"$f":"IF(A208=\"\",\"\",'gegevensblad samenvatting vord.'!$C$2)","v":""},{"$f":"IF('Terugvordering reiskosten OAH'!D280=\"\",\"\",TEXT('Terugvordering reiskosten OAH'!D280,\"mm-jjjj\"))","v":""},{"$f":"IF('Terugvordering reiskosten OAH'!H280=\"\",\"\",'Terugvordering reiskosten OAH'!H280)","v":""},{"$f":"IF('Terugvordering reiskosten OAH'!R280=\"\",\"\",'Terugvordering reiskosten OAH'!R280)","v":""},{"$f":"IF('Terugvordering reiskosten OAH'!X280=\"\",\"\",'Terugvordering reiskosten OAH'!X280)","v":""},{"$f":"IF('Terugvordering reiskosten OAH'!AJ280=\"\",\"\",'Terugvordering reiskosten OAH'!AJ280)","v":""},{"$f":"IF('Terugvordering reiskosten OAH'!AR280=\"\",\"\",'Terugvordering reiskosten OAH'!AR280)","v":""},{"$f":"IF('Terugvordering reiskosten OAH'!AY280=\"\",\"\",'Terugvordering reiskosten OAH'!AY280)","v":""},{"$f":"IF('Terugvordering reiskosten OAH'!BC280=0,\"\",'Terugvordering reiskosten OAH'!BC280)","v":""},{"$f":"IF('Terugvordering reiskosten OAH'!BK280=0,\"\",'Terugvordering reiskosten OAH'!BK280)","v":""},{"$f":"IF('Terugvordering reiskosten OAH'!BR280=0,\"\",'Terugvordering reiskosten OAH'!BR280)","v":""},{"$f":"IF('Terugvordering reiskosten OAH'!BZ280=0,\"\",'Terugvordering reiskosten OAH'!BZ280)","v":""},{"$f":"IF('Terugvordering reiskosten OAH'!CG280=\"\",\"\",'Terugvordering reiskosten OAH'!CG280)","v":""},{"$f":"IF('Terugvordering reiskosten OAH'!CM280=0,\"\",'Terugvordering reiskosten OAH'!CM280)","v":""}]
[{"$f":"IF('Terugvordering reiskosten OAH'!D281=\"\",\"\",IF('Terugvordering reiskosten OAH'!$T$36=\"\",\"\",'Terugvordering reiskosten OAH'!$T$36))","v":""},{"$f":"IF(A209=\"\",\"\",'Terugvordering reiskosten OAH'!$T$38)","v":""},{"$f":"IF(A209=\"\",\"\",'gegevensblad samenvatting vord.'!$C$2)","v":""},{"$f":"IF('Terugvordering reiskosten OAH'!D281=\"\",\"\",TEXT('Terugvordering reiskosten OAH'!D281,\"mm-jjjj\"))","v":""},{"$f":"IF('Terugvordering reiskosten OAH'!H281=\"\",\"\",'Terugvordering reiskosten OAH'!H281)","v":""},{"$f":"IF('Terugvordering reiskosten OAH'!R281=\"\",\"\",'Terugvordering reiskosten OAH'!R281)","v":""},{"$f":"IF('Terugvordering reiskosten OAH'!X281=\"\",\"\",'Terugvordering reiskosten OAH'!X281)","v":""},{"$f":"IF('Terugvordering reiskosten OAH'!AJ281=\"\",\"\",'Terugvordering reiskosten OAH'!AJ281)","v":""},{"$f":"IF('Terugvordering reiskosten OAH'!AR281=\"\",\"\",'Terugvordering reiskosten OAH'!AR281)","v":""},{"$f":"IF('Terugvordering reiskosten OAH'!AY281=\"\",\"\",'Terugvordering reiskosten OAH'!AY281)","v":""},{"$f":"IF('Terugvordering reiskosten OAH'!BC281=0,\"\",'Terugvordering reiskosten OAH'!BC281)","v":""},{"$f":"IF('Terugvordering reiskosten OAH'!BK281=0,\"\",'Terugvordering reiskosten OAH'!BK281)","v":""},{"$f":"IF('Terugvordering reiskosten OAH'!BR281=0,\"\",'Terugvordering reiskosten OAH'!BR281)","v":""},{"$f":"IF('Terugvordering reiskosten OAH'!BZ281=0,\"\",'Terugvordering reiskosten OAH'!BZ281)","v":""},{"$f":"IF('Terugvordering reiskosten OAH'!CG281=\"\",\"\",'Terugvordering reiskosten OAH'!CG281)","v":""},{"$f":"IF('Terugvordering reiskosten OAH'!CM281=0,\"\",'Terugvordering reiskosten OAH'!CM281)","v":""}]
[{"$f":"IF('Terugvordering reiskosten OAH'!D282=\"\",\"\",IF('Terugvordering reiskosten OAH'!$T$36=\"\",\"\",'Terugvordering reiskosten OAH'!$T$36))","v":""},{"$f":"IF(A210=\"\",\"\",'Terugvordering reiskosten OAH'!$T$38)","v":""},{"$f":"IF(A210=\"\",\"\",'gegevensblad samenvatting vord.'!$C$2)","v":""},{"$f":"IF('Terugvordering reiskosten OAH'!D282=\"\",\"\",TEXT('Terugvordering reiskosten OAH'!D282,\"mm-jjjj\"))","v":""},{"$f":"IF('Terugvordering reiskosten OAH'!H282=\"\",\"\",'Terugvordering reiskosten OAH'!H282)","v":""},{"$f":"IF('Terugvordering reiskosten OAH'!R282=\"\",\"\",'Terugvordering reiskosten OAH'!R282)","v":""},{"$f":"IF('Terugvordering reiskosten OAH'!X282=\"\",\"\",'Terugvordering reiskosten OAH'!X282)","v":""},{"$f":"IF('Terugvordering reiskosten OAH'!AJ282=\"\",\"\",'Terugvordering reiskosten OAH'!AJ282)","v":""},{"$f":"IF('Terugvordering reiskosten OAH'!AR282=\"\",\"\",'Terugvordering reiskosten OAH'!AR282)","v":""},{"$f":"IF('Terugvordering reiskosten OAH'!AY282=\"\",\"\",'Terugvordering reiskosten OAH'!AY282)","v":""},{"$f":"IF('Terugvordering reiskosten OAH'!BC282=0,\"\",'Terugvordering reiskosten OAH'!BC282)","v":""},{"$f":"IF('Terugvordering reiskosten OAH'!BK282=0,\"\",'Terugvordering reiskosten OAH'!BK282)","v":""},{"$f":"IF('Terugvordering reiskosten OAH'!BR282=0,\"\",'Terugvordering reiskosten OAH'!BR282)","v":""},{"$f":"IF('Terugvordering reiskosten OAH'!BZ282=0,\"\",'Terugvordering reiskosten OAH'!BZ282)","v":""},{"$f":"IF('Terugvordering reiskosten OAH'!CG282=\"\",\"\",'Terugvordering reiskosten OAH'!CG282)","v":""},{"$f":"IF('Terugvordering reiskosten OAH'!CM282=0,\"\",'Terugvordering reiskosten OAH'!CM282)","v":""}]
[{"$f":"IF('Terugvordering reiskosten OAH'!D283=\"\",\"\",IF('Terugvordering reiskosten OAH'!$T$36=\"\",\"\",'Terugvordering reiskosten OAH'!$T$36))","v":""},{"$f":"IF(A211=\"\",\"\",'Terugvordering reiskosten OAH'!$T$38)","v":""},{"$f":"IF(A211=\"\",\"\",'gegevensblad samenvatting vord.'!$C$2)","v":""},{"$f":"IF('Terugvordering reiskosten OAH'!D283=\"\",\"\",TEXT('Terugvordering reiskosten OAH'!D283,\"mm-jjjj\"))","v":""},{"$f":"IF('Terugvordering reiskosten OAH'!H283=\"\",\"\",'Terugvordering reiskosten OAH'!H283)","v":""},{"$f":"IF('Terugvordering reiskosten OAH'!R283=\"\",\"\",'Terugvordering reiskosten OAH'!R283)","v":""},{"$f":"IF('Terugvordering reiskosten OAH'!X283=\"\",\"\",'Terugvordering reiskosten OAH'!X283)","v":""},{"$f":"IF('Terugvordering reiskosten OAH'!AJ283=\"\",\"\",'Terugvordering reiskosten OAH'!AJ283)","v":""},{"$f":"IF('Terugvordering reiskosten OAH'!AR283=\"\",\"\",'Terugvordering reiskosten OAH'!AR283)","v":""},{"$f":"IF('Terugvordering reiskosten OAH'!AY283=\"\",\"\",'Terugvordering reiskosten OAH'!AY283)","v":""},{"$f":"IF('Terugvordering reiskosten OAH'!BC283=0,\"\",'Terugvordering reiskosten OAH'!BC283)","v":""},{"$f":"IF('Terugvordering reiskosten OAH'!BK283=0,\"\",'Terugvordering reiskosten OAH'!BK283)","v":""},{"$f":"IF('Terugvordering reiskosten OAH'!BR283=0,\"\",'Terugvordering reiskosten OAH'!BR283)","v":""},{"$f":"IF('Terugvordering reiskosten OAH'!BZ283=0,\"\",'Terugvordering reiskosten OAH'!BZ283)","v":""},{"$f":"IF('Terugvordering reiskosten OAH'!CG283=\"\",\"\",'Terugvordering reiskosten OAH'!CG283)","v":""},{"$f":"IF('Terugvordering reiskosten OAH'!CM283=0,\"\",'Terugvordering reiskosten OAH'!CM283)","v":""}]
[{"$f":"IF('Terugvordering reiskosten OAH'!D284=\"\",\"\",IF('Terugvordering reiskosten OAH'!$T$36=\"\",\"\",'Terugvordering reiskosten OAH'!$T$36))","v":""},{"$f":"IF(A212=\"\",\"\",'Terugvordering reiskosten OAH'!$T$38)","v":""},{"$f":"IF(A212=\"\",\"\",'gegevensblad samenvatting vord.'!$C$2)","v":""},{"$f":"IF('Terugvordering reiskosten OAH'!D284=\"\",\"\",TEXT('Terugvordering reiskosten OAH'!D284,\"mm-jjjj\"))","v":""},{"$f":"IF('Terugvordering reiskosten OAH'!H284=\"\",\"\",'Terugvordering reiskosten OAH'!H284)","v":""},{"$f":"IF('Terugvordering reiskosten OAH'!R284=\"\",\"\",'Terugvordering reiskosten OAH'!R284)","v":""},{"$f":"IF('Terugvordering reiskosten OAH'!X284=\"\",\"\",'Terugvordering reiskosten OAH'!X284)","v":""},{"$f":"IF('Terugvordering reiskosten OAH'!AJ284=\"\",\"\",'Terugvordering reiskosten OAH'!AJ284)","v":""},{"$f":"IF('Terugvordering reiskosten OAH'!AR284=\"\",\"\",'Terugvordering reiskosten OAH'!AR284)","v":""},{"$f":"IF('Terugvordering reiskosten OAH'!AY284=\"\",\"\",'Terugvordering reiskosten OAH'!AY284)","v":""},{"$f":"IF('Terugvordering reiskosten OAH'!BC284=0,\"\",'Terugvordering reiskosten OAH'!BC284)","v":""},{"$f":"IF('Terugvordering reiskosten OAH'!BK284=0,\"\",'Terugvordering reiskosten OAH'!BK284)","v":""},{"$f":"IF('Terugvordering reiskosten OAH'!BR284=0,\"\",'Terugvordering reiskosten OAH'!BR284)","v":""},{"$f":"IF('Terugvordering reiskosten OAH'!BZ284=0,\"\",'Terugvordering reiskosten OAH'!BZ284)","v":""},{"$f":"IF('Terugvordering reiskosten OAH'!CG284=\"\",\"\",'Terugvordering reiskosten OAH'!CG284)","v":""},{"$f":"IF('Terugvordering reiskosten OAH'!CM284=0,\"\",'Terugvordering reiskosten OAH'!CM284)","v":""}]
[{"$f":"IF('Terugvordering reiskosten OAH'!D285=\"\",\"\",IF('Terugvordering reiskosten OAH'!$T$36=\"\",\"\",'Terugvordering reiskosten OAH'!$T$36))","v":""},{"$f":"IF(A213=\"\",\"\",'Terugvordering reiskosten OAH'!$T$38)","v":""},{"$f":"IF(A213=\"\",\"\",'gegevensblad samenvatting vord.'!$C$2)","v":""},{"$f":"IF('Terugvordering reiskosten OAH'!D285=\"\",\"\",TEXT('Terugvordering reiskosten OAH'!D285,\"mm-jjjj\"))","v":""},{"$f":"IF('Terugvordering reiskosten OAH'!H285=\"\",\"\",'Terugvordering reiskosten OAH'!H285)","v":""},{"$f":"IF('Terugvordering reiskosten OAH'!R285=\"\",\"\",'Terugvordering reiskosten OAH'!R285)","v":""},{"$f":"IF('Terugvordering reiskosten OAH'!X285=\"\",\"\",'Terugvordering reiskosten OAH'!X285)","v":""},{"$f":"IF('Terugvordering reiskosten OAH'!AJ285=\"\",\"\",'Terugvordering reiskosten OAH'!AJ285)","v":""},{"$f":"IF('Terugvordering reiskosten OAH'!AR285=\"\",\"\",'Terugvordering reiskosten OAH'!AR285)","v":""},{"$f":"IF('Terugvordering reiskosten OAH'!AY285=\"\",\"\",'Terugvordering reiskosten OAH'!AY285)","v":""},{"$f":"IF('Terugvordering reiskosten OAH'!BC285=0,\"\",'Terugvordering reiskosten OAH'!BC285)","v":""},{"$f":"IF('Terugvordering reiskosten OAH'!BK285=0,\"\",'Terugvordering reiskosten OAH'!BK285)","v":""},{"$f":"IF('Terugvordering reiskosten OAH'!BR285=0,\"\",'Terugvordering reiskosten OAH'!BR285)","v":""},{"$f":"IF('Terugvordering reiskosten OAH'!BZ285=0,\"\",'Terugvordering reiskosten OAH'!BZ285)","v":""},{"$f":"IF('Terugvordering reiskosten OAH'!CG285=\"\",\"\",'Terugvordering reiskosten OAH'!CG285)","v":""},{"$f":"IF('Terugvordering reiskosten OAH'!CM285=0,\"\",'Terugvordering reiskosten OAH'!CM285)","v":""}]
[{"$f":"IF('Terugvordering reiskosten OAH'!D286=\"\",\"\",IF('Terugvordering reiskosten OAH'!$T$36=\"\",\"\",'Terugvordering reiskosten OAH'!$T$36))","v":""},{"$f":"IF(A214=\"\",\"\",'Terugvordering reiskosten OAH'!$T$38)","v":""},{"$f":"IF(A214=\"\",\"\",'gegevensblad samenvatting vord.'!$C$2)","v":""},{"$f":"IF('Terugvordering reiskosten OAH'!D286=\"\",\"\",TEXT('Terugvordering reiskosten OAH'!D286,\"mm-jjjj\"))","v":""},{"$f":"IF('Terugvordering reiskosten OAH'!H286=\"\",\"\",'Terugvordering reiskosten OAH'!H286)","v":""},{"$f":"IF('Terugvordering reiskosten OAH'!R286=\"\",\"\",'Terugvordering reiskosten OAH'!R286)","v":""},{"$f":"IF('Terugvordering reiskosten OAH'!X286=\"\",\"\",'Terugvordering reiskosten OAH'!X286)","v":""},{"$f":"IF('Terugvordering reiskosten OAH'!AJ286=\"\",\"\",'Terugvordering reiskosten OAH'!AJ286)","v":""},{"$f":"IF('Terugvordering reiskosten OAH'!AR286=\"\",\"\",'Terugvordering reiskosten OAH'!AR286)","v":""},{"$f":"IF('Terugvordering reiskosten OAH'!AY286=\"\",\"\",'Terugvordering reiskosten OAH'!AY286)","v":""},{"$f":"IF('Terugvordering reiskosten OAH'!BC286=0,\"\",'Terugvordering reiskosten OAH'!BC286)","v":""},{"$f":"IF('Terugvordering reiskosten OAH'!BK286=0,\"\",'Terugvordering reiskosten OAH'!BK286)","v":""},{"$f":"IF('Terugvordering reiskosten OAH'!BR286=0,\"\",'Terugvordering reiskosten OAH'!BR286)","v":""},{"$f":"IF('Terugvordering reiskosten OAH'!BZ286=0,\"\",'Terugvordering reiskosten OAH'!BZ286)","v":""},{"$f":"IF('Terugvordering reiskosten OAH'!CG286=\"\",\"\",'Terugvordering reiskosten OAH'!CG286)","v":""},{"$f":"IF('Terugvordering reiskosten OAH'!CM286=0,\"\",'Terugvordering reiskosten OAH'!CM286)","v":""}]
[{"$f":"IF('Terugvordering reiskosten OAH'!D287=\"\",\"\",IF('Terugvordering reiskosten OAH'!$T$36=\"\",\"\",'Terugvordering reiskosten OAH'!$T$36))","v":""},{"$f":"IF(A215=\"\",\"\",'Terugvordering reiskosten OAH'!$T$38)","v":""},{"$f":"IF(A215=\"\",\"\",'gegevensblad samenvatting vord.'!$C$2)","v":""},{"$f":"IF('Terugvordering reiskosten OAH'!D287=\"\",\"\",TEXT('Terugvordering reiskosten OAH'!D287,\"mm-jjjj\"))","v":""},{"$f":"IF('Terugvordering reiskosten OAH'!H287=\"\",\"\",'Terugvordering reiskosten OAH'!H287)","v":""},{"$f":"IF('Terugvordering reiskosten OAH'!R287=\"\",\"\",'Terugvordering reiskosten OAH'!R287)","v":""},{"$f":"IF('Terugvordering reiskosten OAH'!X287=\"\",\"\",'Terugvordering reiskosten OAH'!X287)","v":""},{"$f":"IF('Terugvordering reiskosten OAH'!AJ287=\"\",\"\",'Terugvordering reiskosten OAH'!AJ287)","v":""},{"$f":"IF('Terugvordering reiskosten OAH'!AR287=\"\",\"\",'Terugvordering reiskosten OAH'!AR287)","v":""},{"$f":"IF('Terugvordering reiskosten OAH'!AY287=\"\",\"\",'Terugvordering reiskosten OAH'!AY287)","v":""},{"$f":"IF('Terugvordering reiskosten OAH'!BC287=0,\"\",'Terugvordering reiskosten OAH'!BC287)","v":""},{"$f":"IF('Terugvordering reiskosten OAH'!BK287=0,\"\",'Terugvordering reiskosten OAH'!BK287)","v":""},{"$f":"IF('Terugvordering reiskosten OAH'!BR287=0,\"\",'Terugvordering reiskosten OAH'!BR287)","v":""},{"$f":"IF('Terugvordering reiskosten OAH'!BZ287=0,\"\",'Terugvordering reiskosten OAH'!BZ287)","v":""},{"$f":"IF('Terugvordering reiskosten OAH'!CG287=\"\",\"\",'Terugvordering reiskosten OAH'!CG287)","v":""},{"$f":"IF('Terugvordering reiskosten OAH'!CM287=0,\"\",'Terugvordering reiskosten OAH'!CM287)","v":""}]
[{"$f":"IF('Terugvordering reiskosten OAH'!D288=\"\",\"\",IF('Terugvordering reiskosten OAH'!$T$36=\"\",\"\",'Terugvordering reiskosten OAH'!$T$36))","v":""},{"$f":"IF(A216=\"\",\"\",'Terugvordering reiskosten OAH'!$T$38)","v":""},{"$f":"IF(A216=\"\",\"\",'gegevensblad samenvatting vord.'!$C$2)","v":""},{"$f":"IF('Terugvordering reiskosten OAH'!D288=\"\",\"\",TEXT('Terugvordering reiskosten OAH'!D288,\"mm-jjjj\"))","v":""},{"$f":"IF('Terugvordering reiskosten OAH'!H288=\"\",\"\",'Terugvordering reiskosten OAH'!H288)","v":""},{"$f":"IF('Terugvordering reiskosten OAH'!R288=\"\",\"\",'Terugvordering reiskosten OAH'!R288)","v":""},{"$f":"IF('Terugvordering reiskosten OAH'!X288=\"\",\"\",'Terugvordering reiskosten OAH'!X288)","v":""},{"$f":"IF('Terugvordering reiskosten OAH'!AJ288=\"\",\"\",'Terugvordering reiskosten OAH'!AJ288)","v":""},{"$f":"IF('Terugvordering reiskosten OAH'!AR288=\"\",\"\",'Terugvordering reiskosten OAH'!AR288)","v":""},{"$f":"IF('Terugvordering reiskosten OAH'!AY288=\"\",\"\",'Terugvordering reiskosten OAH'!AY288)","v":""},{"$f":"IF('Terugvordering reiskosten OAH'!BC288=0,\"\",'Terugvordering reiskosten OAH'!BC288)","v":""},{"$f":"IF('Terugvordering reiskosten OAH'!BK288=0,\"\",'Terugvordering reiskosten OAH'!BK288)","v":""},{"$f":"IF('Terugvordering reiskosten OAH'!BR288=0,\"\",'Terugvordering reiskosten OAH'!BR288)","v":""},{"$f":"IF('Terugvordering reiskosten OAH'!BZ288=0,\"\",'Terugvordering reiskosten OAH'!BZ288)","v":""},{"$f":"IF('Terugvordering reiskosten OAH'!CG288=\"\",\"\",'Terugvordering reiskosten OAH'!CG288)","v":""},{"$f":"IF('Terugvordering reiskosten OAH'!CM288=0,\"\",'Terugvordering reiskosten OAH'!CM288)","v":""}]
[{"$f":"IF('Terugvordering reiskosten OAH'!D289=\"\",\"\",IF('Terugvordering reiskosten OAH'!$T$36=\"\",\"\",'Terugvordering reiskosten OAH'!$T$36))","v":""},{"$f":"IF(A217=\"\",\"\",'Terugvordering reiskosten OAH'!$T$38)","v":""},{"$f":"IF(A217=\"\",\"\",'gegevensblad samenvatting vord.'!$C$2)","v":""},{"$f":"IF('Terugvordering reiskosten OAH'!D289=\"\",\"\",TEXT('Terugvordering reiskosten OAH'!D289,\"mm-jjjj\"))","v":""},{"$f":"IF('Terugvordering reiskosten OAH'!H289=\"\",\"\",'Terugvordering reiskosten OAH'!H289)","v":""},{"$f":"IF('Terugvordering reiskosten OAH'!R289=\"\",\"\",'Terugvordering reiskosten OAH'!R289)","v":""},{"$f":"IF('Terugvordering reiskosten OAH'!X289=\"\",\"\",'Terugvordering reiskosten OAH'!X289)","v":""},{"$f":"IF('Terugvordering reiskosten OAH'!AJ289=\"\",\"\",'Terugvordering reiskosten OAH'!AJ289)","v":""},{"$f":"IF('Terugvordering reiskosten OAH'!AR289=\"\",\"\",'Terugvordering reiskosten OAH'!AR289)","v":""},{"$f":"IF('Terugvordering reiskosten OAH'!AY289=\"\",\"\",'Terugvordering reiskosten OAH'!AY289)","v":""},{"$f":"IF('Terugvordering reiskosten OAH'!BC289=0,\"\",'Terugvordering reiskosten OAH'!BC289)","v":""},{"$f":"IF('Terugvordering reiskosten OAH'!BK289=0,\"\",'Terugvordering reiskosten OAH'!BK289)","v":""},{"$f":"IF('Terugvordering reiskosten OAH'!BR289=0,\"\",'Terugvordering reiskosten OAH'!BR289)","v":""},{"$f":"IF('Terugvordering reiskosten OAH'!BZ289=0,\"\",'Terugvordering reiskosten OAH'!BZ289)","v":""},{"$f":"IF('Terugvordering reiskosten OAH'!CG289=\"\",\"\",'Terugvordering reiskosten OAH'!CG289)","v":""},{"$f":"IF('Terugvordering reiskosten OAH'!CM289=0,\"\",'Terugvordering reiskosten OAH'!CM289)","v":""}]
[{"$f":"IF('Terugvordering reiskosten OAH'!D290=\"\",\"\",IF('Terugvordering reiskosten OAH'!$T$36=\"\",\"\",'Terugvordering reiskosten OAH'!$T$36))","v":""},{"$f":"IF(A218=\"\",\"\",'Terugvordering reiskosten OAH'!$T$38)","v":""},{"$f":"IF(A218=\"\",\"\",'gegevensblad samenvatting vord.'!$C$2)","v":""},{"$f":"IF('Terugvordering reiskosten OAH'!D290=\"\",\"\",TEXT('Terugvordering reiskosten OAH'!D290,\"mm-jjjj\"))","v":""},{"$f":"IF('Terugvordering reiskosten OAH'!H290=\"\",\"\",'Terugvordering reiskosten OAH'!H290)","v":""},{"$f":"IF('Terugvordering reiskosten OAH'!R290=\"\",\"\",'Terugvordering reiskosten OAH'!R290)","v":""},{"$f":"IF('Terugvordering reiskosten OAH'!X290=\"\",\"\",'Terugvordering reiskosten OAH'!X290)","v":""},{"$f":"IF('Terugvordering reiskosten OAH'!AJ290=\"\",\"\",'Terugvordering reiskosten OAH'!AJ290)","v":""},{"$f":"IF('Terugvordering reiskosten OAH'!AR290=\"\",\"\",'Terugvordering reiskosten OAH'!AR290)","v":""},{"$f":"IF('Terugvordering reiskosten OAH'!AY290=\"\",\"\",'Terugvordering reiskosten OAH'!AY290)","v":""},{"$f":"IF('Terugvordering reiskosten OAH'!BC290=0,\"\",'Terugvordering reiskosten OAH'!BC290)","v":""},{"$f":"IF('Terugvordering reiskosten OAH'!BK290=0,\"\",'Terugvordering reiskosten OAH'!BK290)","v":""},{"$f":"IF('Terugvordering reiskosten OAH'!BR290=0,\"\",'Terugvordering reiskosten OAH'!BR290)","v":""},{"$f":"IF('Terugvordering reiskosten OAH'!BZ290=0,\"\",'Terugvordering reiskosten OAH'!BZ290)","v":""},{"$f":"IF('Terugvordering reiskosten OAH'!CG290=\"\",\"\",'Terugvordering reiskosten OAH'!CG290)","v":""},{"$f":"IF('Terugvordering reiskosten OAH'!CM290=0,\"\",'Terugvordering reiskosten OAH'!CM290)","v":""}]
[{"$f":"IF('Terugvordering reiskosten OAH'!D291=\"\",\"\",IF('Terugvordering reiskosten OAH'!$T$36=\"\",\"\",'Terugvordering reiskosten OAH'!$T$36))","v":""},{"$f":"IF(A219=\"\",\"\",'Terugvordering reiskosten OAH'!$T$38)","v":""},{"$f":"IF(A219=\"\",\"\",'gegevensblad samenvatting vord.'!$C$2)","v":""},{"$f":"IF('Terugvordering reiskosten OAH'!D291=\"\",\"\",TEXT('Terugvordering reiskosten OAH'!D291,\"mm-jjjj\"))","v":""},{"$f":"IF('Terugvordering reiskosten OAH'!H291=\"\",\"\",'Terugvordering reiskosten OAH'!H291)","v":""},{"$f":"IF('Terugvordering reiskosten OAH'!R291=\"\",\"\",'Terugvordering reiskosten OAH'!R291)","v":""},{"$f":"IF('Terugvordering reiskosten OAH'!X291=\"\",\"\",'Terugvordering reiskosten OAH'!X291)","v":""},{"$f":"IF('Terugvordering reiskosten OAH'!AJ291=\"\",\"\",'Terugvordering reiskosten OAH'!AJ291)","v":""},{"$f":"IF('Terugvordering reiskosten OAH'!AR291=\"\",\"\",'Terugvordering reiskosten OAH'!AR291)","v":""},{"$f":"IF('Terugvordering reiskosten OAH'!AY291=\"\",\"\",'Terugvordering reiskosten OAH'!AY291)","v":""},{"$f":"IF('Terugvordering reiskosten OAH'!BC291=0,\"\",'Terugvordering reiskosten OAH'!BC291)","v":""},{"$f":"IF('Terugvordering reiskosten OAH'!BK291=0,\"\",'Terugvordering reiskosten OAH'!BK291)","v":""},{"$f":"IF('Terugvordering reiskosten OAH'!BR291=0,\"\",'Terugvordering reiskosten OAH'!BR291)","v":""},{"$f":"IF('Terugvordering reiskosten OAH'!BZ291=0,\"\",'Terugvordering reiskosten OAH'!BZ291)","v":""},{"$f":"IF('Terugvordering reiskosten OAH'!CG291=\"\",\"\",'Terugvordering reiskosten OAH'!CG291)","v":""},{"$f":"IF('Terugvordering reiskosten OAH'!CM291=0,\"\",'Terugvordering reiskosten OAH'!CM291)","v":""}]
[{"$f":"IF('Terugvordering reiskosten OAH'!D292=\"\",\"\",IF('Terugvordering reiskosten OAH'!$T$36=\"\",\"\",'Terugvordering reiskosten OAH'!$T$36))","v":""},{"$f":"IF(A220=\"\",\"\",'Terugvordering reiskosten OAH'!$T$38)","v":""},{"$f":"IF(A220=\"\",\"\",'gegevensblad samenvatting vord.'!$C$2)","v":""},{"$f":"IF('Terugvordering reiskosten OAH'!D292=\"\",\"\",TEXT('Terugvordering reiskosten OAH'!D292,\"mm-jjjj\"))","v":""},{"$f":"IF('Terugvordering reiskosten OAH'!H292=\"\",\"\",'Terugvordering reiskosten OAH'!H292)","v":""},{"$f":"IF('Terugvordering reiskosten OAH'!R292=\"\",\"\",'Terugvordering reiskosten OAH'!R292)","v":""},{"$f":"IF('Terugvordering reiskosten OAH'!X292=\"\",\"\",'Terugvordering reiskosten OAH'!X292)","v":""},{"$f":"IF('Terugvordering reiskosten OAH'!AJ292=\"\",\"\",'Terugvordering reiskosten OAH'!AJ292)","v":""},{"$f":"IF('Terugvordering reiskosten OAH'!AR292=\"\",\"\",'Terugvordering reiskosten OAH'!AR292)","v":""},{"$f":"IF('Terugvordering reiskosten OAH'!AY292=\"\",\"\",'Terugvordering reiskosten OAH'!AY292)","v":""},{"$f":"IF('Terugvordering reiskosten OAH'!BC292=0,\"\",'Terugvordering reiskosten OAH'!BC292)","v":""},{"$f":"IF('Terugvordering reiskosten OAH'!BK292=0,\"\",'Terugvordering reiskosten OAH'!BK292)","v":""},{"$f":"IF('Terugvordering reiskosten OAH'!BR292=0,\"\",'Terugvordering reiskosten OAH'!BR292)","v":""},{"$f":"IF('Terugvordering reiskosten OAH'!BZ292=0,\"\",'Terugvordering reiskosten OAH'!BZ292)","v":""},{"$f":"IF('Terugvordering reiskosten OAH'!CG292=\"\",\"\",'Terugvordering reiskosten OAH'!CG292)","v":""},{"$f":"IF('Terugvordering reiskosten OAH'!CM292=0,\"\",'Terugvordering reiskosten OAH'!CM292)","v":""}]
[{"$f":"IF('Terugvordering reiskosten OAH'!D293=\"\",\"\",IF('Terugvordering reiskosten OAH'!$T$36=\"\",\"\",'Terugvordering reiskosten OAH'!$T$36))","v":""},{"$f":"IF(A221=\"\",\"\",'Terugvordering reiskosten OAH'!$T$38)","v":""},{"$f":"IF(A221=\"\",\"\",'gegevensblad samenvatting vord.'!$C$2)","v":""},{"$f":"IF('Terugvordering reiskosten OAH'!D293=\"\",\"\",TEXT('Terugvordering reiskosten OAH'!D293,\"mm-jjjj\"))","v":""},{"$f":"IF('Terugvordering reiskosten OAH'!H293=\"\",\"\",'Terugvordering reiskosten OAH'!H293)","v":""},{"$f":"IF('Terugvordering reiskosten OAH'!R293=\"\",\"\",'Terugvordering reiskosten OAH'!R293)","v":""},{"$f":"IF('Terugvordering reiskosten OAH'!X293=\"\",\"\",'Terugvordering reiskosten OAH'!X293)","v":""},{"$f":"IF('Terugvordering reiskosten OAH'!AJ293=\"\",\"\",'Terugvordering reiskosten OAH'!AJ293)","v":""},{"$f":"IF('Terugvordering reiskosten OAH'!AR293=\"\",\"\",'Terugvordering reiskosten OAH'!AR293)","v":""},{"$f":"IF('Terugvordering reiskosten OAH'!AY293=\"\",\"\",'Terugvordering reiskosten OAH'!AY293)","v":""},{"$f":"IF('Terugvordering reiskosten OAH'!BC293=0,\"\",'Terugvordering reiskosten OAH'!BC293)","v":""},{"$f":"IF('Terugvordering reiskosten OAH'!BK293=0,\"\",'Terugvordering reiskosten OAH'!BK293)","v":""},{"$f":"IF('Terugvordering reiskosten OAH'!BR293=0,\"\",'Terugvordering reiskosten OAH'!BR293)","v":""},{"$f":"IF('Terugvordering reiskosten OAH'!BZ293=0,\"\",'Terugvordering reiskosten OAH'!BZ293)","v":""},{"$f":"IF('Terugvordering reiskosten OAH'!CG293=\"\",\"\",'Terugvordering reiskosten OAH'!CG293)","v":""},{"$f":"IF('Terugvordering reiskosten OAH'!CM293=0,\"\",'Terugvordering reiskosten OAH'!CM293)","v":""}]
[{"$f":"IF('Terugvordering reiskosten OAH'!D294=\"\",\"\",IF('Terugvordering reiskosten OAH'!$T$36=\"\",\"\",'Terugvordering reiskosten OAH'!$T$36))","v":""},{"$f":"IF(A222=\"\",\"\",'Terugvordering reiskosten OAH'!$T$38)","v":""},{"$f":"IF(A222=\"\",\"\",'gegevensblad samenvatting vord.'!$C$2)","v":""},{"$f":"IF('Terugvordering reiskosten OAH'!D294=\"\",\"\",TEXT('Terugvordering reiskosten OAH'!D294,\"mm-jjjj\"))","v":""},{"$f":"IF('Terugvordering reiskosten OAH'!H294=\"\",\"\",'Terugvordering reiskosten OAH'!H294)","v":""},{"$f":"IF('Terugvordering reiskosten OAH'!R294=\"\",\"\",'Terugvordering reiskosten OAH'!R294)","v":""},{"$f":"IF('Terugvordering reiskosten OAH'!X294=\"\",\"\",'Terugvordering reiskosten OAH'!X294)","v":""},{"$f":"IF('Terugvordering reiskosten OAH'!AJ294=\"\",\"\",'Terugvordering reiskosten OAH'!AJ294)","v":""},{"$f":"IF('Terugvordering reiskosten OAH'!AR294=\"\",\"\",'Terugvordering reiskosten OAH'!AR294)","v":""},{"$f":"IF('Terugvordering reiskosten OAH'!AY294=\"\",\"\",'Terugvordering reiskosten OAH'!AY294)","v":""},{"$f":"IF('Terugvordering reiskosten OAH'!BC294=0,\"\",'Terugvordering reiskosten OAH'!BC294)","v":""},{"$f":"IF('Terugvordering reiskosten OAH'!BK294=0,\"\",'Terugvordering reiskosten OAH'!BK294)","v":""},{"$f":"IF('Terugvordering reiskosten OAH'!BR294=0,\"\",'Terugvordering reiskosten OAH'!BR294)","v":""},{"$f":"IF('Terugvordering reiskosten OAH'!BZ294=0,\"\",'Terugvordering reiskosten OAH'!BZ294)","v":""},{"$f":"IF('Terugvordering reiskosten OAH'!CG294=\"\",\"\",'Terugvordering reiskosten OAH'!CG294)","v":""},{"$f":"IF('Terugvordering reiskosten OAH'!CM294=0,\"\",'Terugvordering reiskosten OAH'!CM294)","v":""}]
[{"$f":"IF('Terugvordering reiskosten OAH'!D295=\"\",\"\",IF('Terugvordering reiskosten OAH'!$T$36=\"\",\"\",'Terugvordering reiskosten OAH'!$T$36))","v":""},{"$f":"IF(A223=\"\",\"\",'Terugvordering reiskosten OAH'!$T$38)","v":""},{"$f":"IF(A223=\"\",\"\",'gegevensblad samenvatting vord.'!$C$2)","v":""},{"$f":"IF('Terugvordering reiskosten OAH'!D295=\"\",\"\",TEXT('Terugvordering reiskosten OAH'!D295,\"mm-jjjj\"))","v":""},{"$f":"IF('Terugvordering reiskosten OAH'!H295=\"\",\"\",'Terugvordering reiskosten OAH'!H295)","v":""},{"$f":"IF('Terugvordering reiskosten OAH'!R295=\"\",\"\",'Terugvordering reiskosten OAH'!R295)","v":""},{"$f":"IF('Terugvordering reiskosten OAH'!X295=\"\",\"\",'Terugvordering reiskosten OAH'!X295)","v":""},{"$f":"IF('Terugvordering reiskosten OAH'!AJ295=\"\",\"\",'Terugvordering reiskosten OAH'!AJ295)","v":""},{"$f":"IF('Terugvordering reiskosten OAH'!AR295=\"\",\"\",'Terugvordering reiskosten OAH'!AR295)","v":""},{"$f":"IF('Terugvordering reiskosten OAH'!AY295=\"\",\"\",'Terugvordering reiskosten OAH'!AY295)","v":""},{"$f":"IF('Terugvordering reiskosten OAH'!BC295=0,\"\",'Terugvordering reiskosten OAH'!BC295)","v":""},{"$f":"IF('Terugvordering reiskosten OAH'!BK295=0,\"\",'Terugvordering reiskosten OAH'!BK295)","v":""},{"$f":"IF('Terugvordering reiskosten OAH'!BR295=0,\"\",'Terugvordering reiskosten OAH'!BR295)","v":""},{"$f":"IF('Terugvordering reiskosten OAH'!BZ295=0,\"\",'Terugvordering reiskosten OAH'!BZ295)","v":""},{"$f":"IF('Terugvordering reiskosten OAH'!CG295=\"\",\"\",'Terugvordering reiskosten OAH'!CG295)","v":""},{"$f":"IF('Terugvordering reiskosten OAH'!CM295=0,\"\",'Terugvordering reiskosten OAH'!CM295)","v":""}]
[{"$f":"IF('Terugvordering reiskosten OAH'!D296=\"\",\"\",IF('Terugvordering reiskosten OAH'!$T$36=\"\",\"\",'Terugvordering reiskosten OAH'!$T$36))","v":""},{"$f":"IF(A224=\"\",\"\",'Terugvordering reiskosten OAH'!$T$38)","v":""},{"$f":"IF(A224=\"\",\"\",'gegevensblad samenvatting vord.'!$C$2)","v":""},{"$f":"IF('Terugvordering reiskosten OAH'!D296=\"\",\"\",TEXT('Terugvordering reiskosten OAH'!D296,\"mm-jjjj\"))","v":""},{"$f":"IF('Terugvordering reiskosten OAH'!H296=\"\",\"\",'Terugvordering reiskosten OAH'!H296)","v":""},{"$f":"IF('Terugvordering reiskosten OAH'!R296=\"\",\"\",'Terugvordering reiskosten OAH'!R296)","v":""},{"$f":"IF('Terugvordering reiskosten OAH'!X296=\"\",\"\",'Terugvordering reiskosten OAH'!X296)","v":""},{"$f":"IF('Terugvordering reiskosten OAH'!AJ296=\"\",\"\",'Terugvordering reiskosten OAH'!AJ296)","v":""},{"$f":"IF('Terugvordering reiskosten OAH'!AR296=\"\",\"\",'Terugvordering reiskosten OAH'!AR296)","v":""},{"$f":"IF('Terugvordering reiskosten OAH'!AY296=\"\",\"\",'Terugvordering reiskosten OAH'!AY296)","v":""},{"$f":"IF('Terugvordering reiskosten OAH'!BC296=0,\"\",'Terugvordering reiskosten OAH'!BC296)","v":""},{"$f":"IF('Terugvordering reiskosten OAH'!BK296=0,\"\",'Terugvordering reiskosten OAH'!BK296)","v":""},{"$f":"IF('Terugvordering reiskosten OAH'!BR296=0,\"\",'Terugvordering reiskosten OAH'!BR296)","v":""},{"$f":"IF('Terugvordering reiskosten OAH'!BZ296=0,\"\",'Terugvordering reiskosten OAH'!BZ296)","v":""},{"$f":"IF('Terugvordering reiskosten OAH'!CG296=\"\",\"\",'Terugvordering reiskosten OAH'!CG296)","v":""},{"$f":"IF('Terugvordering reiskosten OAH'!CM296=0,\"\",'Terugvordering reiskosten OAH'!CM296)","v":""}]
[{"$f":"IF('Terugvordering reiskosten OAH'!D297=\"\",\"\",IF('Terugvordering reiskosten OAH'!$T$36=\"\",\"\",'Terugvordering reiskosten OAH'!$T$36))","v":""},{"$f":"IF(A225=\"\",\"\",'Terugvordering reiskosten OAH'!$T$38)","v":""},{"$f":"IF(A225=\"\",\"\",'gegevensblad samenvatting vord.'!$C$2)","v":""},{"$f":"IF('Terugvordering reiskosten OAH'!D297=\"\",\"\",TEXT('Terugvordering reiskosten OAH'!D297,\"mm-jjjj\"))","v":""},{"$f":"IF('Terugvordering reiskosten OAH'!H297=\"\",\"\",'Terugvordering reiskosten OAH'!H297)","v":""},{"$f":"IF('Terugvordering reiskosten OAH'!R297=\"\",\"\",'Terugvordering reiskosten OAH'!R297)","v":""},{"$f":"IF('Terugvordering reiskosten OAH'!X297=\"\",\"\",'Terugvordering reiskosten OAH'!X297)","v":""},{"$f":"IF('Terugvordering reiskosten OAH'!AJ297=\"\",\"\",'Terugvordering reiskosten OAH'!AJ297)","v":""},{"$f":"IF('Terugvordering reiskosten OAH'!AR297=\"\",\"\",'Terugvordering reiskosten OAH'!AR297)","v":""},{"$f":"IF('Terugvordering reiskosten OAH'!AY297=\"\",\"\",'Terugvordering reiskosten OAH'!AY297)","v":""},{"$f":"IF('Terugvordering reiskosten OAH'!BC297=0,\"\",'Terugvordering reiskosten OAH'!BC297)","v":""},{"$f":"IF('Terugvordering reiskosten OAH'!BK297=0,\"\",'Terugvordering reiskosten OAH'!BK297)","v":""},{"$f":"IF('Terugvordering reiskosten OAH'!BR297=0,\"\",'Terugvordering reiskosten OAH'!BR297)","v":""},{"$f":"IF('Terugvordering reiskosten OAH'!BZ297=0,\"\",'Terugvordering reiskosten OAH'!BZ297)","v":""},{"$f":"IF('Terugvordering reiskosten OAH'!CG297=\"\",\"\",'Terugvordering reiskosten OAH'!CG297)","v":""},{"$f":"IF('Terugvordering reiskosten OAH'!CM297=0,\"\",'Terugvordering reiskosten OAH'!CM297)","v":""}]
[{"$f":"IF('Terugvordering reiskosten OAH'!D298=\"\",\"\",IF('Terugvordering reiskosten OAH'!$T$36=\"\",\"\",'Terugvordering reiskosten OAH'!$T$36))","v":""},{"$f":"IF(A226=\"\",\"\",'Terugvordering reiskosten OAH'!$T$38)","v":""},{"$f":"IF(A226=\"\",\"\",'gegevensblad samenvatting vord.'!$C$2)","v":""},{"$f":"IF('Terugvordering reiskosten OAH'!D298=\"\",\"\",TEXT('Terugvordering reiskosten OAH'!D298,\"mm-jjjj\"))","v":""},{"$f":"IF('Terugvordering reiskosten OAH'!H298=\"\",\"\",'Terugvordering reiskosten OAH'!H298)","v":""},{"$f":"IF('Terugvordering reiskosten OAH'!R298=\"\",\"\",'Terugvordering reiskosten OAH'!R298)","v":""},{"$f":"IF('Terugvordering reiskosten OAH'!X298=\"\",\"\",'Terugvordering reiskosten OAH'!X298)","v":""},{"$f":"IF('Terugvordering reiskosten OAH'!AJ298=\"\",\"\",'Terugvordering reiskosten OAH'!AJ298)","v":""},{"$f":"IF('Terugvordering reiskosten OAH'!AR298=\"\",\"\",'Terugvordering reiskosten OAH'!AR298)","v":""},{"$f":"IF('Terugvordering reiskosten OAH'!AY298=\"\",\"\",'Terugvordering reiskosten OAH'!AY298)","v":""},{"$f":"IF('Terugvordering reiskosten OAH'!BC298=0,\"\",'Terugvordering reiskosten OAH'!BC298)","v":""},{"$f":"IF('Terugvordering reiskosten OAH'!BK298=0,\"\",'Terugvordering reiskosten OAH'!BK298)","v":""},{"$f":"IF('Terugvordering reiskosten OAH'!BR298=0,\"\",'Terugvordering reiskosten OAH'!BR298)","v":""},{"$f":"IF('Terugvordering reiskosten OAH'!BZ298=0,\"\",'Terugvordering reiskosten OAH'!BZ298)","v":""},{"$f":"IF('Terugvordering reiskosten OAH'!CG298=\"\",\"\",'Terugvordering reiskosten OAH'!CG298)","v":""},{"$f":"IF('Terugvordering reiskosten OAH'!CM298=0,\"\",'Terugvordering reiskosten OAH'!CM298)","v":""}]
[{"$f":"IF('Terugvordering reiskosten OAH'!D299=\"\",\"\",IF('Terugvordering reiskosten OAH'!$T$36=\"\",\"\",'Terugvordering reiskosten OAH'!$T$36))","v":""},{"$f":"IF(A227=\"\",\"\",'Terugvordering reiskosten OAH'!$T$38)","v":""},{"$f":"IF(A227=\"\",\"\",'gegevensblad samenvatting vord.'!$C$2)","v":""},{"$f":"IF('Terugvordering reiskosten OAH'!D299=\"\",\"\",TEXT('Terugvordering reiskosten OAH'!D299,\"mm-jjjj\"))","v":""},{"$f":"IF('Terugvordering reiskosten OAH'!H299=\"\",\"\",'Terugvordering reiskosten OAH'!H299)","v":""},{"$f":"IF('Terugvordering reiskosten OAH'!R299=\"\",\"\",'Terugvordering reiskosten OAH'!R299)","v":""},{"$f":"IF('Terugvordering reiskosten OAH'!X299=\"\",\"\",'Terugvordering reiskosten OAH'!X299)","v":""},{"$f":"IF('Terugvordering reiskosten OAH'!AJ299=\"\",\"\",'Terugvordering reiskosten OAH'!AJ299)","v":""},{"$f":"IF('Terugvordering reiskosten OAH'!AR299=\"\",\"\",'Terugvordering reiskosten OAH'!AR299)","v":""},{"$f":"IF('Terugvordering reiskosten OAH'!AY299=\"\",\"\",'Terugvordering reiskosten OAH'!AY299)","v":""},{"$f":"IF('Terugvordering reiskosten OAH'!BC299=0,\"\",'Terugvordering reiskosten OAH'!BC299)","v":""},{"$f":"IF('Terugvordering reiskosten OAH'!BK299=0,\"\",'Terugvordering reiskosten OAH'!BK299)","v":""},{"$f":"IF('Terugvordering reiskosten OAH'!BR299=0,\"\",'Terugvordering reiskosten OAH'!BR299)","v":""},{"$f":"IF('Terugvordering reiskosten OAH'!BZ299=0,\"\",'Terugvordering reiskosten OAH'!BZ299)","v":""},{"$f":"IF('Terugvordering reiskosten OAH'!CG299=\"\",\"\",'Terugvordering reiskosten OAH'!CG299)","v":""},{"$f":"IF('Terugvordering reiskosten OAH'!CM299=0,\"\",'Terugvordering reiskosten OAH'!CM299)","v":""}]
[{"$f":"IF('Terugvordering reiskosten OAH'!D300=\"\",\"\",IF('Terugvordering reiskosten OAH'!$T$36=\"\",\"\",'Terugvordering reiskosten OAH'!$T$36))","v":""},{"$f":"IF(A228=\"\",\"\",'Terugvordering reiskosten OAH'!$T$38)","v":""},{"$f":"IF(A228=\"\",\"\",'gegevensblad samenvatting vord.'!$C$2)","v":""},{"$f":"IF('Terugvordering reiskosten OAH'!D300=\"\",\"\",TEXT('Terugvordering reiskosten OAH'!D300,\"mm-jjjj\"))","v":""},{"$f":"IF('Terugvordering reiskosten OAH'!H300=\"\",\"\",'Terugvordering reiskosten OAH'!H300)","v":""},{"$f":"IF('Terugvordering reiskosten OAH'!R300=\"\",\"\",'Terugvordering reiskosten OAH'!R300)","v":""},{"$f":"IF('Terugvordering reiskosten OAH'!X300=\"\",\"\",'Terugvordering reiskosten OAH'!X300)","v":""},{"$f":"IF('Terugvordering reiskosten OAH'!AJ300=\"\",\"\",'Terugvordering reiskosten OAH'!AJ300)","v":""},{"$f":"IF('Terugvordering reiskosten OAH'!AR300=\"\",\"\",'Terugvordering reiskosten OAH'!AR300)","v":""},{"$f":"IF('Terugvordering reiskosten OAH'!AY300=\"\",\"\",'Terugvordering reiskosten OAH'!AY300)","v":""},{"$f":"IF('Terugvordering reiskosten OAH'!BC300=0,\"\",'Terugvordering reiskosten OAH'!BC300)","v":""},{"$f":"IF('Terugvordering reiskosten OAH'!BK300=0,\"\",'Terugvordering reiskosten OAH'!BK300)","v":""},{"$f":"IF('Terugvordering reiskosten OAH'!BR300=0,\"\",'Terugvordering reiskosten OAH'!BR300)","v":""},{"$f":"IF('Terugvordering reiskosten OAH'!BZ300=0,\"\",'Terugvordering reiskosten OAH'!BZ300)","v":""},{"$f":"IF('Terugvordering reiskosten OAH'!CG300=\"\",\"\",'Terugvordering reiskosten OAH'!CG300)","v":""},{"$f":"IF('Terugvordering reiskosten OAH'!CM300=0,\"\",'Terugvordering reiskosten OAH'!CM300)","v":""}]
[{"$f":"IF('Terugvordering reiskosten OAH'!D301=\"\",\"\",IF('Terugvordering reiskosten OAH'!$T$36=\"\",\"\",'Terugvordering reiskosten OAH'!$T$36))","v":""},{"$f":"IF(A229=\"\",\"\",'Terugvordering reiskosten OAH'!$T$38)","v":""},{"$f":"IF(A229=\"\",\"\",'gegevensblad samenvatting vord.'!$C$2)","v":""},{"$f":"IF('Terugvordering reiskosten OAH'!D301=\"\",\"\",TEXT('Terugvordering reiskosten OAH'!D301,\"mm-jjjj\"))","v":""},{"$f":"IF('Terugvordering reiskosten OAH'!H301=\"\",\"\",'Terugvordering reiskosten OAH'!H301)","v":""},{"$f":"IF('Terugvordering reiskosten OAH'!R301=\"\",\"\",'Terugvordering reiskosten OAH'!R301)","v":""},{"$f":"IF('Terugvordering reiskosten OAH'!X301=\"\",\"\",'Terugvordering reiskosten OAH'!X301)","v":""},{"$f":"IF('Terugvordering reiskosten OAH'!AJ301=\"\",\"\",'Terugvordering reiskosten OAH'!AJ301)","v":""},{"$f":"IF('Terugvordering reiskosten OAH'!AR301=\"\",\"\",'Terugvordering reiskosten OAH'!AR301)","v":""},{"$f":"IF('Terugvordering reiskosten OAH'!AY301=\"\",\"\",'Terugvordering reiskosten OAH'!AY301)","v":""},{"$f":"IF('Terugvordering reiskosten OAH'!BC301=0,\"\",'Terugvordering reiskosten OAH'!BC301)","v":""},{"$f":"IF('Terugvordering reiskosten OAH'!BK301=0,\"\",'Terugvordering reiskosten OAH'!BK301)","v":""},{"$f":"IF('Terugvordering reiskosten OAH'!BR301=0,\"\",'Terugvordering reiskosten OAH'!BR301)","v":""},{"$f":"IF('Terugvordering reiskosten OAH'!BZ301=0,\"\",'Terugvordering reiskosten OAH'!BZ301)","v":""},{"$f":"IF('Terugvordering reiskosten OAH'!CG301=\"\",\"\",'Terugvordering reiskosten OAH'!CG301)","v":""},{"$f":"IF('Terugvordering reiskosten OAH'!CM301=0,\"\",'Terugvordering reiskosten OAH'!CM301)","v":""}]
[{"$f":"IF('Terugvordering reiskosten OAH'!D302=\"\",\"\",IF('Terugvordering reiskosten OAH'!$T$36=\"\",\"\",'Terugvordering reiskosten OAH'!$T$36))","v":""},{"$f":"IF(A230=\"\",\"\",'Terugvordering reiskosten OAH'!$T$38)","v":""},{"$f":"IF(A230=\"\",\"\",'gegevensblad samenvatting vord.'!$C$2)","v":""},{"$f":"IF('Terugvordering reiskosten OAH'!D302=\"\",\"\",TEXT('Terugvordering reiskosten OAH'!D302,\"mm-jjjj\"))","v":""},{"$f":"IF('Terugvordering reiskosten OAH'!H302=\"\",\"\",'Terugvordering reiskosten OAH'!H302)","v":""},{"$f":"IF('Terugvordering reiskosten OAH'!R302=\"\",\"\",'Terugvordering reiskosten OAH'!R302)","v":""},{"$f":"IF('Terugvordering reiskosten OAH'!X302=\"\",\"\",'Terugvordering reiskosten OAH'!X302)","v":""},{"$f":"IF('Terugvordering reiskosten OAH'!AJ302=\"\",\"\",'Terugvordering reiskosten OAH'!AJ302)","v":""},{"$f":"IF('Terugvordering reiskosten OAH'!AR302=\"\",\"\",'Terugvordering reiskosten OAH'!AR302)","v":""},{"$f":"IF('Terugvordering reiskosten OAH'!AY302=\"\",\"\",'Terugvordering reiskosten OAH'!AY302)","v":""},{"$f":"IF('Terugvordering reiskosten OAH'!BC302=0,\"\",'Terugvordering reiskosten OAH'!BC302)","v":""},{"$f":"IF('Terugvordering reiskosten OAH'!BK302=0,\"\",'Terugvordering reiskosten OAH'!BK302)","v":""},{"$f":"IF('Terugvordering reiskosten OAH'!BR302=0,\"\",'Terugvordering reiskosten OAH'!BR302)","v":""},{"$f":"IF('Terugvordering reiskosten OAH'!BZ302=0,\"\",'Terugvordering reiskosten OAH'!BZ302)","v":""},{"$f":"IF('Terugvordering reiskosten OAH'!CG302=\"\",\"\",'Terugvordering reiskosten OAH'!CG302)","v":""},{"$f":"IF('Terugvordering reiskosten OAH'!CM302=0,\"\",'Terugvordering reiskosten OAH'!CM302)","v":""}]
[{"$f":"IF('Terugvordering reiskosten OAH'!D303=\"\",\"\",IF('Terugvordering reiskosten OAH'!$T$36=\"\",\"\",'Terugvordering reiskosten OAH'!$T$36))","v":""},{"$f":"IF(A231=\"\",\"\",'Terugvordering reiskosten OAH'!$T$38)","v":""},{"$f":"IF(A231=\"\",\"\",'gegevensblad samenvatting vord.'!$C$2)","v":""},{"$f":"IF('Terugvordering reiskosten OAH'!D303=\"\",\"\",TEXT('Terugvordering reiskosten OAH'!D303,\"mm-jjjj\"))","v":""},{"$f":"IF('Terugvordering reiskosten OAH'!H303=\"\",\"\",'Terugvordering reiskosten OAH'!H303)","v":""},{"$f":"IF('Terugvordering reiskosten OAH'!R303=\"\",\"\",'Terugvordering reiskosten OAH'!R303)","v":""},{"$f":"IF('Terugvordering reiskosten OAH'!X303=\"\",\"\",'Terugvordering reiskosten OAH'!X303)","v":""},{"$f":"IF('Terugvordering reiskosten OAH'!AJ303=\"\",\"\",'Terugvordering reiskosten OAH'!AJ303)","v":""},{"$f":"IF('Terugvordering reiskosten OAH'!AR303=\"\",\"\",'Terugvordering reiskosten OAH'!AR303)","v":""},{"$f":"IF('Terugvordering reiskosten OAH'!AY303=\"\",\"\",'Terugvordering reiskosten OAH'!AY303)","v":""},{"$f":"IF('Terugvordering reiskosten OAH'!BC303=0,\"\",'Terugvordering reiskosten OAH'!BC303)","v":""},{"$f":"IF('Terugvordering reiskosten OAH'!BK303=0,\"\",'Terugvordering reiskosten OAH'!BK303)","v":""},{"$f":"IF('Terugvordering reiskosten OAH'!BR303=0,\"\",'Terugvordering reiskosten OAH'!BR303)","v":""},{"$f":"IF('Terugvordering reiskosten OAH'!BZ303=0,\"\",'Terugvordering reiskosten OAH'!BZ303)","v":""},{"$f":"IF('Terugvordering reiskosten OAH'!CG303=\"\",\"\",'Terugvordering reiskosten OAH'!CG303)","v":""},{"$f":"IF('Terugvordering reiskosten OAH'!CM303=0,\"\",'Terugvordering reiskosten OAH'!CM303)","v":""}]
[{"$f":"IF('Terugvordering reiskosten OAH'!D304=\"\",\"\",IF('Terugvordering reiskosten OAH'!$T$36=\"\",\"\",'Terugvordering reiskosten OAH'!$T$36))","v":""},{"$f":"IF(A232=\"\",\"\",'Terugvordering reiskosten OAH'!$T$38)","v":""},{"$f":"IF(A232=\"\",\"\",'gegevensblad samenvatting vord.'!$C$2)","v":""},{"$f":"IF('Terugvordering reiskosten OAH'!D304=\"\",\"\",TEXT('Terugvordering reiskosten OAH'!D304,\"mm-jjjj\"))","v":""},{"$f":"IF('Terugvordering reiskosten OAH'!H304=\"\",\"\",'Terugvordering reiskosten OAH'!H304)","v":""},{"$f":"IF('Terugvordering reiskosten OAH'!R304=\"\",\"\",'Terugvordering reiskosten OAH'!R304)","v":""},{"$f":"IF('Terugvordering reiskosten OAH'!X304=\"\",\"\",'Terugvordering reiskosten OAH'!X304)","v":""},{"$f":"IF('Terugvordering reiskosten OAH'!AJ304=\"\",\"\",'Terugvordering reiskosten OAH'!AJ304)","v":""},{"$f":"IF('Terugvordering reiskosten OAH'!AR304=\"\",\"\",'Terugvordering reiskosten OAH'!AR304)","v":""},{"$f":"IF('Terugvordering reiskosten OAH'!AY304=\"\",\"\",'Terugvordering reiskosten OAH'!AY304)","v":""},{"$f":"IF('Terugvordering reiskosten OAH'!BC304=0,\"\",'Terugvordering reiskosten OAH'!BC304)","v":""},{"$f":"IF('Terugvordering reiskosten OAH'!BK304=0,\"\",'Terugvordering reiskosten OAH'!BK304)","v":""},{"$f":"IF('Terugvordering reiskosten OAH'!BR304=0,\"\",'Terugvordering reiskosten OAH'!BR304)","v":""},{"$f":"IF('Terugvordering reiskosten OAH'!BZ304=0,\"\",'Terugvordering reiskosten OAH'!BZ304)","v":""},{"$f":"IF('Terugvordering reiskosten OAH'!CG304=\"\",\"\",'Terugvordering reiskosten OAH'!CG304)","v":""},{"$f":"IF('Terugvordering reiskosten OAH'!CM304=0,\"\",'Terugvordering reiskosten OAH'!CM304)","v":""}]
[{"$f":"IF('Terugvordering reiskosten OAH'!D305=\"\",\"\",IF('Terugvordering reiskosten OAH'!$T$36=\"\",\"\",'Terugvordering reiskosten OAH'!$T$36))","v":""},{"$f":"IF(A233=\"\",\"\",'Terugvordering reiskosten OAH'!$T$38)","v":""},{"$f":"IF(A233=\"\",\"\",'gegevensblad samenvatting vord.'!$C$2)","v":""},{"$f":"IF('Terugvordering reiskosten OAH'!D305=\"\",\"\",TEXT('Terugvordering reiskosten OAH'!D305,\"mm-jjjj\"))","v":""},{"$f":"IF('Terugvordering reiskosten OAH'!H305=\"\",\"\",'Terugvordering reiskosten OAH'!H305)","v":""},{"$f":"IF('Terugvordering reiskosten OAH'!R305=\"\",\"\",'Terugvordering reiskosten OAH'!R305)","v":""},{"$f":"IF('Terugvordering reiskosten OAH'!X305=\"\",\"\",'Terugvordering reiskosten OAH'!X305)","v":""},{"$f":"IF('Terugvordering reiskosten OAH'!AJ305=\"\",\"\",'Terugvordering reiskosten OAH'!AJ305)","v":""},{"$f":"IF('Terugvordering reiskosten OAH'!AR305=\"\",\"\",'Terugvordering reiskosten OAH'!AR305)","v":""},{"$f":"IF('Terugvordering reiskosten OAH'!AY305=\"\",\"\",'Terugvordering reiskosten OAH'!AY305)","v":""},{"$f":"IF('Terugvordering reiskosten OAH'!BC305=0,\"\",'Terugvordering reiskosten OAH'!BC305)","v":""},{"$f":"IF('Terugvordering reiskosten OAH'!BK305=0,\"\",'Terugvordering reiskosten OAH'!BK305)","v":""},{"$f":"IF('Terugvordering reiskosten OAH'!BR305=0,\"\",'Terugvordering reiskosten OAH'!BR305)","v":""},{"$f":"IF('Terugvordering reiskosten OAH'!BZ305=0,\"\",'Terugvordering reiskosten OAH'!BZ305)","v":""},{"$f":"IF('Terugvordering reiskosten OAH'!CG305=\"\",\"\",'Terugvordering reiskosten OAH'!CG305)","v":""},{"$f":"IF('Terugvordering reiskosten OAH'!CM305=0,\"\",'Terugvordering reiskosten OAH'!CM305)","v":""}]
[{"$f":"IF('Terugvordering reiskosten OAH'!D306=\"\",\"\",IF('Terugvordering reiskosten OAH'!$T$36=\"\",\"\",'Terugvordering reiskosten OAH'!$T$36))","v":""},{"$f":"IF(A234=\"\",\"\",'Terugvordering reiskosten OAH'!$T$38)","v":""},{"$f":"IF(A234=\"\",\"\",'gegevensblad samenvatting vord.'!$C$2)","v":""},{"$f":"IF('Terugvordering reiskosten OAH'!D306=\"\",\"\",TEXT('Terugvordering reiskosten OAH'!D306,\"mm-jjjj\"))","v":""},{"$f":"IF('Terugvordering reiskosten OAH'!H306=\"\",\"\",'Terugvordering reiskosten OAH'!H306)","v":""},{"$f":"IF('Terugvordering reiskosten OAH'!R306=\"\",\"\",'Terugvordering reiskosten OAH'!R306)","v":""},{"$f":"IF('Terugvordering reiskosten OAH'!X306=\"\",\"\",'Terugvordering reiskosten OAH'!X306)","v":""},{"$f":"IF('Terugvordering reiskosten OAH'!AJ306=\"\",\"\",'Terugvordering reiskosten OAH'!AJ306)","v":""},{"$f":"IF('Terugvordering reiskosten OAH'!AR306=\"\",\"\",'Terugvordering reiskosten OAH'!AR306)","v":""},{"$f":"IF('Terugvordering reiskosten OAH'!AY306=\"\",\"\",'Terugvordering reiskosten OAH'!AY306)","v":""},{"$f":"IF('Terugvordering reiskosten OAH'!BC306=0,\"\",'Terugvordering reiskosten OAH'!BC306)","v":""},{"$f":"IF('Terugvordering reiskosten OAH'!BK306=0,\"\",'Terugvordering reiskosten OAH'!BK306)","v":""},{"$f":"IF('Terugvordering reiskosten OAH'!BR306=0,\"\",'Terugvordering reiskosten OAH'!BR306)","v":""},{"$f":"IF('Terugvordering reiskosten OAH'!BZ306=0,\"\",'Terugvordering reiskosten OAH'!BZ306)","v":""},{"$f":"IF('Terugvordering reiskosten OAH'!CG306=\"\",\"\",'Terugvordering reiskosten OAH'!CG306)","v":""},{"$f":"IF('Terugvordering reiskosten OAH'!CM306=0,\"\",'Terugvordering reiskosten OAH'!CM306)","v":""}]
[{"$f":"IF('Terugvordering reiskosten OAH'!D307=\"\",\"\",IF('Terugvordering reiskosten OAH'!$T$36=\"\",\"\",'Terugvordering reiskosten OAH'!$T$36))","v":""},{"$f":"IF(A235=\"\",\"\",'Terugvordering reiskosten OAH'!$T$38)","v":""},{"$f":"IF(A235=\"\",\"\",'gegevensblad samenvatting vord.'!$C$2)","v":""},{"$f":"IF('Terugvordering reiskosten OAH'!D307=\"\",\"\",TEXT('Terugvordering reiskosten OAH'!D307,\"mm-jjjj\"))","v":""},{"$f":"IF('Terugvordering reiskosten OAH'!H307=\"\",\"\",'Terugvordering reiskosten OAH'!H307)","v":""},{"$f":"IF('Terugvordering reiskosten OAH'!R307=\"\",\"\",'Terugvordering reiskosten OAH'!R307)","v":""},{"$f":"IF('Terugvordering reiskosten OAH'!X307=\"\",\"\",'Terugvordering reiskosten OAH'!X307)","v":""},{"$f":"IF('Terugvordering reiskosten OAH'!AJ307=\"\",\"\",'Terugvordering reiskosten OAH'!AJ307)","v":""},{"$f":"IF('Terugvordering reiskosten OAH'!AR307=\"\",\"\",'Terugvordering reiskosten OAH'!AR307)","v":""},{"$f":"IF('Terugvordering reiskosten OAH'!AY307=\"\",\"\",'Terugvordering reiskosten OAH'!AY307)","v":""},{"$f":"IF('Terugvordering reiskosten OAH'!BC307=0,\"\",'Terugvordering reiskosten OAH'!BC307)","v":""},{"$f":"IF('Terugvordering reiskosten OAH'!BK307=0,\"\",'Terugvordering reiskosten OAH'!BK307)","v":""},{"$f":"IF('Terugvordering reiskosten OAH'!BR307=0,\"\",'Terugvordering reiskosten OAH'!BR307)","v":""},{"$f":"IF('Terugvordering reiskosten OAH'!BZ307=0,\"\",'Terugvordering reiskosten OAH'!BZ307)","v":""},{"$f":"IF('Terugvordering reiskosten OAH'!CG307=\"\",\"\",'Terugvordering reiskosten OAH'!CG307)","v":""},{"$f":"IF('Terugvordering reiskosten OAH'!CM307=0,\"\",'Terugvordering reiskosten OAH'!CM307)","v":""}]
[{"$f":"IF('Terugvordering reiskosten OAH'!D308=\"\",\"\",IF('Terugvordering reiskosten OAH'!$T$36=\"\",\"\",'Terugvordering reiskosten OAH'!$T$36))","v":""},{"$f":"IF(A236=\"\",\"\",'Terugvordering reiskosten OAH'!$T$38)","v":""},{"$f":"IF(A236=\"\",\"\",'gegevensblad samenvatting vord.'!$C$2)","v":""},{"$f":"IF('Terugvordering reiskosten OAH'!D308=\"\",\"\",TEXT('Terugvordering reiskosten OAH'!D308,\"mm-jjjj\"))","v":""},{"$f":"IF('Terugvordering reiskosten OAH'!H308=\"\",\"\",'Terugvordering reiskosten OAH'!H308)","v":""},{"$f":"IF('Terugvordering reiskosten OAH'!R308=\"\",\"\",'Terugvordering reiskosten OAH'!R308)","v":""},{"$f":"IF('Terugvordering reiskosten OAH'!X308=\"\",\"\",'Terugvordering reiskosten OAH'!X308)","v":""},{"$f":"IF('Terugvordering reiskosten OAH'!AJ308=\"\",\"\",'Terugvordering reiskosten OAH'!AJ308)","v":""},{"$f":"IF('Terugvordering reiskosten OAH'!AR308=\"\",\"\",'Terugvordering reiskosten OAH'!AR308)","v":""},{"$f":"IF('Terugvordering reiskosten OAH'!AY308=\"\",\"\",'Terugvordering reiskosten OAH'!AY308)","v":""},{"$f":"IF('Terugvordering reiskosten OAH'!BC308=0,\"\",'Terugvordering reiskosten OAH'!BC308)","v":""},{"$f":"IF('Terugvordering reiskosten OAH'!BK308=0,\"\",'Terugvordering reiskosten OAH'!BK308)","v":""},{"$f":"IF('Terugvordering reiskosten OAH'!BR308=0,\"\",'Terugvordering reiskosten OAH'!BR308)","v":""},{"$f":"IF('Terugvordering reiskosten OAH'!BZ308=0,\"\",'Terugvordering reiskosten OAH'!BZ308)","v":""},{"$f":"IF('Terugvordering reiskosten OAH'!CG308=\"\",\"\",'Terugvordering reiskosten OAH'!CG308)","v":""},{"$f":"IF('Terugvordering reiskosten OAH'!CM308=0,\"\",'Terugvordering reiskosten OAH'!CM308)","v":""}]
[{"$f":"IF('Terugvordering reiskosten OAH'!D309=\"\",\"\",IF('Terugvordering reiskosten OAH'!$T$36=\"\",\"\",'Terugvordering reiskosten OAH'!$T$36))","v":""},{"$f":"IF(A237=\"\",\"\",'Terugvordering reiskosten OAH'!$T$38)","v":""},{"$f":"IF(A237=\"\",\"\",'gegevensblad samenvatting vord.'!$C$2)","v":""},{"$f":"IF('Terugvordering reiskosten OAH'!D309=\"\",\"\",TEXT('Terugvordering reiskosten OAH'!D309,\"mm-jjjj\"))","v":""},{"$f":"IF('Terugvordering reiskosten OAH'!H309=\"\",\"\",'Terugvordering reiskosten OAH'!H309)","v":""},{"$f":"IF('Terugvordering reiskosten OAH'!R309=\"\",\"\",'Terugvordering reiskosten OAH'!R309)","v":""},{"$f":"IF('Terugvordering reiskosten OAH'!X309=\"\",\"\",'Terugvordering reiskosten OAH'!X309)","v":""},{"$f":"IF('Terugvordering reiskosten OAH'!AJ309=\"\",\"\",'Terugvordering reiskosten OAH'!AJ309)","v":""},{"$f":"IF('Terugvordering reiskosten OAH'!AR309=\"\",\"\",'Terugvordering reiskosten OAH'!AR309)","v":""},{"$f":"IF('Terugvordering reiskosten OAH'!AY309=\"\",\"\",'Terugvordering reiskosten OAH'!AY309)","v":""},{"$f":"IF('Terugvordering reiskosten OAH'!BC309=0,\"\",'Terugvordering reiskosten OAH'!BC309)","v":""},{"$f":"IF('Terugvordering reiskosten OAH'!BK309=0,\"\",'Terugvordering reiskosten OAH'!BK309)","v":""},{"$f":"IF('Terugvordering reiskosten OAH'!BR309=0,\"\",'Terugvordering reiskosten OAH'!BR309)","v":""},{"$f":"IF('Terugvordering reiskosten OAH'!BZ309=0,\"\",'Terugvordering reiskosten OAH'!BZ309)","v":""},{"$f":"IF('Terugvordering reiskosten OAH'!CG309=\"\",\"\",'Terugvordering reiskosten OAH'!CG309)","v":""},{"$f":"IF('Terugvordering reiskosten OAH'!CM309=0,\"\",'Terugvordering reiskosten OAH'!CM309)","v":""}]
[{"$f":"IF('Terugvordering reiskosten OAH'!D310=\"\",\"\",IF('Terugvordering reiskosten OAH'!$T$36=\"\",\"\",'Terugvordering reiskosten OAH'!$T$36))","v":""},{"$f":"IF(A238=\"\",\"\",'Terugvordering reiskosten OAH'!$T$38)","v":""},{"$f":"IF(A238=\"\",\"\",'gegevensblad samenvatting vord.'!$C$2)","v":""},{"$f":"IF('Terugvordering reiskosten OAH'!D310=\"\",\"\",TEXT('Terugvordering reiskosten OAH'!D310,\"mm-jjjj\"))","v":""},{"$f":"IF('Terugvordering reiskosten OAH'!H310=\"\",\"\",'Terugvordering reiskosten OAH'!H310)","v":""},{"$f":"IF('Terugvordering reiskosten OAH'!R310=\"\",\"\",'Terugvordering reiskosten OAH'!R310)","v":""},{"$f":"IF('Terugvordering reiskosten OAH'!X310=\"\",\"\",'Terugvordering reiskosten OAH'!X310)","v":""},{"$f":"IF('Terugvordering reiskosten OAH'!AJ310=\"\",\"\",'Terugvordering reiskosten OAH'!AJ310)","v":""},{"$f":"IF('Terugvordering reiskosten OAH'!AR310=\"\",\"\",'Terugvordering reiskosten OAH'!AR310)","v":""},{"$f":"IF('Terugvordering reiskosten OAH'!AY310=\"\",\"\",'Terugvordering reiskosten OAH'!AY310)","v":""},{"$f":"IF('Terugvordering reiskosten OAH'!BC310=0,\"\",'Terugvordering reiskosten OAH'!BC310)","v":""},{"$f":"IF('Terugvordering reiskosten OAH'!BK310=0,\"\",'Terugvordering reiskosten OAH'!BK310)","v":""},{"$f":"IF('Terugvordering reiskosten OAH'!BR310=0,\"\",'Terugvordering reiskosten OAH'!BR310)","v":""},{"$f":"IF('Terugvordering reiskosten OAH'!BZ310=0,\"\",'Terugvordering reiskosten OAH'!BZ310)","v":""},{"$f":"IF('Terugvordering reiskosten OAH'!CG310=\"\",\"\",'Terugvordering reiskosten OAH'!CG310)","v":""},{"$f":"IF('Terugvordering reiskosten OAH'!CM310=0,\"\",'Terugvordering reiskosten OAH'!CM310)","v":""}]
[{"$f":"IF('Terugvordering reiskosten OAH'!D311=\"\",\"\",IF('Terugvordering reiskosten OAH'!$T$36=\"\",\"\",'Terugvordering reiskosten OAH'!$T$36))","v":""},{"$f":"IF(A239=\"\",\"\",'Terugvordering reiskosten OAH'!$T$38)","v":""},{"$f":"IF(A239=\"\",\"\",'gegevensblad samenvatting vord.'!$C$2)","v":""},{"$f":"IF('Terugvordering reiskosten OAH'!D311=\"\",\"\",TEXT('Terugvordering reiskosten OAH'!D311,\"mm-jjjj\"))","v":""},{"$f":"IF('Terugvordering reiskosten OAH'!H311=\"\",\"\",'Terugvordering reiskosten OAH'!H311)","v":""},{"$f":"IF('Terugvordering reiskosten OAH'!R311=\"\",\"\",'Terugvordering reiskosten OAH'!R311)","v":""},{"$f":"IF('Terugvordering reiskosten OAH'!X311=\"\",\"\",'Terugvordering reiskosten OAH'!X311)","v":""},{"$f":"IF('Terugvordering reiskosten OAH'!AJ311=\"\",\"\",'Terugvordering reiskosten OAH'!AJ311)","v":""},{"$f":"IF('Terugvordering reiskosten OAH'!AR311=\"\",\"\",'Terugvordering reiskosten OAH'!AR311)","v":""},{"$f":"IF('Terugvordering reiskosten OAH'!AY311=\"\",\"\",'Terugvordering reiskosten OAH'!AY311)","v":""},{"$f":"IF('Terugvordering reiskosten OAH'!BC311=0,\"\",'Terugvordering reiskosten OAH'!BC311)","v":""},{"$f":"IF('Terugvordering reiskosten OAH'!BK311=0,\"\",'Terugvordering reiskosten OAH'!BK311)","v":""},{"$f":"IF('Terugvordering reiskosten OAH'!BR311=0,\"\",'Terugvordering reiskosten OAH'!BR311)","v":""},{"$f":"IF('Terugvordering reiskosten OAH'!BZ311=0,\"\",'Terugvordering reiskosten OAH'!BZ311)","v":""},{"$f":"IF('Terugvordering reiskosten OAH'!CG311=\"\",\"\",'Terugvordering reiskosten OAH'!CG311)","v":""},{"$f":"IF('Terugvordering reiskosten OAH'!CM311=0,\"\",'Terugvordering reiskosten OAH'!CM311)","v":""}]
[{"$f":"IF('Terugvordering reiskosten OAH'!D312=\"\",\"\",IF('Terugvordering reiskosten OAH'!$T$36=\"\",\"\",'Terugvordering reiskosten OAH'!$T$36))","v":""},{"$f":"IF(A240=\"\",\"\",'Terugvordering reiskosten OAH'!$T$38)","v":""},{"$f":"IF(A240=\"\",\"\",'gegevensblad samenvatting vord.'!$C$2)","v":""},{"$f":"IF('Terugvordering reiskosten OAH'!D312=\"\",\"\",TEXT('Terugvordering reiskosten OAH'!D312,\"mm-jjjj\"))","v":""},{"$f":"IF('Terugvordering reiskosten OAH'!H312=\"\",\"\",'Terugvordering reiskosten OAH'!H312)","v":""},{"$f":"IF('Terugvordering reiskosten OAH'!R312=\"\",\"\",'Terugvordering reiskosten OAH'!R312)","v":""},{"$f":"IF('Terugvordering reiskosten OAH'!X312=\"\",\"\",'Terugvordering reiskosten OAH'!X312)","v":""},{"$f":"IF('Terugvordering reiskosten OAH'!AJ312=\"\",\"\",'Terugvordering reiskosten OAH'!AJ312)","v":""},{"$f":"IF('Terugvordering reiskosten OAH'!AR312=\"\",\"\",'Terugvordering reiskosten OAH'!AR312)","v":""},{"$f":"IF('Terugvordering reiskosten OAH'!AY312=\"\",\"\",'Terugvordering reiskosten OAH'!AY312)","v":""},{"$f":"IF('Terugvordering reiskosten OAH'!BC312=0,\"\",'Terugvordering reiskosten OAH'!BC312)","v":""},{"$f":"IF('Terugvordering reiskosten OAH'!BK312=0,\"\",'Terugvordering reiskosten OAH'!BK312)","v":""},{"$f":"IF('Terugvordering reiskosten OAH'!BR312=0,\"\",'Terugvordering reiskosten OAH'!BR312)","v":""},{"$f":"IF('Terugvordering reiskosten OAH'!BZ312=0,\"\",'Terugvordering reiskosten OAH'!BZ312)","v":""},{"$f":"IF('Terugvordering reiskosten OAH'!CG312=\"\",\"\",'Terugvordering reiskosten OAH'!CG312)","v":""},{"$f":"IF('Terugvordering reiskosten OAH'!CM312=0,\"\",'Terugvordering reiskosten OAH'!CM312)","v":""}]
[{"$f":"IF('Terugvordering reiskosten OAH'!D313=\"\",\"\",IF('Terugvordering reiskosten OAH'!$T$36=\"\",\"\",'Terugvordering reiskosten OAH'!$T$36))","v":""},{"$f":"IF(A241=\"\",\"\",'Terugvordering reiskosten OAH'!$T$38)","v":""},{"$f":"IF(A241=\"\",\"\",'gegevensblad samenvatting vord.'!$C$2)","v":""},{"$f":"IF('Terugvordering reiskosten OAH'!D313=\"\",\"\",TEXT('Terugvordering reiskosten OAH'!D313,\"mm-jjjj\"))","v":""},{"$f":"IF('Terugvordering reiskosten OAH'!H313=\"\",\"\",'Terugvordering reiskosten OAH'!H313)","v":""},{"$f":"IF('Terugvordering reiskosten OAH'!R313=\"\",\"\",'Terugvordering reiskosten OAH'!R313)","v":""},{"$f":"IF('Terugvordering reiskosten OAH'!X313=\"\",\"\",'Terugvordering reiskosten OAH'!X313)","v":""},{"$f":"IF('Terugvordering reiskosten OAH'!AJ313=\"\",\"\",'Terugvordering reiskosten OAH'!AJ313)","v":""},{"$f":"IF('Terugvordering reiskosten OAH'!AR313=\"\",\"\",'Terugvordering reiskosten OAH'!AR313)","v":""},{"$f":"IF('Terugvordering reiskosten OAH'!AY313=\"\",\"\",'Terugvordering reiskosten OAH'!AY313)","v":""},{"$f":"IF('Terugvordering reiskosten OAH'!BC313=0,\"\",'Terugvordering reiskosten OAH'!BC313)","v":""},{"$f":"IF('Terugvordering reiskosten OAH'!BK313=0,\"\",'Terugvordering reiskosten OAH'!BK313)","v":""},{"$f":"IF('Terugvordering reiskosten OAH'!BR313=0,\"\",'Terugvordering reiskosten OAH'!BR313)","v":""},{"$f":"IF('Terugvordering reiskosten OAH'!BZ313=0,\"\",'Terugvordering reiskosten OAH'!BZ313)","v":""},{"$f":"IF('Terugvordering reiskosten OAH'!CG313=\"\",\"\",'Terugvordering reiskosten OAH'!CG313)","v":""},{"$f":"IF('Terugvordering reiskosten OAH'!CM313=0,\"\",'Terugvordering reiskosten OAH'!CM313)","v":""}]
[{"$f":"IF('Terugvordering reiskosten OAH'!D314=\"\",\"\",IF('Terugvordering reiskosten OAH'!$T$36=\"\",\"\",'Terugvordering reiskosten OAH'!$T$36))","v":""},{"$f":"IF(A242=\"\",\"\",'Terugvordering reiskosten OAH'!$T$38)","v":""},{"$f":"IF(A242=\"\",\"\",'gegevensblad samenvatting vord.'!$C$2)","v":""},{"$f":"IF('Terugvordering reiskosten OAH'!D314=\"\",\"\",TEXT('Terugvordering reiskosten OAH'!D314,\"mm-jjjj\"))","v":""},{"$f":"IF('Terugvordering reiskosten OAH'!H314=\"\",\"\",'Terugvordering reiskosten OAH'!H314)","v":""},{"$f":"IF('Terugvordering reiskosten OAH'!R314=\"\",\"\",'Terugvordering reiskosten OAH'!R314)","v":""},{"$f":"IF('Terugvordering reiskosten OAH'!X314=\"\",\"\",'Terugvordering reiskosten OAH'!X314)","v":""},{"$f":"IF('Terugvordering reiskosten OAH'!AJ314=\"\",\"\",'Terugvordering reiskosten OAH'!AJ314)","v":""},{"$f":"IF('Terugvordering reiskosten OAH'!AR314=\"\",\"\",'Terugvordering reiskosten OAH'!AR314)","v":""},{"$f":"IF('Terugvordering reiskosten OAH'!AY314=\"\",\"\",'Terugvordering reiskosten OAH'!AY314)","v":""},{"$f":"IF('Terugvordering reiskosten OAH'!BC314=0,\"\",'Terugvordering reiskosten OAH'!BC314)","v":""},{"$f":"IF('Terugvordering reiskosten OAH'!BK314=0,\"\",'Terugvordering reiskosten OAH'!BK314)","v":""},{"$f":"IF('Terugvordering reiskosten OAH'!BR314=0,\"\",'Terugvordering reiskosten OAH'!BR314)","v":""},{"$f":"IF('Terugvordering reiskosten OAH'!BZ314=0,\"\",'Terugvordering reiskosten OAH'!BZ314)","v":""},{"$f":"IF('Terugvordering reiskosten OAH'!CG314=\"\",\"\",'Terugvordering reiskosten OAH'!CG314)","v":""},{"$f":"IF('Terugvordering reiskosten OAH'!CM314=0,\"\",'Terugvordering reiskosten OAH'!CM314)","v":""}]
[{"$f":"IF('Terugvordering reiskosten OAH'!D315=\"\",\"\",IF('Terugvordering reiskosten OAH'!$T$36=\"\",\"\",'Terugvordering reiskosten OAH'!$T$36))","v":""},{"$f":"IF(A243=\"\",\"\",'Terugvordering reiskosten OAH'!$T$38)","v":""},{"$f":"IF(A243=\"\",\"\",'gegevensblad samenvatting vord.'!$C$2)","v":""},{"$f":"IF('Terugvordering reiskosten OAH'!D315=\"\",\"\",TEXT('Terugvordering reiskosten OAH'!D315,\"mm-jjjj\"))","v":""},{"$f":"IF('Terugvordering reiskosten OAH'!H315=\"\",\"\",'Terugvordering reiskosten OAH'!H315)","v":""},{"$f":"IF('Terugvordering reiskosten OAH'!R315=\"\",\"\",'Terugvordering reiskosten OAH'!R315)","v":""},{"$f":"IF('Terugvordering reiskosten OAH'!X315=\"\",\"\",'Terugvordering reiskosten OAH'!X315)","v":""},{"$f":"IF('Terugvordering reiskosten OAH'!AJ315=\"\",\"\",'Terugvordering reiskosten OAH'!AJ315)","v":""},{"$f":"IF('Terugvordering reiskosten OAH'!AR315=\"\",\"\",'Terugvordering reiskosten OAH'!AR315)","v":""},{"$f":"IF('Terugvordering reiskosten OAH'!AY315=\"\",\"\",'Terugvordering reiskosten OAH'!AY315)","v":""},{"$f":"IF('Terugvordering reiskosten OAH'!BC315=0,\"\",'Terugvordering reiskosten OAH'!BC315)","v":""},{"$f":"IF('Terugvordering reiskosten OAH'!BK315=0,\"\",'Terugvordering reiskosten OAH'!BK315)","v":""},{"$f":"IF('Terugvordering reiskosten OAH'!BR315=0,\"\",'Terugvordering reiskosten OAH'!BR315)","v":""},{"$f":"IF('Terugvordering reiskosten OAH'!BZ315=0,\"\",'Terugvordering reiskosten OAH'!BZ315)","v":""},{"$f":"IF('Terugvordering reiskosten OAH'!CG315=\"\",\"\",'Terugvordering reiskosten OAH'!CG315)","v":""},{"$f":"IF('Terugvordering reiskosten OAH'!CM315=0,\"\",'Terugvordering reiskosten OAH'!CM315)","v":""}]
[{"$f":"IF('Terugvordering reiskosten OAH'!D316=\"\",\"\",IF('Terugvordering reiskosten OAH'!$T$36=\"\",\"\",'Terugvordering reiskosten OAH'!$T$36))","v":""},{"$f":"IF(A244=\"\",\"\",'Terugvordering reiskosten OAH'!$T$38)","v":""},{"$f":"IF(A244=\"\",\"\",'gegevensblad samenvatting vord.'!$C$2)","v":""},{"$f":"IF('Terugvordering reiskosten OAH'!D316=\"\",\"\",TEXT('Terugvordering reiskosten OAH'!D316,\"mm-jjjj\"))","v":""},{"$f":"IF('Terugvordering reiskosten OAH'!H316=\"\",\"\",'Terugvordering reiskosten OAH'!H316)","v":""},{"$f":"IF('Terugvordering reiskosten OAH'!R316=\"\",\"\",'Terugvordering reiskosten OAH'!R316)","v":""},{"$f":"IF('Terugvordering reiskosten OAH'!X316=\"\",\"\",'Terugvordering reiskosten OAH'!X316)","v":""},{"$f":"IF('Terugvordering reiskosten OAH'!AJ316=\"\",\"\",'Terugvordering reiskosten OAH'!AJ316)","v":""},{"$f":"IF('Terugvordering reiskosten OAH'!AR316=\"\",\"\",'Terugvordering reiskosten OAH'!AR316)","v":""},{"$f":"IF('Terugvordering reiskosten OAH'!AY316=\"\",\"\",'Terugvordering reiskosten OAH'!AY316)","v":""},{"$f":"IF('Terugvordering reiskosten OAH'!BC316=0,\"\",'Terugvordering reiskosten OAH'!BC316)","v":""},{"$f":"IF('Terugvordering reiskosten OAH'!BK316=0,\"\",'Terugvordering reiskosten OAH'!BK316)","v":""},{"$f":"IF('Terugvordering reiskosten OAH'!BR316=0,\"\",'Terugvordering reiskosten OAH'!BR316)","v":""},{"$f":"IF('Terugvordering reiskosten OAH'!BZ316=0,\"\",'Terugvordering reiskosten OAH'!BZ316)","v":""},{"$f":"IF('Terugvordering reiskosten OAH'!CG316=\"\",\"\",'Terugvordering reiskosten OAH'!CG316)","v":""},{"$f":"IF('Terugvordering reiskosten OAH'!CM316=0,\"\",'Terugvordering reiskosten OAH'!CM316)","v":""}]
[{"$f":"IF('Terugvordering reiskosten OAH'!D317=\"\",\"\",IF('Terugvordering reiskosten OAH'!$T$36=\"\",\"\",'Terugvordering reiskosten OAH'!$T$36))","v":""},{"$f":"IF(A245=\"\",\"\",'Terugvordering reiskosten OAH'!$T$38)","v":""},{"$f":"IF(A245=\"\",\"\",'gegevensblad samenvatting vord.'!$C$2)","v":""},{"$f":"IF('Terugvordering reiskosten OAH'!D317=\"\",\"\",TEXT('Terugvordering reiskosten OAH'!D317,\"mm-jjjj\"))","v":""},{"$f":"IF('Terugvordering reiskosten OAH'!H317=\"\",\"\",'Terugvordering reiskosten OAH'!H317)","v":""},{"$f":"IF('Terugvordering reiskosten OAH'!R317=\"\",\"\",'Terugvordering reiskosten OAH'!R317)","v":""},{"$f":"IF('Terugvordering reiskosten OAH'!X317=\"\",\"\",'Terugvordering reiskosten OAH'!X317)","v":""},{"$f":"IF('Terugvordering reiskosten OAH'!AJ317=\"\",\"\",'Terugvordering reiskosten OAH'!AJ317)","v":""},{"$f":"IF('Terugvordering reiskosten OAH'!AR317=\"\",\"\",'Terugvordering reiskosten OAH'!AR317)","v":""},{"$f":"IF('Terugvordering reiskosten OAH'!AY317=\"\",\"\",'Terugvordering reiskosten OAH'!AY317)","v":""},{"$f":"IF('Terugvordering reiskosten OAH'!BC317=0,\"\",'Terugvordering reiskosten OAH'!BC317)","v":""},{"$f":"IF('Terugvordering reiskosten OAH'!BK317=0,\"\",'Terugvordering reiskosten OAH'!BK317)","v":""},{"$f":"IF('Terugvordering reiskosten OAH'!BR317=0,\"\",'Terugvordering reiskosten OAH'!BR317)","v":""},{"$f":"IF('Terugvordering reiskosten OAH'!BZ317=0,\"\",'Terugvordering reiskosten OAH'!BZ317)","v":""},{"$f":"IF('Terugvordering reiskosten OAH'!CG317=\"\",\"\",'Terugvordering reiskosten OAH'!CG317)","v":""},{"$f":"IF('Terugvordering reiskosten OAH'!CM317=0,\"\",'Terugvordering reiskosten OAH'!CM317)","v":""}]
[{"$f":"IF('Terugvordering reiskosten OAH'!D318=\"\",\"\",IF('Terugvordering reiskosten OAH'!$T$36=\"\",\"\",'Terugvordering reiskosten OAH'!$T$36))","v":""},{"$f":"IF(A246=\"\",\"\",'Terugvordering reiskosten OAH'!$T$38)","v":""},{"$f":"IF(A246=\"\",\"\",'gegevensblad samenvatting vord.'!$C$2)","v":""},{"$f":"IF('Terugvordering reiskosten OAH'!D318=\"\",\"\",TEXT('Terugvordering reiskosten OAH'!D318,\"mm-jjjj\"))","v":""},{"$f":"IF('Terugvordering reiskosten OAH'!H318=\"\",\"\",'Terugvordering reiskosten OAH'!H318)","v":""},{"$f":"IF('Terugvordering reiskosten OAH'!R318=\"\",\"\",'Terugvordering reiskosten OAH'!R318)","v":""},{"$f":"IF('Terugvordering reiskosten OAH'!X318=\"\",\"\",'Terugvordering reiskosten OAH'!X318)","v":""},{"$f":"IF('Terugvordering reiskosten OAH'!AJ318=\"\",\"\",'Terugvordering reiskosten OAH'!AJ318)","v":""},{"$f":"IF('Terugvordering reiskosten OAH'!AR318=\"\",\"\",'Terugvordering reiskosten OAH'!AR318)","v":""},{"$f":"IF('Terugvordering reiskosten OAH'!AY318=\"\",\"\",'Terugvordering reiskosten OAH'!AY318)","v":""},{"$f":"IF('Terugvordering reiskosten OAH'!BC318=0,\"\",'Terugvordering reiskosten OAH'!BC318)","v":""},{"$f":"IF('Terugvordering reiskosten OAH'!BK318=0,\"\",'Terugvordering reiskosten OAH'!BK318)","v":""},{"$f":"IF('Terugvordering reiskosten OAH'!BR318=0,\"\",'Terugvordering reiskosten OAH'!BR318)","v":""},{"$f":"IF('Terugvordering reiskosten OAH'!BZ318=0,\"\",'Terugvordering reiskosten OAH'!BZ318)","v":""},{"$f":"IF('Terugvordering reiskosten OAH'!CG318=\"\",\"\",'Terugvordering reiskosten OAH'!CG318)","v":""},{"$f":"IF('Terugvordering reiskosten OAH'!CM318=0,\"\",'Terugvordering reiskosten OAH'!CM318)","v":""}]
[{"$f":"IF('Terugvordering reiskosten OAH'!D319=\"\",\"\",IF('Terugvordering reiskosten OAH'!$T$36=\"\",\"\",'Terugvordering reiskosten OAH'!$T$36))","v":""},{"$f":"IF(A247=\"\",\"\",'Terugvordering reiskosten OAH'!$T$38)","v":""},{"$f":"IF(A247=\"\",\"\",'gegevensblad samenvatting vord.'!$C$2)","v":""},{"$f":"IF('Terugvordering reiskosten OAH'!D319=\"\",\"\",TEXT('Terugvordering reiskosten OAH'!D319,\"mm-jjjj\"))","v":""},{"$f":"IF('Terugvordering reiskosten OAH'!H319=\"\",\"\",'Terugvordering reiskosten OAH'!H319)","v":""},{"$f":"IF('Terugvordering reiskosten OAH'!R319=\"\",\"\",'Terugvordering reiskosten OAH'!R319)","v":""},{"$f":"IF('Terugvordering reiskosten OAH'!X319=\"\",\"\",'Terugvordering reiskosten OAH'!X319)","v":""},{"$f":"IF('Terugvordering reiskosten OAH'!AJ319=\"\",\"\",'Terugvordering reiskosten OAH'!AJ319)","v":""},{"$f":"IF('Terugvordering reiskosten OAH'!AR319=\"\",\"\",'Terugvordering reiskosten OAH'!AR319)","v":""},{"$f":"IF('Terugvordering reiskosten OAH'!AY319=\"\",\"\",'Terugvordering reiskosten OAH'!AY319)","v":""},{"$f":"IF('Terugvordering reiskosten OAH'!BC319=0,\"\",'Terugvordering reiskosten OAH'!BC319)","v":""},{"$f":"IF('Terugvordering reiskosten OAH'!BK319=0,\"\",'Terugvordering reiskosten OAH'!BK319)","v":""},{"$f":"IF('Terugvordering reiskosten OAH'!BR319=0,\"\",'Terugvordering reiskosten OAH'!BR319)","v":""},{"$f":"IF('Terugvordering reiskosten OAH'!BZ319=0,\"\",'Terugvordering reiskosten OAH'!BZ319)","v":""},{"$f":"IF('Terugvordering reiskosten OAH'!CG319=\"\",\"\",'Terugvordering reiskosten OAH'!CG319)","v":""},{"$f":"IF('Terugvordering reiskosten OAH'!CM319=0,\"\",'Terugvordering reiskosten OAH'!CM319)","v":""}]
[{"$f":"IF('Terugvordering reiskosten OAH'!D320=\"\",\"\",IF('Terugvordering reiskosten OAH'!$T$36=\"\",\"\",'Terugvordering reiskosten OAH'!$T$36))","v":""},{"$f":"IF(A248=\"\",\"\",'Terugvordering reiskosten OAH'!$T$38)","v":""},{"$f":"IF(A248=\"\",\"\",'gegevensblad samenvatting vord.'!$C$2)","v":""},{"$f":"IF('Terugvordering reiskosten OAH'!D320=\"\",\"\",TEXT('Terugvordering reiskosten OAH'!D320,\"mm-jjjj\"))","v":""},{"$f":"IF('Terugvordering reiskosten OAH'!H320=\"\",\"\",'Terugvordering reiskosten OAH'!H320)","v":""},{"$f":"IF('Terugvordering reiskosten OAH'!R320=\"\",\"\",'Terugvordering reiskosten OAH'!R320)","v":""},{"$f":"IF('Terugvordering reiskosten OAH'!X320=\"\",\"\",'Terugvordering reiskosten OAH'!X320)","v":""},{"$f":"IF('Terugvordering reiskosten OAH'!AJ320=\"\",\"\",'Terugvordering reiskosten OAH'!AJ320)","v":""},{"$f":"IF('Terugvordering reiskosten OAH'!AR320=\"\",\"\",'Terugvordering reiskosten OAH'!AR320)","v":""},{"$f":"IF('Terugvordering reiskosten OAH'!AY320=\"\",\"\",'Terugvordering reiskosten OAH'!AY320)","v":""},{"$f":"IF('Terugvordering reiskosten OAH'!BC320=0,\"\",'Terugvordering reiskosten OAH'!BC320)","v":""},{"$f":"IF('Terugvordering reiskosten OAH'!BK320=0,\"\",'Terugvordering reiskosten OAH'!BK320)","v":""},{"$f":"IF('Terugvordering reiskosten OAH'!BR320=0,\"\",'Terugvordering reiskosten OAH'!BR320)","v":""},{"$f":"IF('Terugvordering reiskosten OAH'!BZ320=0,\"\",'Terugvordering reiskosten OAH'!BZ320)","v":""},{"$f":"IF('Terugvordering reiskosten OAH'!CG320=\"\",\"\",'Terugvordering reiskosten OAH'!CG320)","v":""},{"$f":"IF('Terugvordering reiskosten OAH'!CM320=0,\"\",'Terugvordering reiskosten OAH'!CM320)","v":""}]
[{"$f":"IF('Terugvordering reiskosten OAH'!D321=\"\",\"\",IF('Terugvordering reiskosten OAH'!$T$36=\"\",\"\",'Terugvordering reiskosten OAH'!$T$36))","v":""},{"$f":"IF(A249=\"\",\"\",'Terugvordering reiskosten OAH'!$T$38)","v":""},{"$f":"IF(A249=\"\",\"\",'gegevensblad samenvatting vord.'!$C$2)","v":""},{"$f":"IF('Terugvordering reiskosten OAH'!D321=\"\",\"\",TEXT('Terugvordering reiskosten OAH'!D321,\"mm-jjjj\"))","v":""},{"$f":"IF('Terugvordering reiskosten OAH'!H321=\"\",\"\",'Terugvordering reiskosten OAH'!H321)","v":""},{"$f":"IF('Terugvordering reiskosten OAH'!R321=\"\",\"\",'Terugvordering reiskosten OAH'!R321)","v":""},{"$f":"IF('Terugvordering reiskosten OAH'!X321=\"\",\"\",'Terugvordering reiskosten OAH'!X321)","v":""},{"$f":"IF('Terugvordering reiskosten OAH'!AJ321=\"\",\"\",'Terugvordering reiskosten OAH'!AJ321)","v":""},{"$f":"IF('Terugvordering reiskosten OAH'!AR321=\"\",\"\",'Terugvordering reiskosten OAH'!AR321)","v":""},{"$f":"IF('Terugvordering reiskosten OAH'!AY321=\"\",\"\",'Terugvordering reiskosten OAH'!AY321)","v":""},{"$f":"IF('Terugvordering reiskosten OAH'!BC321=0,\"\",'Terugvordering reiskosten OAH'!BC321)","v":""},{"$f":"IF('Terugvordering reiskosten OAH'!BK321=0,\"\",'Terugvordering reiskosten OAH'!BK321)","v":""},{"$f":"IF('Terugvordering reiskosten OAH'!BR321=0,\"\",'Terugvordering reiskosten OAH'!BR321)","v":""},{"$f":"IF('Terugvordering reiskosten OAH'!BZ321=0,\"\",'Terugvordering reiskosten OAH'!BZ321)","v":""},{"$f":"IF('Terugvordering reiskosten OAH'!CG321=\"\",\"\",'Terugvordering reiskosten OAH'!CG321)","v":""},{"$f":"IF('Terugvordering reiskosten OAH'!CM321=0,\"\",'Terugvordering reiskosten OAH'!CM321)","v":""}]
[{"$f":"IF('Terugvordering reiskosten OAH'!D322=\"\",\"\",IF('Terugvordering reiskosten OAH'!$T$36=\"\",\"\",'Terugvordering reiskosten OAH'!$T$36))","v":""},{"$f":"IF(A250=\"\",\"\",'Terugvordering reiskosten OAH'!$T$38)","v":""},{"$f":"IF(A250=\"\",\"\",'gegevensblad samenvatting vord.'!$C$2)","v":""},{"$f":"IF('Terugvordering reiskosten OAH'!D322=\"\",\"\",TEXT('Terugvordering reiskosten OAH'!D322,\"mm-jjjj\"))","v":""},{"$f":"IF('Terugvordering reiskosten OAH'!H322=\"\",\"\",'Terugvordering reiskosten OAH'!H322)","v":""},{"$f":"IF('Terugvordering reiskosten OAH'!R322=\"\",\"\",'Terugvordering reiskosten OAH'!R322)","v":""},{"$f":"IF('Terugvordering reiskosten OAH'!X322=\"\",\"\",'Terugvordering reiskosten OAH'!X322)","v":""},{"$f":"IF('Terugvordering reiskosten OAH'!AJ322=\"\",\"\",'Terugvordering reiskosten OAH'!AJ322)","v":""},{"$f":"IF('Terugvordering reiskosten OAH'!AR322=\"\",\"\",'Terugvordering reiskosten OAH'!AR322)","v":""},{"$f":"IF('Terugvordering reiskosten OAH'!AY322=\"\",\"\",'Terugvordering reiskosten OAH'!AY322)","v":""},{"$f":"IF('Terugvordering reiskosten OAH'!BC322=0,\"\",'Terugvordering reiskosten OAH'!BC322)","v":""},{"$f":"IF('Terugvordering reiskosten OAH'!BK322=0,\"\",'Terugvordering reiskosten OAH'!BK322)","v":""},{"$f":"IF('Terugvordering reiskosten OAH'!BR322=0,\"\",'Terugvordering reiskosten OAH'!BR322)","v":""},{"$f":"IF('Terugvordering reiskosten OAH'!BZ322=0,\"\",'Terugvordering reiskosten OAH'!BZ322)","v":""},{"$f":"IF('Terugvordering reiskosten OAH'!CG322=\"\",\"\",'Terugvordering reiskosten OAH'!CG322)","v":""},{"$f":"IF('Terugvordering reiskosten OAH'!CM322=0,\"\",'Terugvordering reiskosten OAH'!CM322)","v":""}]
[{"$f":"IF('Terugvordering reiskosten OAH'!D323=\"\",\"\",IF('Terugvordering reiskosten OAH'!$T$36=\"\",\"\",'Terugvordering reiskosten OAH'!$T$36))","v":""},{"$f":"IF(A251=\"\",\"\",'Terugvordering reiskosten OAH'!$T$38)","v":""},{"$f":"IF(A251=\"\",\"\",'gegevensblad samenvatting vord.'!$C$2)","v":""},{"$f":"IF('Terugvordering reiskosten OAH'!D323=\"\",\"\",TEXT('Terugvordering reiskosten OAH'!D323,\"mm-jjjj\"))","v":""},{"$f":"IF('Terugvordering reiskosten OAH'!H323=\"\",\"\",'Terugvordering reiskosten OAH'!H323)","v":""},{"$f":"IF('Terugvordering reiskosten OAH'!R323=\"\",\"\",'Terugvordering reiskosten OAH'!R323)","v":""},{"$f":"IF('Terugvordering reiskosten OAH'!X323=\"\",\"\",'Terugvordering reiskosten OAH'!X323)","v":""},{"$f":"IF('Terugvordering reiskosten OAH'!AJ323=\"\",\"\",'Terugvordering reiskosten OAH'!AJ323)","v":""},{"$f":"IF('Terugvordering reiskosten OAH'!AR323=\"\",\"\",'Terugvordering reiskosten OAH'!AR323)","v":""},{"$f":"IF('Terugvordering reiskosten OAH'!AY323=\"\",\"\",'Terugvordering reiskosten OAH'!AY323)","v":""},{"$f":"IF('Terugvordering reiskosten OAH'!BC323=0,\"\",'Terugvordering reiskosten OAH'!BC323)","v":""},{"$f":"IF('Terugvordering reiskosten OAH'!BK323=0,\"\",'Terugvordering reiskosten OAH'!BK323)","v":""},{"$f":"IF('Terugvordering reiskosten OAH'!BR323=0,\"\",'Terugvordering reiskosten OAH'!BR323)","v":""},{"$f":"IF('Terugvordering reiskosten OAH'!BZ323=0,\"\",'Terugvordering reiskosten OAH'!BZ323)","v":""},{"$f":"IF('Terugvordering reiskosten OAH'!CG323=\"\",\"\",'Terugvordering reiskosten OAH'!CG323)","v":""},{"$f":"IF('Terugvordering reiskosten OAH'!CM323=0,\"\",'Terugvordering reiskosten OAH'!CM323)","v":""}]
[{"$f":"IF('Terugvordering reiskosten OAH'!D324=\"\",\"\",IF('Terugvordering reiskosten OAH'!$T$36=\"\",\"\",'Terugvordering reiskosten OAH'!$T$36))","v":""},{"$f":"IF(A252=\"\",\"\",'Terugvordering reiskosten OAH'!$T$38)","v":""},{"$f":"IF(A252=\"\",\"\",'gegevensblad samenvatting vord.'!$C$2)","v":""},{"$f":"IF('Terugvordering reiskosten OAH'!D324=\"\",\"\",TEXT('Terugvordering reiskosten OAH'!D324,\"mm-jjjj\"))","v":""},{"$f":"IF('Terugvordering reiskosten OAH'!H324=\"\",\"\",'Terugvordering reiskosten OAH'!H324)","v":""},{"$f":"IF('Terugvordering reiskosten OAH'!R324=\"\",\"\",'Terugvordering reiskosten OAH'!R324)","v":""},{"$f":"IF('Terugvordering reiskosten OAH'!X324=\"\",\"\",'Terugvordering reiskosten OAH'!X324)","v":""},{"$f":"IF('Terugvordering reiskosten OAH'!AJ324=\"\",\"\",'Terugvordering reiskosten OAH'!AJ324)","v":""},{"$f":"IF('Terugvordering reiskosten OAH'!AR324=\"\",\"\",'Terugvordering reiskosten OAH'!AR324)","v":""},{"$f":"IF('Terugvordering reiskosten OAH'!AY324=\"\",\"\",'Terugvordering reiskosten OAH'!AY324)","v":""},{"$f":"IF('Terugvordering reiskosten OAH'!BC324=0,\"\",'Terugvordering reiskosten OAH'!BC324)","v":""},{"$f":"IF('Terugvordering reiskosten OAH'!BK324=0,\"\",'Terugvordering reiskosten OAH'!BK324)","v":""},{"$f":"IF('Terugvordering reiskosten OAH'!BR324=0,\"\",'Terugvordering reiskosten OAH'!BR324)","v":""},{"$f":"IF('Terugvordering reiskosten OAH'!BZ324=0,\"\",'Terugvordering reiskosten OAH'!BZ324)","v":""},{"$f":"IF('Terugvordering reiskosten OAH'!CG324=\"\",\"\",'Terugvordering reiskosten OAH'!CG324)","v":""},{"$f":"IF('Terugvordering reiskosten OAH'!CM324=0,\"\",'Terugvordering reiskosten OAH'!CM324)","v":""}]
[{"$f":"IF('Terugvordering reiskosten OAH'!D325=\"\",\"\",IF('Terugvordering reiskosten OAH'!$T$36=\"\",\"\",'Terugvordering reiskosten OAH'!$T$36))","v":""},{"$f":"IF(A253=\"\",\"\",'Terugvordering reiskosten OAH'!$T$38)","v":""},{"$f":"IF(A253=\"\",\"\",'gegevensblad samenvatting vord.'!$C$2)","v":""},{"$f":"IF('Terugvordering reiskosten OAH'!D325=\"\",\"\",TEXT('Terugvordering reiskosten OAH'!D325,\"mm-jjjj\"))","v":""},{"$f":"IF('Terugvordering reiskosten OAH'!H325=\"\",\"\",'Terugvordering reiskosten OAH'!H325)","v":""},{"$f":"IF('Terugvordering reiskosten OAH'!R325=\"\",\"\",'Terugvordering reiskosten OAH'!R325)","v":""},{"$f":"IF('Terugvordering reiskosten OAH'!X325=\"\",\"\",'Terugvordering reiskosten OAH'!X325)","v":""},{"$f":"IF('Terugvordering reiskosten OAH'!AJ325=\"\",\"\",'Terugvordering reiskosten OAH'!AJ325)","v":""},{"$f":"IF('Terugvordering reiskosten OAH'!AR325=\"\",\"\",'Terugvordering reiskosten OAH'!AR325)","v":""},{"$f":"IF('Terugvordering reiskosten OAH'!AY325=\"\",\"\",'Terugvordering reiskosten OAH'!AY325)","v":""},{"$f":"IF('Terugvordering reiskosten OAH'!BC325=0,\"\",'Terugvordering reiskosten OAH'!BC325)","v":""},{"$f":"IF('Terugvordering reiskosten OAH'!BK325=0,\"\",'Terugvordering reiskosten OAH'!BK325)","v":""},{"$f":"IF('Terugvordering reiskosten OAH'!BR325=0,\"\",'Terugvordering reiskosten OAH'!BR325)","v":""},{"$f":"IF('Terugvordering reiskosten OAH'!BZ325=0,\"\",'Terugvordering reiskosten OAH'!BZ325)","v":""},{"$f":"IF('Terugvordering reiskosten OAH'!CG325=\"\",\"\",'Terugvordering reiskosten OAH'!CG325)","v":""},{"$f":"IF('Terugvordering reiskosten OAH'!CM325=0,\"\",'Terugvordering reiskosten OAH'!CM325)","v":""}]
[{"$f":"IF('Terugvordering reiskosten OAH'!D326=\"\",\"\",IF('Terugvordering reiskosten OAH'!$T$36=\"\",\"\",'Terugvordering reiskosten OAH'!$T$36))","v":""},{"$f":"IF(A254=\"\",\"\",'Terugvordering reiskosten OAH'!$T$38)","v":""},{"$f":"IF(A254=\"\",\"\",'gegevensblad samenvatting vord.'!$C$2)","v":""},{"$f":"IF('Terugvordering reiskosten OAH'!D326=\"\",\"\",TEXT('Terugvordering reiskosten OAH'!D326,\"mm-jjjj\"))","v":""},{"$f":"IF('Terugvordering reiskosten OAH'!H326=\"\",\"\",'Terugvordering reiskosten OAH'!H326)","v":""},{"$f":"IF('Terugvordering reiskosten OAH'!R326=\"\",\"\",'Terugvordering reiskosten OAH'!R326)","v":""},{"$f":"IF('Terugvordering reiskosten OAH'!X326=\"\",\"\",'Terugvordering reiskosten OAH'!X326)","v":""},{"$f":"IF('Terugvordering reiskosten OAH'!AJ326=\"\",\"\",'Terugvordering reiskosten OAH'!AJ326)","v":""},{"$f":"IF('Terugvordering reiskosten OAH'!AR326=\"\",\"\",'Terugvordering reiskosten OAH'!AR326)","v":""},{"$f":"IF('Terugvordering reiskosten OAH'!AY326=\"\",\"\",'Terugvordering reiskosten OAH'!AY326)","v":""},{"$f":"IF('Terugvordering reiskosten OAH'!BC326=0,\"\",'Terugvordering reiskosten OAH'!BC326)","v":""},{"$f":"IF('Terugvordering reiskosten OAH'!BK326=0,\"\",'Terugvordering reiskosten OAH'!BK326)","v":""},{"$f":"IF('Terugvordering reiskosten OAH'!BR326=0,\"\",'Terugvordering reiskosten OAH'!BR326)","v":""},{"$f":"IF('Terugvordering reiskosten OAH'!BZ326=0,\"\",'Terugvordering reiskosten OAH'!BZ326)","v":""},{"$f":"IF('Terugvordering reiskosten OAH'!CG326=\"\",\"\",'Terugvordering reiskosten OAH'!CG326)","v":""},{"$f":"IF('Terugvordering reiskosten OAH'!CM326=0,\"\",'Terugvordering reiskosten OAH'!CM326)","v":""}]
[{"$f":"IF('Terugvordering reiskosten OAH'!D327=\"\",\"\",IF('Terugvordering reiskosten OAH'!$T$36=\"\",\"\",'Terugvordering reiskosten OAH'!$T$36))","v":""},{"$f":"IF(A255=\"\",\"\",'Terugvordering reiskosten OAH'!$T$38)","v":""},{"$f":"IF(A255=\"\",\"\",'gegevensblad samenvatting vord.'!$C$2)","v":""},{"$f":"IF('Terugvordering reiskosten OAH'!D327=\"\",\"\",TEXT('Terugvordering reiskosten OAH'!D327,\"mm-jjjj\"))","v":""},{"$f":"IF('Terugvordering reiskosten OAH'!H327=\"\",\"\",'Terugvordering reiskosten OAH'!H327)","v":""},{"$f":"IF('Terugvordering reiskosten OAH'!R327=\"\",\"\",'Terugvordering reiskosten OAH'!R327)","v":""},{"$f":"IF('Terugvordering reiskosten OAH'!X327=\"\",\"\",'Terugvordering reiskosten OAH'!X327)","v":""},{"$f":"IF('Terugvordering reiskosten OAH'!AJ327=\"\",\"\",'Terugvordering reiskosten OAH'!AJ327)","v":""},{"$f":"IF('Terugvordering reiskosten OAH'!AR327=\"\",\"\",'Terugvordering reiskosten OAH'!AR327)","v":""},{"$f":"IF('Terugvordering reiskosten OAH'!AY327=\"\",\"\",'Terugvordering reiskosten OAH'!AY327)","v":""},{"$f":"IF('Terugvordering reiskosten OAH'!BC327=0,\"\",'Terugvordering reiskosten OAH'!BC327)","v":""},{"$f":"IF('Terugvordering reiskosten OAH'!BK327=0,\"\",'Terugvordering reiskosten OAH'!BK327)","v":""},{"$f":"IF('Terugvordering reiskosten OAH'!BR327=0,\"\",'Terugvordering reiskosten OAH'!BR327)","v":""},{"$f":"IF('Terugvordering reiskosten OAH'!BZ327=0,\"\",'Terugvordering reiskosten OAH'!BZ327)","v":""},{"$f":"IF('Terugvordering reiskosten OAH'!CG327=\"\",\"\",'Terugvordering reiskosten OAH'!CG327)","v":""},{"$f":"IF('Terugvordering reiskosten OAH'!CM327=0,\"\",'Terugvordering reiskosten OAH'!CM327)","v":""}]
[{"$f":"IF('Terugvordering reiskosten OAH'!D328=\"\",\"\",IF('Terugvordering reiskosten OAH'!$T$36=\"\",\"\",'Terugvordering reiskosten OAH'!$T$36))","v":""},{"$f":"IF(A256=\"\",\"\",'Terugvordering reiskosten OAH'!$T$38)","v":""},{"$f":"IF(A256=\"\",\"\",'gegevensblad samenvatting vord.'!$C$2)","v":""},{"$f":"IF('Terugvordering reiskosten OAH'!D328=\"\",\"\",TEXT('Terugvordering reiskosten OAH'!D328,\"mm-jjjj\"))","v":""},{"$f":"IF('Terugvordering reiskosten OAH'!H328=\"\",\"\",'Terugvordering reiskosten OAH'!H328)","v":""},{"$f":"IF('Terugvordering reiskosten OAH'!R328=\"\",\"\",'Terugvordering reiskosten OAH'!R328)","v":""},{"$f":"IF('Terugvordering reiskosten OAH'!X328=\"\",\"\",'Terugvordering reiskosten OAH'!X328)","v":""},{"$f":"IF('Terugvordering reiskosten OAH'!AJ328=\"\",\"\",'Terugvordering reiskosten OAH'!AJ328)","v":""},{"$f":"IF('Terugvordering reiskosten OAH'!AR328=\"\",\"\",'Terugvordering reiskosten OAH'!AR328)","v":""},{"$f":"IF('Terugvordering reiskosten OAH'!AY328=\"\",\"\",'Terugvordering reiskosten OAH'!AY328)","v":""},{"$f":"IF('Terugvordering reiskosten OAH'!BC328=0,\"\",'Terugvordering reiskosten OAH'!BC328)","v":""},{"$f":"IF('Terugvordering reiskosten OAH'!BK328=0,\"\",'Terugvordering reiskosten OAH'!BK328)","v":""},{"$f":"IF('Terugvordering reiskosten OAH'!BR328=0,\"\",'Terugvordering reiskosten OAH'!BR328)","v":""},{"$f":"IF('Terugvordering reiskosten OAH'!BZ328=0,\"\",'Terugvordering reiskosten OAH'!BZ328)","v":""},{"$f":"IF('Terugvordering reiskosten OAH'!CG328=\"\",\"\",'Terugvordering reiskosten OAH'!CG328)","v":""},{"$f":"IF('Terugvordering reiskosten OAH'!CM328=0,\"\",'Terugvordering reiskosten OAH'!CM328)","v":""}]
[{"$f":"IF('Terugvordering reiskosten OAH'!D329=\"\",\"\",IF('Terugvordering reiskosten OAH'!$T$36=\"\",\"\",'Terugvordering reiskosten OAH'!$T$36))","v":""},{"$f":"IF(A257=\"\",\"\",'Terugvordering reiskosten OAH'!$T$38)","v":""},{"$f":"IF(A257=\"\",\"\",'gegevensblad samenvatting vord.'!$C$2)","v":""},{"$f":"IF('Terugvordering reiskosten OAH'!D329=\"\",\"\",TEXT('Terugvordering reiskosten OAH'!D329,\"mm-jjjj\"))","v":""},{"$f":"IF('Terugvordering reiskosten OAH'!H329=\"\",\"\",'Terugvordering reiskosten OAH'!H329)","v":""},{"$f":"IF('Terugvordering reiskosten OAH'!R329=\"\",\"\",'Terugvordering reiskosten OAH'!R329)","v":""},{"$f":"IF('Terugvordering reiskosten OAH'!X329=\"\",\"\",'Terugvordering reiskosten OAH'!X329)","v":""},{"$f":"IF('Terugvordering reiskosten OAH'!AJ329=\"\",\"\",'Terugvordering reiskosten OAH'!AJ329)","v":""},{"$f":"IF('Terugvordering reiskosten OAH'!AR329=\"\",\"\",'Terugvordering reiskosten OAH'!AR329)","v":""},{"$f":"IF('Terugvordering reiskosten OAH'!AY329=\"\",\"\",'Terugvordering reiskosten OAH'!AY329)","v":""},{"$f":"IF('Terugvordering reiskosten OAH'!BC329=0,\"\",'Terugvordering reiskosten OAH'!BC329)","v":""},{"$f":"IF('Terugvordering reiskosten OAH'!BK329=0,\"\",'Terugvordering reiskosten OAH'!BK329)","v":""},{"$f":"IF('Terugvordering reiskosten OAH'!BR329=0,\"\",'Terugvordering reiskosten OAH'!BR329)","v":""},{"$f":"IF('Terugvordering reiskosten OAH'!BZ329=0,\"\",'Terugvordering reiskosten OAH'!BZ329)","v":""},{"$f":"IF('Terugvordering reiskosten OAH'!CG329=\"\",\"\",'Terugvordering reiskosten OAH'!CG329)","v":""},{"$f":"IF('Terugvordering reiskosten OAH'!CM329=0,\"\",'Terugvordering reiskosten OAH'!CM329)","v":""}]
[{"$f":"IF('Terugvordering reiskosten OAH'!D330=\"\",\"\",IF('Terugvordering reiskosten OAH'!$T$36=\"\",\"\",'Terugvordering reiskosten OAH'!$T$36))","v":""},{"$f":"IF(A258=\"\",\"\",'Terugvordering reiskosten OAH'!$T$38)","v":""},{"$f":"IF(A258=\"\",\"\",'gegevensblad samenvatting vord.'!$C$2)","v":""},{"$f":"IF('Terugvordering reiskosten OAH'!D330=\"\",\"\",TEXT('Terugvordering reiskosten OAH'!D330,\"mm-jjjj\"))","v":""},{"$f":"IF('Terugvordering reiskosten OAH'!H330=\"\",\"\",'Terugvordering reiskosten OAH'!H330)","v":""},{"$f":"IF('Terugvordering reiskosten OAH'!R330=\"\",\"\",'Terugvordering reiskosten OAH'!R330)","v":""},{"$f":"IF('Terugvordering reiskosten OAH'!X330=\"\",\"\",'Terugvordering reiskosten OAH'!X330)","v":""},{"$f":"IF('Terugvordering reiskosten OAH'!AJ330=\"\",\"\",'Terugvordering reiskosten OAH'!AJ330)","v":""},{"$f":"IF('Terugvordering reiskosten OAH'!AR330=\"\",\"\",'Terugvordering reiskosten OAH'!AR330)","v":""},{"$f":"IF('Terugvordering reiskosten OAH'!AY330=\"\",\"\",'Terugvordering reiskosten OAH'!AY330)","v":""},{"$f":"IF('Terugvordering reiskosten OAH'!BC330=0,\"\",'Terugvordering reiskosten OAH'!BC330)","v":""},{"$f":"IF('Terugvordering reiskosten OAH'!BK330=0,\"\",'Terugvordering reiskosten OAH'!BK330)","v":""},{"$f":"IF('Terugvordering reiskosten OAH'!BR330=0,\"\",'Terugvordering reiskosten OAH'!BR330)","v":""},{"$f":"IF('Terugvordering reiskosten OAH'!BZ330=0,\"\",'Terugvordering reiskosten OAH'!BZ330)","v":""},{"$f":"IF('Terugvordering reiskosten OAH'!CG330=\"\",\"\",'Terugvordering reiskosten OAH'!CG330)","v":""},{"$f":"IF('Terugvordering reiskosten OAH'!CM330=0,\"\",'Terugvordering reiskosten OAH'!CM330)","v":""}]
[{"$f":"IF('Terugvordering reiskosten OAH'!D331=\"\",\"\",IF('Terugvordering reiskosten OAH'!$T$36=\"\",\"\",'Terugvordering reiskosten OAH'!$T$36))","v":""},{"$f":"IF(A259=\"\",\"\",'Terugvordering reiskosten OAH'!$T$38)","v":""},{"$f":"IF(A259=\"\",\"\",'gegevensblad samenvatting vord.'!$C$2)","v":""},{"$f":"IF('Terugvordering reiskosten OAH'!D331=\"\",\"\",TEXT('Terugvordering reiskosten OAH'!D331,\"mm-jjjj\"))","v":""},{"$f":"IF('Terugvordering reiskosten OAH'!H331=\"\",\"\",'Terugvordering reiskosten OAH'!H331)","v":""},{"$f":"IF('Terugvordering reiskosten OAH'!R331=\"\",\"\",'Terugvordering reiskosten OAH'!R331)","v":""},{"$f":"IF('Terugvordering reiskosten OAH'!X331=\"\",\"\",'Terugvordering reiskosten OAH'!X331)","v":""},{"$f":"IF('Terugvordering reiskosten OAH'!AJ331=\"\",\"\",'Terugvordering reiskosten OAH'!AJ331)","v":""},{"$f":"IF('Terugvordering reiskosten OAH'!AR331=\"\",\"\",'Terugvordering reiskosten OAH'!AR331)","v":""},{"$f":"IF('Terugvordering reiskosten OAH'!AY331=\"\",\"\",'Terugvordering reiskosten OAH'!AY331)","v":""},{"$f":"IF('Terugvordering reiskosten OAH'!BC331=0,\"\",'Terugvordering reiskosten OAH'!BC331)","v":""},{"$f":"IF('Terugvordering reiskosten OAH'!BK331=0,\"\",'Terugvordering reiskosten OAH'!BK331)","v":""},{"$f":"IF('Terugvordering reiskosten OAH'!BR331=0,\"\",'Terugvordering reiskosten OAH'!BR331)","v":""},{"$f":"IF('Terugvordering reiskosten OAH'!BZ331=0,\"\",'Terugvordering reiskosten OAH'!BZ331)","v":""},{"$f":"IF('Terugvordering reiskosten OAH'!CG331=\"\",\"\",'Terugvordering reiskosten OAH'!CG331)","v":""},{"$f":"IF('Terugvordering reiskosten OAH'!CM331=0,\"\",'Terugvordering reiskosten OAH'!CM331)","v":""}]
[{"$f":"IF('Terugvordering reiskosten OAH'!D332=\"\",\"\",IF('Terugvordering reiskosten OAH'!$T$36=\"\",\"\",'Terugvordering reiskosten OAH'!$T$36))","v":""},{"$f":"IF(A260=\"\",\"\",'Terugvordering reiskosten OAH'!$T$38)","v":""},{"$f":"IF(A260=\"\",\"\",'gegevensblad samenvatting vord.'!$C$2)","v":""},{"$f":"IF('Terugvordering reiskosten OAH'!D332=\"\",\"\",TEXT('Terugvordering reiskosten OAH'!D332,\"mm-jjjj\"))","v":""},{"$f":"IF('Terugvordering reiskosten OAH'!H332=\"\",\"\",'Terugvordering reiskosten OAH'!H332)","v":""},{"$f":"IF('Terugvordering reiskosten OAH'!R332=\"\",\"\",'Terugvordering reiskosten OAH'!R332)","v":""},{"$f":"IF('Terugvordering reiskosten OAH'!X332=\"\",\"\",'Terugvordering reiskosten OAH'!X332)","v":""},{"$f":"IF('Terugvordering reiskosten OAH'!AJ332=\"\",\"\",'Terugvordering reiskosten OAH'!AJ332)","v":""},{"$f":"IF('Terugvordering reiskosten OAH'!AR332=\"\",\"\",'Terugvordering reiskosten OAH'!AR332)","v":""},{"$f":"IF('Terugvordering reiskosten OAH'!AY332=\"\",\"\",'Terugvordering reiskosten OAH'!AY332)","v":""},{"$f":"IF('Terugvordering reiskosten OAH'!BC332=0,\"\",'Terugvordering reiskosten OAH'!BC332)","v":""},{"$f":"IF('Terugvordering reiskosten OAH'!BK332=0,\"\",'Terugvordering reiskosten OAH'!BK332)","v":""},{"$f":"IF('Terugvordering reiskosten OAH'!BR332=0,\"\",'Terugvordering reiskosten OAH'!BR332)","v":""},{"$f":"IF('Terugvordering reiskosten OAH'!BZ332=0,\"\",'Terugvordering reiskosten OAH'!BZ332)","v":""},{"$f":"IF('Terugvordering reiskosten OAH'!CG332=\"\",\"\",'Terugvordering reiskosten OAH'!CG332)","v":""},{"$f":"IF('Terugvordering reiskosten OAH'!CM332=0,\"\",'Terugvordering reiskosten OAH'!CM332)","v":""}]
[{"$f":"IF('Terugvordering reiskosten OAH'!D333=\"\",\"\",IF('Terugvordering reiskosten OAH'!$T$36=\"\",\"\",'Terugvordering reiskosten OAH'!$T$36))","v":""},{"$f":"IF(A261=\"\",\"\",'Terugvordering reiskosten OAH'!$T$38)","v":""},{"$f":"IF(A261=\"\",\"\",'gegevensblad samenvatting vord.'!$C$2)","v":""},{"$f":"IF('Terugvordering reiskosten OAH'!D333=\"\",\"\",TEXT('Terugvordering reiskosten OAH'!D333,\"mm-jjjj\"))","v":""},{"$f":"IF('Terugvordering reiskosten OAH'!H333=\"\",\"\",'Terugvordering reiskosten OAH'!H333)","v":""},{"$f":"IF('Terugvordering reiskosten OAH'!R333=\"\",\"\",'Terugvordering reiskosten OAH'!R333)","v":""},{"$f":"IF('Terugvordering reiskosten OAH'!X333=\"\",\"\",'Terugvordering reiskosten OAH'!X333)","v":""},{"$f":"IF('Terugvordering reiskosten OAH'!AJ333=\"\",\"\",'Terugvordering reiskosten OAH'!AJ333)","v":""},{"$f":"IF('Terugvordering reiskosten OAH'!AR333=\"\",\"\",'Terugvordering reiskosten OAH'!AR333)","v":""},{"$f":"IF('Terugvordering reiskosten OAH'!AY333=\"\",\"\",'Terugvordering reiskosten OAH'!AY333)","v":""},{"$f":"IF('Terugvordering reiskosten OAH'!BC333=0,\"\",'Terugvordering reiskosten OAH'!BC333)","v":""},{"$f":"IF('Terugvordering reiskosten OAH'!BK333=0,\"\",'Terugvordering reiskosten OAH'!BK333)","v":""},{"$f":"IF('Terugvordering reiskosten OAH'!BR333=0,\"\",'Terugvordering reiskosten OAH'!BR333)","v":""},{"$f":"IF('Terugvordering reiskosten OAH'!BZ333=0,\"\",'Terugvordering reiskosten OAH'!BZ333)","v":""},{"$f":"IF('Terugvordering reiskosten OAH'!CG333=\"\",\"\",'Terugvordering reiskosten OAH'!CG333)","v":""},{"$f":"IF('Terugvordering reiskosten OAH'!CM333=0,\"\",'Terugvordering reiskosten OAH'!CM333)","v":""}]
[{"$f":"IF('Terugvordering reiskosten OAH'!D334=\"\",\"\",IF('Terugvordering reiskosten OAH'!$T$36=\"\",\"\",'Terugvordering reiskosten OAH'!$T$36))","v":""},{"$f":"IF(A262=\"\",\"\",'Terugvordering reiskosten OAH'!$T$38)","v":""},{"$f":"IF(A262=\"\",\"\",'gegevensblad samenvatting vord.'!$C$2)","v":""},{"$f":"IF('Terugvordering reiskosten OAH'!D334=\"\",\"\",TEXT('Terugvordering reiskosten OAH'!D334,\"mm-jjjj\"))","v":""},{"$f":"IF('Terugvordering reiskosten OAH'!H334=\"\",\"\",'Terugvordering reiskosten OAH'!H334)","v":""},{"$f":"IF('Terugvordering reiskosten OAH'!R334=\"\",\"\",'Terugvordering reiskosten OAH'!R334)","v":""},{"$f":"IF('Terugvordering reiskosten OAH'!X334=\"\",\"\",'Terugvordering reiskosten OAH'!X334)","v":""},{"$f":"IF('Terugvordering reiskosten OAH'!AJ334=\"\",\"\",'Terugvordering reiskosten OAH'!AJ334)","v":""},{"$f":"IF('Terugvordering reiskosten OAH'!AR334=\"\",\"\",'Terugvordering reiskosten OAH'!AR334)","v":""},{"$f":"IF('Terugvordering reiskosten OAH'!AY334=\"\",\"\",'Terugvordering reiskosten OAH'!AY334)","v":""},{"$f":"IF('Terugvordering reiskosten OAH'!BC334=0,\"\",'Terugvordering reiskosten OAH'!BC334)","v":""},{"$f":"IF('Terugvordering reiskosten OAH'!BK334=0,\"\",'Terugvordering reiskosten OAH'!BK334)","v":""},{"$f":"IF('Terugvordering reiskosten OAH'!BR334=0,\"\",'Terugvordering reiskosten OAH'!BR334)","v":""},{"$f":"IF('Terugvordering reiskosten OAH'!BZ334=0,\"\",'Terugvordering reiskosten OAH'!BZ334)","v":""},{"$f":"IF('Terugvordering reiskosten OAH'!CG334=\"\",\"\",'Terugvordering reiskosten OAH'!CG334)","v":""},{"$f":"IF('Terugvordering reiskosten OAH'!CM334=0,\"\",'Terugvordering reiskosten OAH'!CM334)","v":""}]
[{"$f":"IF('Terugvordering reiskosten OAH'!D335=\"\",\"\",IF('Terugvordering reiskosten OAH'!$T$36=\"\",\"\",'Terugvordering reiskosten OAH'!$T$36))","v":""},{"$f":"IF(A263=\"\",\"\",'Terugvordering reiskosten OAH'!$T$38)","v":""},{"$f":"IF(A263=\"\",\"\",'gegevensblad samenvatting vord.'!$C$2)","v":""},{"$f":"IF('Terugvordering reiskosten OAH'!D335=\"\",\"\",TEXT('Terugvordering reiskosten OAH'!D335,\"mm-jjjj\"))","v":""},{"$f":"IF('Terugvordering reiskosten OAH'!H335=\"\",\"\",'Terugvordering reiskosten OAH'!H335)","v":""},{"$f":"IF('Terugvordering reiskosten OAH'!R335=\"\",\"\",'Terugvordering reiskosten OAH'!R335)","v":""},{"$f":"IF('Terugvordering reiskosten OAH'!X335=\"\",\"\",'Terugvordering reiskosten OAH'!X335)","v":""},{"$f":"IF('Terugvordering reiskosten OAH'!AJ335=\"\",\"\",'Terugvordering reiskosten OAH'!AJ335)","v":""},{"$f":"IF('Terugvordering reiskosten OAH'!AR335=\"\",\"\",'Terugvordering reiskosten OAH'!AR335)","v":""},{"$f":"IF('Terugvordering reiskosten OAH'!AY335=\"\",\"\",'Terugvordering reiskosten OAH'!AY335)","v":""},{"$f":"IF('Terugvordering reiskosten OAH'!BC335=0,\"\",'Terugvordering reiskosten OAH'!BC335)","v":""},{"$f":"IF('Terugvordering reiskosten OAH'!BK335=0,\"\",'Terugvordering reiskosten OAH'!BK335)","v":""},{"$f":"IF('Terugvordering reiskosten OAH'!BR335=0,\"\",'Terugvordering reiskosten OAH'!BR335)","v":""},{"$f":"IF('Terugvordering reiskosten OAH'!BZ335=0,\"\",'Terugvordering reiskosten OAH'!BZ335)","v":""},{"$f":"IF('Terugvordering reiskosten OAH'!CG335=\"\",\"\",'Terugvordering reiskosten OAH'!CG335)","v":""},{"$f":"IF('Terugvordering reiskosten OAH'!CM335=0,\"\",'Terugvordering reiskosten OAH'!CM335)","v":""}]
[{"$f":"IF('Terugvordering reiskosten OAH'!D336=\"\",\"\",IF('Terugvordering reiskosten OAH'!$T$36=\"\",\"\",'Terugvordering reiskosten OAH'!$T$36))","v":""},{"$f":"IF(A264=\"\",\"\",'Terugvordering reiskosten OAH'!$T$38)","v":""},{"$f":"IF(A264=\"\",\"\",'gegevensblad samenvatting vord.'!$C$2)","v":""},{"$f":"IF('Terugvordering reiskosten OAH'!D336=\"\",\"\",TEXT('Terugvordering reiskosten OAH'!D336,\"mm-jjjj\"))","v":""},{"$f":"IF('Terugvordering reiskosten OAH'!H336=\"\",\"\",'Terugvordering reiskosten OAH'!H336)","v":""},{"$f":"IF('Terugvordering reiskosten OAH'!R336=\"\",\"\",'Terugvordering reiskosten OAH'!R336)","v":""},{"$f":"IF('Terugvordering reiskosten OAH'!X336=\"\",\"\",'Terugvordering reiskosten OAH'!X336)","v":""},{"$f":"IF('Terugvordering reiskosten OAH'!AJ336=\"\",\"\",'Terugvordering reiskosten OAH'!AJ336)","v":""},{"$f":"IF('Terugvordering reiskosten OAH'!AR336=\"\",\"\",'Terugvordering reiskosten OAH'!AR336)","v":""},{"$f":"IF('Terugvordering reiskosten OAH'!AY336=\"\",\"\",'Terugvordering reiskosten OAH'!AY336)","v":""},{"$f":"IF('Terugvordering reiskosten OAH'!BC336=0,\"\",'Terugvordering reiskosten OAH'!BC336)","v":""},{"$f":"IF('Terugvordering reiskosten OAH'!BK336=0,\"\",'Terugvordering reiskosten OAH'!BK336)","v":""},{"$f":"IF('Terugvordering reiskosten OAH'!BR336=0,\"\",'Terugvordering reiskosten OAH'!BR336)","v":""},{"$f":"IF('Terugvordering reiskosten OAH'!BZ336=0,\"\",'Terugvordering reiskosten OAH'!BZ336)","v":""},{"$f":"IF('Terugvordering reiskosten OAH'!CG336=\"\",\"\",'Terugvordering reiskosten OAH'!CG336)","v":""},{"$f":"IF('Terugvordering reiskosten OAH'!CM336=0,\"\",'Terugvordering reiskosten OAH'!CM336)","v":""}]
[{"$f":"IF('Terugvordering reiskosten OAH'!D337=\"\",\"\",IF('Terugvordering reiskosten OAH'!$T$36=\"\",\"\",'Terugvordering reiskosten OAH'!$T$36))","v":""},{"$f":"IF(A265=\"\",\"\",'Terugvordering reiskosten OAH'!$T$38)","v":""},{"$f":"IF(A265=\"\",\"\",'gegevensblad samenvatting vord.'!$C$2)","v":""},{"$f":"IF('Terugvordering reiskosten OAH'!D337=\"\",\"\",TEXT('Terugvordering reiskosten OAH'!D337,\"mm-jjjj\"))","v":""},{"$f":"IF('Terugvordering reiskosten OAH'!H337=\"\",\"\",'Terugvordering reiskosten OAH'!H337)","v":""},{"$f":"IF('Terugvordering reiskosten OAH'!R337=\"\",\"\",'Terugvordering reiskosten OAH'!R337)","v":""},{"$f":"IF('Terugvordering reiskosten OAH'!X337=\"\",\"\",'Terugvordering reiskosten OAH'!X337)","v":""},{"$f":"IF('Terugvordering reiskosten OAH'!AJ337=\"\",\"\",'Terugvordering reiskosten OAH'!AJ337)","v":""},{"$f":"IF('Terugvordering reiskosten OAH'!AR337=\"\",\"\",'Terugvordering reiskosten OAH'!AR337)","v":""},{"$f":"IF('Terugvordering reiskosten OAH'!AY337=\"\",\"\",'Terugvordering reiskosten OAH'!AY337)","v":""},{"$f":"IF('Terugvordering reiskosten OAH'!BC337=0,\"\",'Terugvordering reiskosten OAH'!BC337)","v":""},{"$f":"IF('Terugvordering reiskosten OAH'!BK337=0,\"\",'Terugvordering reiskosten OAH'!BK337)","v":""},{"$f":"IF('Terugvordering reiskosten OAH'!BR337=0,\"\",'Terugvordering reiskosten OAH'!BR337)","v":""},{"$f":"IF('Terugvordering reiskosten OAH'!BZ337=0,\"\",'Terugvordering reiskosten OAH'!BZ337)","v":""},{"$f":"IF('Terugvordering reiskosten OAH'!CG337=\"\",\"\",'Terugvordering reiskosten OAH'!CG337)","v":""},{"$f":"IF('Terugvordering reiskosten OAH'!CM337=0,\"\",'Terugvordering reiskosten OAH'!CM337)","v":""}]
[{"$f":"IF('Terugvordering reiskosten OAH'!D338=\"\",\"\",IF('Terugvordering reiskosten OAH'!$T$36=\"\",\"\",'Terugvordering reiskosten OAH'!$T$36))","v":""},{"$f":"IF(A266=\"\",\"\",'Terugvordering reiskosten OAH'!$T$38)","v":""},{"$f":"IF(A266=\"\",\"\",'gegevensblad samenvatting vord.'!$C$2)","v":""},{"$f":"IF('Terugvordering reiskosten OAH'!D338=\"\",\"\",TEXT('Terugvordering reiskosten OAH'!D338,\"mm-jjjj\"))","v":""},{"$f":"IF('Terugvordering reiskosten OAH'!H338=\"\",\"\",'Terugvordering reiskosten OAH'!H338)","v":""},{"$f":"IF('Terugvordering reiskosten OAH'!R338=\"\",\"\",'Terugvordering reiskosten OAH'!R338)","v":""},{"$f":"IF('Terugvordering reiskosten OAH'!X338=\"\",\"\",'Terugvordering reiskosten OAH'!X338)","v":""},{"$f":"IF('Terugvordering reiskosten OAH'!AJ338=\"\",\"\",'Terugvordering reiskosten OAH'!AJ338)","v":""},{"$f":"IF('Terugvordering reiskosten OAH'!AR338=\"\",\"\",'Terugvordering reiskosten OAH'!AR338)","v":""},{"$f":"IF('Terugvordering reiskosten OAH'!AY338=\"\",\"\",'Terugvordering reiskosten OAH'!AY338)","v":""},{"$f":"IF('Terugvordering reiskosten OAH'!BC338=0,\"\",'Terugvordering reiskosten OAH'!BC338)","v":""},{"$f":"IF('Terugvordering reiskosten OAH'!BK338=0,\"\",'Terugvordering reiskosten OAH'!BK338)","v":""},{"$f":"IF('Terugvordering reiskosten OAH'!BR338=0,\"\",'Terugvordering reiskosten OAH'!BR338)","v":""},{"$f":"IF('Terugvordering reiskosten OAH'!BZ338=0,\"\",'Terugvordering reiskosten OAH'!BZ338)","v":""},{"$f":"IF('Terugvordering reiskosten OAH'!CG338=\"\",\"\",'Terugvordering reiskosten OAH'!CG338)","v":""},{"$f":"IF('Terugvordering reiskosten OAH'!CM338=0,\"\",'Terugvordering reiskosten OAH'!CM338)","v":""}]
[{"$f":"IF('Terugvordering reiskosten OAH'!D339=\"\",\"\",IF('Terugvordering reiskosten OAH'!$T$36=\"\",\"\",'Terugvordering reiskosten OAH'!$T$36))","v":""},{"$f":"IF(A267=\"\",\"\",'Terugvordering reiskosten OAH'!$T$38)","v":""},{"$f":"IF(A267=\"\",\"\",'gegevensblad samenvatting vord.'!$C$2)","v":""},{"$f":"IF('Terugvordering reiskosten OAH'!D339=\"\",\"\",TEXT('Terugvordering reiskosten OAH'!D339,\"mm-jjjj\"))","v":""},{"$f":"IF('Terugvordering reiskosten OAH'!H339=\"\",\"\",'Terugvordering reiskosten OAH'!H339)","v":""},{"$f":"IF('Terugvordering reiskosten OAH'!R339=\"\",\"\",'Terugvordering reiskosten OAH'!R339)","v":""},{"$f":"IF('Terugvordering reiskosten OAH'!X339=\"\",\"\",'Terugvordering reiskosten OAH'!X339)","v":""},{"$f":"IF('Terugvordering reiskosten OAH'!AJ339=\"\",\"\",'Terugvordering reiskosten OAH'!AJ339)","v":""},{"$f":"IF('Terugvordering reiskosten OAH'!AR339=\"\",\"\",'Terugvordering reiskosten OAH'!AR339)","v":""},{"$f":"IF('Terugvordering reiskosten OAH'!AY339=\"\",\"\",'Terugvordering reiskosten OAH'!AY339)","v":""},{"$f":"IF('Terugvordering reiskosten OAH'!BC339=0,\"\",'Terugvordering reiskosten OAH'!BC339)","v":""},{"$f":"IF('Terugvordering reiskosten OAH'!BK339=0,\"\",'Terugvordering reiskosten OAH'!BK339)","v":""},{"$f":"IF('Terugvordering reiskosten OAH'!BR339=0,\"\",'Terugvordering reiskosten OAH'!BR339)","v":""},{"$f":"IF('Terugvordering reiskosten OAH'!BZ339=0,\"\",'Terugvordering reiskosten OAH'!BZ339)","v":""},{"$f":"IF('Terugvordering reiskosten OAH'!CG339=\"\",\"\",'Terugvordering reiskosten OAH'!CG339)","v":""},{"$f":"IF('Terugvordering reiskosten OAH'!CM339=0,\"\",'Terugvordering reiskosten OAH'!CM339)","v":""}]
[{"$f":"IF('Terugvordering reiskosten OAH'!D340=\"\",\"\",IF('Terugvordering reiskosten OAH'!$T$36=\"\",\"\",'Terugvordering reiskosten OAH'!$T$36))","v":""},{"$f":"IF(A268=\"\",\"\",'Terugvordering reiskosten OAH'!$T$38)","v":""},{"$f":"IF(A268=\"\",\"\",'gegevensblad samenvatting vord.'!$C$2)","v":""},{"$f":"IF('Terugvordering reiskosten OAH'!D340=\"\",\"\",TEXT('Terugvordering reiskosten OAH'!D340,\"mm-jjjj\"))","v":""},{"$f":"IF('Terugvordering reiskosten OAH'!H340=\"\",\"\",'Terugvordering reiskosten OAH'!H340)","v":""},{"$f":"IF('Terugvordering reiskosten OAH'!R340=\"\",\"\",'Terugvordering reiskosten OAH'!R340)","v":""},{"$f":"IF('Terugvordering reiskosten OAH'!X340=\"\",\"\",'Terugvordering reiskosten OAH'!X340)","v":""},{"$f":"IF('Terugvordering reiskosten OAH'!AJ340=\"\",\"\",'Terugvordering reiskosten OAH'!AJ340)","v":""},{"$f":"IF('Terugvordering reiskosten OAH'!AR340=\"\",\"\",'Terugvordering reiskosten OAH'!AR340)","v":""},{"$f":"IF('Terugvordering reiskosten OAH'!AY340=\"\",\"\",'Terugvordering reiskosten OAH'!AY340)","v":""},{"$f":"IF('Terugvordering reiskosten OAH'!BC340=0,\"\",'Terugvordering reiskosten OAH'!BC340)","v":""},{"$f":"IF('Terugvordering reiskosten OAH'!BK340=0,\"\",'Terugvordering reiskosten OAH'!BK340)","v":""},{"$f":"IF('Terugvordering reiskosten OAH'!BR340=0,\"\",'Terugvordering reiskosten OAH'!BR340)","v":""},{"$f":"IF('Terugvordering reiskosten OAH'!BZ340=0,\"\",'Terugvordering reiskosten OAH'!BZ340)","v":""},{"$f":"IF('Terugvordering reiskosten OAH'!CG340=\"\",\"\",'Terugvordering reiskosten OAH'!CG340)","v":""},{"$f":"IF('Terugvordering reiskosten OAH'!CM340=0,\"\",'Terugvordering reiskosten OAH'!CM340)","v":""}]
[{"$f":"IF('Terugvordering reiskosten OAH'!D341=\"\",\"\",IF('Terugvordering reiskosten OAH'!$T$36=\"\",\"\",'Terugvordering reiskosten OAH'!$T$36))","v":""},{"$f":"IF(A269=\"\",\"\",'Terugvordering reiskosten OAH'!$T$38)","v":""},{"$f":"IF(A269=\"\",\"\",'gegevensblad samenvatting vord.'!$C$2)","v":""},{"$f":"IF('Terugvordering reiskosten OAH'!D341=\"\",\"\",TEXT('Terugvordering reiskosten OAH'!D341,\"mm-jjjj\"))","v":""},{"$f":"IF('Terugvordering reiskosten OAH'!H341=\"\",\"\",'Terugvordering reiskosten OAH'!H341)","v":""},{"$f":"IF('Terugvordering reiskosten OAH'!R341=\"\",\"\",'Terugvordering reiskosten OAH'!R341)","v":""},{"$f":"IF('Terugvordering reiskosten OAH'!X341=\"\",\"\",'Terugvordering reiskosten OAH'!X341)","v":""},{"$f":"IF('Terugvordering reiskosten OAH'!AJ341=\"\",\"\",'Terugvordering reiskosten OAH'!AJ341)","v":""},{"$f":"IF('Terugvordering reiskosten OAH'!AR341=\"\",\"\",'Terugvordering reiskosten OAH'!AR341)","v":""},{"$f":"IF('Terugvordering reiskosten OAH'!AY341=\"\",\"\",'Terugvordering reiskosten OAH'!AY341)","v":""},{"$f":"IF('Terugvordering reiskosten OAH'!BC341=0,\"\",'Terugvordering reiskosten OAH'!BC341)","v":""},{"$f":"IF('Terugvordering reiskosten OAH'!BK341=0,\"\",'Terugvordering reiskosten OAH'!BK341)","v":""},{"$f":"IF('Terugvordering reiskosten OAH'!BR341=0,\"\",'Terugvordering reiskosten OAH'!BR341)","v":""},{"$f":"IF('Terugvordering reiskosten OAH'!BZ341=0,\"\",'Terugvordering reiskosten OAH'!BZ341)","v":""},{"$f":"IF('Terugvordering reiskosten OAH'!CG341=\"\",\"\",'Terugvordering reiskosten OAH'!CG341)","v":""},{"$f":"IF('Terugvordering reiskosten OAH'!CM341=0,\"\",'Terugvordering reiskosten OAH'!CM341)","v":""}]
[{"$f":"IF('Terugvordering reiskosten OAH'!D342=\"\",\"\",IF('Terugvordering reiskosten OAH'!$T$36=\"\",\"\",'Terugvordering reiskosten OAH'!$T$36))","v":""},{"$f":"IF(A270=\"\",\"\",'Terugvordering reiskosten OAH'!$T$38)","v":""},{"$f":"IF(A270=\"\",\"\",'gegevensblad samenvatting vord.'!$C$2)","v":""},{"$f":"IF('Terugvordering reiskosten OAH'!D342=\"\",\"\",TEXT('Terugvordering reiskosten OAH'!D342,\"mm-jjjj\"))","v":""},{"$f":"IF('Terugvordering reiskosten OAH'!H342=\"\",\"\",'Terugvordering reiskosten OAH'!H342)","v":""},{"$f":"IF('Terugvordering reiskosten OAH'!R342=\"\",\"\",'Terugvordering reiskosten OAH'!R342)","v":""},{"$f":"IF('Terugvordering reiskosten OAH'!X342=\"\",\"\",'Terugvordering reiskosten OAH'!X342)","v":""},{"$f":"IF('Terugvordering reiskosten OAH'!AJ342=\"\",\"\",'Terugvordering reiskosten OAH'!AJ342)","v":""},{"$f":"IF('Terugvordering reiskosten OAH'!AR342=\"\",\"\",'Terugvordering reiskosten OAH'!AR342)","v":""},{"$f":"IF('Terugvordering reiskosten OAH'!AY342=\"\",\"\",'Terugvordering reiskosten OAH'!AY342)","v":""},{"$f":"IF('Terugvordering reiskosten OAH'!BC342=0,\"\",'Terugvordering reiskosten OAH'!BC342)","v":""},{"$f":"IF('Terugvordering reiskosten OAH'!BK342=0,\"\",'Terugvordering reiskosten OAH'!BK342)","v":""},{"$f":"IF('Terugvordering reiskosten OAH'!BR342=0,\"\",'Terugvordering reiskosten OAH'!BR342)","v":""},{"$f":"IF('Terugvordering reiskosten OAH'!BZ342=0,\"\",'Terugvordering reiskosten OAH'!BZ342)","v":""},{"$f":"IF('Terugvordering reiskosten OAH'!CG342=\"\",\"\",'Terugvordering reiskosten OAH'!CG342)","v":""},{"$f":"IF('Terugvordering reiskosten OAH'!CM342=0,\"\",'Terugvordering reiskosten OAH'!CM342)","v":""}]
[{"$f":"IF('Terugvordering reiskosten OAH'!D343=\"\",\"\",IF('Terugvordering reiskosten OAH'!$T$36=\"\",\"\",'Terugvordering reiskosten OAH'!$T$36))","v":""},{"$f":"IF(A271=\"\",\"\",'Terugvordering reiskosten OAH'!$T$38)","v":""},{"$f":"IF(A271=\"\",\"\",'gegevensblad samenvatting vord.'!$C$2)","v":""},{"$f":"IF('Terugvordering reiskosten OAH'!D343=\"\",\"\",TEXT('Terugvordering reiskosten OAH'!D343,\"mm-jjjj\"))","v":""},{"$f":"IF('Terugvordering reiskosten OAH'!H343=\"\",\"\",'Terugvordering reiskosten OAH'!H343)","v":""},{"$f":"IF('Terugvordering reiskosten OAH'!R343=\"\",\"\",'Terugvordering reiskosten OAH'!R343)","v":""},{"$f":"IF('Terugvordering reiskosten OAH'!X343=\"\",\"\",'Terugvordering reiskosten OAH'!X343)","v":""},{"$f":"IF('Terugvordering reiskosten OAH'!AJ343=\"\",\"\",'Terugvordering reiskosten OAH'!AJ343)","v":""},{"$f":"IF('Terugvordering reiskosten OAH'!AR343=\"\",\"\",'Terugvordering reiskosten OAH'!AR343)","v":""},{"$f":"IF('Terugvordering reiskosten OAH'!AY343=\"\",\"\",'Terugvordering reiskosten OAH'!AY343)","v":""},{"$f":"IF('Terugvordering reiskosten OAH'!BC343=0,\"\",'Terugvordering reiskosten OAH'!BC343)","v":""},{"$f":"IF('Terugvordering reiskosten OAH'!BK343=0,\"\",'Terugvordering reiskosten OAH'!BK343)","v":""},{"$f":"IF('Terugvordering reiskosten OAH'!BR343=0,\"\",'Terugvordering reiskosten OAH'!BR343)","v":""},{"$f":"IF('Terugvordering reiskosten OAH'!BZ343=0,\"\",'Terugvordering reiskosten OAH'!BZ343)","v":""},{"$f":"IF('Terugvordering reiskosten OAH'!CG343=\"\",\"\",'Terugvordering reiskosten OAH'!CG343)","v":""},{"$f":"IF('Terugvordering reiskosten OAH'!CM343=0,\"\",'Terugvordering reiskosten OAH'!CM343)","v":""}]
[{"$f":"IF('Terugvordering reiskosten OAH'!D344=\"\",\"\",IF('Terugvordering reiskosten OAH'!$T$36=\"\",\"\",'Terugvordering reiskosten OAH'!$T$36))","v":""},{"$f":"IF(A272=\"\",\"\",'Terugvordering reiskosten OAH'!$T$38)","v":""},{"$f":"IF(A272=\"\",\"\",'gegevensblad samenvatting vord.'!$C$2)","v":""},{"$f":"IF('Terugvordering reiskosten OAH'!D344=\"\",\"\",TEXT('Terugvordering reiskosten OAH'!D344,\"mm-jjjj\"))","v":""},{"$f":"IF('Terugvordering reiskosten OAH'!H344=\"\",\"\",'Terugvordering reiskosten OAH'!H344)","v":""},{"$f":"IF('Terugvordering reiskosten OAH'!R344=\"\",\"\",'Terugvordering reiskosten OAH'!R344)","v":""},{"$f":"IF('Terugvordering reiskosten OAH'!X344=\"\",\"\",'Terugvordering reiskosten OAH'!X344)","v":""},{"$f":"IF('Terugvordering reiskosten OAH'!AJ344=\"\",\"\",'Terugvordering reiskosten OAH'!AJ344)","v":""},{"$f":"IF('Terugvordering reiskosten OAH'!AR344=\"\",\"\",'Terugvordering reiskosten OAH'!AR344)","v":""},{"$f":"IF('Terugvordering reiskosten OAH'!AY344=\"\",\"\",'Terugvordering reiskosten OAH'!AY344)","v":""},{"$f":"IF('Terugvordering reiskosten OAH'!BC344=0,\"\",'Terugvordering reiskosten OAH'!BC344)","v":""},{"$f":"IF('Terugvordering reiskosten OAH'!BK344=0,\"\",'Terugvordering reiskosten OAH'!BK344)","v":""},{"$f":"IF('Terugvordering reiskosten OAH'!BR344=0,\"\",'Terugvordering reiskosten OAH'!BR344)","v":""},{"$f":"IF('Terugvordering reiskosten OAH'!BZ344=0,\"\",'Terugvordering reiskosten OAH'!BZ344)","v":""},{"$f":"IF('Terugvordering reiskosten OAH'!CG344=\"\",\"\",'Terugvordering reiskosten OAH'!CG344)","v":""},{"$f":"IF('Terugvordering reiskosten OAH'!CM344=0,\"\",'Terugvordering reiskosten OAH'!CM344)","v":""}]
[{"$f":"IF('Terugvordering reiskosten OAH'!D345=\"\",\"\",IF('Terugvordering reiskosten OAH'!$T$36=\"\",\"\",'Terugvordering reiskosten OAH'!$T$36))","v":""},{"$f":"IF(A273=\"\",\"\",'Terugvordering reiskosten OAH'!$T$38)","v":""},{"$f":"IF(A273=\"\",\"\",'gegevensblad samenvatting vord.'!$C$2)","v":""},{"$f":"IF('Terugvordering reiskosten OAH'!D345=\"\",\"\",TEXT('Terugvordering reiskosten OAH'!D345,\"mm-jjjj\"))","v":""},{"$f":"IF('Terugvordering reiskosten OAH'!H345=\"\",\"\",'Terugvordering reiskosten OAH'!H345)","v":""},{"$f":"IF('Terugvordering reiskosten OAH'!R345=\"\",\"\",'Terugvordering reiskosten OAH'!R345)","v":""},{"$f":"IF('Terugvordering reiskosten OAH'!X345=\"\",\"\",'Terugvordering reiskosten OAH'!X345)","v":""},{"$f":"IF('Terugvordering reiskosten OAH'!AJ345=\"\",\"\",'Terugvordering reiskosten OAH'!AJ345)","v":""},{"$f":"IF('Terugvordering reiskosten OAH'!AR345=\"\",\"\",'Terugvordering reiskosten OAH'!AR345)","v":""},{"$f":"IF('Terugvordering reiskosten OAH'!AY345=\"\",\"\",'Terugvordering reiskosten OAH'!AY345)","v":""},{"$f":"IF('Terugvordering reiskosten OAH'!BC345=0,\"\",'Terugvordering reiskosten OAH'!BC345)","v":""},{"$f":"IF('Terugvordering reiskosten OAH'!BK345=0,\"\",'Terugvordering reiskosten OAH'!BK345)","v":""},{"$f":"IF('Terugvordering reiskosten OAH'!BR345=0,\"\",'Terugvordering reiskosten OAH'!BR345)","v":""},{"$f":"IF('Terugvordering reiskosten OAH'!BZ345=0,\"\",'Terugvordering reiskosten OAH'!BZ345)","v":""},{"$f":"IF('Terugvordering reiskosten OAH'!CG345=\"\",\"\",'Terugvordering reiskosten OAH'!CG345)","v":""},{"$f":"IF('Terugvordering reiskosten OAH'!CM345=0,\"\",'Terugvordering reiskosten OAH'!CM345)","v":""}]
[{"$f":"IF('Terugvordering reiskosten OAH'!D346=\"\",\"\",IF('Terugvordering reiskosten OAH'!$T$36=\"\",\"\",'Terugvordering reiskosten OAH'!$T$36))","v":""},{"$f":"IF(A274=\"\",\"\",'Terugvordering reiskosten OAH'!$T$38)","v":""},{"$f":"IF(A274=\"\",\"\",'gegevensblad samenvatting vord.'!$C$2)","v":""},{"$f":"IF('Terugvordering reiskosten OAH'!D346=\"\",\"\",TEXT('Terugvordering reiskosten OAH'!D346,\"mm-jjjj\"))","v":""},{"$f":"IF('Terugvordering reiskosten OAH'!H346=\"\",\"\",'Terugvordering reiskosten OAH'!H346)","v":""},{"$f":"IF('Terugvordering reiskosten OAH'!R346=\"\",\"\",'Terugvordering reiskosten OAH'!R346)","v":""},{"$f":"IF('Terugvordering reiskosten OAH'!X346=\"\",\"\",'Terugvordering reiskosten OAH'!X346)","v":""},{"$f":"IF('Terugvordering reiskosten OAH'!AJ346=\"\",\"\",'Terugvordering reiskosten OAH'!AJ346)","v":""},{"$f":"IF('Terugvordering reiskosten OAH'!AR346=\"\",\"\",'Terugvordering reiskosten OAH'!AR346)","v":""},{"$f":"IF('Terugvordering reiskosten OAH'!AY346=\"\",\"\",'Terugvordering reiskosten OAH'!AY346)","v":""},{"$f":"IF('Terugvordering reiskosten OAH'!BC346=0,\"\",'Terugvordering reiskosten OAH'!BC346)","v":""},{"$f":"IF('Terugvordering reiskosten OAH'!BK346=0,\"\",'Terugvordering reiskosten OAH'!BK346)","v":""},{"$f":"IF('Terugvordering reiskosten OAH'!BR346=0,\"\",'Terugvordering reiskosten OAH'!BR346)","v":""},{"$f":"IF('Terugvordering reiskosten OAH'!BZ346=0,\"\",'Terugvordering reiskosten OAH'!BZ346)","v":""},{"$f":"IF('Terugvordering reiskosten OAH'!CG346=\"\",\"\",'Terugvordering reiskosten OAH'!CG346)","v":""},{"$f":"IF('Terugvordering reiskosten OAH'!CM346=0,\"\",'Terugvordering reiskosten OAH'!CM346)","v":""}]
[{"$f":"IF('Terugvordering reiskosten OAH'!D347=\"\",\"\",IF('Terugvordering reiskosten OAH'!$T$36=\"\",\"\",'Terugvordering reiskosten OAH'!$T$36))","v":""},{"$f":"IF(A275=\"\",\"\",'Terugvordering reiskosten OAH'!$T$38)","v":""},{"$f":"IF(A275=\"\",\"\",'gegevensblad samenvatting vord.'!$C$2)","v":""},{"$f":"IF('Terugvordering reiskosten OAH'!D347=\"\",\"\",TEXT('Terugvordering reiskosten OAH'!D347,\"mm-jjjj\"))","v":""},{"$f":"IF('Terugvordering reiskosten OAH'!H347=\"\",\"\",'Terugvordering reiskosten OAH'!H347)","v":""},{"$f":"IF('Terugvordering reiskosten OAH'!R347=\"\",\"\",'Terugvordering reiskosten OAH'!R347)","v":""},{"$f":"IF('Terugvordering reiskosten OAH'!X347=\"\",\"\",'Terugvordering reiskosten OAH'!X347)","v":""},{"$f":"IF('Terugvordering reiskosten OAH'!AJ347=\"\",\"\",'Terugvordering reiskosten OAH'!AJ347)","v":""},{"$f":"IF('Terugvordering reiskosten OAH'!AR347=\"\",\"\",'Terugvordering reiskosten OAH'!AR347)","v":""},{"$f":"IF('Terugvordering reiskosten OAH'!AY347=\"\",\"\",'Terugvordering reiskosten OAH'!AY347)","v":""},{"$f":"IF('Terugvordering reiskosten OAH'!BC347=0,\"\",'Terugvordering reiskosten OAH'!BC347)","v":""},{"$f":"IF('Terugvordering reiskosten OAH'!BK347=0,\"\",'Terugvordering reiskosten OAH'!BK347)","v":""},{"$f":"IF('Terugvordering reiskosten OAH'!BR347=0,\"\",'Terugvordering reiskosten OAH'!BR347)","v":""},{"$f":"IF('Terugvordering reiskosten OAH'!BZ347=0,\"\",'Terugvordering reiskosten OAH'!BZ347)","v":""},{"$f":"IF('Terugvordering reiskosten OAH'!CG347=\"\",\"\",'Terugvordering reiskosten OAH'!CG347)","v":""},{"$f":"IF('Terugvordering reiskosten OAH'!CM347=0,\"\",'Terugvordering reiskosten OAH'!CM347)","v":""}]
[{"$f":"IF('Terugvordering reiskosten OAH'!D348=\"\",\"\",IF('Terugvordering reiskosten OAH'!$T$36=\"\",\"\",'Terugvordering reiskosten OAH'!$T$36))","v":""},{"$f":"IF(A276=\"\",\"\",'Terugvordering reiskosten OAH'!$T$38)","v":""},{"$f":"IF(A276=\"\",\"\",'gegevensblad samenvatting vord.'!$C$2)","v":""},{"$f":"IF('Terugvordering reiskosten OAH'!D348=\"\",\"\",TEXT('Terugvordering reiskosten OAH'!D348,\"mm-jjjj\"))","v":""},{"$f":"IF('Terugvordering reiskosten OAH'!H348=\"\",\"\",'Terugvordering reiskosten OAH'!H348)","v":""},{"$f":"IF('Terugvordering reiskosten OAH'!R348=\"\",\"\",'Terugvordering reiskosten OAH'!R348)","v":""},{"$f":"IF('Terugvordering reiskosten OAH'!X348=\"\",\"\",'Terugvordering reiskosten OAH'!X348)","v":""},{"$f":"IF('Terugvordering reiskosten OAH'!AJ348=\"\",\"\",'Terugvordering reiskosten OAH'!AJ348)","v":""},{"$f":"IF('Terugvordering reiskosten OAH'!AR348=\"\",\"\",'Terugvordering reiskosten OAH'!AR348)","v":""},{"$f":"IF('Terugvordering reiskosten OAH'!AY348=\"\",\"\",'Terugvordering reiskosten OAH'!AY348)","v":""},{"$f":"IF('Terugvordering reiskosten OAH'!BC348=0,\"\",'Terugvordering reiskosten OAH'!BC348)","v":""},{"$f":"IF('Terugvordering reiskosten OAH'!BK348=0,\"\",'Terugvordering reiskosten OAH'!BK348)","v":""},{"$f":"IF('Terugvordering reiskosten OAH'!BR348=0,\"\",'Terugvordering reiskosten OAH'!BR348)","v":""},{"$f":"IF('Terugvordering reiskosten OAH'!BZ348=0,\"\",'Terugvordering reiskosten OAH'!BZ348)","v":""},{"$f":"IF('Terugvordering reiskosten OAH'!CG348=\"\",\"\",'Terugvordering reiskosten OAH'!CG348)","v":""},{"$f":"IF('Terugvordering reiskosten OAH'!CM348=0,\"\",'Terugvordering reiskosten OAH'!CM348)","v":""}]
[{"$f":"IF('Terugvordering reiskosten OAH'!D349=\"\",\"\",IF('Terugvordering reiskosten OAH'!$T$36=\"\",\"\",'Terugvordering reiskosten OAH'!$T$36))","v":""},{"$f":"IF(A277=\"\",\"\",'Terugvordering reiskosten OAH'!$T$38)","v":""},{"$f":"IF(A277=\"\",\"\",'gegevensblad samenvatting vord.'!$C$2)","v":""},{"$f":"IF('Terugvordering reiskosten OAH'!D349=\"\",\"\",TEXT('Terugvordering reiskosten OAH'!D349,\"mm-jjjj\"))","v":""},{"$f":"IF('Terugvordering reiskosten OAH'!H349=\"\",\"\",'Terugvordering reiskosten OAH'!H349)","v":""},{"$f":"IF('Terugvordering reiskosten OAH'!R349=\"\",\"\",'Terugvordering reiskosten OAH'!R349)","v":""},{"$f":"IF('Terugvordering reiskosten OAH'!X349=\"\",\"\",'Terugvordering reiskosten OAH'!X349)","v":""},{"$f":"IF('Terugvordering reiskosten OAH'!AJ349=\"\",\"\",'Terugvordering reiskosten OAH'!AJ349)","v":""},{"$f":"IF('Terugvordering reiskosten OAH'!AR349=\"\",\"\",'Terugvordering reiskosten OAH'!AR349)","v":""},{"$f":"IF('Terugvordering reiskosten OAH'!AY349=\"\",\"\",'Terugvordering reiskosten OAH'!AY349)","v":""},{"$f":"IF('Terugvordering reiskosten OAH'!BC349=0,\"\",'Terugvordering reiskosten OAH'!BC349)","v":""},{"$f":"IF('Terugvordering reiskosten OAH'!BK349=0,\"\",'Terugvordering reiskosten OAH'!BK349)","v":""},{"$f":"IF('Terugvordering reiskosten OAH'!BR349=0,\"\",'Terugvordering reiskosten OAH'!BR349)","v":""},{"$f":"IF('Terugvordering reiskosten OAH'!BZ349=0,\"\",'Terugvordering reiskosten OAH'!BZ349)","v":""},{"$f":"IF('Terugvordering reiskosten OAH'!CG349=\"\",\"\",'Terugvordering reiskosten OAH'!CG349)","v":""},{"$f":"IF('Terugvordering reiskosten OAH'!CM349=0,\"\",'Terugvordering reiskosten OAH'!CM349)","v":""}]
[{"$f":"IF('Terugvordering reiskosten OAH'!D350=\"\",\"\",IF('Terugvordering reiskosten OAH'!$T$36=\"\",\"\",'Terugvordering reiskosten OAH'!$T$36))","v":""},{"$f":"IF(A278=\"\",\"\",'Terugvordering reiskosten OAH'!$T$38)","v":""},{"$f":"IF(A278=\"\",\"\",'gegevensblad samenvatting vord.'!$C$2)","v":""},{"$f":"IF('Terugvordering reiskosten OAH'!D350=\"\",\"\",TEXT('Terugvordering reiskosten OAH'!D350,\"mm-jjjj\"))","v":""},{"$f":"IF('Terugvordering reiskosten OAH'!H350=\"\",\"\",'Terugvordering reiskosten OAH'!H350)","v":""},{"$f":"IF('Terugvordering reiskosten OAH'!R350=\"\",\"\",'Terugvordering reiskosten OAH'!R350)","v":""},{"$f":"IF('Terugvordering reiskosten OAH'!X350=\"\",\"\",'Terugvordering reiskosten OAH'!X350)","v":""},{"$f":"IF('Terugvordering reiskosten OAH'!AJ350=\"\",\"\",'Terugvordering reiskosten OAH'!AJ350)","v":""},{"$f":"IF('Terugvordering reiskosten OAH'!AR350=\"\",\"\",'Terugvordering reiskosten OAH'!AR350)","v":""},{"$f":"IF('Terugvordering reiskosten OAH'!AY350=\"\",\"\",'Terugvordering reiskosten OAH'!AY350)","v":""},{"$f":"IF('Terugvordering reiskosten OAH'!BC350=0,\"\",'Terugvordering reiskosten OAH'!BC350)","v":""},{"$f":"IF('Terugvordering reiskosten OAH'!BK350=0,\"\",'Terugvordering reiskosten OAH'!BK350)","v":""},{"$f":"IF('Terugvordering reiskosten OAH'!BR350=0,\"\",'Terugvordering reiskosten OAH'!BR350)","v":""},{"$f":"IF('Terugvordering reiskosten OAH'!BZ350=0,\"\",'Terugvordering reiskosten OAH'!BZ350)","v":""},{"$f":"IF('Terugvordering reiskosten OAH'!CG350=\"\",\"\",'Terugvordering reiskosten OAH'!CG350)","v":""},{"$f":"IF('Terugvordering reiskosten OAH'!CM350=0,\"\",'Terugvordering reiskosten OAH'!CM350)","v":""}]
[{"$f":"IF('Terugvordering reiskosten OAH'!D351=\"\",\"\",IF('Terugvordering reiskosten OAH'!$T$36=\"\",\"\",'Terugvordering reiskosten OAH'!$T$36))","v":""},{"$f":"IF(A279=\"\",\"\",'Terugvordering reiskosten OAH'!$T$38)","v":""},{"$f":"IF(A279=\"\",\"\",'gegevensblad samenvatting vord.'!$C$2)","v":""},{"$f":"IF('Terugvordering reiskosten OAH'!D351=\"\",\"\",TEXT('Terugvordering reiskosten OAH'!D351,\"mm-jjjj\"))","v":""},{"$f":"IF('Terugvordering reiskosten OAH'!H351=\"\",\"\",'Terugvordering reiskosten OAH'!H351)","v":""},{"$f":"IF('Terugvordering reiskosten OAH'!R351=\"\",\"\",'Terugvordering reiskosten OAH'!R351)","v":""},{"$f":"IF('Terugvordering reiskosten OAH'!X351=\"\",\"\",'Terugvordering reiskosten OAH'!X351)","v":""},{"$f":"IF('Terugvordering reiskosten OAH'!AJ351=\"\",\"\",'Terugvordering reiskosten OAH'!AJ351)","v":""},{"$f":"IF('Terugvordering reiskosten OAH'!AR351=\"\",\"\",'Terugvordering reiskosten OAH'!AR351)","v":""},{"$f":"IF('Terugvordering reiskosten OAH'!AY351=\"\",\"\",'Terugvordering reiskosten OAH'!AY351)","v":""},{"$f":"IF('Terugvordering reiskosten OAH'!BC351=0,\"\",'Terugvordering reiskosten OAH'!BC351)","v":""},{"$f":"IF('Terugvordering reiskosten OAH'!BK351=0,\"\",'Terugvordering reiskosten OAH'!BK351)","v":""},{"$f":"IF('Terugvordering reiskosten OAH'!BR351=0,\"\",'Terugvordering reiskosten OAH'!BR351)","v":""},{"$f":"IF('Terugvordering reiskosten OAH'!BZ351=0,\"\",'Terugvordering reiskosten OAH'!BZ351)","v":""},{"$f":"IF('Terugvordering reiskosten OAH'!CG351=\"\",\"\",'Terugvordering reiskosten OAH'!CG351)","v":""},{"$f":"IF('Terugvordering reiskosten OAH'!CM351=0,\"\",'Terugvordering reiskosten OAH'!CM351)","v":""}]
[{"$f":"IF('Terugvordering reiskosten OAH'!D352=\"\",\"\",IF('Terugvordering reiskosten OAH'!$T$36=\"\",\"\",'Terugvordering reiskosten OAH'!$T$36))","v":""},{"$f":"IF(A280=\"\",\"\",'Terugvordering reiskosten OAH'!$T$38)","v":""},{"$f":"IF(A280=\"\",\"\",'gegevensblad samenvatting vord.'!$C$2)","v":""},{"$f":"IF('Terugvordering reiskosten OAH'!D352=\"\",\"\",TEXT('Terugvordering reiskosten OAH'!D352,\"mm-jjjj\"))","v":""},{"$f":"IF('Terugvordering reiskosten OAH'!H352=\"\",\"\",'Terugvordering reiskosten OAH'!H352)","v":""},{"$f":"IF('Terugvordering reiskosten OAH'!R352=\"\",\"\",'Terugvordering reiskosten OAH'!R352)","v":""},{"$f":"IF('Terugvordering reiskosten OAH'!X352=\"\",\"\",'Terugvordering reiskosten OAH'!X352)","v":""},{"$f":"IF('Terugvordering reiskosten OAH'!AJ352=\"\",\"\",'Terugvordering reiskosten OAH'!AJ352)","v":""},{"$f":"IF('Terugvordering reiskosten OAH'!AR352=\"\",\"\",'Terugvordering reiskosten OAH'!AR352)","v":""},{"$f":"IF('Terugvordering reiskosten OAH'!AY352=\"\",\"\",'Terugvordering reiskosten OAH'!AY352)","v":""},{"$f":"IF('Terugvordering reiskosten OAH'!BC352=0,\"\",'Terugvordering reiskosten OAH'!BC352)","v":""},{"$f":"IF('Terugvordering reiskosten OAH'!BK352=0,\"\",'Terugvordering reiskosten OAH'!BK352)","v":""},{"$f":"IF('Terugvordering reiskosten OAH'!BR352=0,\"\",'Terugvordering reiskosten OAH'!BR352)","v":""},{"$f":"IF('Terugvordering reiskosten OAH'!BZ352=0,\"\",'Terugvordering reiskosten OAH'!BZ352)","v":""},{"$f":"IF('Terugvordering reiskosten OAH'!CG352=\"\",\"\",'Terugvordering reiskosten OAH'!CG352)","v":""},{"$f":"IF('Terugvordering reiskosten OAH'!CM352=0,\"\",'Terugvordering reiskosten OAH'!CM352)","v":""}]
[{"$f":"IF('Terugvordering reiskosten OAH'!D353=\"\",\"\",IF('Terugvordering reiskosten OAH'!$T$36=\"\",\"\",'Terugvordering reiskosten OAH'!$T$36))","v":""},{"$f":"IF(A281=\"\",\"\",'Terugvordering reiskosten OAH'!$T$38)","v":""},{"$f":"IF(A281=\"\",\"\",'gegevensblad samenvatting vord.'!$C$2)","v":""},{"$f":"IF('Terugvordering reiskosten OAH'!D353=\"\",\"\",TEXT('Terugvordering reiskosten OAH'!D353,\"mm-jjjj\"))","v":""},{"$f":"IF('Terugvordering reiskosten OAH'!H353=\"\",\"\",'Terugvordering reiskosten OAH'!H353)","v":""},{"$f":"IF('Terugvordering reiskosten OAH'!R353=\"\",\"\",'Terugvordering reiskosten OAH'!R353)","v":""},{"$f":"IF('Terugvordering reiskosten OAH'!X353=\"\",\"\",'Terugvordering reiskosten OAH'!X353)","v":""},{"$f":"IF('Terugvordering reiskosten OAH'!AJ353=\"\",\"\",'Terugvordering reiskosten OAH'!AJ353)","v":""},{"$f":"IF('Terugvordering reiskosten OAH'!AR353=\"\",\"\",'Terugvordering reiskosten OAH'!AR353)","v":""},{"$f":"IF('Terugvordering reiskosten OAH'!AY353=\"\",\"\",'Terugvordering reiskosten OAH'!AY353)","v":""},{"$f":"IF('Terugvordering reiskosten OAH'!BC353=0,\"\",'Terugvordering reiskosten OAH'!BC353)","v":""},{"$f":"IF('Terugvordering reiskosten OAH'!BK353=0,\"\",'Terugvordering reiskosten OAH'!BK353)","v":""},{"$f":"IF('Terugvordering reiskosten OAH'!BR353=0,\"\",'Terugvordering reiskosten OAH'!BR353)","v":""},{"$f":"IF('Terugvordering reiskosten OAH'!BZ353=0,\"\",'Terugvordering reiskosten OAH'!BZ353)","v":""},{"$f":"IF('Terugvordering reiskosten OAH'!CG353=\"\",\"\",'Terugvordering reiskosten OAH'!CG353)","v":""},{"$f":"IF('Terugvordering reiskosten OAH'!CM353=0,\"\",'Terugvordering reiskosten OAH'!CM353)","v":""}]
[{"$f":"IF('Terugvordering reiskosten OAH'!D354=\"\",\"\",IF('Terugvordering reiskosten OAH'!$T$36=\"\",\"\",'Terugvordering reiskosten OAH'!$T$36))","v":""},{"$f":"IF(A282=\"\",\"\",'Terugvordering reiskosten OAH'!$T$38)","v":""},{"$f":"IF(A282=\"\",\"\",'gegevensblad samenvatting vord.'!$C$2)","v":""},{"$f":"IF('Terugvordering reiskosten OAH'!D354=\"\",\"\",TEXT('Terugvordering reiskosten OAH'!D354,\"mm-jjjj\"))","v":""},{"$f":"IF('Terugvordering reiskosten OAH'!H354=\"\",\"\",'Terugvordering reiskosten OAH'!H354)","v":""},{"$f":"IF('Terugvordering reiskosten OAH'!R354=\"\",\"\",'Terugvordering reiskosten OAH'!R354)","v":""},{"$f":"IF('Terugvordering reiskosten OAH'!X354=\"\",\"\",'Terugvordering reiskosten OAH'!X354)","v":""},{"$f":"IF('Terugvordering reiskosten OAH'!AJ354=\"\",\"\",'Terugvordering reiskosten OAH'!AJ354)","v":""},{"$f":"IF('Terugvordering reiskosten OAH'!AR354=\"\",\"\",'Terugvordering reiskosten OAH'!AR354)","v":""},{"$f":"IF('Terugvordering reiskosten OAH'!AY354=\"\",\"\",'Terugvordering reiskosten OAH'!AY354)","v":""},{"$f":"IF('Terugvordering reiskosten OAH'!BC354=0,\"\",'Terugvordering reiskosten OAH'!BC354)","v":""},{"$f":"IF('Terugvordering reiskosten OAH'!BK354=0,\"\",'Terugvordering reiskosten OAH'!BK354)","v":""},{"$f":"IF('Terugvordering reiskosten OAH'!BR354=0,\"\",'Terugvordering reiskosten OAH'!BR354)","v":""},{"$f":"IF('Terugvordering reiskosten OAH'!BZ354=0,\"\",'Terugvordering reiskosten OAH'!BZ354)","v":""},{"$f":"IF('Terugvordering reiskosten OAH'!CG354=\"\",\"\",'Terugvordering reiskosten OAH'!CG354)","v":""},{"$f":"IF('Terugvordering reiskosten OAH'!CM354=0,\"\",'Terugvordering reiskosten OAH'!CM354)","v":""}]
[{"$f":"IF('Terugvordering reiskosten OAH'!D355=\"\",\"\",IF('Terugvordering reiskosten OAH'!$T$36=\"\",\"\",'Terugvordering reiskosten OAH'!$T$36))","v":""},{"$f":"IF(A283=\"\",\"\",'Terugvordering reiskosten OAH'!$T$38)","v":""},{"$f":"IF(A283=\"\",\"\",'gegevensblad samenvatting vord.'!$C$2)","v":""},{"$f":"IF('Terugvordering reiskosten OAH'!D355=\"\",\"\",TEXT('Terugvordering reiskosten OAH'!D355,\"mm-jjjj\"))","v":""},{"$f":"IF('Terugvordering reiskosten OAH'!H355=\"\",\"\",'Terugvordering reiskosten OAH'!H355)","v":""},{"$f":"IF('Terugvordering reiskosten OAH'!R355=\"\",\"\",'Terugvordering reiskosten OAH'!R355)","v":""},{"$f":"IF('Terugvordering reiskosten OAH'!X355=\"\",\"\",'Terugvordering reiskosten OAH'!X355)","v":""},{"$f":"IF('Terugvordering reiskosten OAH'!AJ355=\"\",\"\",'Terugvordering reiskosten OAH'!AJ355)","v":""},{"$f":"IF('Terugvordering reiskosten OAH'!AR355=\"\",\"\",'Terugvordering reiskosten OAH'!AR355)","v":""},{"$f":"IF('Terugvordering reiskosten OAH'!AY355=\"\",\"\",'Terugvordering reiskosten OAH'!AY355)","v":""},{"$f":"IF('Terugvordering reiskosten OAH'!BC355=0,\"\",'Terugvordering reiskosten OAH'!BC355)","v":""},{"$f":"IF('Terugvordering reiskosten OAH'!BK355=0,\"\",'Terugvordering reiskosten OAH'!BK355)","v":""},{"$f":"IF('Terugvordering reiskosten OAH'!BR355=0,\"\",'Terugvordering reiskosten OAH'!BR355)","v":""},{"$f":"IF('Terugvordering reiskosten OAH'!BZ355=0,\"\",'Terugvordering reiskosten OAH'!BZ355)","v":""},{"$f":"IF('Terugvordering reiskosten OAH'!CG355=\"\",\"\",'Terugvordering reiskosten OAH'!CG355)","v":""},{"$f":"IF('Terugvordering reiskosten OAH'!CM355=0,\"\",'Terugvordering reiskosten OAH'!CM355)","v":""}]
[{"$f":"IF('Terugvordering reiskosten OAH'!D356=\"\",\"\",IF('Terugvordering reiskosten OAH'!$T$36=\"\",\"\",'Terugvordering reiskosten OAH'!$T$36))","v":""},{"$f":"IF(A284=\"\",\"\",'Terugvordering reiskosten OAH'!$T$38)","v":""},{"$f":"IF(A284=\"\",\"\",'gegevensblad samenvatting vord.'!$C$2)","v":""},{"$f":"IF('Terugvordering reiskosten OAH'!D356=\"\",\"\",TEXT('Terugvordering reiskosten OAH'!D356,\"mm-jjjj\"))","v":""},{"$f":"IF('Terugvordering reiskosten OAH'!H356=\"\",\"\",'Terugvordering reiskosten OAH'!H356)","v":""},{"$f":"IF('Terugvordering reiskosten OAH'!R356=\"\",\"\",'Terugvordering reiskosten OAH'!R356)","v":""},{"$f":"IF('Terugvordering reiskosten OAH'!X356=\"\",\"\",'Terugvordering reiskosten OAH'!X356)","v":""},{"$f":"IF('Terugvordering reiskosten OAH'!AJ356=\"\",\"\",'Terugvordering reiskosten OAH'!AJ356)","v":""},{"$f":"IF('Terugvordering reiskosten OAH'!AR356=\"\",\"\",'Terugvordering reiskosten OAH'!AR356)","v":""},{"$f":"IF('Terugvordering reiskosten OAH'!AY356=\"\",\"\",'Terugvordering reiskosten OAH'!AY356)","v":""},{"$f":"IF('Terugvordering reiskosten OAH'!BC356=0,\"\",'Terugvordering reiskosten OAH'!BC356)","v":""},{"$f":"IF('Terugvordering reiskosten OAH'!BK356=0,\"\",'Terugvordering reiskosten OAH'!BK356)","v":""},{"$f":"IF('Terugvordering reiskosten OAH'!BR356=0,\"\",'Terugvordering reiskosten OAH'!BR356)","v":""},{"$f":"IF('Terugvordering reiskosten OAH'!BZ356=0,\"\",'Terugvordering reiskosten OAH'!BZ356)","v":""},{"$f":"IF('Terugvordering reiskosten OAH'!CG356=\"\",\"\",'Terugvordering reiskosten OAH'!CG356)","v":""},{"$f":"IF('Terugvordering reiskosten OAH'!CM356=0,\"\",'Terugvordering reiskosten OAH'!CM356)","v":""}]
[{"$f":"IF('Terugvordering reiskosten OAH'!D357=\"\",\"\",IF('Terugvordering reiskosten OAH'!$T$36=\"\",\"\",'Terugvordering reiskosten OAH'!$T$36))","v":""},{"$f":"IF(A285=\"\",\"\",'Terugvordering reiskosten OAH'!$T$38)","v":""},{"$f":"IF(A285=\"\",\"\",'gegevensblad samenvatting vord.'!$C$2)","v":""},{"$f":"IF('Terugvordering reiskosten OAH'!D357=\"\",\"\",TEXT('Terugvordering reiskosten OAH'!D357,\"mm-jjjj\"))","v":""},{"$f":"IF('Terugvordering reiskosten OAH'!H357=\"\",\"\",'Terugvordering reiskosten OAH'!H357)","v":""},{"$f":"IF('Terugvordering reiskosten OAH'!R357=\"\",\"\",'Terugvordering reiskosten OAH'!R357)","v":""},{"$f":"IF('Terugvordering reiskosten OAH'!X357=\"\",\"\",'Terugvordering reiskosten OAH'!X357)","v":""},{"$f":"IF('Terugvordering reiskosten OAH'!AJ357=\"\",\"\",'Terugvordering reiskosten OAH'!AJ357)","v":""},{"$f":"IF('Terugvordering reiskosten OAH'!AR357=\"\",\"\",'Terugvordering reiskosten OAH'!AR357)","v":""},{"$f":"IF('Terugvordering reiskosten OAH'!AY357=\"\",\"\",'Terugvordering reiskosten OAH'!AY357)","v":""},{"$f":"IF('Terugvordering reiskosten OAH'!BC357=0,\"\",'Terugvordering reiskosten OAH'!BC357)","v":""},{"$f":"IF('Terugvordering reiskosten OAH'!BK357=0,\"\",'Terugvordering reiskosten OAH'!BK357)","v":""},{"$f":"IF('Terugvordering reiskosten OAH'!BR357=0,\"\",'Terugvordering reiskosten OAH'!BR357)","v":""},{"$f":"IF('Terugvordering reiskosten OAH'!BZ357=0,\"\",'Terugvordering reiskosten OAH'!BZ357)","v":""},{"$f":"IF('Terugvordering reiskosten OAH'!CG357=\"\",\"\",'Terugvordering reiskosten OAH'!CG357)","v":""},{"$f":"IF('Terugvordering reiskosten OAH'!CM357=0,\"\",'Terugvordering reiskosten OAH'!CM357)","v":""}]
[{"$f":"IF('Terugvordering reiskosten OAH'!D358=\"\",\"\",IF('Terugvordering reiskosten OAH'!$T$36=\"\",\"\",'Terugvordering reiskosten OAH'!$T$36))","v":""},{"$f":"IF(A286=\"\",\"\",'Terugvordering reiskosten OAH'!$T$38)","v":""},{"$f":"IF(A286=\"\",\"\",'gegevensblad samenvatting vord.'!$C$2)","v":""},{"$f":"IF('Terugvordering reiskosten OAH'!D358=\"\",\"\",TEXT('Terugvordering reiskosten OAH'!D358,\"mm-jjjj\"))","v":""},{"$f":"IF('Terugvordering reiskosten OAH'!H358=\"\",\"\",'Terugvordering reiskosten OAH'!H358)","v":""},{"$f":"IF('Terugvordering reiskosten OAH'!R358=\"\",\"\",'Terugvordering reiskosten OAH'!R358)","v":""},{"$f":"IF('Terugvordering reiskosten OAH'!X358=\"\",\"\",'Terugvordering reiskosten OAH'!X358)","v":""},{"$f":"IF('Terugvordering reiskosten OAH'!AJ358=\"\",\"\",'Terugvordering reiskosten OAH'!AJ358)","v":""},{"$f":"IF('Terugvordering reiskosten OAH'!AR358=\"\",\"\",'Terugvordering reiskosten OAH'!AR358)","v":""},{"$f":"IF('Terugvordering reiskosten OAH'!AY358=\"\",\"\",'Terugvordering reiskosten OAH'!AY358)","v":""},{"$f":"IF('Terugvordering reiskosten OAH'!BC358=0,\"\",'Terugvordering reiskosten OAH'!BC358)","v":""},{"$f":"IF('Terugvordering reiskosten OAH'!BK358=0,\"\",'Terugvordering reiskosten OAH'!BK358)","v":""},{"$f":"IF('Terugvordering reiskosten OAH'!BR358=0,\"\",'Terugvordering reiskosten OAH'!BR358)","v":""},{"$f":"IF('Terugvordering reiskosten OAH'!BZ358=0,\"\",'Terugvordering reiskosten OAH'!BZ358)","v":""},{"$f":"IF('Terugvordering reiskosten OAH'!CG358=\"\",\"\",'Terugvordering reiskosten OAH'!CG358)","v":""},{"$f":"IF('Terugvordering reiskosten OAH'!CM358=0,\"\",'Terugvordering reiskosten OAH'!CM358)","v":""}]
[{"$f":"IF('Terugvordering reiskosten OAH'!D359=\"\",\"\",IF('Terugvordering reiskosten OAH'!$T$36=\"\",\"\",'Terugvordering reiskosten OAH'!$T$36))","v":""},{"$f":"IF(A287=\"\",\"\",'Terugvordering reiskosten OAH'!$T$38)","v":""},{"$f":"IF(A287=\"\",\"\",'gegevensblad samenvatting vord.'!$C$2)","v":""},{"$f":"IF('Terugvordering reiskosten OAH'!D359=\"\",\"\",TEXT('Terugvordering reiskosten OAH'!D359,\"mm-jjjj\"))","v":""},{"$f":"IF('Terugvordering reiskosten OAH'!H359=\"\",\"\",'Terugvordering reiskosten OAH'!H359)","v":""},{"$f":"IF('Terugvordering reiskosten OAH'!R359=\"\",\"\",'Terugvordering reiskosten OAH'!R359)","v":""},{"$f":"IF('Terugvordering reiskosten OAH'!X359=\"\",\"\",'Terugvordering reiskosten OAH'!X359)","v":""},{"$f":"IF('Terugvordering reiskosten OAH'!AJ359=\"\",\"\",'Terugvordering reiskosten OAH'!AJ359)","v":""},{"$f":"IF('Terugvordering reiskosten OAH'!AR359=\"\",\"\",'Terugvordering reiskosten OAH'!AR359)","v":""},{"$f":"IF('Terugvordering reiskosten OAH'!AY359=\"\",\"\",'Terugvordering reiskosten OAH'!AY359)","v":""},{"$f":"IF('Terugvordering reiskosten OAH'!BC359=0,\"\",'Terugvordering reiskosten OAH'!BC359)","v":""},{"$f":"IF('Terugvordering reiskosten OAH'!BK359=0,\"\",'Terugvordering reiskosten OAH'!BK359)","v":""},{"$f":"IF('Terugvordering reiskosten OAH'!BR359=0,\"\",'Terugvordering reiskosten OAH'!BR359)","v":""},{"$f":"IF('Terugvordering reiskosten OAH'!BZ359=0,\"\",'Terugvordering reiskosten OAH'!BZ359)","v":""},{"$f":"IF('Terugvordering reiskosten OAH'!CG359=\"\",\"\",'Terugvordering reiskosten OAH'!CG359)","v":""},{"$f":"IF('Terugvordering reiskosten OAH'!CM359=0,\"\",'Terugvordering reiskosten OAH'!CM359)","v":""}]
[{"$f":"IF('Terugvordering reiskosten OAH'!D360=\"\",\"\",IF('Terugvordering reiskosten OAH'!$T$36=\"\",\"\",'Terugvordering reiskosten OAH'!$T$36))","v":""},{"$f":"IF(A288=\"\",\"\",'Terugvordering reiskosten OAH'!$T$38)","v":""},{"$f":"IF(A288=\"\",\"\",'gegevensblad samenvatting vord.'!$C$2)","v":""},{"$f":"IF('Terugvordering reiskosten OAH'!D360=\"\",\"\",TEXT('Terugvordering reiskosten OAH'!D360,\"mm-jjjj\"))","v":""},{"$f":"IF('Terugvordering reiskosten OAH'!H360=\"\",\"\",'Terugvordering reiskosten OAH'!H360)","v":""},{"$f":"IF('Terugvordering reiskosten OAH'!R360=\"\",\"\",'Terugvordering reiskosten OAH'!R360)","v":""},{"$f":"IF('Terugvordering reiskosten OAH'!X360=\"\",\"\",'Terugvordering reiskosten OAH'!X360)","v":""},{"$f":"IF('Terugvordering reiskosten OAH'!AJ360=\"\",\"\",'Terugvordering reiskosten OAH'!AJ360)","v":""},{"$f":"IF('Terugvordering reiskosten OAH'!AR360=\"\",\"\",'Terugvordering reiskosten OAH'!AR360)","v":""},{"$f":"IF('Terugvordering reiskosten OAH'!AY360=\"\",\"\",'Terugvordering reiskosten OAH'!AY360)","v":""},{"$f":"IF('Terugvordering reiskosten OAH'!BC360=0,\"\",'Terugvordering reiskosten OAH'!BC360)","v":""},{"$f":"IF('Terugvordering reiskosten OAH'!BK360=0,\"\",'Terugvordering reiskosten OAH'!BK360)","v":""},{"$f":"IF('Terugvordering reiskosten OAH'!BR360=0,\"\",'Terugvordering reiskosten OAH'!BR360)","v":""},{"$f":"IF('Terugvordering reiskosten OAH'!BZ360=0,\"\",'Terugvordering reiskosten OAH'!BZ360)","v":""},{"$f":"IF('Terugvordering reiskosten OAH'!CG360=\"\",\"\",'Terugvordering reiskosten OAH'!CG360)","v":""},{"$f":"IF('Terugvordering reiskosten OAH'!CM360=0,\"\",'Terugvordering reiskosten OAH'!CM360)","v":""}]
[{"$f":"IF('Terugvordering reiskosten OAH'!D361=\"\",\"\",IF('Terugvordering reiskosten OAH'!$T$36=\"\",\"\",'Terugvordering reiskosten OAH'!$T$36))","v":""},{"$f":"IF(A289=\"\",\"\",'Terugvordering reiskosten OAH'!$T$38)","v":""},{"$f":"IF(A289=\"\",\"\",'gegevensblad samenvatting vord.'!$C$2)","v":""},{"$f":"IF('Terugvordering reiskosten OAH'!D361=\"\",\"\",TEXT('Terugvordering reiskosten OAH'!D361,\"mm-jjjj\"))","v":""},{"$f":"IF('Terugvordering reiskosten OAH'!H361=\"\",\"\",'Terugvordering reiskosten OAH'!H361)","v":""},{"$f":"IF('Terugvordering reiskosten OAH'!R361=\"\",\"\",'Terugvordering reiskosten OAH'!R361)","v":""},{"$f":"IF('Terugvordering reiskosten OAH'!X361=\"\",\"\",'Terugvordering reiskosten OAH'!X361)","v":""},{"$f":"IF('Terugvordering reiskosten OAH'!AJ361=\"\",\"\",'Terugvordering reiskosten OAH'!AJ361)","v":""},{"$f":"IF('Terugvordering reiskosten OAH'!AR361=\"\",\"\",'Terugvordering reiskosten OAH'!AR361)","v":""},{"$f":"IF('Terugvordering reiskosten OAH'!AY361=\"\",\"\",'Terugvordering reiskosten OAH'!AY361)","v":""},{"$f":"IF('Terugvordering reiskosten OAH'!BC361=0,\"\",'Terugvordering reiskosten OAH'!BC361)","v":""},{"$f":"IF('Terugvordering reiskosten OAH'!BK361=0,\"\",'Terugvordering reiskosten OAH'!BK361)","v":""},{"$f":"IF('Terugvordering reiskosten OAH'!BR361=0,\"\",'Terugvordering reiskosten OAH'!BR361)","v":""},{"$f":"IF('Terugvordering reiskosten OAH'!BZ361=0,\"\",'Terugvordering reiskosten OAH'!BZ361)","v":""},{"$f":"IF('Terugvordering reiskosten OAH'!CG361=\"\",\"\",'Terugvordering reiskosten OAH'!CG361)","v":""},{"$f":"IF('Terugvordering reiskosten OAH'!CM361=0,\"\",'Terugvordering reiskosten OAH'!CM361)","v":""}]
[{"$f":"IF('Terugvordering reiskosten OAH'!D362=\"\",\"\",IF('Terugvordering reiskosten OAH'!$T$36=\"\",\"\",'Terugvordering reiskosten OAH'!$T$36))","v":""},{"$f":"IF(A290=\"\",\"\",'Terugvordering reiskosten OAH'!$T$38)","v":""},{"$f":"IF(A290=\"\",\"\",'gegevensblad samenvatting vord.'!$C$2)","v":""},{"$f":"IF('Terugvordering reiskosten OAH'!D362=\"\",\"\",TEXT('Terugvordering reiskosten OAH'!D362,\"mm-jjjj\"))","v":""},{"$f":"IF('Terugvordering reiskosten OAH'!H362=\"\",\"\",'Terugvordering reiskosten OAH'!H362)","v":""},{"$f":"IF('Terugvordering reiskosten OAH'!R362=\"\",\"\",'Terugvordering reiskosten OAH'!R362)","v":""},{"$f":"IF('Terugvordering reiskosten OAH'!X362=\"\",\"\",'Terugvordering reiskosten OAH'!X362)","v":""},{"$f":"IF('Terugvordering reiskosten OAH'!AJ362=\"\",\"\",'Terugvordering reiskosten OAH'!AJ362)","v":""},{"$f":"IF('Terugvordering reiskosten OAH'!AR362=\"\",\"\",'Terugvordering reiskosten OAH'!AR362)","v":""},{"$f":"IF('Terugvordering reiskosten OAH'!AY362=\"\",\"\",'Terugvordering reiskosten OAH'!AY362)","v":""},{"$f":"IF('Terugvordering reiskosten OAH'!BC362=0,\"\",'Terugvordering reiskosten OAH'!BC362)","v":""},{"$f":"IF('Terugvordering reiskosten OAH'!BK362=0,\"\",'Terugvordering reiskosten OAH'!BK362)","v":""},{"$f":"IF('Terugvordering reiskosten OAH'!BR362=0,\"\",'Terugvordering reiskosten OAH'!BR362)","v":""},{"$f":"IF('Terugvordering reiskosten OAH'!BZ362=0,\"\",'Terugvordering reiskosten OAH'!BZ362)","v":""},{"$f":"IF('Terugvordering reiskosten OAH'!CG362=\"\",\"\",'Terugvordering reiskosten OAH'!CG362)","v":""},{"$f":"IF('Terugvordering reiskosten OAH'!CM362=0,\"\",'Terugvordering reiskosten OAH'!CM362)","v":""}]
[{"$f":"IF('Terugvordering reiskosten OAH'!D363=\"\",\"\",IF('Terugvordering reiskosten OAH'!$T$36=\"\",\"\",'Terugvordering reiskosten OAH'!$T$36))","v":""},{"$f":"IF(A291=\"\",\"\",'Terugvordering reiskosten OAH'!$T$38)","v":""},{"$f":"IF(A291=\"\",\"\",'gegevensblad samenvatting vord.'!$C$2)","v":""},{"$f":"IF('Terugvordering reiskosten OAH'!D363=\"\",\"\",TEXT('Terugvordering reiskosten OAH'!D363,\"mm-jjjj\"))","v":""},{"$f":"IF('Terugvordering reiskosten OAH'!H363=\"\",\"\",'Terugvordering reiskosten OAH'!H363)","v":""},{"$f":"IF('Terugvordering reiskosten OAH'!R363=\"\",\"\",'Terugvordering reiskosten OAH'!R363)","v":""},{"$f":"IF('Terugvordering reiskosten OAH'!X363=\"\",\"\",'Terugvordering reiskosten OAH'!X363)","v":""},{"$f":"IF('Terugvordering reiskosten OAH'!AJ363=\"\",\"\",'Terugvordering reiskosten OAH'!AJ363)","v":""},{"$f":"IF('Terugvordering reiskosten OAH'!AR363=\"\",\"\",'Terugvordering reiskosten OAH'!AR363)","v":""},{"$f":"IF('Terugvordering reiskosten OAH'!AY363=\"\",\"\",'Terugvordering reiskosten OAH'!AY363)","v":""},{"$f":"IF('Terugvordering reiskosten OAH'!BC363=0,\"\",'Terugvordering reiskosten OAH'!BC363)","v":""},{"$f":"IF('Terugvordering reiskosten OAH'!BK363=0,\"\",'Terugvordering reiskosten OAH'!BK363)","v":""},{"$f":"IF('Terugvordering reiskosten OAH'!BR363=0,\"\",'Terugvordering reiskosten OAH'!BR363)","v":""},{"$f":"IF('Terugvordering reiskosten OAH'!BZ363=0,\"\",'Terugvordering reiskosten OAH'!BZ363)","v":""},{"$f":"IF('Terugvordering reiskosten OAH'!CG363=\"\",\"\",'Terugvordering reiskosten OAH'!CG363)","v":""},{"$f":"IF('Terugvordering reiskosten OAH'!CM363=0,\"\",'Terugvordering reiskosten OAH'!CM363)","v":""}]
[{"$f":"IF('Terugvordering reiskosten OAH'!D364=\"\",\"\",IF('Terugvordering reiskosten OAH'!$T$36=\"\",\"\",'Terugvordering reiskosten OAH'!$T$36))","v":""},{"$f":"IF(A292=\"\",\"\",'Terugvordering reiskosten OAH'!$T$38)","v":""},{"$f":"IF(A292=\"\",\"\",'gegevensblad samenvatting vord.'!$C$2)","v":""},{"$f":"IF('Terugvordering reiskosten OAH'!D364=\"\",\"\",TEXT('Terugvordering reiskosten OAH'!D364,\"mm-jjjj\"))","v":""},{"$f":"IF('Terugvordering reiskosten OAH'!H364=\"\",\"\",'Terugvordering reiskosten OAH'!H364)","v":""},{"$f":"IF('Terugvordering reiskosten OAH'!R364=\"\",\"\",'Terugvordering reiskosten OAH'!R364)","v":""},{"$f":"IF('Terugvordering reiskosten OAH'!X364=\"\",\"\",'Terugvordering reiskosten OAH'!X364)","v":""},{"$f":"IF('Terugvordering reiskosten OAH'!AJ364=\"\",\"\",'Terugvordering reiskosten OAH'!AJ364)","v":""},{"$f":"IF('Terugvordering reiskosten OAH'!AR364=\"\",\"\",'Terugvordering reiskosten OAH'!AR364)","v":""},{"$f":"IF('Terugvordering reiskosten OAH'!AY364=\"\",\"\",'Terugvordering reiskosten OAH'!AY364)","v":""},{"$f":"IF('Terugvordering reiskosten OAH'!BC364=0,\"\",'Terugvordering reiskosten OAH'!BC364)","v":""},{"$f":"IF('Terugvordering reiskosten OAH'!BK364=0,\"\",'Terugvordering reiskosten OAH'!BK364)","v":""},{"$f":"IF('Terugvordering reiskosten OAH'!BR364=0,\"\",'Terugvordering reiskosten OAH'!BR364)","v":""},{"$f":"IF('Terugvordering reiskosten OAH'!BZ364=0,\"\",'Terugvordering reiskosten OAH'!BZ364)","v":""},{"$f":"IF('Terugvordering reiskosten OAH'!CG364=\"\",\"\",'Terugvordering reiskosten OAH'!CG364)","v":""},{"$f":"IF('Terugvordering reiskosten OAH'!CM364=0,\"\",'Terugvordering reiskosten OAH'!CM364)","v":""}]
[{"$f":"IF('Terugvordering reiskosten OAH'!D365=\"\",\"\",IF('Terugvordering reiskosten OAH'!$T$36=\"\",\"\",'Terugvordering reiskosten OAH'!$T$36))","v":""},{"$f":"IF(A293=\"\",\"\",'Terugvordering reiskosten OAH'!$T$38)","v":""},{"$f":"IF(A293=\"\",\"\",'gegevensblad samenvatting vord.'!$C$2)","v":""},{"$f":"IF('Terugvordering reiskosten OAH'!D365=\"\",\"\",TEXT('Terugvordering reiskosten OAH'!D365,\"mm-jjjj\"))","v":""},{"$f":"IF('Terugvordering reiskosten OAH'!H365=\"\",\"\",'Terugvordering reiskosten OAH'!H365)","v":""},{"$f":"IF('Terugvordering reiskosten OAH'!R365=\"\",\"\",'Terugvordering reiskosten OAH'!R365)","v":""},{"$f":"IF('Terugvordering reiskosten OAH'!X365=\"\",\"\",'Terugvordering reiskosten OAH'!X365)","v":""},{"$f":"IF('Terugvordering reiskosten OAH'!AJ365=\"\",\"\",'Terugvordering reiskosten OAH'!AJ365)","v":""},{"$f":"IF('Terugvordering reiskosten OAH'!AR365=\"\",\"\",'Terugvordering reiskosten OAH'!AR365)","v":""},{"$f":"IF('Terugvordering reiskosten OAH'!AY365=\"\",\"\",'Terugvordering reiskosten OAH'!AY365)","v":""},{"$f":"IF('Terugvordering reiskosten OAH'!BC365=0,\"\",'Terugvordering reiskosten OAH'!BC365)","v":""},{"$f":"IF('Terugvordering reiskosten OAH'!BK365=0,\"\",'Terugvordering reiskosten OAH'!BK365)","v":""},{"$f":"IF('Terugvordering reiskosten OAH'!BR365=0,\"\",'Terugvordering reiskosten OAH'!BR365)","v":""},{"$f":"IF('Terugvordering reiskosten OAH'!BZ365=0,\"\",'Terugvordering reiskosten OAH'!BZ365)","v":""},{"$f":"IF('Terugvordering reiskosten OAH'!CG365=\"\",\"\",'Terugvordering reiskosten OAH'!CG365)","v":""},{"$f":"IF('Terugvordering reiskosten OAH'!CM365=0,\"\",'Terugvordering reiskosten OAH'!CM365)","v":""}]
[{"$f":"IF('Terugvordering reiskosten OAH'!D366=\"\",\"\",IF('Terugvordering reiskosten OAH'!$T$36=\"\",\"\",'Terugvordering reiskosten OAH'!$T$36))","v":""},{"$f":"IF(A294=\"\",\"\",'Terugvordering reiskosten OAH'!$T$38)","v":""},{"$f":"IF(A294=\"\",\"\",'gegevensblad samenvatting vord.'!$C$2)","v":""},{"$f":"IF('Terugvordering reiskosten OAH'!D366=\"\",\"\",TEXT('Terugvordering reiskosten OAH'!D366,\"mm-jjjj\"))","v":""},{"$f":"IF('Terugvordering reiskosten OAH'!H366=\"\",\"\",'Terugvordering reiskosten OAH'!H366)","v":""},{"$f":"IF('Terugvordering reiskosten OAH'!R366=\"\",\"\",'Terugvordering reiskosten OAH'!R366)","v":""},{"$f":"IF('Terugvordering reiskosten OAH'!X366=\"\",\"\",'Terugvordering reiskosten OAH'!X366)","v":""},{"$f":"IF('Terugvordering reiskosten OAH'!AJ366=\"\",\"\",'Terugvordering reiskosten OAH'!AJ366)","v":""},{"$f":"IF('Terugvordering reiskosten OAH'!AR366=\"\",\"\",'Terugvordering reiskosten OAH'!AR366)","v":""},{"$f":"IF('Terugvordering reiskosten OAH'!AY366=\"\",\"\",'Terugvordering reiskosten OAH'!AY366)","v":""},{"$f":"IF('Terugvordering reiskosten OAH'!BC366=0,\"\",'Terugvordering reiskosten OAH'!BC366)","v":""},{"$f":"IF('Terugvordering reiskosten OAH'!BK366=0,\"\",'Terugvordering reiskosten OAH'!BK366)","v":""},{"$f":"IF('Terugvordering reiskosten OAH'!BR366=0,\"\",'Terugvordering reiskosten OAH'!BR366)","v":""},{"$f":"IF('Terugvordering reiskosten OAH'!BZ366=0,\"\",'Terugvordering reiskosten OAH'!BZ366)","v":""},{"$f":"IF('Terugvordering reiskosten OAH'!CG366=\"\",\"\",'Terugvordering reiskosten OAH'!CG366)","v":""},{"$f":"IF('Terugvordering reiskosten OAH'!CM366=0,\"\",'Terugvordering reiskosten OAH'!CM366)","v":""}]
[{"$f":"IF('Terugvordering reiskosten OAH'!D367=\"\",\"\",IF('Terugvordering reiskosten OAH'!$T$36=\"\",\"\",'Terugvordering reiskosten OAH'!$T$36))","v":""},{"$f":"IF(A295=\"\",\"\",'Terugvordering reiskosten OAH'!$T$38)","v":""},{"$f":"IF(A295=\"\",\"\",'gegevensblad samenvatting vord.'!$C$2)","v":""},{"$f":"IF('Terugvordering reiskosten OAH'!D367=\"\",\"\",TEXT('Terugvordering reiskosten OAH'!D367,\"mm-jjjj\"))","v":""},{"$f":"IF('Terugvordering reiskosten OAH'!H367=\"\",\"\",'Terugvordering reiskosten OAH'!H367)","v":""},{"$f":"IF('Terugvordering reiskosten OAH'!R367=\"\",\"\",'Terugvordering reiskosten OAH'!R367)","v":""},{"$f":"IF('Terugvordering reiskosten OAH'!X367=\"\",\"\",'Terugvordering reiskosten OAH'!X367)","v":""},{"$f":"IF('Terugvordering reiskosten OAH'!AJ367=\"\",\"\",'Terugvordering reiskosten OAH'!AJ367)","v":""},{"$f":"IF('Terugvordering reiskosten OAH'!AR367=\"\",\"\",'Terugvordering reiskosten OAH'!AR367)","v":""},{"$f":"IF('Terugvordering reiskosten OAH'!AY367=\"\",\"\",'Terugvordering reiskosten OAH'!AY367)","v":""},{"$f":"IF('Terugvordering reiskosten OAH'!BC367=0,\"\",'Terugvordering reiskosten OAH'!BC367)","v":""},{"$f":"IF('Terugvordering reiskosten OAH'!BK367=0,\"\",'Terugvordering reiskosten OAH'!BK367)","v":""},{"$f":"IF('Terugvordering reiskosten OAH'!BR367=0,\"\",'Terugvordering reiskosten OAH'!BR367)","v":""},{"$f":"IF('Terugvordering reiskosten OAH'!BZ367=0,\"\",'Terugvordering reiskosten OAH'!BZ367)","v":""},{"$f":"IF('Terugvordering reiskosten OAH'!CG367=\"\",\"\",'Terugvordering reiskosten OAH'!CG367)","v":""},{"$f":"IF('Terugvordering reiskosten OAH'!CM367=0,\"\",'Terugvordering reiskosten OAH'!CM367)","v":""}]
[{"$f":"IF('Terugvordering reiskosten OAH'!D368=\"\",\"\",IF('Terugvordering reiskosten OAH'!$T$36=\"\",\"\",'Terugvordering reiskosten OAH'!$T$36))","v":""},{"$f":"IF(A296=\"\",\"\",'Terugvordering reiskosten OAH'!$T$38)","v":""},{"$f":"IF(A296=\"\",\"\",'gegevensblad samenvatting vord.'!$C$2)","v":""},{"$f":"IF('Terugvordering reiskosten OAH'!D368=\"\",\"\",TEXT('Terugvordering reiskosten OAH'!D368,\"mm-jjjj\"))","v":""},{"$f":"IF('Terugvordering reiskosten OAH'!H368=\"\",\"\",'Terugvordering reiskosten OAH'!H368)","v":""},{"$f":"IF('Terugvordering reiskosten OAH'!R368=\"\",\"\",'Terugvordering reiskosten OAH'!R368)","v":""},{"$f":"IF('Terugvordering reiskosten OAH'!X368=\"\",\"\",'Terugvordering reiskosten OAH'!X368)","v":""},{"$f":"IF('Terugvordering reiskosten OAH'!AJ368=\"\",\"\",'Terugvordering reiskosten OAH'!AJ368)","v":""},{"$f":"IF('Terugvordering reiskosten OAH'!AR368=\"\",\"\",'Terugvordering reiskosten OAH'!AR368)","v":""},{"$f":"IF('Terugvordering reiskosten OAH'!AY368=\"\",\"\",'Terugvordering reiskosten OAH'!AY368)","v":""},{"$f":"IF('Terugvordering reiskosten OAH'!BC368=0,\"\",'Terugvordering reiskosten OAH'!BC368)","v":""},{"$f":"IF('Terugvordering reiskosten OAH'!BK368=0,\"\",'Terugvordering reiskosten OAH'!BK368)","v":""},{"$f":"IF('Terugvordering reiskosten OAH'!BR368=0,\"\",'Terugvordering reiskosten OAH'!BR368)","v":""},{"$f":"IF('Terugvordering reiskosten OAH'!BZ368=0,\"\",'Terugvordering reiskosten OAH'!BZ368)","v":""},{"$f":"IF('Terugvordering reiskosten OAH'!CG368=\"\",\"\",'Terugvordering reiskosten OAH'!CG368)","v":""},{"$f":"IF('Terugvordering reiskosten OAH'!CM368=0,\"\",'Terugvordering reiskosten OAH'!CM368)","v":""}]
[{"$f":"IF('Terugvordering reiskosten OAH'!D369=\"\",\"\",IF('Terugvordering reiskosten OAH'!$T$36=\"\",\"\",'Terugvordering reiskosten OAH'!$T$36))","v":""},{"$f":"IF(A297=\"\",\"\",'Terugvordering reiskosten OAH'!$T$38)","v":""},{"$f":"IF(A297=\"\",\"\",'gegevensblad samenvatting vord.'!$C$2)","v":""},{"$f":"IF('Terugvordering reiskosten OAH'!D369=\"\",\"\",TEXT('Terugvordering reiskosten OAH'!D369,\"mm-jjjj\"))","v":""},{"$f":"IF('Terugvordering reiskosten OAH'!H369=\"\",\"\",'Terugvordering reiskosten OAH'!H369)","v":""},{"$f":"IF('Terugvordering reiskosten OAH'!R369=\"\",\"\",'Terugvordering reiskosten OAH'!R369)","v":""},{"$f":"IF('Terugvordering reiskosten OAH'!X369=\"\",\"\",'Terugvordering reiskosten OAH'!X369)","v":""},{"$f":"IF('Terugvordering reiskosten OAH'!AJ369=\"\",\"\",'Terugvordering reiskosten OAH'!AJ369)","v":""},{"$f":"IF('Terugvordering reiskosten OAH'!AR369=\"\",\"\",'Terugvordering reiskosten OAH'!AR369)","v":""},{"$f":"IF('Terugvordering reiskosten OAH'!AY369=\"\",\"\",'Terugvordering reiskosten OAH'!AY369)","v":""},{"$f":"IF('Terugvordering reiskosten OAH'!BC369=0,\"\",'Terugvordering reiskosten OAH'!BC369)","v":""},{"$f":"IF('Terugvordering reiskosten OAH'!BK369=0,\"\",'Terugvordering reiskosten OAH'!BK369)","v":""},{"$f":"IF('Terugvordering reiskosten OAH'!BR369=0,\"\",'Terugvordering reiskosten OAH'!BR369)","v":""},{"$f":"IF('Terugvordering reiskosten OAH'!BZ369=0,\"\",'Terugvordering reiskosten OAH'!BZ369)","v":""},{"$f":"IF('Terugvordering reiskosten OAH'!CG369=\"\",\"\",'Terugvordering reiskosten OAH'!CG369)","v":""},{"$f":"IF('Terugvordering reiskosten OAH'!CM369=0,\"\",'Terugvordering reiskosten OAH'!CM369)","v":""}]
[{"$f":"IF('Terugvordering reiskosten OAH'!D370=\"\",\"\",IF('Terugvordering reiskosten OAH'!$T$36=\"\",\"\",'Terugvordering reiskosten OAH'!$T$36))","v":""},{"$f":"IF(A298=\"\",\"\",'Terugvordering reiskosten OAH'!$T$38)","v":""},{"$f":"IF(A298=\"\",\"\",'gegevensblad samenvatting vord.'!$C$2)","v":""},{"$f":"IF('Terugvordering reiskosten OAH'!D370=\"\",\"\",TEXT('Terugvordering reiskosten OAH'!D370,\"mm-jjjj\"))","v":""},{"$f":"IF('Terugvordering reiskosten OAH'!H370=\"\",\"\",'Terugvordering reiskosten OAH'!H370)","v":""},{"$f":"IF('Terugvordering reiskosten OAH'!R370=\"\",\"\",'Terugvordering reiskosten OAH'!R370)","v":""},{"$f":"IF('Terugvordering reiskosten OAH'!X370=\"\",\"\",'Terugvordering reiskosten OAH'!X370)","v":""},{"$f":"IF('Terugvordering reiskosten OAH'!AJ370=\"\",\"\",'Terugvordering reiskosten OAH'!AJ370)","v":""},{"$f":"IF('Terugvordering reiskosten OAH'!AR370=\"\",\"\",'Terugvordering reiskosten OAH'!AR370)","v":""},{"$f":"IF('Terugvordering reiskosten OAH'!AY370=\"\",\"\",'Terugvordering reiskosten OAH'!AY370)","v":""},{"$f":"IF('Terugvordering reiskosten OAH'!BC370=0,\"\",'Terugvordering reiskosten OAH'!BC370)","v":""},{"$f":"IF('Terugvordering reiskosten OAH'!BK370=0,\"\",'Terugvordering reiskosten OAH'!BK370)","v":""},{"$f":"IF('Terugvordering reiskosten OAH'!BR370=0,\"\",'Terugvordering reiskosten OAH'!BR370)","v":""},{"$f":"IF('Terugvordering reiskosten OAH'!BZ370=0,\"\",'Terugvordering reiskosten OAH'!BZ370)","v":""},{"$f":"IF('Terugvordering reiskosten OAH'!CG370=\"\",\"\",'Terugvordering reiskosten OAH'!CG370)","v":""},{"$f":"IF('Terugvordering reiskosten OAH'!CM370=0,\"\",'Terugvordering reiskosten OAH'!CM370)","v":""}]
[{"$f":"IF('Terugvordering reiskosten OAH'!D371=\"\",\"\",IF('Terugvordering reiskosten OAH'!$T$36=\"\",\"\",'Terugvordering reiskosten OAH'!$T$36))","v":""},{"$f":"IF(A299=\"\",\"\",'Terugvordering reiskosten OAH'!$T$38)","v":""},{"$f":"IF(A299=\"\",\"\",'gegevensblad samenvatting vord.'!$C$2)","v":""},{"$f":"IF('Terugvordering reiskosten OAH'!D371=\"\",\"\",TEXT('Terugvordering reiskosten OAH'!D371,\"mm-jjjj\"))","v":""},{"$f":"IF('Terugvordering reiskosten OAH'!H371=\"\",\"\",'Terugvordering reiskosten OAH'!H371)","v":""},{"$f":"IF('Terugvordering reiskosten OAH'!R371=\"\",\"\",'Terugvordering reiskosten OAH'!R371)","v":""},{"$f":"IF('Terugvordering reiskosten OAH'!X371=\"\",\"\",'Terugvordering reiskosten OAH'!X371)","v":""},{"$f":"IF('Terugvordering reiskosten OAH'!AJ371=\"\",\"\",'Terugvordering reiskosten OAH'!AJ371)","v":""},{"$f":"IF('Terugvordering reiskosten OAH'!AR371=\"\",\"\",'Terugvordering reiskosten OAH'!AR371)","v":""},{"$f":"IF('Terugvordering reiskosten OAH'!AY371=\"\",\"\",'Terugvordering reiskosten OAH'!AY371)","v":""},{"$f":"IF('Terugvordering reiskosten OAH'!BC371=0,\"\",'Terugvordering reiskosten OAH'!BC371)","v":""},{"$f":"IF('Terugvordering reiskosten OAH'!BK371=0,\"\",'Terugvordering reiskosten OAH'!BK371)","v":""},{"$f":"IF('Terugvordering reiskosten OAH'!BR371=0,\"\",'Terugvordering reiskosten OAH'!BR371)","v":""},{"$f":"IF('Terugvordering reiskosten OAH'!BZ371=0,\"\",'Terugvordering reiskosten OAH'!BZ371)","v":""},{"$f":"IF('Terugvordering reiskosten OAH'!CG371=\"\",\"\",'Terugvordering reiskosten OAH'!CG371)","v":""},{"$f":"IF('Terugvordering reiskosten OAH'!CM371=0,\"\",'Terugvordering reiskosten OAH'!CM371)","v":""}]
[{"$f":"IF('Terugvordering reiskosten OAH'!D372=\"\",\"\",IF('Terugvordering reiskosten OAH'!$T$36=\"\",\"\",'Terugvordering reiskosten OAH'!$T$36))","v":""},{"$f":"IF(A300=\"\",\"\",'Terugvordering reiskosten OAH'!$T$38)","v":""},{"$f":"IF(A300=\"\",\"\",'gegevensblad samenvatting vord.'!$C$2)","v":""},{"$f":"IF('Terugvordering reiskosten OAH'!D372=\"\",\"\",TEXT('Terugvordering reiskosten OAH'!D372,\"mm-jjjj\"))","v":""},{"$f":"IF('Terugvordering reiskosten OAH'!H372=\"\",\"\",'Terugvordering reiskosten OAH'!H372)","v":""},{"$f":"IF('Terugvordering reiskosten OAH'!R372=\"\",\"\",'Terugvordering reiskosten OAH'!R372)","v":""},{"$f":"IF('Terugvordering reiskosten OAH'!X372=\"\",\"\",'Terugvordering reiskosten OAH'!X372)","v":""},{"$f":"IF('Terugvordering reiskosten OAH'!AJ372=\"\",\"\",'Terugvordering reiskosten OAH'!AJ372)","v":""},{"$f":"IF('Terugvordering reiskosten OAH'!AR372=\"\",\"\",'Terugvordering reiskosten OAH'!AR372)","v":""},{"$f":"IF('Terugvordering reiskosten OAH'!AY372=\"\",\"\",'Terugvordering reiskosten OAH'!AY372)","v":""},{"$f":"IF('Terugvordering reiskosten OAH'!BC372=0,\"\",'Terugvordering reiskosten OAH'!BC372)","v":""},{"$f":"IF('Terugvordering reiskosten OAH'!BK372=0,\"\",'Terugvordering reiskosten OAH'!BK372)","v":""},{"$f":"IF('Terugvordering reiskosten OAH'!BR372=0,\"\",'Terugvordering reiskosten OAH'!BR372)","v":""},{"$f":"IF('Terugvordering reiskosten OAH'!BZ372=0,\"\",'Terugvordering reiskosten OAH'!BZ372)","v":""},{"$f":"IF('Terugvordering reiskosten OAH'!CG372=\"\",\"\",'Terugvordering reiskosten OAH'!CG372)","v":""},{"$f":"IF('Terugvordering reiskosten OAH'!CM372=0,\"\",'Terugvordering reiskosten OAH'!CM372)","v":""}]
[{"$f":"IF('Terugvordering reiskosten OAH'!D373=\"\",\"\",IF('Terugvordering reiskosten OAH'!$T$36=\"\",\"\",'Terugvordering reiskosten OAH'!$T$36))","v":""},{"$f":"IF(A301=\"\",\"\",'Terugvordering reiskosten OAH'!$T$38)","v":""},{"$f":"IF(A301=\"\",\"\",'gegevensblad samenvatting vord.'!$C$2)","v":""},{"$f":"IF('Terugvordering reiskosten OAH'!D373=\"\",\"\",TEXT('Terugvordering reiskosten OAH'!D373,\"mm-jjjj\"))","v":""},{"$f":"IF('Terugvordering reiskosten OAH'!H373=\"\",\"\",'Terugvordering reiskosten OAH'!H373)","v":""},{"$f":"IF('Terugvordering reiskosten OAH'!R373=\"\",\"\",'Terugvordering reiskosten OAH'!R373)","v":""},{"$f":"IF('Terugvordering reiskosten OAH'!X373=\"\",\"\",'Terugvordering reiskosten OAH'!X373)","v":""},{"$f":"IF('Terugvordering reiskosten OAH'!AJ373=\"\",\"\",'Terugvordering reiskosten OAH'!AJ373)","v":""},{"$f":"IF('Terugvordering reiskosten OAH'!AR373=\"\",\"\",'Terugvordering reiskosten OAH'!AR373)","v":""},{"$f":"IF('Terugvordering reiskosten OAH'!AY373=\"\",\"\",'Terugvordering reiskosten OAH'!AY373)","v":""},{"$f":"IF('Terugvordering reiskosten OAH'!BC373=0,\"\",'Terugvordering reiskosten OAH'!BC373)","v":""},{"$f":"IF('Terugvordering reiskosten OAH'!BK373=0,\"\",'Terugvordering reiskosten OAH'!BK373)","v":""},{"$f":"IF('Terugvordering reiskosten OAH'!BR373=0,\"\",'Terugvordering reiskosten OAH'!BR373)","v":""},{"$f":"IF('Terugvordering reiskosten OAH'!BZ373=0,\"\",'Terugvordering reiskosten OAH'!BZ373)","v":""},{"$f":"IF('Terugvordering reiskosten OAH'!CG373=\"\",\"\",'Terugvordering reiskosten OAH'!CG373)","v":""},{"$f":"IF('Terugvordering reiskosten OAH'!CM373=0,\"\",'Terugvordering reiskosten OAH'!CM373)","v":""}]

{"sheet":"instellingsgegevens","index":26,"n_rows":2739,"n_cols":7,"rows_kept":2739,"hidden":true}
["nummer_instelling","korte_naam_instell","Adres","postnummer","naam_gemeente","telefoonnr","e_mail"]
[18,"GO! BS De Kleurdoos Brussel","Moutstraat 24",1000,"BRUSSEL","02-512.49.79","info@bsdekleurdoos.be"]
[26,"GO! BS 't Plant'zoentje Laken","Karel Bogaerdstraat 4",1020,"LAKEN","02-474.06.20","sec@hetplantzoentje.be"]
[34,"GO! BS Hendrik Conscience Schaarbeek","Gustave Latinislaan 94",1030,"SCHAARBEEK","02-215.99.95","directeur@hendrikconscience.be"]
[42,"GO! BS Atheneum Etterbeek","Edmond Mesenslaan 2",1040,"ETTERBEEK","02-732.17.04","info@bsetterbeek.be"]
[59,"GO! Tehuis en BS Etterbeek","Pater Eudore Devroyestraat 29",1040,"ETTERBEEK","02-734.19.05","directie@tehuisbrussel.be"]
[67,"GO! BS De Wimpel Elsene","Cansstraat 14",1050,"ELSENE","02-511.52.30","secretariaat@dewimpel.be"]
[75,"GO! BS De Bron","Bronstraat 86_A",1060,"SINT-GILLIS","02-538.54.52","secretariaat.debron@sgrbrussel.be"]
[83,"GO! LS Toverfluit","Toverfluitstraat 21",1080,"SINT-JANS-MOLENBEEK","02-413.11.30","sabine.vanheeswijck@campustoverfluit.be"]
[91,"GO! BS De Goudenregen","Frans Vervaeckstraat 47",1083,"GANSHOREN","02-421.54.00","secretariaat@degoudenregen.be"]
[109,"GO! BS Unescoschool Koekelberg","Klein-Berchemstraat 1",1081,"KOEKELBERG","02-468.16.16","guray.turkistan@unescoschool.be"]
[117,"GO!BS Zavelberg","Oscar Ruelensplein 13",1082,"SINT-AGATHA-BERCHEM","02-482.01.05","liesbet.doucet@zavelberg.be"]
[125,"GO! BS Kasteel Beiaard","Kruipweg 23",1120,"NEDER-OVER-HEEMBEEK","02-268.18.97","bart.laevens@kasteelbeiaard.be"]
[133,"GO! BS De Weg-wijzer Evere","Sint-Vincentiusstraat 29",1140,"EVERE","02-241.58.09","directie@de-wegwijzer.be"]
[141,"GO! BS De Zonnewijzer","Grote Prijzenlaan 59",1150,"SINT-PIETERS-WOLUWE","02-770.85.56","heidi.trappeniers@de-zonnewijzer.be"]
[158,"GO! BS De Stadsmus Oudergem","Henri de Brouckèrelaan 16",1160,"OUDERGEM","02-672.87.18","secretariaat@destadsmus.be"]
[166,"GO! BS De Bloeiende Kerselaar","Louis Vander Swaelmenlaan 25",1170,"WATERMAAL-BOSVOORDE","02-660.39.41","kristel.derdelinckx@debloeiendekerselaar.be"]
[174,"GO! BS Floreal Ukkel","Floréallaan 14",1180,"UKKEL","02-340.68.90","directie@bsfloreal.be"]
[182,"GO! BS Floralia","Floraliënstraat 29",1200,"SINT-LAMBRECHTS-WOLUWE","02-771.59.71","directie@bsfloralia.be"]
[191,"GO! BS De Leerboom","Auguste Demaeghtlaan 40",1500,"HALLE","02-363.82.42","katleen.roelandt@go-campushalle.be"]
[208,"GO! BS Zilverberk","Pastoor Bernaertsstraat 28",1500,"HALLE","02-356.78.89","directie.zilverberk@ringscholen.be"]
[216,"GO! BS Markevallei","Waardestraat 17",1540,"HERNE","02-396.13.76","directie.markevallei@ringscholen.be"]
[232,"GO! BS De Groene Parel","Albert Van Cotthemstraat 110",1600,"SINT-PIETERS-LEEUW","02-377.82.12","directie.de.groeneparel@ringscholen.be"]
[257,"GO! BS De Key","Karel Keymolenstraat 39",1750,"LENNIK","02-532.33.65","directie.de.key@ringscholen.be"]
[265,"GO! BS Vijverbeek","Nieuwstraat 124_A",1730,"ASSE","02-451.61.02","directie.bs.vijverbeek@ringscholen.be"]
[273,"GO! BS De Vlinder","Kasteelstraat 76",1700,"DILBEEK","02-569.39.47","directie.de.vlinder@ringscholen.be"]
[281,"GO! BS Horizon","Keizerstraat 35",1740,"TERNAT","02-582.52.76","sylvie.struyf@bshorizon.be"]
[299,"GO! BS De Bij Liedekerke","Kleemputtenstraat 16",1770,"LIEDEKERKE","053-46.33.00","info@debij.be"]
[307,"GO! BS Klim-Op Vilvoorde","Ledeganckstraat (Karel) 16",1800,"VILVOORDE","02-251.35.61","info@klimopvilvoorde.be"]
[315,"GO! BS Kaleido","Leuvensestraat 117",1800,"VILVOORDE","02-251.58.17","directeur@kaleido-vilvoorde.be"]
[323,"GO! BS De Sterrenhemel","Koning Albertlaan 1",1830,"MACHELEN","02-251.39.31","directeur@desterrenhemel.be"]
[331,"GO! BS De Regenboog","Speelbroek 38",1850,"GRIMBERGEN","02-269.31.45","directeur@deregenbooggrimbergen.be"]
[349,"GO! BS De Zonnebloem Wolvertem","Karel Baudewijnslaan 26",1861,"WOLVERTEM","02-269.52.22","secretariaat.zonnebloem@ringscholen.be"]
[356,"GO! BS De Duizendpootrakkers","Ringlaan 2",1745,"OPWIJK","052-35.56.16","info@duizendpootrakkers.be"]
[364,"GO! BS 't Kasteeltje","Stafh. Braffortlaan 6",3090,"OVERIJSE","02-688.22.31","bs.overijse@telenet.be"]
[372,"GO! BS De Vleugel","Spoorwegstraat 27",1930,"ZAVENTEM","02-720.17.92","info@go-devleugel.be"]
[381,"GO! BS De KATtensprong","Hippolyte Boulengerlaan 7",3080,"TERVUREN","02-766.11.12","info@kattensprong.be"]
[398,"GO! BS Het Groene Dal","Willem Matstraat 4",1560,"HOEILAART","02-657.42.98","directeur@hetgroenedal.be"]
[406,"GO! BS De Pijl Antwerpen","Pijlstraat 2",2060,"ANTWERPEN","03-232.71.50","directie@depijl.be"]
[414,"GO! BS De Spits Antwerpen","Thonetlaan 106",2050,"ANTWERPEN","03-210.95.84","info@de-spits.be"]
[422,"GO! BS Het Laerhof MERKSEM","Laarsebaan 100",2170,"MERKSEM","03-645.08.06","directie@hetlaerhof.be"]
[431,"GO! BS 3Hoek Ekeren","Kloosterstraat 39",2180,"EKEREN","03-541.62.54","directie@3hoek-ekeren.be"]
[448,"GO! BS Irishof","Kapelsestraat 37",2950,"KAPELLEN","03-660.13.04","directie@irishof.be"]
[455,"GO! BS De Stappe","Geelvinckstraat 15",2940,"STABROEK","03-568.31.92","directie@bs-destappe.be"]
[463,"GO! KS Het Notendopje","Veldstraat 80",2110,"WIJNEGEM","03-354.30.23","info@hetnotendopje.be"]
[471,"GO! BS Vijverhof","August Jonckersstraat 65",2900,"SCHOTEN","03-658.61.81","directie@bsschoten.be"]
[489,"GO! BS De Brug","Brugstraat 83",2960,"SINT-JOB-IN-'T-GOOR","03-636.11.44","directie@bsdebrug.be"]
[497,"GO! BS Wonderwijs","Augustijnslei 54",2930,"BRASSCHAAT","0491-96.91.58","basisschool@wonderwijsbrasschaat.be"]
[505,"GO! BS 't Park","Herentalsebaan 54",2390,"OOSTMALLE","03-312.02.31","emmanuela.vervoort@inventoscholen.be"]
[513,"GO! BS Klim-op","Heybleukenstraat 21",2980,"ZOERSEL","03-383.25.95","bs.zoersel@sgr3.be"]
[521,"GO! BS Daltonschool De Vinkjes","Nieuwe Buiten 1",2990,"WUUSTWEZEL","03-669.63.61","directie@tscholeke-devinkjes.be"]
[539,"GO! BS De 4sprong-3D","Ganzendries 14",2920,"KALMTHOUT","03-666.98.35","directie@de4sprong-3D.be"]
[547,"GO! BS Freinetschool WonderWereld","Hofstraat 14",2910,"ESSEN","03-667.25.03","directie@freinetwonderwereld.be"]
[554,"GO! BS Plantijntje","Plantin en Moretuslei 163",2140,"BORGERHOUT","03-235.36.90","directie@bsplantijntje.be"]
[562,"GO! BS De Boomgaard","Luit. Karel Caluwaertsstraat 41",2160,"WOMMELGEM","03-353.73.01","secretariaat@bsdeboomgaard.be"]
[571,"GO! BS Vennebos","Kasteeldreef 24",2970,"SCHILDE","03-383.08.15","christine.claessens@vennebos.be"]
[588,"GO! BS Leefschool 't Zandhofje","Liersebaan 51",2240,"ZANDHOVEN","03-484.34.48","directie@zandhofje.be"]
[596,"GO! BS De Zevensprong","Albert Kanaalstraat 31",2560,"NIJLEN","03-481.82.92","directie@bsdezevensprong.be"]
[604,"GO! BS 't Klavertje","Vonckstraat 44",2270,"HERENTHOUT","014-51.13.39","directie@bsklavertje.be"]
[612,"GO! BS De Wijngaard","Wijngaardstraat 13",2280,"GROBBENDONK","014-51.33.82","directie@bs-dewijngaard.be"]
[621,"GO! BS Kameleon","Hertoginstraat 124",2300,"TURNHOUT","014-41.41.78","directie@basisschoolkameleon.be"]
[638,"GO! BS De Smiskens","Smiskensstraat 58",2300,"TURNHOUT","014-41.30.76","directie@desmiskens.be"]
[653,"GO! BS 't Locomotiefje","Karel Van Nyenlaan 12",2340,"BEERSE","014-61.38.40","info@locomotiefje.be"]
[679,"GO! BS Talentenschool Blink","Bovenheide 27",2380,"RAVELS","014-65.59.44","directie@talentenschoolblink.be"]
[687,"GO! BS Het Schrijvertje","Guido Gezellestraat 10",2400,"MOL","014-31.11.50","directie@bshetschrijvertje.be"]
[703,"GO! BS De Vesten","Augustijnenlaan 31",2200,"HERENTALS","014-21.10.60","directie@bsherentals.be"]
[711,"GO! BS Freinetschool De Vlindertuin","Berg 10",2275,"LILLE","014-88.06.35","directie@freinetschoollille.be"]
[729,"GO! BS Willem Tell","Voortkapelseweg 2",2250,"OLEN","014-26.30.58","directie@bs-willemtell.com"]
[737,"GO! BS De Luchtballon","Lebonstraat 45",2440,"GEEL","014-58.60.46","els.lenaerts@gogeel.be"]
[752,"GO! BS De Zevensprong","Netestraat 33",2480,"DESSEL","014-37.74.82","directie@zevensprongdessel.be"]
[761,"GO! BS Curieuzeneuzen","Boudewijnlaan 15_1",2490,"BALEN","014-81.17.38","directie@curieuzeneuzen.school"]
[794,"GO! Atheneum Lier BS Het Molentje","Eeuwfeestlaan 190",2500,"LIER","03-480.05.69","grietr@atheneumlier.be"]
[802,"GO! Atheneum Lier BS Stadspark","Arthur Vanderpoortenlaan 35",2500,"LIER","03-480.78.80","stadspark@atheneumlier.be"]
[811,"GO! BS Bisterveld","Nieuwstraat 26",2560,"KESSEL","03-480.20.39","directie@bisterveld.be"]
[828,"GO! BS De Bolster","Hof van Riethlaan 3",2640,"MORTSEL","03-449.89.05","directie@bolsterdorp.be"]
[836,"GO! BS 't Kofschip","Baron de Celleslaan 1",2650,"EDEGEM","03-448.13.43","directie@bstkofschip.be"]
[844,"GO! BS 't Groen Schooltje","Boechoutsesteenweg 31",2540,"HOVE","03-455.48.06","info@tgroenschooltje.be"]
[851,"GO! BS De Schans","Kruisschanslei 42",2550,"KONTICH","03-457.32.73","directie@deschans-kontich.be"]
[869,"GO! BS Kiliaan","Rooienberg 52",2570,"DUFFEL","015-31.17.52","directie@kiliaan.be"]
[877,"GO! Atheneum Lier BS LS Dagpauwoog","Dorpsstraat 63",2500,"KONINGSHOOIKT","03-482.14.15","dagpauwoog@atheneumlier.be"]
[885,"GO! BS Parkschool Ieperman","Kerkelei 43",2610,"WILRIJK","03-827.11.18","info@parkschoolieperman.be"]
[893,"GO! BS Mercator Rupelmonde","Geeraard de Cremerstraat 91_A",9150,"RUPELMONDE","03-774.18.23","info@mercatorschool.be"]
[901,"GO! BS De Blokkendoos","Leon Gilliotlaan 58",2630,"AARTSELAAR","03-887.66.91","directeur@bsdeblokkendoos.be"]
[919,"GO! BS De Hoeksteen","Tuyaertsstraat 53",2850,"BOOM","03-888.02.17","directeur@dehoeksteen-boom.be"]
[927,"GO! BS Park","Van Leriuslaan 221",2850,"BOOM","03-888.20.18","directeur@boompark.be"]
[935,"GO! BS 't Kasteeltje","Molenstraat 7",2870,"PUURS-SINT-AMANDS","03-889.15.30","directeur@kasteeltje-puurs.be"]
[943,"GO! BS De Linde","Lindestraat 123_A",2880,"BORNEM","03-897.98.16","info@bsdelinde.net"]
[951,"GO! BS De Schorre","Jan Van Droogenbroeckstraat 49",2890,"PUURS-SINT-AMANDS","052-33.21.05","directeur@bsdeschorre.be"]
[968,"GO! BS De Klimroos-De Wijsneus Temse","Clemens De Landtsheerlaan 3",9140,"TEMSE","03-771.07.12","bs.klimroos.temse@telenet.be"]
[976,"GO! BS De Tovertuin Sint-Niklaas","Slachthuisstraat 68",9100,"SINT-NIKLAAS","03-766.64.44","directie@detovertuin.be"]
[984,"GO! BS De Watertoren Sint-Niklaas","Watertorenstraat 1",9100,"SINT-NIKLAAS","03-780.79.15","directie@bsdewatertoren.be"]
[1008,"GO! BS Het Laar","Laarstraat 10",2070,"ZWIJNDRECHT","03-252.80.95","directie@basisschoolhetlaar.be"]
[1016,"GO! BS De Bever Beveren-Waas","Donkvijverstraat 30",9120,"BEVEREN-WAAS","03-750.96.85","directie@bsdebever.be"]
[1024,"GO! BS Reynaert Kruibeke","Kattestraat 68",9150,"KRUIBEKE","03-774.15.68","directie@basisschoolreynaert.be"]
[1032,"GO! BS De Bron De Klinge","Buitenstraat 2",9170,"SINT-GILLIS-WAAS","03-770.57.11","directie@bsdebron.be"]
[1041,"GO! BS De Zonnewijzer","Beukenlaan 9",9130,"KIELDRECHT","03-773.47.90","directie@sterappel.be"]
[1057,"GO! BS Dubbelsprong","Zandpoortvest 9",2800,"MECHELEN","015-20.32.36","directie@dubbelsprong.be"]
[1065,"GO! BS Lyceum","Caputsteenstraat 51",2800,"MECHELEN","015-20.43.09","info@bslyceum.be"]
[1073,"GO! BS de Vlindertuin","Cypriaan de Rorestraat 25",2800,"MECHELEN","015-41.16.02","directie@devlindertuinmechelen.be"]
[1081,"GO! BS Atheneum Keerbergen","Vlieghavenlaan 18",3140,"KEERBERGEN","015-23.53.61","directie@basisschool-keerbergen.be"]
[1099,"GO! BS Alice Nahon","Mechelbaan 559",2580,"PUTTE","015-76.75.22","directie@alicenahonschool.be"]
[1107,"GO! BS Dr Jozef Weyns","Jan De Cordesstr. 58",2580,"BEERZEL","015-76.71.21","secretariaat@bs-drjozefweyns.be"]
[1123,"GO! BS Ter Berken","Ambroossteenweg 13",1981,"HOFSTADE","015-61.23.69","directie@terberken.be"]
[1149,"GO! BS Hertog Karel Wilsele","Hoogveldweg 5",3012,"WILSELE","016-44.46.37","secretariaat@hertogkarel.be"]
[1156,"GO! BS Pee & Nel","Jean-Baptiste Van Monsstraat 6",3000,"LEUVEN","016-20.74.51","annick.tricot@huis11.be"]
[1164,"GO! BS De Klare Bron/De Grasmus","Jules Vandenbemptlaan 14",3001,"HEVERLEE","016-22.26.73","begga.willems@huis11.be"]
[1172,"GO! BS Hertog Jan","Kerkhoflaan 28",3070,"KORTENBERG","02-759.68.25","directie@hertogjan.be"]
[1181,"GO! BS Spectrum","Tiendeschuurstraat 17",1910,"KAMPENHOUT","016-65.54.27","directie@go-spectrum.be"]
[1198,"GO! BS 't Wensbos","Frans Coeckelbergsstraat 17_A",2220,"HEIST-OP-DEN-BERG","0477-82.11.21","directie.twensbos@atheneumheist.be"]
[1206,"GO! BS De Cocon","Veldonkstraat 10",3120,"TREMELO","016-53.16.98","directie@bs-decocon.be"]
[1222,"GO! BS De Letterboom","Kerkstraat 10",2230,"HERSELT","014-54.49.80","directie@bs-deletterboom.be"]
[1231,"GO! BS Daltonschool Het Leerlabo","Spikdorenveld 22",2260,"WESTERLO","014-53.86.56","directie.daltonschool@hetleerlabo.be"]
[1248,"GO! BS Regenboog Kessel-Lo","Schoolstraat 2",3010,"KESSEL-LO","016-25.74.46","ludo.van.meensel@huis11.be"]
[1255,"GO! BS De Winge Tielt-Winge","Halensebaan 16",3390,"SINT-JORIS-WINGE","016-63.45.32","boris.skatchkoff@adite.be"]
[1263,"GO! BS Zonnedorp Aarschot","Bogaardenlaan 8",3200,"AARSCHOT","016-68.98.20","directeur@bszonnedorp.be"]
[1271,"GO! BS De Hoogvlieger Aarschot","Herseltsesteenweg 221",3200,"AARSCHOT","016-56.62.64","directeur@bsdehoogvlieger.be"]
[1289,"GO! BS Dol-fijn Rillaar","Ebdries 11",3202,"RILLAAR","016-50.91.00","lien.dehaene@adite.be"]
[1297,"GO! BS Freinetschool De Pit Diest","Overstraat 37",3290,"DIEST","013-31.16.87","coordinator@freinetschooldepit.be"]
[1305,"GO! BS De Kleine Prins","Weerstandsplein 1",3290,"DIEST","013-35.14.70","onthaal@dekleineprinsdiest.be"]
[1313,"GO! BS Klein Atheneum Tienen","Oude Vestenstraat 12",3300,"TIENEN","016-81.68.45","directeur@kleinatheneum.be"]
[1339,"GO! BS De Bron","Oudebaan 317",3000,"LEUVEN","016-53.90.13","secretariaat.bron@gmail.com"]
[1354,"GO! BS Hof Pepijn","Bondgenotenlaan 6",3400,"LANDEN","011-88.17.93","directeur@hofpepijn.be"]
[1362,"GO! BS De Regent Gingelom","Nielstraat 1_A",3890,"GINGELOM","011-88.23.24","directie@de-regent.be"]
[1388,"GO! Next BS De Puzzel","Runkstersteenweg 210",3500,"HASSELT","011-27.17.12","directie@depuzzelrunkst.be"]
[1396,"GO! Next BS Het Kleine Atheneum","Maastrichtersteenweg 23",3500,"HASSELT","011-22.41.19","directie@hetkleineatheneum.be"]
[1404,"GO! BS Daltonschool Hasselt","Boomkensstraat 52",3500,"HASSELT","011-25.31.00","secretariaat@daltonschool.be"]
[1412,"GO! Next BS Kosmos","Gulden Boomkensweg 8",3520,"ZONHOVEN","011-82.48.31","directie@bs-kosmos.be"]
[1421,"GO! Next BS Mozaïek","Huidevettersstraat 3",3530,"HOUTHALEN-HELCHTEREN","011-51.60.43","directie@mozaiekhouthalen.be"]
[1438,"GO! BS Park van Genk Houthalen-Helchtere","Weg naar Zwartberg 147",3530,"HOUTHALEN-HELCHTEREN","089-38.23.04","hermans.suzy@scholengroep14.be"]
[1446,"GO! Next BS Daltonschool Zolder","Het Bergske 17",3550,"ZOLDER","011-53.36.70","directeur@daltonschoolzolder.be"]
[1453,"GO! Next BS LeerPLEIN","Gazometerstraat 2",3500,"HASSELT","011-85.05.30","directie@bsleerplein.be"]
[1461,"GO! BS Xplow","Hospitaalstraat 91",3582,"KOERSEL","011-42.29.47","directie@xplow.school"]
[1479,"GO! BS Leefschool De Vuurboom","Sint-Jansstraat 22 bus A",3900,"PELT","011-80.05.99","info@devuurboom.be"]
[1487,"GO! BS LS De UitvLinder/FS 't Perenboomp","Noordervest 33",3990,"PEER","011-61.12.35","sarah.candreva@gmail.com"]
[1495,"GO! BS Daltonschool Meeuwen-Gruitrode","Kiëstraat 1",3670,"OUDSBERGEN","011-79.25.21","directie@daltonschoolmeeuwen-gruitrode.be"]
[1503,"GO! BS VOX Pelt","Leopoldlaan 45",3900,"PELT","011-80.05.84","anouska.binnemans@voxpelt.be"]
[1511,"GO! BS De Geluksvogel","Koleneind 1",3930,"HAMONT-ACHEL","011-44.53.34","directie@degeluksvogel.school"]
[1529,"GO! BS De Brug Bocholt","Brugstraat 34",3950,"BOCHOLT","089-46.19.51","basisschool@debrugbocholt.be"]
[1537,"GO! BS De Reinpad-Gelieren Genk","Weg Naar As 199",3600,"GENK","089-32.23.10","dereinpadgelieren@scholengroep14.be"]
[1545,"GO! BS Europaschool","Keinkesstraat 19",3600,"GENK","089-35.53.35","directie@europaschool.telenet.be"]
[1552,"GO! BS Freinet On The Move-Europaschool","Ijzersteenweg 10",3600,"GENK","089-65.60.31","freinetonthemove@scholengroep14.be"]
[1561,"GO! BS Stippe Stap Genk","Halmstraat 12",3600,"GENK","089-84.99.10","bsstippestap@scholengroep14.be"]
[1578,"GO! BS Het Kompas Genk","Zonhoverweg 67",3600,"GENK","089-35.35.30","bshetkompas@scholengroep14.be"]
[1602,"GO! BS Op Het Boseind Maasmechelen","Oude Baan 372",3630,"MAASMECHELEN","089-76.47.81","ophetboseind@scholengroep14.be"]
[1611,"GO! BS Kameleon Maasmechelen","Heikampstraat 35",3630,"EISDEN","089-76.42.28","bs.kameleon@scholengroep14.be"]
[1628,"GO! Tehuis en BS Kubik","Heikampstraat 37",3630,"MAASMECHELEN","089-76.45.50","gokubik@scholengroep14.be"]
[1636,"GO! BS Leefschool Talentenkiem","Brammertstraatje 12",3650,"DILSEN-STOKKEM","089-56.96.85","secretariaat@bsmaasland.be"]
[1644,"GO! BS De Lettertuin Opglabbeek","Weg naar Opoeteren 13",3660,"OUDSBERGEN","089-85.44.63","info.delettertuin@scholengroep14.be"]
[1651,"GO! BS De Duizendpoot As","Kerkplein 3",3665,"AS","089-65.71.76","deduizendpoot@scholengroep14.be"]
[1669,"GO! BS De Springplank","Scholtisplein 21",3680,"MAASEIK","089-86.43.25","directie.despringplank@scholengroep14.be"]
[1677,"GO! BS De Sprong Maaseik","Burgemeester Philipslaan 78",3680,"MAASEIK","089-56.04.82","directie@desprongmaaseik.be"]
[1685,"GO! BS Klimaatschool","Regenboogstraat 5_A",3960,"BREE","089-47.13.86","klimaatschool@scholengroep14.be"]
[1693,"GO! BS Atheneeke","Moerenstraat 4",3700,"TONGEREN","012-39.89.39","info@atheneeketongeren.be"]
[1701,"GO! BS Merlijn Tongeren","Sacramentstraat 70",3700,"TONGEREN","012-23.30.31","directie@bsmerlijntongeren.be"]
[1719,"GO! BS Freinetschool De Mijlpaal","Koninksemsteenweg 174",3700,"TONGEREN","012-24.20.40","directie@mijlpaal.org"]
[1727,"GO! BS GoBiLijn","Sint Martinusstraat 3",3740,"BILZEN","089-41.52.87","tilly.cops@gobilijn.be"]
[1751,"GO! BS Momentum","Grevensmolenweg 21",3800,"SINT-TRUIDEN","011-68.38.13","kris.selis@momentumsinttruiden.be"]
[1768,"GO! BS Schuttershof Sint-Truiden","Tichelrijlaan 1",3800,"SINT-TRUIDEN","011-68.43.89","directie@bsschuttershof.be"]
[1792,"GO! Next BS De Eik","Zonneveldweg 9",3830,"WELLEN","012-67.24.40","bs.wellen@bsdeeikwellen.be"]
[1818,"GO! BS De Bilter Heers","Nieuwe Steenweg 20",3870,"HEERS","011-48.57.84","info@debilter.be"]
[1842,"GO! Next BS Herx","Dokter Vanweddingenlaan 10_1",3540,"HERK-DE-STAD","013-53.93.23","directie@basisschoolherx.be"]
[1867,"GO! BS De Berk Paal","Tessenderlosesteenweg 82",3583,"PAAL","011-42.28.82","directeur@bsdeberk.be"]
[1875,"GO! BS De Klimop Ham","Speelstraat 1",3945,"HAM","013-66.16.91","secretariaat@bsdeklimop.be"]
[1883,"GO! BS Campus FLX","Atheneumstraat 2",3970,"LEOPOLDSBURG","011-34.11.49","secretariaatbao@campusflx.be"]
[1909,"GO! BS De Letterberg Tessenderlo","Gerhagenstraat 62",3980,"TESSENDERLO","013-66.27.47","directeur@bsdeletterberg.be"]
[1917,"GO! BS De Wissel","Kapellestraat 9",2431,"VEERLE","014-84.12.02","directie@bs-dewissel.be"]
[1925,"GO! BS De Boomgaard Meerhout","Veldstraat 81",2450,"MEERHOUT","014-30.02.66","directie@bs-deboomgaard.be"]
[1941,"GO! BS De Taalkoffer Komen-Waasten","Kastelenlaan 109",7780,"KOMEN-WAASTEN","056-55.78.62","info@detaalkoffer.be"]
[1958,"GO! BS Brugge Centrum","Spiegelrei 15",8000,"BRUGGE","050-33.20.21","directie@bruggecentrum.be"]
[1974,"GO! BS De Springplank","Hugo Losschaertstraat 5_B",8000,"BRUGGE","050-33.36.92","wesley.vanbavinckhove@brugge-despringplank.be"]
[1982,"GO! BS Facet","Marechalstraat 48",8020,"OOSTKAMP","050-84.19.71","directie@bsfacet.be"]
[1991,"GO! BS Stimuland","Parkstraat 4",8730,"BEERNEM","050-78.81.87","directie@stimuland.be"]
[2006,"GO! BS Paalbos","Gemeneweideweg-Zuid 121",8310,"ASSEBROEK","050-35.18.48","nathalie.david@paalbos.be"]
[2014,"GO! BS De Valke","Torhoutstraat 65",8810,"LICHTERVELDE","051-72.24.57","directie@devalke.be"]
[2022,"GO! BS Eureka","Rijselstraat 110",8820,"TORHOUT","050-21.33.21","directie.bseureka@sgimpact.be"]
[2031,"GO! Methodeschool Blink","Diksmuidestraat 1",8840,"STADEN","051-70.12.48","info@bsstaden.be"]
[2048,"GO! BS W'ijzer","Grauwe Broedersstraat 73",8600,"DIKSMUIDE","051-50.21.88","dir.bsdiksmuide@go-scholengroepwesthoek.be"]
[2071,"GO! BS Manitoba","Manitobalaan 48",8200,"SINT-ANDRIES","050-38.63.81","dir.manitoba@telenet.be"]
[2089,"GO! BS De Glimlach","Sint-Elooistraat 2",8210,"ZEDELGEM","050-20.94.09","info@deglimlach.be"]
[2097,"GO! BS Permekeschool","Varsenareweg 7_C",8490,"JABBEKE","050-81.14.02","directie.permeke@sgimpact.be"]
[2105,"GO! BS Arnoldus","Brouwerijstraat 8",8460,"OUDENBURG","059-26.68.47","info@arnoldusschool.be"]
[2113,"GO! BS De Klimop","Putbekestraat 30",8470,"GISTEL","059-27.87.35","kelly.dildick@deklimop-gistel.be"]
[2139,"GO! BS De Lettertuin","Ringlaan 18",8680,"KOEKELARE","051-59.12.11","directeur@delettertuin-koekelare.be"]
[2147,"GO! BS miniMAKZ","Piers de Raveschootlaan 54",8300,"KNOKKE-HEIST","050-60.45.89","directie@bsminimakz.be"]
[2154,"GO!Freinet Context","Brieversweg 185",8310,"SINT-KRUIS","050-36.18.48","info@freinetcontext.be"]
[2162,"GO! BS Bloeiweide","Weidestraat 81 bus D",8310,"ASSEBROEK","050-36.68.82","info@bloeiweide.be"]
[2171,"GO! BS D'oefenschool","Van Maerlantstraat 1",8370,"BLANKENBERGE","050-43.25.30","directie@doefenschool.be"]
[2188,"GO! BS Zilvermeeuw","Groenestraat 69",8370,"BLANKENBERGE","050-43.35.01","bs.zilvermeeuw@skynet.be"]
[2204,"GO! BS De Groeiboom","Hendrik Serruyslaan 28",8400,"OOSTENDE","059-70.89.30","info@degroeiboom.be"]
[2212,"GO! BS Stene","Steensedijk 352",8400,"OOSTENDE","059-50.06.91","info@basisschoolstene.be"]
[2221,"GO! BS Vogelzang","Haverstraat 9",8400,"OOSTENDE","059-50.10.99","directeur@govogelzang.be"]
[2246,"GO! BS Einstein","Einsteinlaan 1",8420,"DE HAAN","059-23.37.52","directie.einstein@sgimpact.be"]
[2261,"GO! BS De Vierboete","Arsenaalstraat 35",8620,"NIEUWPOORT","058-23.56.60","dir.bsnieuwpoort@go-scholengroepwesthoek.be"]
[2279,"GO! BS De Letterzee","Albert Fastenaekelslaan 24",8670,"KOKSIJDE","058-51.17.44","directie@letterzee.be"]
[2287,"GO! BS De Tuimelaar","Verenigingstraat 17",8660,"DE PANNE","058-41.33.13","dir.bsdepanne@go-scholengroepwesthoek.be"]
[2295,"GO! BS Veurne","Noordstraat 25",8630,"VEURNE","058-31.64.33","info@basisschoolveurne.be"]
[2303,"GO! BS Drie Hofsteden","Minister De Taeyelaan 11",8500,"KORTRIJK","056-22.39.52","secretariaat@bsdriehofsteden.be"]
[2311,"GO! BS Het Open Groene","Kalvariestraat 70",8510,"MARKE","056-21.93.54","info@hetopengroene.be"]
[2329,"GO! BS Ter Molen","Grote Molenstraat 113",8930,"LAUWE","056-41.30.14","directie@bstermolen.be"]
[2345,"GO! BS De Windroos","Hendrik Consciencestraat 1_B",8550,"ZWEVEGEM","056-75.85.51","info@bsdewindroos.be"]
[2352,"GO! BS De driesprong","Kapel ter Rustestraat 3",8540,"DEERLIJK","056-71.36.52","isabellechristiaens@bs-dedriesprong.be"]
[2361,"GO! BS De Toekomst","Kerkhofstraat 51",8580,"AVELGEM","056-65.01.41","info@bsdetoekomst.be"]
[2394,"GO! BS De Startbaan","Veldstraat 17",8560,"WEVELGEM","056-41.23.21","secretariaat@bsdestartbaan.be"]
[2402,"GO! Futura BS Wervik","Hellestraat 15",8940,"WERVIK","056-31.27.03","tom@futurascholen.be"]
[2411,"GO! BS Ter Berken","Korte Ieperstraat 27",8920,"LANGEMARK","057-48.85.87","dir.bslangemark@go-scholengroepwesthoek.be"]
[2428,"GO! Methodeschool Bloei!","Kortwagenstraat 2",8880,"LEDEGEM","056-50.02.60","info@methodeschoolbloei.be"]
[2436,"GO! BS Bellevue","Bellevuestraat 28",8870,"IZEGEM","051-30.66.50","directeur@campusbellevue.be"]
[2444,"GO! BS De Dobbelsteen","Albrecht Rodenbachlaan 58",8501,"HEULE","056-35.18.08","directie@bsdedobbelsteen.be"]
[2451,"GO! BS De Boomgaard","Boomgaardstraat 21",8520,"KUURNE","056-71.36.53","boomgaard@basisschoolkuurne.be"]
[2469,"GO! BS Ter Gavers","Arendsstraat 62_B",8530,"HARELBEKE","056-71.92.22","info@tergavers.be"]
[2485,"GO! BS Het Wonderbos Ingelmunst","Meulebekestraat 38",8770,"INGELMUNSTER","051-30.26.23","directie@go-hetwonderbos.be"]
[2501,"GO! BS TalentenSprong Waregem","Nieuwhuizenstraat 7",8790,"WAREGEM","056-60.10.17","ann.pepermans@talentensprong.be"]
[2519,"GO! BS De Plataan","Meersstraat 13",8800,"ROESELARE","051-20.70.55","info@bsdeplataan.be"]
[2527,"GO! BS Ring Campus Groenestraat","Groenestraat 174",8800,"ROESELARE","051-27.27.72","info@bsring.be"]
[2535,"GO! BS Windekind","Blinde-Rodenbachstraat 44",8800,"RUMBEKE","051-20.41.93","info@bsrumbeke.be"]
[2543,"GO! Basisschool De Springplank Tielt","Tulpenlaan 14",8700,"TIELT","051-40.27.63","directie@despringplank-tielt.be"]
[2551,"GO! BS De Mote","Minneplein 44",8900,"IEPER","057-20.13.67","dir.bsieper@go-scholengroepwesthoek.be"]
[2576,"GO! BS Ter Elzen Wijtschate","Schoolstraat 19",8953,"WIJTSCHATE","057-44.50.50","info@bsterelzen.be"]
[2584,"GO! BS Groei Vlamertinge","Groezeweg 8",8908,"VLAMERTINGE","057-20.33.18","info@bsgroeivlamertinge.be"]
[2592,"GO! BS De Ster","Rekhof 36",8970,"POPERINGE","057-33.41.32","info@bsdester.be"]
[2601,"GO! BS Voskenslaan","Voskenslaan 60",9000,"GENT","09-240.00.51","info@bsvoskenslaan.be"]
[2618,"GO! BS De Kleine Icarus_Gent","Karel Lodewijk Ledeganckstraat 4",9000,"GENT","09-243.30.99","dir.dekleineicarus@scholengroep.gent"]
[2626,"GO! BS De Vogelzang","Goedlevenstraat 78",9041,"OOSTAKKER","09-251.13.32","info@bsdevogelzang.be"]
[2642,"GO! BS Het Molenschip","Vurstjen 33",9940,"EVERGEM","09-216.44.96","tim.godyn@scholengroep.gent"]
[2659,"GO! BS De Reigers_Zelzate","Leegstraat 2",9060,"ZELZATE","09-345.59.56","directie.bs@campus-erasmus.be"]
[2667,"GO! BS De Regenboog_Ertvelde","Kroonstraat 2_bis",9940,"ERTVELDE","09-344.63.74","bs.ertvelde@sgr23.be"]
[2675,"GO! BS Openluchtschool 't Zwaluwnest","Zwaluwlaan 64",9185,"WACHTEBEKE","09-345.90.20","secretariaat@zwaluwnest.be"]
[2683,"GO! BS De Molenberg","Kerkstraat 153_A",9190,"STEKENE","03-779.74.38","directie@demolenberg.be"]
[2691,"GO! BS De Madelief","Luikstraat 77",9160,"LOKEREN","09-348.11.03","directie@de-madelief.be"]
[2709,"GO! BS De Springplank","Azalealaan 2",9160,"LOKEREN","09-348.28.07","directie@de-springplank.be"]
[2717,"GO! BS Leefschool Eikenkring_Lochristi","Zeveneken-Dorp 6",9080,"ZEVENEKEN","09-355.63.40","directie@eikenkring.be"]
[2725,"GO! BS De Wijze Boom","Sint-Baafskouterstraat 129",9040,"SINT-AMANDSBERG","09-218.86.76","info@bsdewijzeboom.be"]
[2741,"GO! BS De Tovertuin","Hoogstraat 51",9160,"LOKEREN","09-348.31.94","directie@de-tovertuin.be"]
[2758,"GO! SportBS in beweging Hamme","Verbindingsstraat 66",9220,"HAMME","052-49.99.75","directie@gohamme.be"]
[2766,"GO! BS Kouterbos","Kouterstraat 3",9250,"WAASMUNSTER","052-46.99.88","directie@kouterbos.be"]
[2774,"GO! BS Campus Kompas","Noordlaan 10",9230,"WETTEREN","09-365.60.30","basisschool@campuskompas.be"]
[2782,"GO! BS De Klaver_Destelbergen","Meersstraat 17",9070,"DESTELBERGEN","09-230.87.11","elke.de.smet@de-klaver.be"]
[2791,"GO! BS Gentbrugge","Hazenakker 1",9050,"GENTBRUGGE","09-210.51.50","info@bs-gentbrugge.be"]
[2808,"GO! BS Merelbeke","Gaversesteenweg 195",9820,"MERELBEKE","09-231.64.57","dir.bs-merelbeke@scholengroep.gent"]
[2824,"GO! BS De Leefschool","Groenweg 4",9860,"OOSTERZELE","09-362.49.63","ilse.degusseme@hetleercollectief.be"]
[2841,"GO! BS De 2 Meersen","Kapellendries 85",9230,"WETTEREN","09-365.79.13","nico.deridder@hetleercollectief.be"]
[2857,"GO! BS Ten Berge Berlare","Galgenbergstraat 39",9290,"BERLARE","052-42.35.04","directeur@tenberge.be"]
[2865,"GO! BS De Nieuwe Arend","Binnenstraat 308",9300,"AALST","053-81.05.65","directie@denieuwearend.be"]
[2873,"GO! BS Atheneum_Aalst","Graanmarkt 14",9300,"AALST","053-46.52.00","directie@bsatheneumaalst.be"]
[2881,"GO! BS GAAF Aalst","Eikstraat 8",9300,"AALST","053-60.82.55","directie@bsgaaf.be"]
[2907,"GO! BS De Kleine Prins","Meirveld 13",9340,"LEDE","053-46.34.00","directeur@bsdekleineprins.be"]
[2923,"GO! BS Atheneum","Zuidlaan 3",9200,"DENDERMONDE","052-25.17.78","directie.bs@kad.be"]
[2931,"GO! BS De Bijenkorf","Koning Albertstraat 45",9200,"SINT-GILLIS-DENDERMONDE","052-21.40.40","directie@bijenkorf-dendermonde.be"]
[2949,"GO! BS Vierhuizen & Meir","Vierhuizen 19",9255,"BUGGENHOUT","052-33.28.18","directie@vierhuizen.be"]
[2956,"GO! BS 't Konkelgoed","Centrumstraat 24",9280,"LEBBEKE","052-41.19.48","directie@konkelgoed.be"]
[2964,"GO! BS Faluintjes_Moorsel","Leirekenstraat 11",9310,"MOORSEL","053-77.39.78","directie@bsfaluintjes.be"]
[2972,"GO! BS De Kameleon Ninove","Dreefstraat 33",9400,"NINOVE","054-33.32.32","secretariaat@basisschooldekameleon.be"]
[2981,"GO! BS De Wonderwijzer Meerbeke","Kapellestraat 2",9402,"MEERBEKE","054-33.42.99","directie@bsmeerbeke.be"]
[3004,"GO! BS L.P.Boon_Erembodegem","Leuvestraat 37",9320,"EREMBODEGEM","053-46.43.00","directie@bslpboon.be"]
[3012,"GO! BS De Krekel","Kattestraat 22",9450,"HAALTERT","053-84.03.79","directeur@bsdekrekel.be"]
[3021,"GO! BS Atheneum Denderleeuw","De Nayerstraat 11_A",9470,"DENDERLEEUW","053-46.51.00","directie@bsgodenderleeuw.be"]
[3038,"GO! BS Molenveld","Molenstraat 33",9450,"DENDERHOUTEM","054-33.36.18","directie@bsmolenveld.be"]
[3046,"GO! BS Centrum_Geraardsbergen","Buizemontstraat 70",9500,"GERAARDSBERGEN","054-41.22.74","info@bsgocentrum.be"]
[3053,"GO! BS Dender_Geraardsbergen","Sasweg 11",9500,"GERAARDSBERGEN","054-41.31.69","info@bsgodender.be"]
[3061,"GO! BS Hofkouter","Schoolstraat 4",9520,"SINT-LIEVENS-HOUTEM","053-62.29.36","info@bshofkouter.be"]
[3079,"GO! BS De trampoline","De Tramzate 9",9550,"HERZELE","053-60.71.20","info@bsgodetrampoline.be"]
[3087,"GO! BS Klim Op_Zandbergen","Jan De Coomanstraat 35",9506,"ZANDBERGEN","054-33.43.00","info@bsgoklimop.be"]
[3095,"GO! BS Dr. O. Decroly","Koningin Astridplein 1",9600,"RONSE","055-21.16.15","info@decrolyschool.be"]
[3103,"GO! BS Atheneum Zottegem","Meerlaan 25",9620,"ZOTTEGEM","09-326.98.60","info@bskazottegem.be"]
[3111,"GO! BS Graaf Van Egmont_Zottegem","Lyceumstraat 12",9620,"ZOTTEGEM","09-360.31.15","info@bevegem.be"]
[3129,"GO! BS De Zonnewijzer","Zwalmlaan 3",9630,"ZWALM","055-49.99.95","info@bszwalm.be"]
[3137,"GO! BS De Rijdtmeersen Brakel","Kasteelstraat 32",9660,"BRAKEL","055-42.45.07","info@bsderijdtmeersen.be"]
[3145,"GO! BS Omer Wattez Schorisse","Schoolstraat 2",9688,"SCHORISSE","055-45.57.88","info@omerwattez.be"]
[3152,"GO! BS De Wereldbrug","Aalststraat 180",9700,"OUDENAARDE","055-33.45.60","directie@dewereldbrug.eu"]
[3161,"GO! BS De Kleine Prins De Pinte","Kasteellaan 1",9840,"DE PINTE","09-282.46.02","annstur@schooldekleineprins.be"]
[3178,"GO! BS School van Morgen_Nazareth","Stropstraat 21",9810,"NAZARETH","09-385.44.52","directie@schoolvanmorgennazareth.be"]
[3194,"GO! BS De Keimolen","Olsensesteenweg 2",9770,"KRUISEM","09-383.56.14","vanessa.truyen@dekeimolen.be"]
[3211,"GO! BS Erasmus","Volhardingslaan 5",9800,"DEINZE","09-381.56.09","directie@bserasmus.be"]
[3228,"GO! BS Mijlpaal_Drongen","Groenewandeling 80",9031,"DRONGEN","09-226.75.00","info@bsmijlpaal.be"]
[3244,"GO! BS De Beuk_Aalter","Stationsstraat 128",9880,"AALTER","09-374.42.77","basisschool@debeuk.be"]
[3251,"GO! BS Het Klavertje Vier_Knesselare","Aalterseweg 1",9910,"AALTER","09-374.33.66","info@bsklavertjevier.be"]
[3269,"GO! BS De Tandem","Eikelstraat 41_B",9900,"EEKLO","09-377.56.44","info@basisschool-detandem.be"]
[3277,"GO! BS De Wijze Eik Mariakerke","Eeklostraat 121",9030,"MARIAKERKE","09-226.52.80","dir.dewijzeeik@scholengroep.gent"]
[3285,"GO! BS De Zandloper_Zomergem","Zandstraat 25_A",9930,"LIEVEGEM","09-372.71.53","secretariaat@zandloper.be"]
[3293,"GO! BS De Driesprong_Maldegem","Katsweg 1",9990,"MALDEGEM","050-72.88.85","directie@de3sprong.be"]
[3301,"GO! MPI Heemschool_Neder-Over-Heembeek","Beizegemstraat 132",1120,"NEDER-OVER-HEEMBEEK","02-262.03.20","info.mpi@campusheemschool.be"]
[3319,"GO! LSBO Lentekind_Lennik","Karel Keymolenstraat 35_B",1750,"LENNIK","02-342.03.03.","directie.lentekind@ringscholen.be"]
[3327,"GO! LSBO De Eekhoorn_Wemmel","Diepestraat 50",1780,"WEMMEL","02-460.43.62","directie.de.eekhoorn@ringscholen.be"]
[3335,"GO! BSBO Wilgenduin_Kalmthout","Vogelenzangstraat 115",2920,"KALMTHOUT","03-666.60.24","directie@wilgenduin.be"]
[3343,"GO! MPI Zonnebos_'s Gravenwezel","Moerstraat 50_1",2970,"'S GRAVENWEZEL","03-680.12.60","patrick.leppens@mpi-zonnebos.be"]
[3368,"GO! MPI De 3master Basisonderwijs","Pater Damiaanstraat 10",2460,"KASTERLEE","014-85.00.62","basisonderwijs@de3master.be"]
[3384,"GO! BSBO Groenlaar_Reet","Predikherenhoevestraat 31",2840,"REET","03-888.40.16","info@bsbo.groenlaar.be"]
[3392,"GO! MPI Kompas St-Niklaas","Eekhoornstraat 1",9100,"SINT-NIKLAAS","03-776.50.18","info@mpikompas.be"]
[3401,"GO! BSBO Woudlucht","Prosperdreef 3",3001,"HEVERLEE","016-38.06.66","secretariaat.bubao@woudlucht.be"]
[3426,"GO! BSBO De Bloesem_St-Truiden","Halmaalweg 31",3800,"SINT-TRUIDEN","011-67.25.55","directie@debloesem.be"]
[3434,"GO! Next BSBO Heideland","Westlaan 191",3550,"ZOLDER","011-42.66.64","directie@bsboheideland.be"]
[3442,"GO! MPI De Luchtballon Genk","Richter 25",3600,"GENK","089-50.00.50","mpigenk@scholengroep14.be"]
[3459,"GO! BSBO Mikado_Maasmechelen","Bosweg 71",3630,"MAASMECHELEN","089-76.02.77","bsbomikado@scholengroep14.be"]
[3467,"GO! Next MPI De Dageraad","Tapstraat 12",3720,"KORTESSEM","011-37.92.11","info@mpi-dedageraad.be"]
[3475,"GO! MPI Helix","Speelpleinstraat 75",3920,"LOMMEL","011-55.02.00","directie@mpihelix.be"]
[3491,"GO! MPI Westhoek_Koksijde","Pylyserlaan 132",8670,"KOKSIJDE","058-51.15.15","directie@mpi-westhoek.be"]
[3509,"GO! MPI De Kaproenen_St-Michiels","Kaproenenhof 32",8200,"SINT-MICHIELS","050-39.06.23","mpi.dekaproenen@telenet.be"]
[3517,"GO! MPI De Bevertjes_Oedelem","Beernemstraat 4",8730,"OEDELEM","050-79.91.91","directie@mpigodebevertjes.be"]
[3525,"GO! MPI De Vloedlijn_Oostende","Maurits Sabbestraat 2",8400,"OOSTENDE","059-50.74.90","directeur@devloedlijn.be"]
[3558,"GO! MPI Pottelberg_Kortrijk","Pottelberg 5",8500,"KORTRIJK","056-22.66.86","info@mpipottelberg.be"]
[3566,"GO! Futura BSBO","Guido Gezellestraat 91",8940,"WERVIK","056-51.29.44","stefanie@futurascholen.be"]
[3574,"GO! MPI Sterrebos_Rumbeke","Bornstraat 52",8800,"RUMBEKE","051-22.63.19","conny.wallyn@campussterrebos.be"]
[3582,"GO! MPI De Oase_Gent","Voskenslaan 362",9000,"GENT","09-220.18.30","dir.mpideoase@scholengroep.gent"]
[3591,"GO! MPI Het Vindingrijk Evergem","Vurstjen 25",9940,"EVERGEM","09-253.99.56","info@mpi-hetvindingrijk.be"]
[3608,"GO! BSBO Klim Op","Krommestraat 7",9160,"LOKEREN","09-348.53.58","liselotte.botterman@hetleercollectief.be"]
[3616,"GO! BSBO De Horizon_Aalst","Molendreef 57",9300,"AALST","053-72.96.42","directeur@bsbodehorizon.be"]
[3624,"GO! BSBO De Brug_Erpe","Koebrugstraat 7",9420,"ERPE","053-80.07.77","directeur.t9@bsbodebrug.be"]
[3632,"GO! BSBO De Drempel_Geraardsbergen","Schillebeekstraat 20_A",9500,"GERAARDSBERGEN","054-41.25.41","info@de-drempel.be"]
[3641,"GO! MPI 't Craeneveld_Oudenaarde","Serpentsstraat 63",9700,"OUDENAARDE","055-31.39.64","mpigo.oudenaarde@telenet.be"]
[3657,"VKS Sint-Jan Berchmanscollege","Rogier van der Weydenstraat 28",1000,"BRUSSEL","02-512.32.81","hilde.gryseels@sjbbrussel.be"]
[3673,"HSBS Klavertje Vier","Groendreef 16",1000,"BRUSSEL","02-274.09.25","katrien.kovaleni@brucity.education"]
[3681,"VBS KATOBA Maria Boodschap Brussel","Vlaamsesteenweg 155",1000,"BRUSSEL","02-218.21.14","directie@mabobasis.be"]
[3699,"VBS Sint-Joris","Cellebroersstraat 16",1000,"BRUSSEL","0472-21.59.53","jcauwels@sintjorisbasisschool.be"]
[3707,"VBS LEO XIII","Leo XIII-straat 11",1120,"NEDER-OVER-HEEMBEEK","02-268.47.51","sieglinde.baeyens@leoxiii.be"]
[3715,"VBS Sint-Ursula","Dieudonné Lefèvrestraat 41",1020,"LAKEN","02-428.56.94","sintursulalaken@gmail.com"]
[3756,"VBS Sint-Albert","Haeckstraat 61_1",1080,"SINT-JANS-MOLENBEEK","02-427.08.02","sintalbertschool@skynet.be"]
[3764,"HSLS Koningin Astrid","Mutsaardlaan 69",1020,"LAKEN","02-260.11.50","katleen.koopmans@brucity.education"]
[3772,"HSBS Kakelbont","Reper-Vrevenstraat 100",1020,"LAKEN","02-474.11.40","an.ghys@brucity.education"]
[3781,"HSBS Harenheide","Verdunstraat 381",1130,"HAREN","02-247.03.00","joelle.verhulst@brucity.education"]
[3798,"GBS Regenboog","Ulensstraat 83",1080,"SINT-JANS-MOLENBEEK","02-426.40.42","regenboog.1080@molenbeek.irisnet.be"]
[3831,"GBS Sint-Joost-aan-Zee","Grensstraat 67",1210,"SINT-JOOST-TEN-NODE","02-201.28.94","directie@sintjoostaanzee.be"]
[3848,"VBS Heilige Familie Schaarbeek","Helmetsesteenweg 216",1030,"SCHAARBEEK","02-242.66.28","directie@heiligefamilieschaarbeek.be"]
[3855,"VBS Boodschap","Jan Stobbaertslaan 58",1030,"SCHAARBEEK","02-241.73.87","ann.claes@katoba.be"]
[3863,"VBS Maria Schaarbeek","Rubensstraat 108",1030,"SCHAARBEEK","02-216.10.61","hulsmansluc@gmail.com"]
[3871,"VBS Champagnat","Richard Vandeveldestraat 4",1030,"SCHAARBEEK","02-215.02.03","directie@champagnatschool.be"]
[3889,"VBS Ten Nude","John Waterloo Wilsonstraat 21",1000,"BRUSSEL","02-230.75.28","directie@tennude.be"]
[3897,"VBS Lutgardis","Generaal Fivéstraat 42",1040,"ETTERBEEK","02-649.57.20","directie@lutgardisschool.be"]
[3905,"VBS Lutgardis Elsene","Emile de Becolaan 57",1050,"ELSENE","02-648.74.30","directie.lutgardis@katoba.be"]
[3913,"VBS Sint-Gillis","Fernand Bernierstraat 16",1060,"SINT-GILLIS","02-538.06.28","directie@sintgillisschool.be"]
[3921,"VKS Paruckschool","Paruckstraat 20",1080,"SINT-JANS-MOLENBEEK","02-410.83.64","dir.pask@katoba.be"]
[3939,"VBS Voorzienigheid","Georges Moreaustraat 104",1070,"ANDERLECHT","02-523.30.38","voorzienigheid.anderlecht@katoba.be"]
[3947,"VBS R. Van Belle","Itterbeekse Laan 550",1070,"ANDERLECHT","02-527.15.84","c.steegmans@hotmail.com"]
[3954,"VBS Sint-Pieter","Dokter Jacobsstraat 49",1070,"ANDERLECHT","02-521.90.44","directie@sintpieter-sintguido.be"]
[3962,"GBS Veeweide","Veeweidestraat 82",1070,"ANDERLECHT","02-521.01.11","gbsveeweide@anderlecht.brussels"]
[3971,"GBS Goede Lucht","Séverineplein 1_A",1070,"ANDERLECHT","02-522.69.78","gbsgoedelucht@anderlecht.brussels"]
[3988,"GBS De Vijvers","Pierre Longinstraat 1",1070,"ANDERLECHT","02-523.76.77","gbsdevijvers@anderlecht.brussels"]
[3996,"GBS Dertien","Wayezstraat 56",1070,"ANDERLECHT","02-521.72.18","gbsdertien@anderlecht.brussels"]
[4002,"GBS Het Rad","Guillaume Melckmanslaan 18_b",1070,"ANDERLECHT","02-524.23.21","gbsradasters@anderlecht.brussels"]
[4011,"VBS Regina Assumpta","Adolphe Willemynsstraat 213",1070,"ANDERLECHT","02-522.66.59","regina.assumptaschool@gmail.com"]
[4028,"VBS Sint-Guido","Dokter Jacobsstraat 67",1070,"ANDERLECHT","02-521.90.44","directie@sintpieter-sintguido.be"]
[4036,"VBS Instituut Maria Onbevlekt","Resedastraat 61",1070,"ANDERLECHT","02-524.18.90","directie@imoschool.be"]
[4044,"VKS Sint-Niklaasinstituut","Bergense Steenweg 1421",1070,"ANDERLECHT","02-520.08.48","ann.debrabanter@sni.be"]
[4051,"VBS De Groene School","Bloeistraat 41",1070,"ANDERLECHT","02-523.40.19","directie@degroeneschool.be"]
[4069,"VBS Sint- Albertus","Bloemkwekersstraat 128",1082,"SINT-AGATHA-BERCHEM","02-465.86.71","directie@al-jo.com"]
[4077,"VBS Sint-Jozef","Kerkstraat 83",1082,"SINT-AGATHA-BERCHEM","02-465.86.71","directie@al-jo.com"]
[4101,"VLS Sint-Karel","Klokbloemenstraat 14",1080,"SINT-JANS-MOLENBEEK","02-410.83.64","dir.pask@katoba.be"]
[4119,"VBS Sint-Martinus","Palokestraat 79",1080,"SINT-JANS-MOLENBEEK","02-522.08.86","dirpeter.stmartinus@gmail.com"]
[4127,"VBS Imelda","Ninoofsesteenweg 130",1080,"SINT-JANS-MOLENBEEK","02-410.37.85","info@imeldabasisschool.be"]
[4135,"GBS Ket & Co","Jean-Baptiste Decockstraat 54",1080,"SINT-JANS-MOLENBEEK","02-538.19.10","ketco.sec.1080@molenbeek.irisnet.be"]
[4143,"GBS Windroos","Kortrijkstraat 52",1080,"SINT-JANS-MOLENBEEK","02-410.08.00","windroos.1080@molenbeek.irisnet.be"]
[4151,"GBS Paloke","Ninoofsesteenweg 1001",1080,"SINT-JANS-MOLENBEEK","02-523.47.95","paloke.1080@molenbeek.irisnet.be"]
[4168,"GBS De Knapzak","Soldatenstraat 19",1082,"SINT-AGATHA-BERCHEM","02-465.30.97","gbsdeknapzak@berchem.brussels"]
[4176,"VBS Instituut van de Ursulinen","Herkoliersstraat 65",1081,"KOEKELBERG","02-411.86.40","directie-ursulinen@telenet.be"]
[4184,"GBS De Kadeekes","Herkoliersstraat 68",1081,"KOEKELBERG","02-414.08.66","croelant@koekelberg.brussels"]
[4201,"VBS Sint-Lutgardis","Jean De Greefstraat 3",1083,"GANSHOREN","02-427.12.69","directie@slganshoren.be"]
[4218,"VBS Heilig-Hartcollege","Landsroemlaan 126",1083,"GANSHOREN","02-426.12.45","directie@hhcbasisschool.be"]
[4226,"VBS Vier Winden","Steenweg op Merchtem 9",1080,"SINT-JANS-MOLENBEEK","024-11.73.14","info@vierwinden.be"]
[4234,"GBS Van de Borne","Dansettestraat 30",1090,"JETTE","02-421.19.07","gbs.vandeborne@jette.irisnet.be"]
[4242,"GBS Poelbos","Laarbeeklaan 110",1090,"JETTE","02-479.58.92","gbs.poelbos@jette.irisnet.be"]
[4259,"VBS Sint-Pieterscollege","Léon Theodorstraat 167",1090,"JETTE","02-423.42.65","vvh@sint-pieterscollege.be"]
[4275,"VBS Sint-Michiels","Leopold I straat 362",1090,"JETTE","02-428.68.02","directie@sintmichielsschool-jette.be"]
[4283,"VBS Heilig-Hart Jette","Heilig-Hartlaan 6",1090,"JETTE","024-79.62.42","directie@heilighartjette.be"]
[4291,"HSBS Peter Benoit","Driegatenstraat 2",1120,"NEDER-OVER-HEEMBEEK","02-266.82.50","charlotte.thielemans@brucity.education"]
[4317,"VBS Kameleon","Beemdgrachtstraat 2",1130,"HAREN","02-215.90.20","directie@kameleonharen.be"]
[4325,"GBS Everheide","Windmolenstraat 39",1140,"EVERE","02-247.63.63","everheide@evere.brussels"]
[4333,"VBS Sint-Jozef Evere","Edward Dekosterstraat 38",1140,"EVERE","02-242.92.83","directie@sintjozefevere.be"]
[4341,"VBS Heilig Hart van Maria","Oud-Strijderslaan 61_b",1140,"EVERE","02-705.25.65","directie@hhmi.be"]
[4358,"VBS OLV Evere","Pater Damiaanstraat 40",1140,"EVERE","02-216.21.27","directie@olvevere.be"]
[4366,"GBS Stokkel","Henri Vandermaelenstraat 61",1150,"SINT-PIETERS-WOLUWE","02-773.18.53","directie@gbsstokkel.be"]
[4374,"VBS Sint-Jozefscollege","Woluwelaan 18",1150,"SINT-PIETERS-WOLUWE","02-761.03.90","directie@sjcbasisschool.be"]
[4382,"VKS Mater Dei","Duizend Meterlaan 13",1150,"SINT-PIETERS-WOLUWE","02-779.09.94","kleuterschool@materdei-spw.be"]
[4391,"VLS Mater Dei","Luchtvaartlaan 70",1150,"SINT-PIETERS-WOLUWE","02-779.09.94","gvls@materdei-spw.be"]
[4416,"VBS Lutgardiscollege Wonderwoud","Emile Steenostraat 4",1160,"OUDERGEM","02-673.06.34","directie@wonderwoud.be"]
[4432,"VBS Sint-Juliaan de Vlindertuin","St-Juliaanskerklaan 16",1160,"OUDERGEM","02-673.79.98","directie@stjuliaan-devlindertuin.be"]
[4441,"VBS Sint-Jozefsschool","Jagersveld 5",1170,"WATERMAAL-BOSVOORDE","02-673.88.68","directie@sjwb.be"]
[4457,"VBS De Wemelweide","Léopold Wienerlaan 32",1170,"WATERMAAL-BOSVOORDE","02-660.87.91","directie@dewemelweide.be"]
[4465,"VBS Sint-Paulus Ukkel","Baron Guillaume Van Hammestraat 20",1180,"UKKEL","02-332.33.30","directie@sintpaulusschool.be"]
[4473,"VBS Sint-Jozef Ukkel","Sint-Jobsesteenweg 608",1180,"UKKEL","02-375.53.20","directie@sintjozefschool.be"]
[4481,"Vrije Basisschool","Horzelstraat 28",1180,"UKKEL","02-376.19.08","directie@vrijevlaamsebasisschool.be"]
[4507,"GBS De Wereldbrug","Hallestraat 34",1190,"VORST","02-376.92.15","gbs.dewereldbrug@vorst.brussels"]
[4515,"VBS Parkschool","Wijngaardstraat 22",1190,"VORST","02-344.54.49","directie@parkschool.be"]
[4523,"VBS Sint-Augustinus","Sint-Augustinuslaan 16",1190,"VORST","02-345.82.94","directie@sint-augustinusschool.be"]
[4531,"GBS Prinses Paola","Heilige-Familieplein 1",1200,"SINT-LAMBRECHTS-WOLUWE","02-761.75.30","prinsespaola@woluwe1200.be"]
[4549,"VBS Angelusinstituut","Roodebeeksteenweg 586",1200,"SINT-LAMBRECHTS-WOLUWE","02-770.28.40","directie@angelusinstituut.be"]
[4556,"VBS Voorzienigheid","Fabrystraat 40",1200,"SINT-LAMBRECHTS-WOLUWE","02-772.60.97","sigridmahy.voorzienigheid@gmail.com"]
[4564,"VBS Sint-Jozef","Albert Dumontlaan 1",1200,"SINT-LAMBRECHTS-WOLUWE","02-762.14.08","directie@sint-jozefsschool-woluwe.be"]
[4606,"VBS HHC Handbooghof","Handbooghof 10",1500,"HALLE","02-363.80.41","griet.pierreux@hhchalle.be"]
[4614,"VBS 1","Lenniksesteenweg 2",1500,"HALLE","02-360.01.44","zeger.rosvelds@donboscohallebasis.be"]
[4663,"GBS Huizingen","A. Vaucampslaan 80",1654,"HUIZINGEN","02-359.15.85","info.huizingen@gbsbeersel.be"]
[4671,"GBS Dworp","Alsembergsesteenweg 569",1653,"DWORP","02-359.16.98","info.dworp@gbsbeersel.be"]
[4689,"GO! BS De Klimop","Arthur Puesstraat 46_a",1502,"LEMBEEK","02-356.41.85","secretariaat.de.klim-op@ringscholen.be"]
[4697,"VKS Sancta Maria","Heerweg 75",1502,"LEMBEEK","02-361.13.62","directie@sanctamariakleuterschool.be"]
[4705,"GBS De Regenboog","Steenweg Asse 162",1540,"HERFELINGEN","054-56.64.08","gbsherfelingen@herne.be"]
[4713,"VBS De Bloesem","Kapellestraat 18",1540,"HERNE","02-396.18.45","directie@de-bloesem-herne.be"]
[4721,"GBS Herhout","Winterkeer 54",1570,"TOLLEMBEEK","054-89.04.65","school@gbsherhout.be"]
[4739,"VBS Sint-Catharinacollege","Zikastraat 66",9500,"MOERBEKE","054-41.42.30","tanja.vandendriessche@sccg.be"]
[4747,"GBS Ak'Cent Bever","Kerkhove 14",1547,"BEVER","054-58.09.60","directie@akcentbever.be"]
[4762,"GBS Den Top","Garebaan 5",1600,"SINT-PIETERS-LEEUW","02-377.19.51","directie.dentop@sint-pieters-leeuw.be"]
[4771,"VBS Sint Lutgardis Zuun","Arthur Quintusstraat 45",1600,"SINT-PIETERS-LEEUW","02-377.16.29","veerle.cannoot@gmail.com"]
[4788,"VBS Sint-Stevensschool Negenmanneke","Gustave Gibonstraat 1_A",1600,"SINT-PIETERS-LEEUW","02-377.70.42","kathy.vanlinthout@st-steven.be"]
[4796,"VBS Don Bosco","Jules Sermonstraat 15",1600,"SINT-PIETERS-LEEUW","02-377.32.35","info.donbosco@telenet.be"]
[4804,"GBS Wegwijzer","Schoolstraat 14",1601,"RUISBROEK","02-378.07.43","directie.wegwijzer@sint-pieters-leeuw.be"]
[4812,"VBS Jan Ruusbroec","Fabriekstraat 3",1601,"RUISBROEK","02-377.67.59","directie@janruusbroec.be"]
[4821,"GBS De Wonderwijzer","Steenweg op Drogenbos 252",1620,"DROGENBOS","02-377.32.84","drogenbos.basis@skynet.be"]
[4838,"Gemeentelijke Basisschool (FR)","Grote Baan 228",1620,"DROGENBOS","02-377.57.43","info@lepetitchemin-drogenbos.be"]
[4846,"GBS De Schakel","Arthur Van Dormaelstraat 2_A",1630,"LINKEBEEK","02-380.77.16","directie@gbsdeschakel.be"]
[4853,"VLS OLV-instituut","Kloosterweg 1",1640,"SINT-GENESIUS-RODE","02-380.10.15","bernard.schatteman@olvrode.be"]
[4861,"Vrije Basisschool (FR)","Eikenlaan 13",1640,"SINT-GENESIUS-RODE","02-358.45.80","ecolenotredame.direction@telenet.be"]
[4887,"GBS Wauterbos","Wauterbos 1",1640,"SINT-GENESIUS-RODE","02-380.98.84","sofie.swalens@sint-genesius-rode.be"]
[4895,"Gemeentelijke Basisschool (FR)","Vredelaan 25",1640,"SINT-GENESIUS-RODE","02-358.34.44","julie.velle@sint-genesius-rode.be"]
[4903,"VBS Sint-Victor Alsemberg","Brusselsesteenweg 20",1652,"ALSEMBERG","02-381.08.38","info@vbsasintvictor.be"]
[4911,"VBS Sint-Victor Beersel","Hoogstraat 52",1650,"BEERSEL","02-378.16.52","directie@svbeersel.be"]
[4929,"GBS Blokbos","Beerselsestraat 2",1651,"LOT","02-359.16.66","info.blokbos@gbsbeersel.be"]
[4937,"VBS Harten Troef","Boekhoutstraat 1",1670,"PEPINGEN","02-356.62.83","directie@hartentroef.be"]
[4961,"VBS HHC Kasteelstraat","Lenniksesteenweg 621",1500,"HALLE","02-308.51.79","maarten.deridder@hhchalle.be"]
[4978,"VBS De Kleine Prins","Kroonstraat 40",1750,"LENNIK","02-532.43.87","directie@kleineprins.be"]
[4986,"GBS 't Rakkertje","Assesteenweg 125",1750,"LENNIK","02-532.48.02","gemeenteschool@lennik.be"]
[4994,"VBS SGI","Schapenstraat 39",1750,"SINT-MARTENS-LENNIK","02-532.14.53","basisschool@sgi-lennik.be"]
[5017,"GKS Het Nestje","Winnepenninckxstraat 1",1755,"LEERBEEK","02-532.46.99","kleuterschool.leerbeek@gooik.be"]
[5025,"VBS Dorpsschool Kester","De Ham 2",1755,"KESTER","054-56.61.45","secretariaat@dorpsschoolkester.be"]
[5033,"GLS De Oester","Kerkplein 1",1755,"OETINGEN","054-56.60.23","directie.oesteroetingen@gooik.be"]
[5041,"VBS De Bron","Bronnenweg 2",1755,"GOOIK","02-532.09.06","directie@vbsdebrongooik.be"]
[5058,"VKS 't Pleintje","Gemeenteplein 28",1730,"ASSE","02-452.56.55","directie@vrijekleuterschooltpleintje.be"]
[5066,"GBS Centrum - Krokegem","Mollestraat 31",1730,"ASSE","02-452.95.24","gbscentrum@asse.be"]
[5074,"GBS Sleutelbos Walfergem","Stevensveld 16",1730,"ASSE","02-452.27.62","gbswalfergem@asse.be"]
[5082,"VLS De Kleine Wereld","Nieuwstraat 72",1730,"ASSE","02-452.70.32","directie@dekleinewereldasse.be"]
[5091,"GBS Mollem","Kasteelstraat 49",1730,"MOLLEM","02-452.50.73","gbsmollem@asse.be"]
[5116,"VLS Regina Caeli","Kaudenaardestraat 112",1700,"DILBEEK","02-568.18.32","miranda.meertens@rclager.be"]
[5124,"VBS Sint Alena","Spanjebergstraat 1",1700,"DILBEEK","02-569.42.74","directie@sintalena.be"]
[5132,"GBS Jongslag","Marktplein 8",1700,"DILBEEK","02-569.55.78","secretariaat@jongslag.be"]
[5141,"VBS Ave-Mariabasisschool","Dorp 48",1602,"VLEZENBEEK","02-569.07.24","info@ambvlezenbeek.be"]
[5157,"VLS Broederschool Groot-Bijgaarden/Dilbe","Hendrik Placestraat 45",1702,"GROOT-BIJGAARDEN","02-466.96.60","a.vrijders@donboscogbd.be"]
[5165,"Vrije Basisschool","Konijnenberg 2",1702,"GROOT-BIJGAARDEN","02-466.51.90","a.vrijders@donboscogbd.be"]
[5173,"GLS De Regenboog","Noorderlaan 6",1731,"ZELLIK","02-466.64.87","glsderegenboog@asse.be"]
[5199,"VKS Het Klimmertje","Kloosterstraat 3",1731,"ZELLIK","02-466.25.61","directie@vrijekleuterschoolzellik.be"]
[5231,"GBS De Kiem","Nieuwbaan 6",1742,"SINT-KATHERINA-LOMBEEK","053-66.04.73","secretariaat.lombeek@gbsdekiem.be"]
[5249,"VBS De Droomgaard","Meersstraat 5",1742,"SINT-KATHERINA-LOMBEEK","02-582.18.84","directie@dedroomgaard.be"]
[5256,"VBS 't Klavertje Vier","Sint-Martinusstraat 10",1700,"SINT-MARTENS-BODEGEM","02-582.26.32","directie@klavertje-vier.be"]
[5264,"VKS Klein Klein Kleuterke","Brusselstraat 711",1700,"SINT-ULRIKS-KAPELLE","02-453.93.21","directie@kleinkleinkleuterke.be"]
[5272,"GLS De Kriebel","Kerkstraat 1",1700,"SINT-ULRIKS-KAPELLE","02-451.65.40","secretariaat@dekriebel.be"]
[5281,"VKS Trip Trap","E. Eylenboschstraat 50",1703,"SCHEPDAAL","02-569.20.58","directie@triptrapschool.be"]
[5298,"GLS De Klimop","Marktstraat 25",1703,"SCHEPDAAL","02-568.02.50","secretariaat@deklimop.be"]
[5306,"VBS - IM","Kapelleweide 7",1760,"ROOSDAAL","054-32.31.02","directie@imi-basis.be"]
[5314,"GBS Triangel","Brusselstraat 27",1760,"ROOSDAAL","054-33.33.46","peggy.meert@triangel-roosdaal.be"]
[5322,"Vrije Basisschool","Bosstraat 32",1760,"ROOSDAAL","053-66.52.88","directie@sint-amandusschool.be"]
[5348,"VBS Sint-Antonius","Opperstraat 32",1770,"LIEDEKERKE","053-66.88.35","directie@sint-antoniusschool.be"]
[5355,"Vrije Basisschool","St-Gabriëlstraat 152",1770,"LIEDEKERKE","053-64.57.60","directie@mulhof.be"]
[5363,"GKS Dol-Fijn","Pamelsestraat 331",1770,"LIEDEKERKE","053-66.37.19","gki@liedekerke.be"]
[5371,"GO! BS Affligem","Driesstraat 9",1790,"TERALFENE","053-66.60.62","directeur@bsaffligem.be"]
[5389,"Vrije Basisschool","Balleistraat 20",1790,"AFFLIGEM","053-68.44.35","directie@sint-jan.be"]
[5397,"VBS Sint-Vincentius Hekelgem","Bellestraat 4",1790,"AFFLIGEM","053-66.36.90","directeur@svshekelgem.be"]
[5405,"VBS De Knipoog 2","Rooseveltlaan (Franklin) 98",1800,"VILVOORDE","02-254.88.44","sofie.slaets@kov.be"]
[5439,"GBS Kinderkoppen","Vlierkensstraat 49",1800,"VILVOORDE","02-251.27.43","directie.kinderkoppen@sovilvoorde.be"]
[5447,"SBS De Groene Planeet","Trekelsstraat (Karel) 30",1800,"VILVOORDE","02-251.10.79","directie.degroeneplaneet@sovilvoorde.be"]
[5454,"SBS De Puzzel","Streekbaan 189",1800,"VILVOORDE","02-267.35.33","directie.depuzzel@sovilvoorde.be"]
[5462,"GBS 't Groentje","Groenstraat 21",1800,"VILVOORDE","02-251.27.13","directie.hetgroentje@sovilvoorde.be"]
[5471,"GBS De kastanjelaar","Perksestraat 125",1800,"VILVOORDE","02-251.27.63","directie.dekastanjelaar@sovilvoorde.be"]
[5488,"VBS Sint-Jozef","Groenstraat 244",1800,"VILVOORDE","02-251.34.09","info.sjg@kov.be"]
[5496,"VBS Sint-Jozef","Kaasmarkt 38",1780,"WEMMEL","02-460.11.65","stjozefwemmel@gmail.com"]
[5504,"GBS De Wondertuin","J. Vanden Broeckstraat 29",1780,"WEMMEL","02-462.06.31","info@gbswemmel.be"]
[5512,"Gemeentelijke Basisschool (FR)","Winkel 56",1780,"WEMMEL","02-462.06.41","info@ecfwemmel.be"]
[5521,"Gemeentelijke Basisschool","Dorpsstraat 1",1731,"RELEGEM","02-453.98.62","gbsrelegem@asse.be"]
[5538,"GBS 't Villegastje","de Villegas de Clercampstraat 85",1853,"STROMBEEK-BEVER","02-267.19.91","secretariaat@tvillegastje.be"]
[5546,"VBS Sint-Jozef","Sint-Amandsplein 31",1853,"STROMBEEK-BEVER","02-267.16.85","deborah.stoffels@sint-jozefsschool.be"]
[5561,"VBS De Windroos","Cornelis Peetersstraat 6",1830,"MACHELEN","02-251.34.46","info.dewindroos@kov.be"]
[5595,"GBS de negensprong","Jean Deschampsstraat 19",1850,"GRIMBERGEN","02-253.09.85","directie@negensprong.be"]
[5603,"VKS Prinsenhof","Prinsenstraat 17",1850,"GRIMBERGEN","02-270.94.80","elke.verlinden@vbs-prinsenhof.be"]
[5611,"VLS Prinsenhof","Prinsenstraat 19",1850,"GRIMBERGEN","02-270.94.80","koen.gevers@vbs-prinsenhof.be"]
[5629,"GBS Mozaïek","Nachtegaallaan 5",1851,"HUMBEEK","02-269.59.75","directie@gbs-mozaiek.be"]
[5637,"VBS De Ankering","Heienbeekstraat 26",1850,"GRIMBERGEN","02-251.71.00","directie@vbs-deankering.be"]
[5645,"GBS 't Mierken","Gemeentehuisstraat 1",1852,"BEIGEM","02-269.50.17","directie@tmierken.be"]
[5652,"VBS Sinte Maarten","Limbosweg 13",1860,"MEISE","02-269.49.15","secretariaat@sinte-maartenschool.be"]
[5661,"GBS De Leertuin","Brusselsesteenweg 71",1860,"MEISE","02-892.23.50","directie@deleertuin.be"]
[5686,"GBS Klim Op","Jan Hammeneckerstraat 44",1861,"WOLVERTEM","02-892.23.70","timothy.joosten@klimop.net"]
[5694,"GBS Wolvertem - Fusieschool","Hoogstraat 40",1861,"WOLVERTEM","02-892.23.60","directie@fusieschool.be"]
[5702,"VLS Ter Dreef","Gasthuisstraat 21",1785,"MERCHTEM","052-37.19.35","directie@terdreef.org"]
[5711,"GBS Ten Bos","Nieuwbaan 71",1785,"MERCHTEM","052-37.12.20","directie@tenbos.be"]
[5728,"VBS Sint-Donatus","Maurits Sacréstraat 42",1785,"MERCHTEM","052-37.18.53","directie@sint-donatus.be"]
[5736,"VKS Ter Dreef","Gasthuisstraat 15",1785,"MERCHTEM","052-37.28.27","directie@kleuterschoolterdreef.be"]
[5744,"GBS De Plataan","Stationsstraat 43",1785,"MERCHTEM","052-37.01.38","directie@deplataan.be"]
[5751,"VBS 't luikertje","Nijverseelstraat 131",1745,"OPWIJK","052-35.04.41","directie@tluikertje.be"]
[5769,"VBS De Lettertuin","Steenweg op Vilvoorde 229",1745,"OPWIJK","052-35.74.43","Schooldroeshoutmazenzele@hotmail.com"]
[5777,"VBS De Leertrommel","Schoolstraat 65_A",1745,"OPWIJK","052-35.70.76","directie@deleertrommel.be"]
[5785,"GBS De Boot","Heiveld 61",1745,"OPWIJK","052-35.82.65","directie@gbsdeboot.be"]
[5793,"Gemeentelijke Basisschool","Heuvelstraat 57",3090,"OVERIJSE","02-687.78.17","info@gbsoverijse.be"]
[5801,"GKS Lotharingenkruis","Patrijzenlaan 23_a",3090,"OVERIJSE","02-687.22.57","directie@gkls-maleizen.be"]
[5819,"VBS Sint-Jozef","Duisburgsesteenweg 134",3090,"OVERIJSE","02-687.87.67","directie@sintjozefeizer.be"]
[5827,"VBS O.L.V. Jezus- Eik","Witherendreef 25",3090,"OVERIJSE","0472-13.19.25","directie@vbsjezuseik.be"]
[5835,"VBS Maleizen","Terhulpensesteenweg 524",3090,"OVERIJSE","02-687.38.75","secretariaat@vbsmaleizen.be"]
[5843,"GBS Jezus- Eik","Brusselsesteenweg 592",3090,"OVERIJSE","02-657.11.05","info@gbsje.be"]
[5851,"Vrije Kleuterschool","Vereeckenstraat 82",1820,"MELSBROEK","02-751.72.95","kleuterschooldezandkorrel@gmail.com"]
[5868,"GBS De Fonkel","Watermolenstraat 75",1831,"DIEGEM","02-720.11.88","ulla.wynants@machelen.be"]
[5876,"Gemeentelijke Basisschool","Desmedtstraat 42",1930,"ZAVENTEM","02-720.09.89","directie@gemeenteschoolzaventem.be"]
[5901,"Gemeentelijke Basisschool","Leuvensesteenweg 194",1932,"SINT-STEVENS-WOLUWE","02-720.42.99","secretariaat@sswgbs.com"]
[5918,"Gemeentelijke Basisschool (FR)","Hebronlaan 17",1950,"KRAAINEM","02-716.32.90","info@ecolediabolo.be"]
[5926,"GBS De Klimboom","Emiel Bricoutlaan 61",1950,"KRAAINEM","02-720.15.76","heidi.mondelaers@gbsdeklimboom.be"]
[5934,"Vrije Basisschool","Kerkdries 22",1933,"STERREBEEK","02-731.19.83","vbs.sterrebeek@telenet.be"]
[5942,"Vrije Basisschool (FR)","Sint-Jorisoord 1",1970,"WEZEMBEEK-OPPEM","02-731.58.10","secretariatisg.ndt@gmail.com"]
[5959,"Vrije Basisschool","Albertlaan 44",1970,"WEZEMBEEK-OPPEM","02-767.11.85","directiebs@hhc.world"]
[5967,"Gemeentelijke Basisschool (FR)","Bosweg 9",1970,"WEZEMBEEK-OPPEM","02-731.74.86","secretariatlafermette@gmail.com"]
[5975,"GBS De Letterbijter","Louis Marcelisstraat 138",1970,"WEZEMBEEK-OPPEM","02-783.12.23","directie@letterbijter.be"]
[5983,"VBS Mariaschool","Nieuwstraat 17",3080,"TERVUREN","02-767.49.73","directie.mariaschool@zonien.org"]
[6007,"GBS Tervuren","Paardenmarktstraat 1",3080,"TERVUREN","02-767.62.76","gbst@tervuren.be"]
[6015,"GBS Vossem","Dorpsstraat 38",3080,"VOSSEM","02-767.30.93","gbsv@tervuren.be"]
[6023,"VLS Sint- Clemensschool","Waversesteenweg 2",1560,"HOEILAART","02-657.01.40","admdir.sint-clemens@telenet.be"]
[6031,"SBS Prins Dries","Prinsstraat 24",2000,"ANTWERPEN","03-298.27.00","prinsdries@so.antwerpen.be"]
[6049,"VBS Sint-Norbertusinstituut","Groenstraat 73",2060,"ANTWERPEN","03-235.68.55","directie@sngroenstraat.be"]
[6056,"VBS Sint-Jan-Berchmanscollege","Jodenstraat 15",2000,"ANTWERPEN","03-233.79.95","directie@sintjanantwerpen.be"]
[6064,"VBS De Toermalijn","Paleisstraat 48",2018,"ANTWERPEN","03-260.66.22","info@detoermalijn.be"]
[6072,"VBS Jesode Hatora-Beth Jacob","Lange Van Ruusbroecstraat 12",2018,"ANTWERPEN","03-500.71.00","steven.deschuiteneer@jhbj.be"]
[6081,"VBS Tachkemoni","Lange Leemstraat 313",2018,"ANTWERPEN","03-287.00.73","basis@tachkemoni.be"]
[6098,"VLS Sint-Henricus","Oudesteenweg 81",2060,"ANTWERPEN","03-226.37.79","directie@sint-henricus.be"]
[6106,"VBS Sint-Eligiusinstituut","Van Helmontstraat 29",2060,"ANTWERPEN","03-217.42.41","lagere-school@sint-eligius.be"]
[6114,"VBS Sint-Ludgardis","Maarschalk Gérardstraat 18",2000,"ANTWERPEN","03-233.93.20","sofie.boon@stludgardis.be"]
[6122,"VBS Sint-Ludgardis Belpaire","Haantjeslei 50",2018,"ANTWERPEN","03-213.29.89","elien.depaep@stludgardis.be"]
[6155,"VBS OLVcollege","Frankrijklei 91",2000,"ANTWERPEN","03-232.88.28","walter.vanboxem@olvcsj.be"]
[6163,"SBS De Evenaar","Constitutiestraat 61",2060,"ANTWERPEN","03-289.11.20","deevenaar@so.antwerpen.be"]
[6171,"SBS Alberreke","Albertstraat 32",2018,"ANTWERPEN","03-292.29.70","alberreke@so.antwerpen.be"]
[6189,"SBS De Wereldreiziger","Quellinstraat 31",2018,"ANTWERPEN","03-201.62.70","dewereldreiziger@so.antwerpen.be"]
[6197,"SBS Via Louiza","Louizastraat 17",2000,"ANTWERPEN","03-334.45.90","vialouiza@so.antwerpen.be"]
[6205,"SBS De Vlinders","Lange Beeldekensstraat 258",2060,"ANTWERPEN","03-432.16.50","devlinders@so.antwerpen.be"]
[6213,"SBS Musica","Lange Riddersstraat 48",2000,"ANTWERPEN","03-201.51.20","musica@so.antwerpen.be"]
[6247,"SBS Aan de Stroom","Willem van Haechtlaan 66",2050,"ANTWERPEN","03-291.17.40","aandestroom@so.antwerpen.be"]
[6254,"SBS De Kleine Stad","Belgiëlei 99",2018,"ANTWERPEN","03-292.43.60","dekleinestad@so.antwerpen.be"]
[6262,"SBS Crea 16","Grotehondstraat 50",2018,"ANTWERPEN","03-292.63.50","crea16@so.antwerpen.be"]
[6271,"SBS De kleine wereld","Brederodestraat 119",2018,"ANTWERPEN","03-432.02.30","dekleinewereld@so.antwerpen.be"]
[6312,"VBS Mikado","Borgerhoutsestraat 74",2140,"BORGERHOUT","03-235.62.08","mikado@cksa.be"]
[6321,"VBS Sint-Aloysius","Vliegenstraat 37",2060,"ANTWERPEN","03-232.47.95","sint.aloysius@cksa.be"]
[6338,"VBS Afrit Zuid","Kronenburgstraat 30",2000,"ANTWERPEN","03-238.49.72","afritzuid@cksa.be"]
[6346,"VBS Sint-Maria","Lange Kongostraat 21",2060,"ANTWERPEN","03-235.66.43","sint-maria@cksa.be"]
[6353,"VBS De Vuurtoren","Lange Kongostraat 17",2060,"ANTWERPEN","03-236.43.05","de.vuurtoren@cksa.be"]
[6361,"VBS HH","Isabellalei 107",2018,"ANTWERPEN","03-230.18.20","heilig.hart@cksa.be"]
[6379,"VBS De Brug","Grotebeerstraat 31",2018,"ANTWERPEN","03-281.07.24","de.brug@cksa.be"]
[6387,"VBS Sint-Lievenscollege","Kapucinessenstraat 28",2000,"ANTWERPEN","03-201.48.80","dirk.raijmaekers@sintlievensantwerpen.be"]
[6403,"VBS De Wegwijzer","Jacob Jordaensstraat 75",2018,"ANTWERPEN","03-233.32.52","sint.jozefinstituut@cksa.be"]
[6411,"VBS Benoth Jerusalem","Van Immerseelstraat 27_33",2018,"ANTWERPEN","03-232.11.33","schoolbenoth@skynet.be"]
[6429,"VBS Yavne","Lamorinièrestraat 150",2018,"ANTWERPEN","03-281.25.35","eli@yavne.be"]
[6437,"SBS Sportomundo","Columbiastraat 4",2030,"ANTWERPEN","03-334.44.82","sportomundo@so.antwerpen.be"]
[6445,"SBS Villa Stuivenberg","Stuivenbergplein 37",2060,"ANTWERPEN","03-432.17.70","villastuivenberg@so.antwerpen.be"]
[6478,"VBS De Kleine Jacob","Sint-Jacobsmarkt 43",2000,"ANTWERPEN","03-231.71.85","de.kleine.jacob@cksa.be"]
[6486,"VBS De Dames","Lange Nieuwstraat 74",2000,"ANTWERPEN","03-234.02.68","directie@basisschooldedames.be"]
[6494,"VBS 'T Spoor","Demerstraat 18",2060,"ANTWERPEN","03-233.34.30","tspoor@cksa.be"]
[6502,"SKS De Kameleon","Constant Permekestraat 2",2020,"ANTWERPEN","03-292.21.80","dekameleon@so.antwerpen.be"]
[6511,"SBS De Bijtjes","Offerandestraat 60",2060,"ANTWERPEN","03-334.39.80","debijtjes@so.antwerpen.be"]
[6536,"SKS Het Vosje","Jan De Voslei 10",2020,"ANTWERPEN","03-432.41.20","kleuter.detandem@so.antwerpen.be"]
[6551,"SBS De musjes","Pionierstraat 35",2060,"ANTWERPEN","03-224.11.80","demusjes@so.antwerpen.be"]
[6577,"SKS De Krokodil","Grétrystraat 46",2018,"ANTWERPEN","03-334.43.33","dekrokodil@so.antwerpen.be"]
[6593,"SBS De Sterrenkijker","Durletstraat 8",2018,"ANTWERPEN","03-298.28.40","desterrenkijker@so.antwerpen.be"]
[6601,"VKS - Bais Rachel","Lamorinièrestraat 26",2018,"ANTWERPEN","03-281.30.00","baisrachel@skynet.be"]
[6619,"VBS MONTESO","Breughelstraat 19",2018,"ANTWERPEN","03-230.55.07","directie@monteso.be"]
[6627,"Vrije basisschool","VIIde-Olympiadelaan 25",2020,"ANTWERPEN","03-820.66.05","directielager@piustien.net"]
[6635,"SBS Creatopia","Van Peenestraat 4",2020,"ANTWERPEN","03-238.35.91","creatopia@so.antwerpen.be"]
[6643,"SLS De Tandem","Pestalozzistraat 5",2020,"ANTWERPEN","03-293.24.24","lager.pestalozzistraat@so.antwerpen.be"]
[6651,"SBS De Piramide","Pierenbergstraat 33",2020,"ANTWERPEN","03-293.24.80","depiramide@so.antwerpen.be"]
[6676,"VBS Domino","Jan De Voslei 23_A",2020,"ANTWERPEN","03-237.62.63","domino@cksa.be"]
[6726,"SBS Willem Tell","Kruisboogstraat 49",2180,"EKEREN","03-291.17.30","basis.kruisboogstraat@so.antwerpen.be"]
[6742,"VBS Maria Boodschap","Perustraat 4",2030,"ANTWERPEN","03-541.06.13","info@mariaboodschap.be"]
[6767,"SBS De Beren","Antwerpsebaan 152",2040,"ANTWERPEN","03-502.18.20","deberen@so.antwerpen.be"]
[6775,"SBS De Brem","Bremstraat 1",2040,"ANTWERPEN","03-298.29.30","debrem@so.antwerpen.be"]
[6783,"VBS Noordland","Begijnhoeve 6",2040,"ANTWERPEN","03-568.78.02","info@gvbsnoordland.be"]
[6791,"VBS De Brenne","Monnikenhofstraat 3",2040,"ANTWERPEN","03-568.63.78","info@debrenne.be"]
[6817,"SBS Apenstaartjes","Hanegraefstraat 15",2050,"ANTWERPEN","03-432.17.65","apenstaartjes@so.antwerpen.be"]
[6833,"VBS Sint-Annacollege","Goethestraat 1",2050,"ANTWERPEN","03-219.33.24","sint.anna@cksa.be"]
[6858,"Vrije Basisschool","Winkelstap 108",2170,"MERKSEM","03-645.99.15","info@sint-jozef.net"]
[6882,"VBS Sint-Ludgardisschool","Du Chastellei 48",2170,"MERKSEM","03-645.68.67","annhendrickx@slmbasis.be"]
[6916,"Vrije Lagere School","Kluizeveldenstraat 104_B",2170,"MERKSEM","03-645.74.40","groenendaal.ls@telenet.be"]
[6924,"VKS Virgo Maria","Terlindenhofstraat 220",2170,"MERKSEM","03-645.56.29","ks@virgomaria.be"]
[6932,"VBS Sint-Eduardus","Broeder Frederikstraat 3",2170,"MERKSEM","03-647.05.03","basisschool@st-eduardus.be"]
[6941,"SBS De Luchtballon","Borrewaterstraat 70",2170,"MERKSEM","03-334.45.80","deluchtballon@so.antwerpen.be"]
[6965,"Vrije Basisschool","Oorderseweg 8",2180,"EKEREN","03-541.54.42","basisschool@lambertus.be"]
[6973,"Vrije Lagere School","Alfons Jeurissenstraat 13",2180,"EKEREN","03-541.39.40","olv-ls@telenet.be"]
[6981,"Vrije Basisschool","Leugenberg 143",2180,"EKEREN","03-665.05.51","directie@sint-vincentschool.be"]
[6999,"VBS Sint-Jozef","Prinshoeveweg 44",2180,"EKEREN","03-645.61.67","directie@sint-jozefekeren.be"]
[7005,"VBS VBSM","Frans Standaertlei 54",2180,"EKEREN","03-605.71.52","directie@vbsm.be"]
[7013,"VBS De Bunt","Waterstraat 16",2180,"EKEREN","03-542.37.72","basisschool.bunt@telenet.be"]
[7021,"VLS Zilverenhoek Maria Immaculata","Zilverenhoeklaan 2",2950,"KAPELLEN","03-664.36.23","directiels@basisschoolzilverenhoek.be"]
[7062,"VB De Putse Knipoog","Partizanenstraat 5",2950,"KAPELLEN","03-664.79.20","directie.deputseknipoog@telenet.be"]
[7096,"GLS De Platanen","Bauwinlaan 1",2950,"KAPELLEN","03-664.26.72","info@platanen.be"]
[7104,"Vrije Basisschool","Dorpsstraat 61",2940,"STABROEK","03-568.66.65","sintcatharina@noordkant.be"]
[7112,"VBS Sint-Calasanz","Hoge Weg 15",2940,"HOEVENEN","03-660.13.60","mail@sint-calasanz.be"]
[7121,"GBS De Rekke","Eduard de Beukelaerlaan 2",2940,"STABROEK","03-665.35.44","inge.coeckelbergs@stabroek.be"]
[7138,"SBS Hoedjes Van Papier","Thibautstraat 65",2100,"DEURNE","03-293.27.80","hoedjesvanpapier@so.antwerpen.be"]
[7153,"SKS De Groene Egel","Maria de Heeltstraat 114",2100,"DEURNE","03-324.20.64","degroeneegel@so.antwerpen.be"]
[7179,"SKS Koekatoe","Haviklaan 2",2100,"DEURNE","03-334.39.70","koekatoe@so.antwerpen.be"]
[7187,"SBS Het Vliegertje","Fort III-straat 5",2100,"DEURNE","03-334.43.50","hetvliegertje@so.antwerpen.be"]
[7195,"SBS Het Baronneke","Baron Leroystraat 31",2100,"DEURNE","03-432.01.80","hetbaronneke@so.antwerpen.be"]
[7229,"SBS Kriebel","Lakborslei 262",2100,"DEURNE","03-360.50.36","kriebel@so.antwerpen.be"]
[7237,"SBS De Mozaïek","Silsburgstraat 83",2100,"DEURNE","03-321.00.39","demozaiek@so.antwerpen.be"]
[7245,"SBS De bever","Albert Bevernagelei 65",2100,"DEURNE","03-291.15.50","debever@so.antwerpen.be"]
[7252,"SBS De Kangoeroe","Ruggeveldlaan 699",2100,"DEURNE","03-291.14.70","dekangoeroe@so.antwerpen.be"]
[7261,"SBS De Speelvogel","Schotensesteenweg 138",2100,"DEURNE","03-432.88.10","despeelvogel@so.antwerpen.be"]
[7294,"SBS Inpeeria","De Gryspeerstraat 84",2100,"DEURNE","03-328.03.20","inpeeria@so.antwerpen.be"]
[7311,"VBS Sint-Rumoldus","Paulus Beyestraat 153",2100,"DEURNE","03-325.16.88","directie.sintrumoldus@sgkod.be"]
[7328,"VBS Mariagaarde","Griffier Schobbenslaan 45",2140,"BORGERHOUT","03-272.06.73","directie.mariagaarde@sgkod.be"]
[7336,"VBS Drakenhof","Drakenhoflaan 242",2100,"DEURNE","03-321.56.84","directie.drakenhof@sgkod.be"]
[7344,"VBS Sancta Maria","Pieter De Ridderstraat 5",2100,"DEURNE","03-324.55.93","directie.sanctamaria@sgkod.be"]
[7369,"VBS Sint-Bernadette","Antoon Van den Bosschelaan 145",2100,"DEURNE","03-324.97.97","directie.sintbernadette@sgkod.be"]
[7377,"VBS Ibex","Seraphin de Grootestraat 120",2100,"DEURNE","03-325.60.94","directie.ibex@sgkod.be"]
[7401,"VBS Immaculata","Van Dornestraat 125",2100,"DEURNE","03-325.08.69","directie.immaculata@sgkod.be"]
[7419,"VBS Don Bosco","Kasteellei 77_B",2110,"WIJNEGEM","03-353.11.30","contact@donbosco-wijnegem.be"]
[7427,"VBS Oefenschool","Turnhoutsebaan 430",2110,"WIJNEGEM","03-353.05.41","info@oefenschool.be"]
[7443,"GLS De Notelaar","Bergenstraat 2",2110,"WIJNEGEM","03-353.16.89","directie@gemeenteschool-wijnegem.be"]
[7451,"VBS Sint-Filippus","Wijngaardlaan 7",2900,"SCHOTEN","03-658.81.70","directeur@sint-filippus.be"]
[7468,"VBS 1 Sint-Cordula","Vordensteinstraat 32",2900,"SCHOTEN","03-658.94.51","sintcordulakleuterschool@sg-kbs.be"]
[7476,"VBS Sint-Eduardus","Marialei 2",2900,"SCHOTEN","03-645.90.44","basisschool@st-eduardus.be"]
[7484,"VBS Heilige Familie","Laaglandlei 20",2900,"SCHOTEN","03-658.51.95","basisschool@hfamilie.be"]
[7492,"VBS Sint-Ludgardis Schoten","Sint-Maria-ten-Boslei 10",2900,"SCHOTEN","03-658.48.42","info@sintludgardis-schoten.be"]
[7501,"VBS 1 Bloemendaal","Paalstraat 309",2900,"SCHOTEN","03-658.79.45","info@bloemendaal.be"]
[7526,"VBS 1 Maria-Middelares","Hogebaan 2",2960,"SINT-JOB-IN-'T-GOOR","03-636.12.29","filip.vanherck@maria-middelares.be"]
[7542,"GBS - De Heide","Bredabaan 1093",2930,"BRASSCHAAT","03-663.10.23","giboheide@telenet.be"]
[7559,"GLS De Kaart","Leeuwenstraat 50",2930,"BRASSCHAAT","03-651.78.23","directie@gilodekaart.be"]
[7567,"GBS Mariaburg","Annadreef 7",2930,"BRASSCHAAT","03-664.46.37","directie@gibomariaburg.be"]
[7583,"VBS Mater Dei Driehoek","Heislag 35",2930,"BRASSCHAAT","03-651.69.56","driehoek@bsmaterdei.be"]
[7591,"VBS Mater Dei","della Faillestraat 16",2930,"BRASSCHAAT","03-633.38.05","mariaterheide@bsmaterdei.be"]
[7609,"VBS De Vlinder","Lage Kaart 266",2930,"BRASSCHAAT","03-651.50.25","vlinder@bsmaterdei.be"]
[7617,"VBS Sint-Ludgardis","Donksesteenweg 150",2930,"BRASSCHAAT","03-651.86.07","gwenda.dewachter@sintludgardis.be"]
[7633,"Vrije Basisschool","Baillet-Latourlei 107_A",2930,"BRASSCHAAT","03-651.86.07","jan.peeters@sintludgardis.be"]
[7641,"VBS Mater Dei","Zegersdreef 66",2930,"BRASSCHAAT","03-651.68.16","zegersdreef@bsmaterdei.be"]
[7658,"VLS Sint-Michielscollege","Kapelsesteenweg 74",2930,"BRASSCHAAT","03-640.30.34","secretariaat@smcbls.be"]
[7674,"GBS De Horizon","Sint Jozeflei 18",2390,"WESTMALLE","03-312.08.85","directie@gbsmalle.be"]
[7682,"VBS Sint-Jan Berchmanscollege","Kasteellaan 18",2390,"WESTMALLE","03-312.98.88","basis@sjbmalle.be"]
[7708,"VBS Mariagaard","Oude Molenstraat 11",2390,"WESTMALLE","03-312.18.16","directie@basisschoolmariagaarde.be"]
[7716,"Vrije Lagere School","Smekenstraat 12",2390,"MALLE","03-309.16.74","directie@immaculata-oostmalle.be"]
[7724,"VBS TRiangel","Hoogstraat 19",2340,"VLIMMEREN","03-312.29.38","info@kbtriangel.be"]
[7741,"VBS 't Klavernest","Kerkepad 27",2275,"WECHELDERZANDE","03-312.05.92","directie@klavernest.be"]
[7757,"GBS De Kiekeboes","Kerkstraat 7",2980,"ZOERSEL","03-298.08.28","directie@dk.zoersel.be"]
[7765,"VBS Sint-Elisabethschool","Zandstraat 39",2980,"ZOERSEL","03-312.35.10","school@elisazoe.be"]
[7773,"GBS Beuk & Noot","Ter Beuken 1",2980,"ZOERSEL","03-298.08.04","directie@bn.zoersel.be"]
[7781,"GBS De Sleutelbloem","Schoolplein 2",2960,"BRECHT","03-313.81.63","direc@gls-brecht.telenet.be"]
[7799,"VLS Sint-Michielschool","Venusstraat 5",2960,"BRECHT","03-660.07.70","directie@sint-michielschool.be"]
[7807,"VBS Sint-Antonius","Handelslei 72",2980,"ZOERSEL","03-383.30.37","info@antoniusschool.be"]
[7823,"VBS Leonardus","Dorpsstraat 12",2960,"SINT-LENAARTS","03-313.03.20","directie@leonardusschool.be"]
[7831,"GLS De Wissel","Hagelkruis 2_A",2990,"WUUSTWEZEL","03-690.46.45","directeur@wisselmail.be"]
[7849,"VBS Sterbos","Molenheide 1",2990,"WUUSTWEZEL","03-669.72.17","directie@vbssterbos.be"]
[7856,"VBS 't Kantoor","Bredabaan 124",2990,"WUUSTWEZEL","03-669.62.89","directie@vbskantoor.be"]
[7864,"VBS Mater Dei Gooreind","Oude Baan 92",2990,"WUUSTWEZEL","03-663.52.70","directie@materdeigooreind.be"]
[7872,"VBS Triangel","Kloosterstraat 7",2990,"WUUSTWEZEL","03-669.68.86","directie@vbstriangel.be"]
[7881,"GBS 't Blokje","Kerkblokstraat 14",2990,"LOENHOUT","03-375.68.30","directie@blokje.be"]
[7906,"VBS Sint-Jozef","Heidestatieplein 6",2920,"KALMTHOUT","03-666.73.93","directie@sjheide.be"]
[7914,"VBS Den Heuvel","Heuvel 37",2920,"KALMTHOUT","03-666.95.21","info@denheuvel.be"]
[7922,"VBS De Linde","Achterbroeksteenweg 190",2920,"KALMTHOUT","03-666.81.15","directie@vbs-delinde.be"]
[7931,"VBS Zonnekind","Zonnekinddreef 2",2920,"KALMTHOUT","03-666.53.40","info@zonnekind.org"]
[7955,"GBS Kadrie","Driehoekstraat 41",2920,"KALMTHOUT","03-666.95.20","directie@kadriemail.be"]
[7963,"GBS Maatjes","Nieuwmoer-Dorp 10",2920,"KALMTHOUT","03-667.46.85","info@maatjes.be"]
[7971,"VLS Mariaberg","Kloosterstraat 76",2910,"ESSEN","03-667.37.23","mariaberg@mariaberg.be"]
[7989,"VLS Potlodenschool","Maststraat 2_A",2910,"ESSEN","03-667.63.47","directie@potlodenschool.be"]
[7997,"VBS Vincentius","Horendonk 265",2910,"ESSEN","03-667.54.91","directeur@vinho.be"]
[8003,"VLS College Essen","Rouwmoer 7_A",2910,"ESSEN","03-667.33.65","secretariaat@lagercollegeessen.be"]
[8011,"VKS Mariaberg","Grensstraat 14",2910,"ESSEN","03-667.37.23","kleuterschool@mariaberg.be"]
[8029,"GBS WIGO","De Vondert 10",2910,"ESSEN","03-667.57.63","directie@wigo.be"]
[8045,"VBS Mozaïek","Schoenstraat 41",2140,"BORGERHOUT","03-235.05.61","marianne.bel@cksa.be"]
[8052,"VBS_De Zevensprong","Turnhoutsebaan 79",2140,"BORGERHOUT","03-236.37.25","zevensprong@cksa.be"]
[8061,"VBS Franciscus","Berchemlei 93",2140,"BORGERHOUT","03-236.04.44","directeur@franciscusschool.be"]
[8086,"VBS Xaveriuscollege","Collegelaan 36",2140,"BORGERHOUT","03-217.44.10","directeur.ls@xaco.be"]
[8094,"SKS De Vlinderboom","Te Boelaarpark 3",2140,"BORGERHOUT","03-334.03.80","kleuter.de.vlinderboom@so.antwerpen.be"]
[8102,"SLS De Vlinderboom","Te Boelaarpark 5",2140,"BORGERHOUT","03-334.03.90","lager.de.vlinderboom@so.antwerpen.be"]
[8111,"SBS De Esdoorn","Vinçottestraat 44",2140,"BORGERHOUT","03-432.17.90","deesdoorn@so.antwerpen.be"]
[8128,"SBS Flora","Florastraat 120",2140,"BORGERHOUT","03-291.16.80","flora@so.antwerpen.be"]
[8144,"SBS De Horizon","Betogingstraat 9_  .",2140,"BORGERHOUT","03-502.10.90","dehorizon@so.antwerpen.be"]
[8151,"Vrije Basisschool","de Robianostraat 11",2150,"BORSBEEK","03-322.53.54","directie@sji-basisschool.be"]
[8169,"GBS De Klinker","Jan Frans Stynenlei 8",2150,"BORSBEEK","03-321.20.21","de.klinker@borsbeek.be"]
[8177,"GO! BS 't Laar","Maria Clarastraat 60",2160,"WOMMELGEM","03-322.34.34","directie@tlaar.be"]
[8185,"VBS Sint-Johannaschool","Torenstraat 30",2160,"WOMMELGEM","03-353.78.28","sint.johanna@skynet.be"]
[8201,"GBS De Knipoog","Schoolstraat 17",2520,"RANST","03-475.14.48","secretariaat@deknipoogranst.be"]
[8219,"VBS Annuncia-Instituut","Gasthuisstraat 19_A",2520,"RANST","03-485.54.58","info@annuncia-ranst.be"]
[8243,"VBS Sint-Ludgardis","Heidedreef 82",2970,"SCHILDE","03-353.71.19","info@sint-ludgardis.be"]
[8251,"VKS Wonderwijzer","Kleinveldweg 2_A",2970,"SCHILDE","03-384.06.28","directie.kleuterschool@wonderwijzer.be"]
[8268,"GBS De Driehoek","Schildesteenweg 12",2520,"OELEGEM","03-383.50.36","directie@gbsdedriehoek.be"]
[8276,"VBS Sint-Lucia","Venusstraat 3",2520,"OELEGEM","03-383.10.31","secretariaat@st-lucia.be"]
[8284,"VBS HH","Oudaen 76_1",2970,"'S GRAVENWEZEL","03-658.12.46","secretariaat@basisschool-hhart.be"]
[8292,"GBS De Wingerd","Frans Pauwelslei 19",2970,"'S GRAVENWEZEL","03-658.86.18","school@schilde.be"]
[8301,"Gemeentelijke Basisschool","Amelbergastraat 40",2240,"ZANDHOVEN","03-484.35.89","werner.vaneverbroeck@gbszandhoven.be"]
[8326,"VBS Impuls","Kloosterstraat 7",2243,"PULLE","03-484.41.68","directie@basisschoolimpuls.be"]
[8334,"VBS De Springplank","Kapelstraat 19_A",2520,"BROECHEM","03-485.80.79","directie@vbsbroechem.be"]
[8342,"GBS De Sleutel","Lostraat 51",2520,"BROECHEM","03-485.65.14","directie@gbsdesleutel.be"]
[8359,"GBS 't Kroontje","Kerkstraat 37",2240,"MASSENHOVEN","03-484.30.87","gbs.tkroontje@scarlet.be"]
[8367,"VBS Klavertje 4-sel","Veerstraat 59",2240,"VIERSEL","03-485.73.98","viersel.basisschool@skynet.be"]
[8375,"VBS Sint-Jozefschool","Kloosterstraat 1",2520,"EMBLEM","03-480.19.29","dir@sintjozefschool-emblem.be"]
[8383,"Gemeentelijke Basisschool","Kerkeblokken 7",2560,"NIJLEN","03-410.01.30","directie.kerkeblokken@goezo.be"]
[8391,"VBS Sint-Calasanz","Nonnenstraat 21",2560,"NIJLEN","03-481.97.43","directie@basisschool-calasanz.be"]
[8409,"VBS De Zandloper","Zandlaan 46",2560,"NIJLEN","03-481.87.67","secretariaat@zandlopernijlen.be"]
[8425,"GBS Klim-op","Albertstraat 8",2270,"HERENTHOUT","014-51.17.09","sylviane.uyttenhove@klimopherenthout.be"]
[8433,"VLS De Luchtballon","Schoetersstraat 22",2270,"HERENTHOUT","014-51.30.78","directie@vls-deluchtballon.be"]
[8441,"VKS De Luchtballon","Zusterstraat 1",2270,"HERENTHOUT","014-51.30.78","directie@vks-deluchtballon.be"]
[8458,"VBS Mariaschool","Bergstraat 12",2280,"GROBBENDONK","014-51.29.29","adm@mariaschoolgrobbendonk.be"]
[8466,"GBS Klim-Op","Bovenpad 7",2280,"GROBBENDONK","014-51.11.11","grobbendonk@klimopschool.be"]
[8474,"VBS Klavertjedrie","Dorp 57",2288,"BOUWEL","014-51.27.42","directie@klavertje3.be"]
[8482,"VLS Windekind","Markt 19",2290,"VORSELAAR","014-50.93.48","directie@bs-windekind.be"]
[8491,"GBS De Knipoog","Cardijnlaan 10",2290,"VORSELAAR","014-51.27.00","directie@deknipoog.be"]
[8508,"VBS Sint-Victor","Begijnendreef 27",2300,"TURNHOUT","014-41.41.08","tom.vermeylen@sint-victor.be"]
[8532,"VBS Heilig Graf","Nijverheidstraat 11",2300,"TURNHOUT","014-47.99.15","nijv.directie@heilig-graf.be"]
[8541,"VBS Heilig Graf","Apostoliekenstraat 26",2300,"TURNHOUT","014-41.18.87","apo.directie@heilig-graf.be"]
[8557,"VBS Heilig Graf","Tramstraat 36",2300,"TURNHOUT","014-41.96.68","tram.directie@heilig-graf.be"]
[8565,"VLS Sint-Jozefcollege","Pieter De Nefstraat 4",2300,"TURNHOUT","014-41.17.02","directie@sjt-lager.be"]
[8573,"VBS Sint-Jozefcollege","Koningin Astridlaan 33",2300,"TURNHOUT","014-41.24.84","sjt.bsa.directeur@telenet.be"]
[8599,"VBS Sint-Pietersinstituut Zevendonk","Kapelweg 56",2300,"TURNHOUT","014-41.37.92","directie@spz.kobart.be"]
[8607,"VBS Sint-Pietersinstituut","Jubileumlaan 1",2300,"TURNHOUT","014-63.99.22","info@sptbasis.kobart.be"]
[8615,"VKS Sint-Jozefcollege","Beekstraat 3",2300,"TURNHOUT","014-41.89.11","directie@sjt-kleuter.be"]
[8649,"VBS Het Kompas","Past. Lambrechtsstraat 3",2310,"RIJKEVORSEL","03-312.37.33","directie@het-kompas.be"]
[8656,"VLS-Sint-Luciaschool","Molenstraat 7",2310,"RIJKEVORSEL","03-314.61.87","directie@sint-luciaschool.be"]
[8664,"VKS Het Moleke","Banmolenweg 9",2310,"RIJKEVORSEL","03-314.12.69","directie@het-moleke.be"]
[8672,"GLS De Wegwijzer","Leopoldstraat 1",2310,"RIJKEVORSEL","03-340.00.60","directeur@glsdewegwijzer.be"]
[8681,"VBS Spijker","Antoon de Lalaingstraat 3_a",2320,"HOOGSTRATEN","03-314.58.08","basisschool@spijker.be"]
[8698,"VBS Klein Seminarie","Vrijheid 234",2320,"HOOGSTRATEN","03-340.40.45","basisschool@klein-seminarie.be"]
[8706,"Gemeentelijke Basisschool","Gravin Elisabethlaan 21",2320,"HOOGSTRATEN","03-314.84.44","directie@gbshoogstraten.be"]
[8714,"GBS Meer/Meerseldreef","Kapelweg 2",2328,"MEERLE","03-315.80.53","info@dreefke.be"]
[8722,"VBS Scharrel","Witherenweg 2",2322,"MINDERHOUT","03-314.64.21","directie@scharrel.be"]
[8731,"Vrije Basisschool","Ulicotenseweg 1",2328,"MEERLE","03-315.82.88","secretariaat@deklimtoren.be"]
[8748,"GBS Qworzo","Markt 17",2330,"MERKSPLAS","014-63.34.93","info@qworzo.be"]
[8755,"Vrije Basisschool","Kloosterstraat 4",2330,"MERKSPLAS","014-63.30.00","directie@vbsmerksplas.be"]
[8763,"VBS De Vlinder","Molenbaan 1 bus 1",2387,"BAARLE-HERTOG","014-69.92.43","info@vbsdevlinder.kobart.be"]
[8771,"GBS De Singel","Schoolstraat 4",2340,"BEERSE","014-61.15.22","basisschool@gbsdesingel.be"]
[8789,"Gemeentelijke Basisschool","Albertstraat 1",2340,"BEERSE","014-61.15.23","info@babeerse.be"]
[8813,"VLS Heilig Graf","Bergakker 4",2350,"VOSSELAAR","014-61.43.29","vos.directiels@heilig-graf.be"]
[8821,"VKS Heilig Graf","Bergakker 4",2350,"VOSSELAAR","014-61.43.29","vos.directieks@heilig-graf.be"]
[8839,"GBS Centrum","Konijnenbergpad 5",2350,"VOSSELAAR","014-61.17.66","directie.centrum@gbsvosselaar.be"]
[8847,"VBS Delta","Van der Bekenlaan 40",2360,"OUD-TURNHOUT","014-45.36.75","directie@bs-delta.be"]
[8854,"VBS Reuzepas","Heerestraat 140",2360,"OUD-TURNHOUT","014-41.00.24","school@reuzepas.be"]
[8862,"VBS Zwaneven","Steenweg op Mol 157",2360,"OUD-TURNHOUT","014-45.06.02","info@zwaneven.be"]
[8871,"GBS Salto","Pausenstraat 9",2360,"OUD-TURNHOUT","014-45.21.29","directie@gbs-salto.be"]
[8888,"GBS Sint-Jan","Kerkstraat 11",2370,"ARENDONK","014-67.76.31","info@basisschoolstjan.be"]
[8896,"GBS Voorheide","De Brulen 2",2370,"ARENDONK","014-67.77.54","secretariaat@basisschoolvoorheide.be"]
[8904,"VBS Sint-Clara","Kloosterbaan 1",2370,"ARENDONK","014-67.85.75","gert.damen@basca.kobart.be"]
[8912,"GBS De Kleine Wereld","Kerkstraat 24",2380,"RAVELS","014-65.63.86","info@gbsravels.be"]
[8953,"GBS De Verrekijker","Koning Albertstraat 59",2381,"WEELDE","014-40.91.70","info@de-verrekijker.be"]
[8961,"VBS De Negensprong","Dorp 2",2382,"POPPEL","014-65.56.57","info@denegensprong.kobart.be"]
[8987,"GBS Klim-Op","Ginderbuiten 212",2400,"MOL","014-31.50.00","directie.gbsklimop@gemeentemol.be"]
[8995,"GBS MOZAwIEK","Schoolstraat 3",2400,"MOL","014-31.50.99","directie.gbsmozawiek@gemeentemol.be"]
[9001,"VLS Sint-Jan Berchmanscollege","Jakob Smitslaan 36",2400,"MOL","014-32.07.51","directie@sjblo.be"]
[9019,"VLS Rozenberg","Rozenberg 2",2400,"MOL","014-34.74.09","directie.ls@vbsrozenberg.be"]
[9027,"VBS Wezel 1","Keiheuvelstraat 7_A",2400,"MOL","014-81.03.16","directie@basisschoolwezel.be"]
[9035,"VBS De Toren","Jozef Calasanzstraat 2_A",2400,"MOL","014-31.63.23","directie@vbsdetoren.be"]
[9043,"VBS Millekemol","St.-Odradastraat 40",2400,"MOL","014-31.18.96","basisschool@millekemol.be"]
[9051,"GBS Alles Kids Mol-Gompel","Pastoor Vaesstraat 24",2400,"MOL","014-31.28.93","directie.gbsalleskids@gemeentemol.be"]
[9068,"VBS Stapsteen","Sluis 156",2400,"MOL","014-31.41.44","directie@vbsstapsteen.be"]
[9084,"VKS De Tovertuin","Rozenberg 4",2400,"MOL","014-34.74.09","directie.ks@vbsrozenberg.be"]
[9134,"VBS Wijngaard","Wijngaard 9",2200,"HERENTALS","014-21.62.49","wijngaard@kosh.be"]
[9159,"VBS De Springplank","Hoeksken 30",2275,"LILLE","014-88.19.65","directie@gvb-springplank.be"]
[9167,"GBS Het Trapleerke","Rechtestraat 69",2275,"LILLE","014-88.30.20","info@trapleerke.be"]
[9175,"VBS De Wingerd","Wijngaard 11",2275,"POEDERLEE","014-88.27.72","directie@gvbs-dewingerd.be"]
[9183,"VBS 't Klavertje","Ring 67",2200,"NOORDERWIJK","014-26.38.90","directie@vbsklavertje.be"]
[9191,"VBS De Wegwijzer","Streepstraat 2",2200,"MORKHOVEN","014-26.35.05","directie@vbs-dewegwijzer-morkhoven.be"]
[9209,"VKS De Kleine Sint-Jan","Sint Jozefstraat 12",2222,"WIEKEVORST","014-26.07.98","directie@kleuterschool-wiekevorst.be"]
[9217,"VLS Sint-Jan","Pastoriestraat 26",2222,"WIEKEVORST","014-26.09.83","directie@sintjanschool.be"]
[9233,"VBS De Knipoog","Stationsstraat 1",2250,"OLEN","014-22.03.90","directie@vbsdeknipoog.be"]
[9241,"VBS Toermalijn","Lichtaartseweg 129",2250,"OLEN","014-21.55.88","directie@toermalijn-olen.be"]
[9258,"GBS De Kleine Wijzer","Drogebroodstraat 5",2250,"OLEN","014-27.95.34","info@dekleinewijzer.be"]
[9266,"GBS De Kriebel","Schoolstraat 1",2250,"OLEN","014-25.74.56","directie@dekriebel.eu"]
[9282,"VKS Sint-Dimpna","Laar 1",2440,"GEEL","014-58.91.30","nicole.boonen@kogeka.be"]
[9291,"VBS St-Hubertus","Aardseweg 2",2440,"GEEL","014-85.29.98","directie@vbsgeta.be"]
[9308,"VBS Toppunt","Vogelzang 64",2440,"GEEL","014-58.81.19","directie@vbstoppunt.be"]
[9324,"VBS De Regenboog","Kapelstraat 24",2440,"GEEL","014-58.79.67","directeur@vbsregenboog.be"]
[9341,"SBS De Burgstraat","Burgstraat 23",2440,"GEEL","014-56.64.40","de.burgstraat@geel.be"]
[9357,"SBS Geel-Zuid","Zammelseweg 183",2440,"GEEL","014-56.65.20","sbs.zuid@geel.be"]
[9365,"SBS Winkelomheide","Winkelomseheide 147",2440,"GEEL","014-56.65.00","sbs.winkelom@geel.be"]
[9373,"VBS De Omnibus","Tielendorp 43",2460,"TIELEN","014-55.63.88","info@vbs-omnibus.be"]
[9381,"GBS De Pagadder","Schoolstraat 33",2460,"LICHTAART","014-55.64.89","depagadder@gbslichtaart.be"]
[9399,"VBS De Parel","Kloosterstraat 2_A",2460,"LICHTAART","014-55.20.00","info@vbs-deparel.be"]
[9407,"VKS 't Bosvriendje","Poederleesteenweg 67",2460,"LICHTAART","014-55.70.40","info@vks-bosvriendje.be"]
[9423,"Gemeentelijke Basisschool","Schoolstraat 43",2275,"GIERLE","014-55.76.01","gbschool@lille.be"]
[9431,"GBS De Vlieger","Mgr. Heylenstraat 22",2460,"KASTERLEE","014-85.00.67","woutersv@gbsdevlieger.be"]
[9449,"VLS De Waaier","Mgr. Cardijnstraat 39",2460,"KASTERLEE","014-85.00.69","info@vbs-dewaaier.be"]
[9456,"VKS De Klimtoren","Boslaan 2",2460,"KASTERLEE","014-85.00.66","info@vks-klimtoren.be"]
[9464,"VKS Hoeven","Bos en Bremdreef 4",2460,"KASTERLEE","014-37.07.78","info@hoeven.kobart.be"]
[9472,"Gemeentelijke Basisschool","Peperstraat 24",2470,"RETIE","014-37.75.55","directie@gbretie.be"]
[9481,"VBS Trapop","Laarstraat 1",2470,"RETIE","014-37.83.13","directie@trapop.be"]
[9498,"VKS Spelewei","Hodonk 35",2470,"RETIE","014-37.94.76","secretariaat@spelewei.be"]
[9506,"VBS Weg-Wijzer","Hannekestraat 22",2480,"DESSEL","014-37.80.06","directie@weg-wijzer.be"]
[9514,"GBS De Kangoeroe","Lorzestraat 37",2480,"DESSEL","014-37.78.72","directie@gbsdekangoeroe.be"]
[9522,"GBS De Meikever","Meistraat 148",2480,"DESSEL","014-37.78.73","directie@gbsdemeikever.be"]
[9531,"GBS De Bosmier","Streekweg 11",2490,"BALEN","014-74.42.80","directie.debosmier@balen.be"]
[9548,"GBS De Puzzel","St.-Rochusstraat 91",2490,"BALEN","014-74.42.50","directie.depuzzel@balen.be"]
[9555,"GBS De Bijenkorf","Haverstraat 6",2490,"BALEN","014-74.42.70","directie.debijenkorf@balen.be"]
[9563,"VBS Balen Centrum","Gustaaf Woutersstraat 31",2490,"BALEN","014-81.19.25","directie@vbscentrum.be"]
[9589,"VBS Klavertje 4","Schoolstraat 3",2491,"OLMEN","014-30.11.02","vbs.klavertje4@telenet.be"]
[9597,"VKS Sint-Ursula Klim Op","Mechelsestraat 25",2500,"LIER","03-491.92.36","directie.kleuter@klimoplier.be"]
[9605,"VBS Heilige Familie","Kesselsesteenweg 1",2500,"LIER","03-480.12.20","directeur@hfamlier.be"]
[9639,"VLS Sint-Ursula Klim Op","Mechelsestraat 25",2500,"LIER","03-491.92.35","directie.lager@klimoplier.be"]
[9647,"VBS Sint-Ursula-Lisp","Frankenweg 6",2500,"LIER","03-480.26.91","directie@sintursulalisp.be"]
[9654,"VBS Pullaar","Rode-Kruislaan 1",2500,"LIER","03-480.33.29","info@pullaar.be"]
[9662,"VBS Het Spoor","Spoorweglei 6",2500,"LIER","03-480.63.23","het.spoor.basisschool@skynet.be"]
[9671,"GBS Goezo]","Kessel-Dorp 42_A",2560,"KESSEL","03-410.01.50","directie.kessel@goezo.be"]
[9688,"VBS De Ceder","Emblemsesteenweg 1_A",2560,"KESSEL","03-480.27.44","directie@vbs-deceder.be"]
[9696,"VBS Kinderpad","Kinderpad 1",2560,"BEVEL","03-385.04.79","directie@kinderpad.be"]
[9712,"GKS Parkschool Mortsel","Lusthovenlaan 12",2640,"MORTSEL","03-449.06.28","parkschoolkleuter@mortsel.be"]
[9753,"VBS Rozenregen","Sint-Reinhildisstraat 15_B",2640,"MORTSEL","03-449.56.39","rozenregen.directie@ankerwijs.be"]
[9761,"VBS Klimboom","Liersesteenweg 314",2640,"MORTSEL","03-455.49.13","klimboom.directie@ankerwijs.be"]
[9787,"VLS De Link","Patronaatstraat 21",2650,"EDEGEM","03-457.04.22","info@de-link.be"]
[9803,"VBS OLVE-Basisschool","Rombaut Keldermansstraat 33",2650,"EDEGEM","03-440.16.21","directie@olvebasis.be"]
[9829,"VBS Olfa 't Plein","Pieter van Maldereplein 8",2650,"EDEGEM","03-449.41.22","directie@olfatplein.be"]
[9837,"GBS Andreas Vesalius","Gemeenteplein 3",2650,"EDEGEM","03-289.21.50","ave@edegem.be"]
[9845,"GBS Jan Frans Willems","Jef Van Hoofplein 22",2530,"BOECHOUT","03-454.50.71","janfranswillemsschool@boechout.be"]
[9852,"VBS Sint-Gabriëlcollege","Lange Kroonstraat 72",2530,"BOECHOUT","03-460.32.14","directieksls@st-gabriel.be"]
[9894,"VBS Dorpsschool Vremde","Dorpsplaats 5",2531,"VREMDE","03-455.22.42","directie@dorpsschool.be"]
[9902,"VLS Regina Pacis","Mortselsesteenweg 70",2540,"HOVE","03-454.19.90","directie.ls@regpacho.net"]
[9911,"GBS Albrecht Rodenbach","Onderwijsstraat 19",2540,"HOVE","03-455.26.34","rodenbachschool@hove.be"]
[9928,"VBS Mater Christi","Statiestraat 45",2547,"LINT","03-455.31.41","directeur@mclint.be"]
[9936,"GO! BS De Lintwijzer","Duffelsesteenweg 48",2547,"LINT","03-455.48.25","karen.dierckx@delintwijzer.be"]
[9944,"GBS A-Ha]School","Molenstraat 32",2550,"KONTICH","03-457.06.04","aha@kontich.be"]
[9969,"VLS Altena Instituut","Antwerpsesteenweg 73",2550,"KONTICH","03-457.03.43","directieLS@altena.be"]
[9977,"VBS Sint-Jozef","Van Dyckstraat 25",2550,"KONTICH","03-293.69.68","directeur@sintjozefbasisschool.be"]
[9993,"VBS Vosberg","Pastoor Slegersstraat 1",2840,"RUMST","015-31.21.27","directie@vosbergschool.be"]
[10009,"VBS Sleutelhof","Kerkstraat 9",2840,"RUMST","03-888.01.69","gvbs@sleutelhof.be"]
[10017,"GBS Ter Doelhagen","Doelhaagstraat 4",2840,"RUMST","03-888.14.67","directie@terdoelhagen.be"]
[10025,"GO! BS De Zonnebergen","Pastorijstraat 84",2800,"WALEM","015-21.83.48","directie@dezonnebergen.be"]
[10033,"GBS 't Kompas","Nieuwstraat 11_B",2570,"DUFFEL","015-31.25.80","directie@tkompas.be"]
[10041,"GLS DE Meyl","Mijlstraat 91",2570,"DUFFEL","015-31.19.06","directie@demeyl.be"]
[10058,"GBS 't Kofschip","Kwakkelenberg 51",2570,"DUFFEL","015-31.11.02","directie@tkofschip.be"]
[10066,"VBS De Basis","Kwakkelenberg 5",2570,"DUFFEL","015-31.21.47","tine.dhondt@montessori-duffel.be"]
[10074,"Vrije Kleuterschool","Stationsstraat 4",2570,"DUFFEL","015-30.38.32","info@kleuterschoolduffel.be"]
[10082,"Vrije Basisschool","Oude Baan 1",2550,"WAARLOOS","015-31.57.57","directie@sintmichielwaarloos.be"]
[10091,"Vrije Basisschool","Schoolstraat 10",2500,"KONINGSHOOIKT","03-482.15.91","directie@heilig-hart.be"]
[10108,"VBS Heilig Hart","Albertstraat 38",2860,"SINT-KATELIJNE-WAVER","015-20.96.14","directie@hh-skw.be"]
[10116,"GBS G.L.O.C.","Daliastraat 35",2860,"SINT-KATELIJNE-WAVER","015-31.28.22","directie@gloc.be"]
[10124,"GBS Octopus","Clemenceaustraat 115",2860,"SINT-KATELIJNE-WAVER","015-21.01.79","directie@octopusschool.be"]
[10132,"GBS Dijkstein","Maanhoeveweg 33",2860,"SINT-KATELIJNE-WAVER","015-55.36.90","directie@dijkstein.be"]
[10141,"VBS Sint-Katarina","Generaal Deschachtstraat 18",2860,"SINT-KATELIJNE-WAVER","015-33.96.69","directie@sint-katarinaschool.be"]
[10165,"Vrije Basisschool","Pastorijstraat 3",2590,"BERLAAR","03-482.41.93","secretariaat@vbsberlaar.be"]
[10173,"VBS Berlaar (CKG)","Ballaarweg 1",2590,"BERLAAR","03-422.52.49","directie@vrijebasisschoolberlaar.be"]
[10181,"GBS De Stap","Pastorijstraat 60",2590,"BERLAAR","03-482.17.11","tom.geens@gemeenteschoolberlaar.be"]
[10223,"SBS De Kolibri","Markgravelei 149",2018,"ANTWERPEN","03-432.02.60","dekolibrie@so.antwerpen.be"]
[10231,"SBS De Boomhut","Ramskapellestraat 43",2600,"BERCHEM","03-334.43.70","deboomhut@so.antwerpen.be"]
[10249,"SBS Leopold III","Mellinetplein 13",2600,"BERCHEM","03-502.08.40","leopold3@so.antwerpen.be"]
[10256,"SBS Fruithof","Flor Alpaertsstraat 45",2600,"BERCHEM","03-432.41.30","fruithof@so.antwerpen.be"]
[10264,"SBS Klavertjevier","Jozef Balstraat 6",2600,"BERCHEM","03-502.10.80","klavertjevier@so.antwerpen.be"]
[10306,"VLS O.L.Vrouw Pulhof","Grotesteenweg 489",2600,"BERCHEM","03-230.12.78","info@pulhof-ls.be"]
[10314,"VBS De Schatkist","Ferdinand Coosemansstraat 15",2600,"BERCHEM","03-239.27.87","schatkist@dsbvb.be"]
[10322,"VBS Kleine stan","Gustaaf Garittestraat 1",2600,"BERCHEM","03-230.46.92","sint.stanislas@skynet.be"]
[10331,"VBS Heilige Familie","Jan Moorkensstraat 95",2600,"BERCHEM","03-239.17.88","directeur@heilige-familie.be"]
[10348,"Vrije Kleuterschool","Floraliënlaan 370_2",2600,"BERCHEM","03-230.12.78","info@pulhof-ks.be"]
[10363,"VBS Neerland","Mogendhedenlaan 1",2610,"WILRIJK","03-825.84.30","lievem@neerlandschool.be"]
[10371,"SBS De Letter","Letterkundestraat 39",2610,"WILRIJK","03-292.22.10","deletter@so.antwerpen.be"]
[10397,"SBS Prins Boudewijn","Spoorweglaan 145",2610,"WILRIJK","03-432.30.10","prinsboudewijn@so.antwerpen.be"]
[10405,"Vrije Kleuterschool","Kerkhofstraat 1_a",2610,"WILRIJK","03-827.92.93","kristine.verelst@suwvb.be"]
[10413,"Vrije basisschool","Valkenveld 73",2610,"WILRIJK","03-827.93.21","school@arknet.be"]
[10421,"VLS Sint-Ursula Instituut","Kerkhofstraat 1",2610,"WILRIJK","03-827.92.93","lager@suwvb.be"]
[10439,"VBS Rozenkransschool","Heistraat 255",2610,"WILRIJK","03-828.25.87","directie@rozenkransschool.be"]
[10447,"VBS Johannes","Frans Stienletlaan 39",2610,"WILRIJK","03-827.64.95","sonja.heughebaert@johannes-valaar.be"]
[10454,"VBS Zonnekesschool","Heiligstraat 6",2620,"HEMIKSEM","03-887.69.78","secretariaat@zonnekesschool.be"]
[10462,"GBS De Regenboog","Provinciale steenweg 11",2620,"HEMIKSEM","03-887.43.83","directie@deregenbooghemiksem.be"]
[10471,"GBS Het Klaverbos","Jan Sanderslaan 154",2620,"HEMIKSEM","03-887.43.71","directie@hetklaverbos.be"]
[10488,"VBS Sint-Lutgardis","Peperstraat 17",2627,"SCHELLE","03-887.42.06","directeur@sint-lutgardis.be"]
[10496,"GBS De Klim","Provinciale Steenweg 100",2627,"SCHELLE","03-887.61.26","gbs.deklim@schelle.be"]
[10504,"VBS Sint-Jan Berchmans","Zoete Moederstraat 30",9150,"RUPELMONDE","03-774.43.88","sjb@ksas.be"]
[10538,"Vrije Kleuterschool","Carillolei 16",2630,"AARTSELAAR","03-887.58.04","kleuterschoolaartselaar@telenet.be"]
[10546,"VBS Sint-Jozefschool","Rozenlaan 44",2840,"REET","03-888.35.56","info@sjr.be"]
[10553,"VBS De Wingerd","Molenstraat 6",2840,"REET","03-888.43.02","reet@wingerd.be"]
[10561,"GBS Eikenlaar","Processieweg 2",2840,"REET","03-888.57.23","directie@eikenlaar.be"]
[10579,"GO! BS De Parel","Schuttershofstraat 50",2845,"NIEL","03-888.25.22","info@bsdeparel.be"]
[10587,"Vrije Basisschool","Kerkstraat 5",2845,"NIEL","03-888.37.62","sinthubertusschool@telenet.be"]
[10595,"VBS Sint-Henricus","Gelaagstraat 161",9140,"STEENDORP","03-774.23.10","directie.steendorp@ksts.be"]
[10603,"VBS De Reuzenboom","Spoorweglaan 25",2850,"BOOM","03-888.92.92","secretariaat@dereuzenboom.be"]
[10611,"VBS De Kade","Bassinstraat 15_A",2850,"BOOM","03-880.27.40","anne-mie.coopman@dekade.be"]
[10629,"VBS De Krinkel","Ruisbroek-Dorp 38",2870,"RUISBROEK","03-886.89.70","directie@dekrinkelschool.be"]
[10637,"VBS Sint-Carolus","Kloosterstraat 1",2870,"RUISBROEK","03-886.64.76","info@carolusschool.be"]
[10645,"VBS Klavertjevier","Breendonk-Dorp 94",2870,"BREENDONK","03-886.50.30","directie@klavertjevier.be"]
[10661,"VBS Sancta Maria","August Van Landeghemstraat 117",2830,"WILLEBROEK","03-886.93.68","directie@sanctamariawillebroek.be"]
[10686,"GO! BS 't Venneke","Kerkstraat 4",2830,"WILLEBROEK","03-886.69.09","directeur@tvenneke.be"]
[10702,"GO! BS De Tovertuin","Adrien Dezaegerplein 12_A",2830,"WILLEBROEK","03-886.66.39","directeur@bstovertuin.be"]
[10711,"GO! BS 't Pleintje","August Van Landeghemplein 4",2830,"WILLEBROEK","03-886.66.66","directeur@pleintje.be"]
[10736,"VBS Sint Joris","Mechelsesteenweg 226",2830,"BLAASVELD","03-886.57.09","info@sintjorisblaasveld.be"]
[10744,"VBS Sint-Jan","Kardinaal Cardijnlaan 1_A",2830,"TISSELT","03-886.42.58","directie@sintjantisselt.be"]
[10751,"GO! BS Himo","Louis Mommaertsstraat 10",2830,"WILLEBROEK","03-886.68.95","directeur@himo.be"]
[10769,"VLS Twinkelveld","Winkelveld 1",2870,"PUURS-SINT-AMANDS","03-889.14.23","directie@twinkelveld.be"]
[10793,"VKS De Regenboog","Coolhemveldstraat 3",2870,"PUURS-SINT-AMANDS","03-889.82.88","directie@deregenboogkalfort.be"]
[10801,"VBS Huveneersschool","Victor Kegelsstraat 1",2880,"BORNEM","03-889.08.62","directie.hingene@huveneersschool.be"]
[10819,"VBS Liezele","Turkenhofdreef 2",2870,"LIEZELE","03-899.17.30","directie@vbs-liezele.be"]
[10827,"VBS Libos","Lippelodorp 48",2890,"LIPPELO","052-34.24.40","directie@libos.be"]
[10835,"VBS De Kameleon","Oppuursdorp 41",2890,"OPPUURS","03-889.56.00","directie@dekameleonoppuurs.be"]
[10851,"VKS OLV-Presentatie","Driesstraat 12",2880,"BORNEM","03-889.44.26","nathalie.smet@olvpks.be"]
[10868,"VBS De Appelboom","Pastoor Peetersstraat 10",2880,"BORNEM","03-889.39.16","directie@schoolbranst.be"]
[10876,"VBS Sint-Bernardus","Sint-Amandsesteenweg 256",2880,"BORNEM","03-889.13.18","eva.deckers@bernardusschool.be"]
[10884,"VLS Zonnebloem","Hekkestraat 1",2890,"PUURS-SINT-AMANDS","052-33.47.43","lager@zonnebloem-sint-amands.be"]
[10892,"Vrije Kleuterschool","Hekkestraat 1",2890,"PUURS-SINT-AMANDS","052-33.52.23","kleuter@zonnebloem-sint-amands.be"]
[10901,"VBS De Kinderplaneet","Jan Hammeneckerstraat 99",2880,"MARIEKERKE","052-34.03.75","saskia.leniere@kinderplaneet.eu"]
[10934,"Vrije Basisschool","Kaaistraat 1",9140,"TIELRODE","03-771.08.43","directie@basisschooltielrode.be"]
[10942,"VLS Hollebeek","Hollebeek 6",9140,"TEMSE","03-711.32.53","directie.lager@hollebeekscholen.be"]
[10959,"VKS Hollebeek","Hollebeek 2",9140,"TEMSE","03-771.37.62","kleuter.hollebeek@belgacom.net"]
[10967,"VBS Sint-Jozef","Velle 129",9140,"TEMSE","03-711.08.03","bsvelle.directie@gmail.com"]
[10975,"Vrije Basisschool","Collegestraat 31",9100,"SINT-NIKLAAS","03-780.71.65","luc.braem@sjks.be"]
[11007,"Vrije Basisschool","Watermolendreef 167",9100,"SINT-NIKLAAS","03-776.45.22","bs.watermolendreef@olvp.be"]
[11023,"VLS H. Familie","Rich. Van Britsomstraat 1",9100,"SINT-NIKLAAS","03-777.82.82","directeur.ls@basishfam.be"]
[11049,"VBS St Carolus","Lodewijk De Meesterstraat 1",9100,"SINT-NIKLAAS","03-780.51.90","directie@basissintcarolus.be"]
[11056,"VBS Berkenboom","Ankerstraat 39",9100,"SINT-NIKLAAS","03-760.41.62","gvb.berkenboom.anker@telenet.be"]
[11064,"VBS Sint-Camillus","Oude Molenstraat 58",9100,"SINT-NIKLAAS","03-776.41.20","directeur-ilse@sintcamillus.be"]
[11081,"VBS Don Bosco A","Tulpenstraat 16",9100,"SINT-NIKLAAS","03-776.55.88","directeur-stefan@donboscoschool.be"]
[11098,"VBS Heilig Hart","Tereken 33_B",9100,"SINT-NIKLAAS","03-776.28.14","info@heilighartschooltereken.be"]
[11114,"SBS Polderstadschool","Veerdamlaan 15",2660,"HOBOKEN","03-820.18.20","polderstad@so.antwerpen.be"]
[11131,"SBS Edison","Onderwijzersstraat 13",2660,"HOBOKEN","03-435.97.50","edison@so.antwerpen.be"]
[11148,"SBS Het Kompas","Montessoristraat 15",2660,"HOBOKEN","03-432.30.80","hetkompas@so.antwerpen.be"]
[11155,"SBS Accent","Jules Baeckelmanslaan 29",2660,"HOBOKEN","03-291.13.70","accent@so.antwerpen.be"]
[11163,"VLS Sint-Agnes","Dokter Coenstraat 18",2660,"HOBOKEN","03-827.78.78","administratie@sint-agnes.be"]
[11171,"Vrije Lagere School","Oudestraat 83",2660,"HOBOKEN","03-827.80.99","directie@hofkevanthys.be"]
[11189,"VBS De Puzzel","Krugerstraat 103",2660,"HOBOKEN","03-827.90.45","directie@depuzzelhoboken.be"]
[11197,"VBS Don Bosco","Sint-Bernardsesteenweg 665",2660,"HOBOKEN","03-825.07.76","directie@basisschooldonbosco.be"]
[11213,"Vrije Kleuterschool","Oudestraat 119",2660,"HOBOKEN","03-827.65.64","directie@kleuterschoolsint-agnes.be"]
[11221,"VBS Sint-Martinus","Idsteinlaan 16",2070,"BURCHT","03-252.82.38","sintmartinus@ksas.be"]
[11239,"VBS Sint-Martinus","Idsteinlaan 18",2070,"BURCHT","03-252.82.38","sintmartinus@ksas.be"]
[11247,"VLS De Krinkel 2","Schoolstraat 32",2070,"ZWIJNDRECHT","03-252.76.03","dekrinkel2@ksas.be"]
[11254,"VLS De Krinkel 1","Schoolstraat 34",2070,"ZWIJNDRECHT","03-202.76.03","dekrinkel1@ksas.be"]
[11262,"Vrije kleuterschool","Regenbooglaan 20",2070,"ZWIJNDRECHT","03-252.58.88","dekrinkelrups@ksas.be"]
[11271,"VKS OLV van Gaverland","Sint-Elisabethstraat 62",9120,"MELSELE","03-775.74.76","directie-olvg@kleuterschoolmelsele.be"]
[11288,"VLS OLV Van Gaverland","Sint-Elisabethstraat 66",9120,"MELSELE","03-775.74.51","directie@lagereschool-olvg.be"]
[11296,"GBS De Toren_Melsele","Schoolstraat 15",9120,"MELSELE","03-750.17.75","gbs.melsele@beveren.be"]
[11312,"GBS Centrumschool Beveren","Bosdamlaan 1",9120,"BEVEREN-WAAS","03-750.10.90","gbs.beveren@beveren.be"]
[11321,"VBS Sint-Martinus","Leon Labytstraat 41",9120,"BEVEREN-WAAS","03-775.60.85","sintmartinus@sgkei.be"]
[11338,"VBS Sint-Lodewijk","Stationsstraat 7",9120,"BEVEREN-WAAS","03-775.62.80","sintlodewijk@sgkei.be"]
[11346,"VBS Wegwijzer","Pastoor Steenssensstraat 110",9120,"BEVEREN-WAAS","03-775.97.80","wegwijzer@sgkei.be"]
[11353,"VBSSancta Maria","Kallobaan 1_A",9120,"BEVEREN-WAAS","03-775.45.33","sanctamaria@sgkei.be"]
[11361,"Vrije Basisschool","Poerdam 1",9120,"HAASDONK","03-775.72.00","wonderwijs@sgkei.be"]
[11379,"Gemeentelijke Basisschool","Edmond Gorrebeeckstraat 14_A",9150,"KRUIBEKE","03-774.22.03","directie.gbsdeeenhoorn@kruibeke.be"]
[11387,"VBS OLV","Ambachtstraat 7_b",9150,"KRUIBEKE","03-774.28.76","olv@ksas.be"]
[11411,"VBS OLV Ten Bos","Turkyen 1",9100,"NIEUWKERKEN-WAAS","03-776.20.18","info@olvtenbos.be"]
[11429,"GBS Gavertje Vier","Gavermolenstraat 83",9111,"BELSELE","03-778.39.00","directie@gavertjevier.be"]
[11437,"VKS Pieternel","Zandstraat 23",9170,"SINT-PAUWELS","03-777.14.93","pieternel@pieternel.be"]
[11445,"VBS De Klimop","Kerkstraat 91",9170,"SINT-GILLIS-WAAS","03-770.65.61","directeur@vbsdeklimop.be"]
[11452,"VBS Eeckberger","Stroperstraat 5_A",9170,"SINT-GILLIS-WAAS","03-770.66.85","directie@eeckberger.be"]
[11461,"Gemeentelijke Lagere School","Zandstraat 16",9170,"SINT-PAUWELS","03-780.19.10","directie@glszandloper-gom.be"]
[11478,"GBS Reynaerdijn","Stationsstraat 18",9190,"STEKENE","03-779.79.00","directie@gbsreynaerdijn.be"]
[11486,"VBS De Hoge Geest","Hulststraat 42",9170,"DE KLINGE","03-770.70.09","directie@dehogegeest.be"]
[11494,"VBS De Zonnepit","Cauwenstraat 9",9120,"VRASENE","03-775.43.30","dezonnepit@sgkei.be"]
[11502,"GBS De Zeppelin Haasdonk","Willem Van Doornyckstraat 69",9120,"HAASDONK","03-750.10.85","gbs.haasdonk@beveren.be"]
[11511,"VBS De Verrekijker","Sint-Laurentiusstraat 17",9130,"VERREBROEK","03-773.52.39","vbsverrebroek@telenet.be"]
[11528,"GBS De droomwolk","Molenstraat 58",9130,"KIELDRECHT","03-750.18.50","gbs.kieldrecht@beveren.be"]
[11536,"VBS De Kreek","Kreek 1_F",9130,"KIELDRECHT","03-773.40.15","info@vbs-kieldrecht.telenet.be"]
[11551,"VBS Lag.Oefensch. Berthoutinst.","Bleekstraat 3",2800,"MECHELEN","015-41.45.26","info@dewondertuin.be"]
[11569,"VBS Don Bosco","Molenbergstraat 6",2800,"MECHELEN","015-21.08.31","directeur@donbosco-mechelen.be"]
[11585,"VBS Sint-Pieter","Grote Nieuwedijkstraat 58",2800,"MECHELEN","015-55.76.27","directie@st-pietersschool.be"]
[11601,"VBS OLV van De Ham","Augustijnenstraat 76",2800,"MECHELEN","015-20.50.85","info@basisschooldeham.be"]
[11619,"VBS De Ark","Wolverbosstraat 25",2800,"MECHELEN","015-27.15.10","directie@vbsdeark.be"]
[11635,"VBS Sint-Jozef Coloma","Colomalaan 3",2800,"MECHELEN","015-41.68.65","directie@coloma.be"]
[11643,"VBS Ursulinen","Hoogstraat 35",2800,"MECHELEN","015-28.84.41","info@umbasis.be"]
[11651,"VBS Sint-Romboutscollege","Veemarkt 56",2800,"MECHELEN","015-20.24.10","directie@src-veemarkt.be"]
[11676,"VBS Scheppers","Melaan 16",2800,"MECHELEN","015-28.79.10","inge.vekemans@scheppers-mechelen.be"]
[11692,"VBS School met De Bijbel De Wegwijzer","Lakenmakersstraat 158",2800,"MECHELEN","015-55.64.74","directie@schooldewegwijzer.be"]
[11726,"GO! BS Maurits Sabbe","Ieperleestraat 19",2800,"MECHELEN","015-20.51.79","directie@mauritssabbe.be"]
[11742,"GO! BS Victor Van De Walle","Brusselsesteenweg 168",2800,"MECHELEN","015-41.51.80","bsgo.victorvandewalle@telenet.be"]
[11759,"GO!BS De Baan","Oude Antwerpsebaan 92",2800,"MECHELEN","015-20.38.96","debaan@telenet.be"]
[11767,"GO! BS De Puzzel","Leuvensesteenweg 41",2800,"MECHELEN","015-41.54.18","directie@depuzzel.be"]
[11775,"GO! BS De Spreeuwen","Battelsesteenweg 259",2800,"MECHELEN","015-27.29.86","bsgo.despreeuwen@telenet.be"]
[11783,"GO! BS Go Shil","Louizastraat 3",2800,"MECHELEN","015-41.20.02","shil@telenet.be"]
[11809,"Gemeentelijke Lagere School","Schommen 1",2820,"BONHEIDEN","015-51.26.38","directie@geboschool.be"]
[11817,"GKS GEKKO","Dorp 19",2820,"BONHEIDEN","015-51.22.61","directie@gekkoschool.be"]
[11825,"VBS Sinte-Maria","Zwarte Leeuwstraat 18",2820,"BONHEIDEN","015-55.12.27","directie@sintemariaschool.be"]
[11833,"VBS Peultje","Peulisstraat 18",2580,"PUTTE","015-75.66.41","info@parochieschoolpeulis.be"]
[11841,"VBS De Knipoog","Kloosterstraat 14",2820,"RIJMENAM","015-51.42.95","directie@basisschool-rijmenam.be"]
[11858,"Gemeentelijke Basisschool","Verhaegenlaan 7",3150,"HAACHT","016-60.35.89","directie@gbshaacht.be"]
[11866,"VBS Don Bosco De Puzzel","Werchtersesteenweg 38",3150,"HAACHT","016-60.38.55","directie@depuzzelhaacht.be"]
[11874,"Gemeentelijke Basisschool","Kempenlaan 16",3140,"KEERBERGEN","015-50.90.68","directie@gbskeerbergen.be"]
[11882,"VBS Sint-Michiel","Kempenlaan 29",3140,"KEERBERGEN","015-51.74.44","directie.veerle@michieltje.be"]
[11891,"VBS Wavo","Leemstraat 20",2861,"ONZE-LIEVE-VROUW-WAVER","015-76.03.10","directie@wavo.be"]
[11908,"VBS Hagelstein","Berlaarbaan 229",2860,"SINT-KATELIJNE-WAVER","015-56.05.30","info@basisschoolhagelstein.be"]
[11916,"VBS Grasheide","Meester van der Borghtstraat 148",2580,"PUTTE","015-23.48.55","info@vbsgrasheide.be"]
[11924,"VBS Putte","Waverlei 22",2580,"PUTTE","015-75.71.33","directie@vrijebasisschoolputte.be"]
[11932,"VBS Maria Midelares","Bergstraatje 10",2580,"BEERZEL","015-75.74.67","directie@basisschoolbeerzel.be"]
[11941,"VBS De Groeituin","Leuvensebaan 25",2223,"SCHRIEK","015-73.04.56","basisschool@degroeituin.be"]
[11957,"GBS Centrumschool","Stationsstraat 58",1840,"LONDERZEEL","052-30.00.63","directie@centrumschool.londerzeel.be"]
[11965,"GBS Kouterschool","Kouterbaan 17",1840,"MALDEREN","052-33.50.60","secretariaat@kouterschool.londerzeel.be"]
[11973,"VBS Virgo De Heide","Topmolen 77",1840,"LONDERZEEL","052-30.98.98","secretariaat@virgodeheide.be"]
[11981,"VLS Virgo Sapiens","Heldenplein 3",1840,"LONDERZEEL","052-30.28.78","directie@lsvirgo.be"]
[11999,"GLS Ter Elst","J. Van Doorslaerstraat 47",1840,"STEENHUFFEL","052-30.35.82","secretariaat@terelst.londerzeel.be"]
[12005,"VKS De Huffeltjes","Schoolstraat 2",1840,"STEENHUFFEL","052-30.02.20","de_huffeltjes@hotmail.com"]
[12013,"VBS Sint-Amandus","Kloosterstraat 21",1840,"LONDERZEEL","052-33.25.71","info@sint-amandus.be"]
[12021,"VBS De Pepel","Mechelseweg 96",1880,"KAPELLE-OP-DEN-BOS","015-71.18.01","depepel@kobos.be"]
[12039,"Gemeentelijke Basisschool","Oudstrijdersstraat 28",1880,"KAPELLE-OP-DEN-BOS","015-71.18.60","directie@gebaska.be"]
[12047,"GO! BS De Esdoorn","Bankstraat 29",2811,"HOMBEEK","015-41.45.03","esdoornschool@telenet.be"]
[12054,"GO! BS De Spiegel","Ten Moortele 3",2811,"LEEST","015-27.28.16","secretariaat@despiegelleest.be"]
[12062,"VBS Sint-Niklaas","Dorpstraat 10",2811,"LEEST","015-27.78.96","directeur@sintniklaasschool.be"]
[12071,"GBS De Pimpernel","Spiltstraat 274",1980,"ZEMST","015-62.73.30","directie@depimpernel.be"]
[12088,"VBS Tuimeling","Brusselsesteenweg 23",1980,"ZEMST","015-61.03.31","school@tuimeling.be"]
[12104,"VBS De Kriekelaar","de Tilbourgstraat 16",1981,"HOFSTADE","015-61.09.84","school@kriekelaar.be"]
[12112,"GBS De Regenboog","Molenveld 26",1982,"ELEWIJT","015-62.73.40","directie@gbs-deregenboog.be"]
[12121,"VBS Sint-Lambertus","Leuvensesteenweg 641",2812,"MUIZEN","015-41.95.94","school@sint-lambertusschool.be"]
[12138,"VBS Kringeling","Ravesteinstraat 2",3191,"HEVER","015-51.86.25","directie@kringeling.be"]
[12146,"VBS_De Wegwijzer","Hanswijkstraat 20",3190,"BOORTMEERBEEK","015-51.28.83","directie@vbsdewegwijzer.be"]
[12153,"GBS De Klimboom","Beringstraat 107",3190,"BOORTMEERBEEK","015-51.52.79","secretariaat-gbs@boortmeerbeek.be"]
[12161,"VKS Pit","Nieuwstraat 1",3150,"WESPELAAR","016-60.51.71","directie@pitwespelaar.be"]
[12179,"VBS Haacht Station De Wieltjes","Neysetterstraat 3",3150,"WESPELAAR","016-60.25.71","directie@haachtstation.be"]
[12187,"VBS Lambertzhoeve","Kouterstraat 2",3150,"TILDONK","016-56.84.00","directie@lambertzhoeve.be"]
[12195,"VBS Paridaens","Janseniusstraat 2",3000,"LEUVEN","016-31.07.90","directiebao@paridaens.be"]
[12211,"VBS Sint-Jansschool","Mechelsevest 2",3000,"LEUVEN","016-23.35.31","inge@sintjanleuven.be"]
[12229,"VKS Mater Dei","Sint-Jacobsplein 15_A",3000,"LEUVEN","016-30.90.26","directie.kleuter@materdei-leuven.be"]
[12237,"VLS H.-Drievuldigheidscollege","Oude Markt 28",3000,"LEUVEN","016-24.15.93","info@lagere-school-hdc.be"]
[12278,"GBS Toverveld","Overstraat 60",3020,"VELTEM-BEISEM","016-85.32.50","directie@toverveld.be"]
[12286,"VBS Pastoor De Clerck","Pastoor De Clerckstraat 1",3020,"VELTEM-BEISEM","016-48.23.91","directie.pdc@sgarchipel.be"]
[12311,"VBS Bleydenberg","Albert Woutersstraat 15 bus 1",3012,"WILSELE","016-23.85.81","directie@bleydenberg.be"]
[12328,"VBS De Bosstraat","Bosstraat 32",3012,"WILSELE","016-44.58.83","directie@debosstraat.be"]
[12351,"GO! BS SKLO - Matadi","Leo Dartelaan 11",3001,"HEVERLEE","016-22.62.92","secretariaat@sklo.be"]
[12369,"VLS De Ark","Martelarenlaan 313",3010,"KESSEL-LO","016-25.96.63","info@ark123.be"]
[12377,"VBS Don Bosco Sint-Lambertus","Waversebaan 95",3001,"HEVERLEE","016-22.44.09","directie@donboscosintlambertus.be"]
[12385,"VBS Terbank-Egenhoven","Egenhovenweg 43",3001,"HEVERLEE","016-22.36.23","directie@terbank-egenhoven.be"]
[12393,"VLS Heilig Hart","Naamsesteenweg 355",3001,"HEVERLEE","016-39.90.23","directie.hhh.lager@sgarchipel.be"]
[12401,"VBS Don Bosco","Groenveldstraat 46",3001,"HEVERLEE","016-20.80.26","basisschool@donboscoheverlee.be"]
[12427,"GBS De Letterberg","Dorpsstraat 81",3050,"OUD-HEVERLEE","016-39.41.60","gbsoudheverlee@gbsdeletterberg.be"]
[12435,"VBS Sint-Pietersschool","Kloosterstraat 2",3360,"KORBEEK-LO","016-46.03.60","directie@sint-pietersschool.be"]
[12451,"GBS 't Klavertje Bierbeek","Schoolstraat 37",3360,"BIERBEEK","016-46.37.02","secretariaat@gemeenteschoolbierbeek.be"]
[12468,"VBS De Kinderberg","Bergstraat 18",3360,"BIERBEEK","016-46.40.37","directie@vrijeschoolbierbeek.be"]
[12476,"Gemeentelijke Basisschool","Armand Verheydenstraat 19",3053,"HAASRODE","016-39.41.70","directie@dehazensprong.be"]
[12484,"GBS De Lijsterboom","Bierbeekstraat 4",3052,"BLANDEN","016-39.41.50","secretariaat@delijsterboom.be"]
[12492,"Vrije Basisschool","Pastoor Tilemansstraat 4",3051,"SINT-JORIS-WEERT","016-47.73.18","directie.sintjorisweert@sgarchipel.be"]
[12501,"GBS De Letterboom","Wilgenpad 1",3040,"OTTENBURG","02-302.43.90","directiedeletterboom@huldenberg.be"]
[12518,"GBS Den Elzas","Elzasstraat 19",3040,"HULDENBERG","02-302.43.80","directiedenelzas@huldenberg.be"]
[12526,"GBS 't Zonneveld","A.E. Verbiststraat 6",3060,"BERTEM","016-48.06.58","directie@gbszonneveld.be"]
[12534,"VBS De Waaier","Egenhovenstraat 24_A",3060,"BERTEM","016-48.93.08","directie@dewaaier-bertem.be"]
[12542,"GBS Leefdaal","Dorpstraat 540",3061,"LEEFDAAL","02-767.51.01","info@gbsleefdaal.be"]
[12559,"GBS De Regenboog","Kloosterstraat 10",3070,"KORTENBERG","02-759.60.69","deregenboog@kortenberg.be"]
[12567,"GBS De Klimop","Kwerpsebaan 249",3071,"ERPS-KWERPS","02-759.64.59","deklimop@kortenberg.be"]
[12575,"VBS Mater Dei","Engerstraat 10",3071,"ERPS-KWERPS","02-759.65.33","info@vbs-erps-kwerps.be"]
[12583,"VBS Sint-Lambertus","Burggrachtstraat 1_a",1930,"NOSSEGEM","02-759.46.04","sln.directie@gmail.com"]
[12591,"GBS De Negensprong","Annonciadenstraat 1",3078,"EVERBERG","02-759.96.22","denegensprong@kortenberg.be"]
[12609,"GBS De Boemerang","Alfons Dewitstraat 7",3078,"MEERBEEK","02-759.63.60","deboemerang@kortenberg.be"]
[12617,"VBS Ham","Van Frachenlaan 25",1820,"STEENOKKERZEEL","02-759.97.43","directeurs.terham@gmail.com"]
[12625,"GBS Piramide & Tilia","Mulslaan 2",1820,"STEENOKKERZEEL","02-756.55.00","directie@gbs-piramide-tilia.be"]
[12633,"VBS De Boomhut","Brouwerijstraat 2",1910,"KAMPENHOUT","016-65.74.86","info@vgskdeboomhut.be"]
[12641,"GBS De Toverberg & Het Klimtouw","Torfbroeklaan 25",1910,"BERG","016-65.99.77","directie@detoverberg.be"]
[12658,"VKS 't Okkerzeeltje","Bogaertstraat 4",1910,"NEDEROKKERZEEL","016-65.54.85","directie@tokkerzeeltje.be"]
[12666,"VBS Heilig-Hartcollege","Biekorfstraat 8",2220,"HEIST-OP-DEN-BERG","015-22.10.10","directie@hhc-basis.be"]
[12674,"VBS Heist-Centrum","Kerkhofstraat 1",2220,"HEIST-OP-DEN-BERG","015-24.78.62","directie@vbheistcentrum.be"]
[12682,"Vrije Basisschool","Pastoor Mellaertsstraat 32",2220,"HEIST-OP-DEN-BERG","015-24.76.64","vbshgoor@vbshgoor.be"]
[12691,"Vrije Basisschool","L. Carréstraat 16_c",2220,"HALLAAR","015-24.11.20","directie@basisschool-hallaar.be"]
[12708,"GBS De Straal","Kapelstraat 45",3110,"ROTSELAAR","016-61.64.60","directie@destraal.be"]
[12716,"Gemeentelijke Basisschool","Schoolstraat 44",3110,"ROTSELAAR","016-61.64.70","directie@schoolheikant.be"]
[12724,"GBS Het Nest","Steenweg op Nieuwrode 43",3111,"WEZEMAAL","016-61.64.90","directie@gbshetnest.be"]
[12732,"VKS De Rank","Aarschotsesteenweg 172",3111,"WEZEMAAL","016-58.20.68","info@derank.be"]
[12757,"VBS De Vuurboom","Pastoriestraat 48",3150,"HAACHT","016-60.88.85","directie@vuurboom.be"]
[12765,"VBS De Klimboom","Astridstraat 4",3120,"TREMELO","016-53.37.32","directie@vbsdeklimboom.be"]
[12773,"VBS Sint-Annaschool","Baalsebaan 330",3128,"BAAL","016-53.40.23","directie@sasbaal.be"]
[12781,"GBS De Puzzel","De Bruynlaan 19",3130,"BEGIJNENDIJK","016-53.09.17","depuzzel@begijnendijk.be"]
[12799,"Vrije Basisschool","Schoolstraat 26",2230,"RAMSEL","016-69.71.44","directie@vbsramsel.be"]
[12807,"VBS Houtvenne","Langestraat 11",2235,"HOUTVENNE","016-69.93.14","directie@vbshoutvenne.be"]
[12815,"VBS Booischot","Ter Laken 7",2221,"BOOISCHOT","0473-11.13.49","directie@gvbbooischot.be"]
[12823,"GBS De Hei","Schrieksesteenweg 30",2221,"BOOISCHOT","015-22.27.17","directie@basisschooldehei.be"]
[12831,"VBS De Schatkist","Mgr. Raeymaekersstraat 15",2235,"WESTMEERBEEK","016-69.93.33","deschatkist@pandora.be"]
[12849,"Gemeentelijke Basisschool","Strepestraat 21",2235,"HULSHOUT","015-22.22.98","info@schoolhulshout.be"]
[12856,"VBS De Graankorrel","Blaubergsesteenweg 172",2230,"HERSELT","014-54.90.00","schoolblauberg@degraankorrel.be"]
[12864,"VBS Bergom","Hoge Dreef 7",2230,"HERSELT","014-54.73.93","basisschool.bergom@telenet.be"]
[12872,"VBS Ter Veste","Maria Gorettistraat 4",2230,"HERSELT","014-54.92.56","directie@terveste.be"]
[12881,"VBS Oosterwijk","Emiel Stalmanslaan 2",2260,"WESTERLO","014-26.54.39","directie@webkeoosterwijk.be"]
[12898,"VBS Het Rietje","de Merodedreef 110",2260,"WESTERLO","014-54.51.71","info@hetrietje.be"]
[12906,"VBS De Springplank","Jaak Lemmenslaan 12",2260,"WESTERLO","014-54.82.90","directie@springplank.be"]
[12914,"VBS 't Grafiekje","Abdijstraat 3",2260,"TONGERLO","014-54.42.87","info@tgrafiekje.be"]
[12922,"GBS Voortkapel","Stijn Streuvelsstraat 11",2260,"WESTERLO","014-26.50.33","directie.basisschool.voortkapel@westerlo.be"]
[12948,"GBS Oevel - Het Lo","Gemeentestraat 9",2260,"OEVEL","014-23.44.46","directie.basisschool.oevel@westerlo.be"]
[12955,"GBS De Klimboom Heultje","Schoolstraat 1",2260,"WESTERLO","016-69.97.80","secretariaat.basisschool.heultje@westerlo.be"]
[12971,"VKS Blauwput De Speelkriebel","Jozef Pierrestraat 104",3010,"KESSEL-LO","016-25.18.53","directie.despeelkriebel@sgarchipel.be"]
[12989,"VBS Vlierbeek","Molenstraat 90",3010,"KESSEL-LO","016-26.03.63","directie@vrijebasisschoolvlierbeek.be"]
[12997,"VBS Boven-Lo","Heidebergstraat 275",3010,"KESSEL-LO","016-25.30.82","directie.bovenlo@sgarchipel.be"]
[13003,"VLS Blauwput","Patroonschapstraat 5",3010,"KESSEL-LO","016-25.28.56","directie.demozaiek@sgarchipel.be"]
[13037,"VBS De Plein","Klein Langeveld 30",3220,"HOLSBEEK","016-44.90.43","directie@vbsdeplein.be"]
[13052,"VBS De Linde","Wolvendreef 1",3210,"LINDEN","016-62.24.13","directie@vbsdelinde.be"]
[13061,"VBS Sint-Joris","Tiensesteenweg 4",3390,"SINT-JORIS-WINGE","016-64.06.97","info@sintjorisschool.be"]
[13078,"VBS 't Hagekind","Rillaarseweg 23",3390,"TIELT","016-63.44.45","nathalie.simons@hagekind.be"]
[13086,"VBS Sint-Martinusschool","Dorpsstraat 18",3210,"LUBBEEK","016-63.42.78","directie@sintmartinusschool.be"]
[13094,"Vrije Basisschool","Haldertstraat 13",3390,"HOUWAART","016-63.20.73","directie@vbshouwaart.be"]
[13102,"VBS Sint-Jozefscollege","Bekaflaan 65",3200,"AARSCHOT","016-55.11.34","secretariaat.basisschool@sjca.be"]
[13111,"VBS Sancta Maria","Kard. Mercierstraat 10",3200,"AARSCHOT","016-56.74.92","directie@sancta-maria-aarschot.be"]
[13128,"VBS Ourodenberg","Kerkstraat 27",3200,"AARSCHOT","016-56.12.58","directie@ourodenberg.be"]
[13151,"VBS Pastoor Dergent","Pastoor Dergentstraat 109",3200,"GELRODE","016-56.61.50","directie@vbspastoordergent.be"]
[13169,"Vrije Basisschool","Pastoor Pitetlaan 26",3130,"BETEKOM","016-56.25.72","directie@sjibke.be"]
[13177,"GBS De Klimroos","Prof.Scharpélaan 47",3130,"BETEKOM","016-56.36.75","deklimroos@begijnendijk.be"]
[13185,"Vrije Basisschool","Veerlestraat 7",3201,"LANGDORP","013-77.56.44","griet.beirinckx@onzeschoolwolfsdonk.be"]
[13193,"Vrije Basisschool","Hombergstraat 1",3201,"LANGDORP","016-56.91.41","directie@vbslangdorp.be"]
[13227,"VBS 't Minnepoortje","Minnestraat 9",3460,"ASSENT","013-31.20.88","directeur@minnepoortje.be"]
[13235,"GBS De Verre Kijker","Staatsbaan 181",3460,"BEKKEVOORT","013-31.46.11","secretariaat@gbsbekkevoort.be"]
[13243,"VBS De Zonnebloem","Oude Diestsestraat 4",3473,"WAANRODE","016-77.72.67","directiewaanrode@gmail.com"]
[13251,"VBS Sint-Jozefsschool Schoonderbuken","Houwaartstraat 305",3270,"SCHERPENHEUVEL","013-77.31.85","carine.peeters@sjschool.be"]
[13268,"VBS OLV","Rozenkranslaan 4_b",3270,"SCHERPENHEUVEL","013-77.20.30","directie@basisschoololv.be"]
[13276,"VBS Ons Wereldje","Brabantsebaan 46",3271,"ZICHEM","013-77.70.88","onswereldje@ksdiest.be"]
[13292,"VBS De Vlindertuin","Herseltsebaan 1",3271,"AVERBODE","013-77.36.58","devlindertuin@ksdiest.be"]
[13318,"VBS Den Hulst","Hulst 16",3272,"TESTELT","013-77.19.29","info@denhulst.be"]
[13326,"SBS Zichem-Keiberg-Scherpenheuvel","Lobbensestraat 124",3271,"ZICHEM","013-77.45.16","stedelijkonderwijs@scherpenheuvel-zichem.be"]
[13334,"VBS Voorzienigheid","Demerstraat 12",3290,"DIEST","013-33.46.31","christine.vaneylen@ksdiest.be"]
[13367,"VKS De Notelaar","Groenenweg 1",3293,"KAGGEVINNE","013-31.47.95","greet.wertelaers@ksdiest.be"]
[13383,"Gemeentelijke Basisschool","Vroentestraat 22",3290,"SCHAFFEN","013-32.69.23","directieschaffen-deurne@gbsdiest.be"]
[13391,"Vrije Basisschool","Vleugtstraat 33",3290,"SCHAFFEN","013-33.65.40","directie@klaverdrie.be"]
[13409,"VBS Immaculata","Alexianenweg 25",3300,"TIENEN","016-82.59.44","robbe.hindryckx@viatienen.be"]
[13417,"VBS Sint-Jozef","Waaibergstraat 5",3300,"TIENEN","016-81.98.02","basisschoolsj@viatienen.be"]
[13425,"GO! BS De Uilenboom Tienen","Aarschotsesteenweg 638",3300,"VISSENAKEN","016-81.81.86","bsgo.vissenaken@skynet.be"]
[13433,"GO! BS De Suikerspin","Pastorijstraat 78",3300,"TIENEN","016-81.83.88","dieter.rodeyns@huis11.be"]
[13458,"VBS OLV","Rijschoolstraat 2",3300,"TIENEN","016-81.48.10","marleen.sanders@viatienen.be"]
[13474,"VBS De Duizendpoot","Schoolstraat 27",3380,"BUNSBEEK","016-77.75.20","directie@vbsdeduizendpoot.be"]
[13482,"VBS Stap Voor Stap","Hollestraat 22",3300,"HAKENDOVER","016-78.01.65","directie@gvbshakendover.be"]
[13491,"VBS Vroenhof","Groenhofstraat 15",3300,"KUMTICH","016-81.23.18","vrbasisschool.kumtich@telenet.be"]
[13508,"VBS Mariadal","Klein Overlaar 3",3320,"HOEGAARDEN","016-76.54.95","directie@vrijebasisschoolmariadal.be"]
[13524,"Gemeentelijke Basisschool","Doelstraat 76",3320,"HOEGAARDEN","016-76.87.87","gbsdirectie@skynet.be"]
[13532,"Vrije Basisschool","Sint-Genovevaplein 8",3300,"OPLINTER","016-82.14.58","directie@gvbsoplinter.be"]
[13541,"VBS De Regenboog","Grote Steenweg 282",3350,"DRIESLINTER","011-78.13.39","directie@gvbslinter.be"]
[13565,"GBS De Zandloper","Zandstraat 14",3350,"WOMMERSOM","016-78.89.65","gbsdezandloper@linter.be"]
[13573,"Vrije Kleuterschool","Rectorijstraat 2",3470,"RANSBERG","011-58.78.70","directie@gvksdekiem.be"]
[13581,"Gemeentelijke Basisschool","Kerkomsesteenweg 45",3370,"BOUTERSEM","016-73.33.41","secretariaat@gbboutersem.be"]
[13599,"VBS De Mozaïek","Lubbeeksestraat 42",3370,"BOUTERSEM","016-73.50.91","directie@vbroosbeek.be"]
[13607,"GBS De Springplank","Dries 26",3380,"GLABBEEK","016-77.77.77","secretariaat@gemeenteschool-glabbeek.be"]
[13623,"Gemeentelijke Kleuterschool","Kersbeek-Dorp 17",3472,"KERSBEEK-MISKOM","016-77.84.11","gkskersbeek@kortenaken.be"]
[13631,"VBS Het Toverpotlood","Hoeledensebaan 84_a",3471,"HOELEDEN","016-77.15.72","directeur@toverpotlood.be"]
[13649,"VBS 't Scholeke","Halensebaan 102",3461,"MOLENBEEK-WERSBEEK","016-77.73.80","tscholeke@ksdiest.be"]
[13656,"GO! BS Wonderwijs Walshoutem","Walshoutemstraat 55",3401,"WALSHOUTEM","011-88.12.45","directie@wonderwijswalshoutem.be"]
[13681,"GO! BS De Kleurenboom","Hannuitstraat 4",3890,"MONTENAKEN","011-88.45.82","secretariaat@go-de-kleurenboom.be"]
[13706,"GKS De Kleine Picasso","Vinnestraat 45",3440,"HALLE-BOOIENHOVEN","011-78.27.94","dekleinepicasso@zoutleeuw.be"]
[13714,"VKS De Wegwijzer","Oude Kerkstraat 2",3350,"ORSMAAL-GUSSENHOVEN","011-58.41.44","info@vksdewegwijzer.be"]
[13731,"Vrije Basisschool","Stationsstraat 16",3440,"ZOUTLEEUW","011-78.20.88","directie@gvbszoutleeuw.be"]
[13748,"Vrije Basisschool","Linterseweg 10",3440,"BUDINGEN","011-58.86.92","directie@gvbsbudingen.be"]
[13763,"Vrije Basisschool","Dorpsstraat 7_b",3450,"GEETBETS","011-58.46.53","directie@gvbsgeetbets.be"]
[13771,"Vrije Basisschool","Schoolstraat 1",3470,"KORTENAKEN","011-58.84.79","directie@gvbskortenaken.be"]
[13797,"VBS De Knipoog","Ketelstraat 27_a",3454,"RUMMEN","011-58.11.43","directie@gvbsrummen.be"]
[13805,"Gemeentelijke Basisschool","Dorpsstraat 39",3545,"ZELEM","013-44.33.63","gbsopdreef@gmail.com"]
[13839,"VBS De Hazelaar","Persoonstraat 1",3500,"HASSELT","011-22.14.48","de.hazelaar@kt-scholengroep.be"]
[13847,"VBS De Boomgaard","Boomkensstraat 11",3500,"HASSELT","011-27.04.92","els.herbots@kt-scholengroep.be"]
[13862,"VBS De Kievit","Vijversstraat 6",3500,"HASSELT","011-21.23.24","dekievit@telenet.be"]
[13888,"VBS De Tuimelaar","Pater Valentinuslaan 36",3500,"HASSELT","011-27.13.17","directie.de-tuimelaar@sgm-zevensprong.be"]
[13896,"Vrije Jenaplanschool De Krullevaar","Bakkerslaan 20",3500,"HASSELT","011-27.23.08","directie.dekrullevaar@sgm-zevensprong.be"]
[13904,"SBS Rapertingen","Bieststraat 40",3500,"HASSELT","011-27.20.66","sbs.rapertingen@hasselt.be"]
[13912,"VBS Tuinwijk","Lazarijstraat 120",3500,"HASSELT","011-25.31.02","tuinwijk@kt-scholengroep.be"]
[13938,"VKS Kindercampus Mozaïek","Zegestraat 40",3500,"HASSELT","011-21.17.64","mozaiek@kt-scholengroep.be"]
[13953,"VBS 't Kabaske","Diestersteenweg 237",3510,"KERMT","011-25.04.48","directie.tkabaske@sgm-zevensprong.be"]
[13961,"SBS Kermt","Diestersteenweg 165",3510,"KERMT","011-25.11.60","sbs.kermt@hasselt.be"]
[13995,"SBS Kuringen","Joris van Oostenrijkstraat 53",3511,"KURINGEN","011-25.52.88","sbs.kuringen@hasselt.be"]
[14027,"VBS De Horizon","Kievitveldstraat 7",3520,"ZONHOVEN","011-82.44.44","directie.horizon@sgkabaz.be"]
[14035,"VBS De Startbaan","Schelstraat 10",3520,"ZONHOVEN","011-81.47.45","secretariaat.startbaan@sgkabaz.be"]
[14043,"VBS De Lettermolen","Molenweg 73",3520,"ZONHOVEN","011-82.43.66","secretariaat.lettermolen@sgkabaz.be"]
[14051,"VKS De Kleurdoos","Klodsbergweg 9",3520,"ZONHOVEN","011-81.40.74","secretariaat.kleurdoos@sgkabaz.be"]
[14068,"VBS De Schakel","Kleuterweg 15",3530,"HOUTHALEN-HELCHTEREN","011-60.48.33","bs.deschakel@gmail.com"]
[14076,"GBS 't Centrum","Guldensporenlaan 13",3530,"HOUTHALEN-HELCHTEREN","011-49.23.90","tcentrum@houthalen-helchteren.be"]
[14084,"GLS De Griffel","Hortensiastraat 3",3530,"HOUTHALEN-HELCHTEREN","011-49.23.93","degriffel@houthalen-helchteren.be"]
[14092,"GKS De Kleine Kunstenaar","Edelweisstraat 4",3530,"HOUTHALEN-HELCHTEREN","011-49.23.92","dekleinekunstenaar@houthalen-helchteren.be"]
[14101,"GLS De Lakerberg","Kerkhofstraat 88",3530,"HOUTHALEN-HELCHTEREN","011-49.23.91","delakerberg@houthalen-helchteren.be"]
[14118,"VKS De Kleine Reus","Kerkhofstraat 90",3530,"HOUTHALEN-HELCHTEREN","011-60.64.94","directie.dekleinereus@gmail.com"]
[14126,"VBS Lillo's Klavertje","Meester Surinxstraat 16",3530,"HOUTHALEN-HELCHTEREN","011-57.38.04","directie@vbslillosklavertje.be"]
[14159,"VBS De Biekorf","Maastrichtsestraat 12",3530,"HOUTHALEN-HELCHTEREN","011-52.18.14","secretariaat@debiekorf.be"]
[14167,"VKS Don Bosco Klim-Op","Muveld 25",3530,"HELCHTEREN","011-52.18.67","directie.klimop@gmail.com"]
[14175,"VBS 't Molenholleke","Heldenplein 15",3550,"HEUSDEN-ZOLDER","011-53.68.54","info@molenholleke.be"]
[14183,"VBS Bolderberg","Kluisstraat 15",3550,"HEUSDEN-ZOLDER","011-25.44.35","annette.palmers@vbbolderberg.be"]
[14191,"VBS Viversel Sint-Jan Berchmans","Poothof 4",3550,"HEUSDEN-ZOLDER","011-42.95.87","info@sintjanberchmansviversel.be"]
[14209,"VBS Boekt","Reitveld 7",3550,"ZOLDER","011-53.78.69","directie@basisschoolboekt.be"]
[14217,"GBS Beekbeemden","Beekbeemdenhof 1",3550,"ZOLDER","011-53.81.12","renata.hauben@heusden-zolder.be"]
[14225,"VKS De Toverfluit","Brugstraat 16",3550,"HEUSDEN-ZOLDER","011-45.11.24","directie@toverfluitheusden.be"]
[14233,"Vrije Basisschool","Everselkiezel 55",3550,"HEUSDEN-ZOLDER","011-45.58.30","directie@despringplankeversel.com"]
[14241,"Vrije Lagere School","Brugstraat 16_1",3550,"HEUSDEN-ZOLDER","011-42.59.42","vlsdebrug16@gmail.com"]
[14258,"VKS Pagadder","Sint-Maartenlaan 6",3550,"HEUSDEN-ZOLDER","011-57.26.30","directie@vkspagadder.be"]
[14266,"VLS Berkenbos","Pastoor Paquaylaan 123",3550,"HEUSDEN-ZOLDER","011-57.36.20","info@vlsberkenbos.be"]
[14274,"VBS Picard","Heerbaan 241",3582,"KOERSEL","011-42.26.47","info@picardschool.be"]
[14282,"VBS 't Klavertje","Kerkplein 40",3582,"KOERSEL","011-42.23.96","klavertje@vbskoersel.be"]
[14308,"GBS Koersel","Pieter Vanhoudtstraat 44",3582,"KOERSEL","011-42.21.15","directie@sbskoersel.be"]
[14316,"VLS De Zandkorrel","Twaalf septemberstraat 9",3940,"HECHTEL","011-73.29.20","lagereschool@dezandkorrel.be"]
[14324,"VKS De Zandkorrel","Rhijnweg 5",3940,"HECHTEL","011-73.29.20","kleuterschool@dezandkorrel.be"]
[14357,"VBS De Dommelbrug","Grotstraat 5",3990,"PEER","011-79.13.78","info@dedommelbrug.be"]
[14365,"VBS Pieter Brueghel","Dorpsstraat 19",3990,"GROTE-BROGEL","011-61.20.97","secretariaat@bspieterbrueghel.be"]
[14373,"VBS Ticheleer","Tichelovenstraat 2",3990,"WIJCHMAAL","011-63.30.32","directie@bsticheleer.be"]
[14381,"VBS Wonderwijs","Kerkstraat 16",3670,"OUDSBERGEN","089-46.33.86","schoolwijshagen@scarlet.be"]
[14399,"Vrije Basisschool","Schoolstraat 2",3670,"OUDSBERGEN","011-63.64.84","info@basisschool-ellikom.be"]
[14407,"VLS Klim-Op","Kloosterstraat 9",3670,"OUDSBERGEN","011-79.26.22","danny.plessers@klimopoudsbergen.be"]
[14415,"VBS Klim-Op","Kloosterstraat 9",3670,"OUDSBERGEN","011-79.26.81","kim.szulc@klimopoudsbergen.be"]
[14431,"VBS Regenboog","Grote Heide 14",3910,"PELT","011-64.18.90","secretariaat@de-regenboog-groteheide.be"]
[14449,"VBS Boseind","Lepelstraat 23",3910,"PELT","011-64.08.08","secretariaat2@basisschoolboseind.be"]
[14456,"VBS Jaak Tassetschool","Jaak Tassetstraat 20_2",3910,"PELT","011-64.72.36","directie@jaaktassetschool.be"]
[14464,"VBS De Achellier","Grevenbroekstraat 9",3930,"HAMONT-ACHEL","011-64.21.94","info@deachellier.be"]
[14481,"VBS Corneliusschool","Parkstraat 15",3900,"PELT","011-64.17.34","administratie@corneliusschool.be"]
[14498,"VLS De Linde","Lindepaadje 1",3900,"PELT","011-64.26.41","dirk.vanseggelen@bs-delinde.be"]
[14506,"VKS De Linde","Vloeterstraat 2_A",3900,"PELT","011-64.26.41","dirk.vanseggelen@bs-delinde.be"]
[14514,"Gemeentelijke Basisschool","Groenstraat 8",3941,"EKSEL","011-73.43.51","info@gbs-eksel.be"]
[14531,"VBS Viejool","Schoolstraat 18",3941,"EKSEL","011-73.33.65","directeur@viejool.be"]
[14555,"Vrije Basisschool","'t Lo 13",3930,"HAMONT-ACHEL","011-44.71.18","secretariaat@bslo.be"]
[14571,"Vrije Kleuterschool","Wal 14",3930,"HAMONT-ACHEL","011-44.58.10","directie@derobbertkleuter.be"]
[14589,"VBS De Boomhut","Hamonterweg 136",3950,"BOCHOLT","011-62.16.13","administratie@deboomhutlozen.be"]
[14613,"VBS De Geluksvlinder","Bergerheidestraat 4",3950,"BOCHOLT","089-46.46.17","directie@degeluksvlinder.be"]
[14621,"VKS 't Vliegerke","Kaulillerdorp 43",3950,"KAULILLE","011-44.71.32","directie@vliegerke.be"]
[14639,"VLS De Vlieger","Kaulillerdorp 51",3950,"KAULILLE","011-44.63.35","directie@devlieger-kaulille.be"]
[14662,"VBS Mater Dei","Grotestraat 25",3600,"GENK","089-36.35.33","info@materdei-genk.be"]
[14671,"VBS Mickey Mouse- De Sleutel","Brandweg 1",3600,"GENK","089-61.23.74","directie@mickeymouse-desleutel.be"]
[14696,"VBS Sterrenrijk","Kuurstraat 6",3600,"GENK","011-22.93.75","info@sterrenrijk.be"]
[14712,"Vrije Kleuterschool","Plattewijerstraat 4",3600,"GENK","089-36.78.13","secretariaat@deschom.be"]
[14803,"Vrije Basisschool","Driehoevenstraat 82",3600,"GENK","089-38.14.98","info@driehoeven.be"]
[14811,"VBS Oud-Waterschei 't Schoolke","Oude Driesstraat 8",3600,"GENK","089-38.12.87","info@bsow.be"]
[14837,"VBS St.-Michiel","Margarethalaan 70",3600,"GENK","089-35.30.57","directie.sintmichiel@telenet.be"]
[14845,"Vrije Basisschool","Boxbergstraat 1",3600,"GENK","089-35.13.35","info@bsboxbergheide.be"]
[14852,"VBS School met de Bijbel De Padvinder","Evence Coppéelaan 27",3600,"GENK","089-30.43.50","directie@depadvinder.be"]
[14861,"Vrije Basisschool","Schabartstraat 10",3600,"GENK","089-35.24.81","info@broederschool-genk.be"]
[14886,"VBS De Parel","Schoolstraat 5",3690,"ZUTENDAAL","089-61.11.56","info@deparelzutendaal.be"]
[14894,"VBS De Stapsteen","Jachthoornplein 4",3690,"ZUTENDAAL","089-61.20.21","directie@destapsteenwiemesmeer.be"]
[14902,"VLS De Parel","Schoolstraat 6",3690,"ZUTENDAAL","089-61.11.57","info@deparelzutendaal.be"]
[14911,"Gemeentelijke Basisschool","Kloosterstraat 34",3590,"DIEPENBEEK","011-32.33.68","gbs.diepenbeek@skynet.be"]
[14928,"Vrije Kleuterschool","Wijkstraat 16_4",3590,"DIEPENBEEK","011-35.23.44","kleuterpaleis@paleisdiepenbeek.be"]
[14936,"Vrije Lagere School","Wijkstraat 16_5",3590,"DIEPENBEEK","011-35.23.43","directie.lager@paleisdiepenbeek.be"]
[14969,"VBS Rooierheide","Heidestraat 157",3590,"DIEPENBEEK","011-32.19.48","directeur@vbrooierheide.be"]
[14985,"VBS De Wilg","Schoolstraat 45",3740,"BILZEN","089-49.12.48","directie.dewilg@kodb.be"]
[14993,"VBS Talentenhuis","Zonhoevestraat 32",3740,"BILZEN","089-41.54.07","info@talentenhuis.be"]
[15008,"GBS Rekem","Populierenlaan 14",3621,"REKEM","089-71.31.06","Marleen.slootmaekers@lanaken.be"]
[15041,"VBS De Zonnewijzer","Schoolstraat 34",3630,"OPGRIMBIE","089-76.54.57","directie@basisschoolopgrimbie.be"]
[15073,"VBS Sint-Willibrordus","Langstraat 30",3630,"EISDEN","089-76.41.76","vrijebasisschool.eisden@telenet.be"]
[15107,"Gemeentelijke Basisschool","St-Jorisstraat 11",3631,"BOORSEM","089-76.97.40","gemschoolboorsem@maasmechelen.be"]
[15115,"Vrije Kleuterschool","Molenstraat 127",3630,"MEESWIJK","089-75.20.53","directie@kleuterschoolmeeswijk.be"]
[15123,"VBS Driestap","Steenakkerstraat 8",3630,"MAASMECHELEN","089-75.55.37","info@driestap.be"]
[15131,"SBS 1","Koning Boudewijnplein 4",3650,"DILSEN-STOKKEM","089-79.08.70","lutgarde.aerts@dilsen-stokkem.be"]
[15149,"SBS De Horizon","Haagstraat 19",3650,"DILSEN-STOKKEM","089-75.60.02","horizonrotem@dilsen-stokkem.be"]
[15156,"SBS Dilsen","Koning Boudewijnplein 4",3650,"DILSEN-STOKKEM","089-79.08.69","inge.otten@dilsen-stokkem.be"]
[15172,"VBS De Startbaan Lanklaar","Groenstraat 22",3650,"DILSEN-STOKKEM","089-75.52.89","directie@basisschool-lanklaar.be"]
[15181,"VBS De Twinkelaar Elen","Langstraat 24",3650,"DILSEN-STOKKEM","089-56.53.44","directie@basisschool-elen.be"]
[15198,"VBS Uiterwaard Stokkem","Gallestraat 6",3650,"DILSEN-STOKKEM","089-75.55.82","directie@uiterwaard.be"]
[15206,"VBS De Zonnebloem","Kleine Stadenstraat 4",8830,"HOOGLEDE","051-20.37.62","dezonnebloem@staho.be"]
[15222,"VKS Sint-Lambertus","Gildenstraat 28",3660,"OUDSBERGEN","089-85.52.71","info@kleuterschool-opglabbeek.be"]
[15231,"VBS Floor en Tijn","Floxstraat 4",3660,"OUDSBERGEN","089-85.56.17","basisschoolfloorentijn@proximus.be"]
[15248,"VLS Sint-Lambertus","Gildenstraat 24",3660,"OUDSBERGEN","089-85.48.24","info@lagere-school-opglabbeek.be"]
[15255,"Vrije Basisschool","Kerkstraat 6",3665,"AS","089-65.73.84","directievbas@gmail.com"]
[15271,"GBS As","Schoolstraat 1",3668,"NIEL-BIJ-AS","089-39.10.50","secretariaat@gbas.be"]
[15289,"VBS De Wissel","Maaseikerlaan 2_A",3680,"NEEROETEREN","089-86.33.40","dewissel@kbaoneeroeteren.be"]
[15297,"VBS Oogappel","Molenweg 79",3680,"NEEROETEREN","089-86.74.36","marijke.vanberckelaer@kbaoneeroeteren.be"]
[15305,"VBS Kornuit","Weg naar As 78",3680,"OPOETEREN","089-85.84.36","secretariaat@dekornuit.be"]
[15313,"VBS Hink Stap Sprong","Schoolstraat 10",3680,"OPOETEREN","089-86.53.53","info@basisschoolopoeteren.be"]
[15347,"VKS De Beverburcht","Eerste Straat 23",3680,"MAASEIK","089-56.71.66","info@debeverburcht.be"]
[15354,"Gemeentelijke Basisschool","Nelisveld 5",3640,"KINROOI","089-70.25.46","info@gb3k.be"]
[15362,"GBS De Maaskei","De Belder 21",3640,"KINROOI","089-56.53.47","basisschool@maaskei.be"]
[15371,"VBS De Wieken","Kleine Scheurestraat 1",3640,"KINROOI","089-70.15.54","info@dewieken.be"]
[15388,"VBS De Bommesaar","Meierstraat 46",3640,"KINROOI","089-56.59.54","info@debommesaar.be"]
[15396,"VBS De Vuurvogel","Grauwe Torenwal 16",3960,"BREE","089-46.50.81","directie.devuurvogel@dekubus-bree.be"]
[15404,"VBS De Kei","Jef van Hoofstraat 3",3960,"BREE","089-46.16.77","directie.dekei@dekubus-bree.be"]
[15412,"VBS Don Bosco Gerdingen","Schoolstraat 58",3960,"BREE","089-46.39.40","secretariaat@donbosco-gerdingen.be"]
[15438,"VBS De Wissel","Opitterkiezel 240_A",3960,"OPITTER","089-86.43.53","admin.dewissel@dekubus-bree.be"]
[15446,"VBS Kadee Tongerlo","Bosstraat 23",3960,"BREE","089-86.69.16","basisschool.kadee@telenet.be"]
[15453,"VBS Royke","Breekiezel 27",3670,"OUDSBERGEN","089-81.13.08","wim.daniels@royke.be"]
[15461,"VBS Spelenderwijs","Loostraat 13",3670,"OUDSBERGEN","089-85.69.22","info@spelenderwijs-neerglabbeek.be"]
[15479,"VKS 't Reepje","Sint-Laurensstraat 9",3700,"TONGEREN","012-23.85.52","het.reepje@skynet.be"]
[15487,"GBS De Basiz","Kerkhenis 55",3700,"TONGEREN","012-80.02.71","info.gbshenis@stadtongeren.be"]
[15503,"VBS Picpussen","Watertorenstraat 5_C",3700,"TONGEREN","012-23.23.64","directie@basisschoolpicpussen.be"]
[15537,"VBS Sint-Lutgart","Beemdstraat 4",3700,"TONGEREN","012-23.12.14","info@stltongeren.be"]
[15545,"VKS Campus \"Sint-Jan\"","Sint-Jansstraat 15",3700,"TONGEREN","012-22.00.10","info@csjt.be"]
[15578,"VKS De Puzzel","Merestraat 24",3700,"PIRINGEN","012-26.16.12","kleuterschool.depuzzel@gmail.com"]
[15586,"VKS Evermaruske","Rechtstraat 22_A",3700,"TONGEREN","012-39.16.74","info@evermaruske.be"]
[15602,"Gemeentelijke Basisschool","Fonteinstraat 9",3721,"VLIERMAALROOT","011-37.95.62","directie@gbskortessem.be"]
[15628,"Gemeentelijke Kleuterschool","Brandstraat 3_A",3723,"GUIGOVEN","011-37.69.61","Kobelhameltje@outlook.be"]
[15644,"VBS Spelenderwijs - De 2-Sprong","Beukenlaan 35",3730,"HOESELT","089-41.67.77","anja.jacobs@kodb.be"]
[15651,"VBS Wonderwijs KODB vzw","Beukenlaan 27",3730,"HOESELT","089-41.49.10","secretariaat.wonderwijs@kodb.be"]
[15677,"GBS Alt Hoeselt","Sportpleinstraat 2",3730,"HOESELT","012-23.75.16","info@gbs-alt-hoeselt.be"]
[15685,"VBS 't Nederwijsje-Het Opwermerke","Nederstraat 30",3730,"HOESELT","089-41.39.71","jos.gregoor@kodb.be"]
[15693,"VBS Sint-Mauritius","Kloosterwal 10",3740,"BILZEN","089-51.12.00","karin.hamaekers@kodb.be"]
[15701,"VBS H. Graf","Kloosterwal 11",3740,"BILZEN","089-41.37.38","secretariaat.walnootje-willerke@kodb.be"]
[15719,"VBS 't Scholierke-Het Klein Kasteeltje","Riemsterweg 273",3740,"KLEINE-SPOUWEN","089-41.72.54","heidi.maesen@kodb.be"]
[15727,"VBS de Bammerd-Beukenbroekje","Frans-Ceulemansstraat 2",3740,"GROTE-SPOUWEN","012-45.22.35","petra.zwerts@kodb.be"]
[15735,"VBS De Breg","Winkelomstraat 10",3740,"EIGENBILZEN","089-51.51.02","suzy.bruggen@kodb.be"]
[15743,"Vrije Basisschool","Appelboomgaardstraat 7",3740,"MUNSTERBILZEN","089-41.62.69","info.bloesem-driesprong@kodb.be"]
[15751,"SBS Munsterbilzen-Hoelbeek-Martenslinde","Appelboomgaardstraat 9",3740,"MUNSTERBILZEN","089-39.96.40","munsterbilzen@sbsbilzen.be"]
[15768,"VBS 't Kerkveldje","Kloosterstraat 18",3770,"RIEMST","012-45.39.40","vbsvlh@rievoe.be"]
[15776,"GBS De Klinker","Klein Lafeltstraat 2",3770,"RIEMST","012-26.88.32","gsriemst@riemst.be"]
[15792,"VBS Aan De Basis","Maastrichterweg 261",3620,"LANAKEN","089-71.40.76","paola.vecchio@aandebasis.be"]
[15818,"VBS De Bolster","Heirbaan 81",3620,"NEERHAREN","089-71.64.63","secretariaat@debolster.net"]
[15826,"VBS 't Bieske","Biesweg 14",3620,"GELLIK","089-71.30.35","secretariaat@tbieske.be"]
[15834,"VKS 't Regenboogje","Nelissenlaan 13",3620,"LANAKEN","012-45.53.64","bastiaenssofia@live.be"]
[15842,"VBS Het Wezeltje","Berenhofstraat 32",3620,"VELDWEZELT","089-71.68.95","directie@hetwezeltje.be"]
[15859,"Vrije Basisschool","Wijnstraat 2",3770,"RIEMST","012-23.58.16","vbsmvv@rievoe.be"]
[15875,"GBS De Boomhut","Kleinmeersstraat 1",3700,"TONGEREN","012-80.02.78","info.gbsmal@stadtongeren.be"]
[15891,"GBS Vreren","Vrerenstraat 16",3700,"VREREN","012-80.02.65","info.gbsvreren@stadtongeren.be"]
[15909,"GBS De Driesprong","Kattestraat 7",3770,"RIEMST","012-26.88.10","gsmillen@riemst.be"]
[15917,"VBS Den Dries-Trudo-Jekerdal","Nieuweweg 11",3770,"RIEMST","012-45.21.30","vbszzbk@rievoe.be"]
[15925,"VBS Sint-Jozef De Plank","De Plank 81",3790,"VOEREN","04-381.10.59","vbsdeplank@rievoe.be"]
[15958,"Provinciale Basisschool","Hoeneveldje 1",3798,"'S GRAVENVOEREN","04-381.91.01","rene.reggers@limburg.be"]
[15966,"VBS 't Zonnetje","Schoolstraat 8",3800,"SINT-TRUIDEN","011-68.33.80","administratie@basisschoolmelveren.be"]
[16014,"VBS Sint- Rita","Gazometerstraat 5",3800,"SINT-TRUIDEN","011-68.93.71","info@sint-ritaschool.be"]
[16055,"GO! BS Wilderen","Galgestraat 156",3803,"DURAS","011-68.42.31","directie@bswilderen.be"]
[16063,"GKS Goudhaantje","Molenstraat 8",3850,"BINDERVELD","011-68.19.94","goudhaantje@nieuwerkerken.be"]
[16071,"VBS Het Blavierke","Stokstraat 1",3800,"ZEPPEREN","011-71.90.00","basisschool@hetblavierke.be"]
[16089,"VBS De Boomhut","Kapelhof 8",3800,"BRUSTEM","011-68.39.50","info@basisschooldeboomhut.be"]
[16097,"VBS 't Nieverke","Kerkstraat 126",3850,"NIEUWERKERKEN","011-68.99.87","directie@nieverke.net"]
[16105,"VBS 't Laantje","St. Aldegondislaan 2",3570,"ALKEN","011-31.22.33","directie.laantje@sgm-zevensprong.be"]
[16113,"VBS Sint-Joris","Schoolstraat 13",3570,"ALKEN","011-31.26.85","guy.raets@sgm-zevensprong.be"]
[16121,"VBS De Kleine Reus","Parkstraat 11",3570,"ALKEN","011-31.57.67","directie@basisschooldekleinereus.be"]
[16139,"GBS de B@sis","Motstraat 10",3570,"ALKEN","011-31.67.17","directie@gemeenteschool-alken.be"]
[16171,"VBS De Kameleon","Pastorijstraat 23",3500,"SINT-LAMBRECHTS-HERK","011-31.37.31","directie.kameleon@sgm-zevensprong.be"]
[16188,"VBS De Bron","Bloemenstraat 1",3830,"WELLEN","012-74.26.89","vbs.debron.wellen@telenet.be"]
[16196,"VBS Nieuwland","Nieuwland 12_A",3840,"BORGLOON","012-74.21.16","info@vbsborgloon.be"]
[16212,"VBS De Letterboom","Jesserenstraat 57",3840,"BORGLOON","012-74.30.68","deletterboom@jesseren.be"]
[16221,"VBS De Boomgaard","Tongersesteenweg 332_A",3840,"BOMMERSHOVEN","012-74.17.82","vbsdeboomgaard@telenet.be"]
[16238,"VBS Het Appelmanneke","Langegrachtstraat 1",3840,"HOEPERTINGEN","012-74.40.24","gvbhoepertingen@telenet.be"]
[16279,"VBS Centrale Vrije School","Ridderstraat 13",3870,"HEERS","011-48.65.74","directie@vbs-kers-en-pit.be"]
[16303,"GKS Het Huppeltje","Sint-Martinusstraat 19",3870,"VECHMAAL","012-74.56.53","kleuterschoolhethuppeltje@heers.be"]
[16329,"GO! BS De Groeiboog","Houtstraat 117",3890,"JEUK","011-48.69.24","secretariaat@go-de-groeiboog.be"]
[16337,"SBS De Schommel","Haardstraat 20",3920,"LOMMEL","011-54.46.76","info@de-schommel.be"]
[16345,"VBS Den Heuvel","Slinkerstraat 62",3920,"LOMMEL","011-54.02.58","denheuvel@LKB-net.be"]
[16352,"VBS BaLu","Hanekapstraat 8",3920,"LOMMEL","011-54.05.16","info@balu.be"]
[16361,"VBS Boudewijnschool","Einde 5",3920,"LOMMEL","011-54.46.74","directie@boudewijnschoollommel.be"]
[16378,"VLS De Speling","Kloosterstraat 7",3920,"LOMMEL","011-54.42.24","speling.lager@lkb-net.be"]
[16386,"VBS Sint-Jan","Kerkweg 22",3920,"LOMMEL","011-34.42.20","info.sint-jan@lkb-net.be"]
[16394,"VBS Lommel-West","Godfried Bomansstraat 17",3920,"LOMMEL","011-54.03.50","renke.bots@lkb-net.be"]
[16402,"VBS De Klimtoren","Luikersteenweg 243",3920,"LOMMEL","011-64.03.18","directie.klimtoren@lkb-net.be"]
[16411,"VKS De Speling","Kloosterstraat 11",3920,"LOMMEL","011-54.08.56","kleuterschool.despeling@lkb-net.be"]
[16428,"SBS 't Stekske","Luikersteenweg 447",3920,"LOMMEL","011-64.23.77","stekske@lommel.be"]
[16436,"VBS 't Leer-rijk","Schoolstraat 16",3540,"HERK-DE-STAD","013-55.40.37","vbsschak@gmail.com"]
[16444,"VBS Sint-Martinus","Diestsesteenweg 11",3540,"HERK-DE-STAD","013-55.29.66","directie@lagereschoolsintmartinus.be"]
[16451,"VBS De Zeppelin","Dorpsstraat 29",3540,"DONK","013-44.40.22","directie@dezeppelindonk.be"]
[16469,"VBS De Schuit","Kerkstraat 19",3540,"SCHULEN","013-55.40.29","directieschulen@deschuit.be"]
[16477,"VBS Sint-Jan","Kapelstraat 28",3540,"HERK-DE-STAD","013-55.45.93","directie@basisschoolberbroek.be"]
[16493,"VBS Stevoort","Kolmenstraat 7",3512,"STEVOORT","011-31.41.54","directie.vbstevoort@sgm-zevensprong.be"]
[16501,"GLS De Zonnebloem","Geneikenstraat 15",3560,"LUMMEN","013-39.04.85","gemeenteschool@lummen.be"]
[16543,"VBS Domino Genenbos","Genenbosstraat 82",3560,"LUMMEN","011-42.48.80","secretariaat@vbs-genenbos.be"]
[16551,"VBS 't Klinkertje","Sint-Trudostraat 9",3560,"LUMMEN","013-44.15.21","basisschool@klinkertje.be"]
[16568,"VLS De Buiteling","Meldertsesteenweg 13",3583,"PAAL","011-42.69.98","directie@vlspaal.be"]
[16576,"VKS Hand in Hand","Kloosterstraat 21",3583,"PAAL","011-36.46.46","directie@vkspaal.be"]
[16584,"VBS 'De Beerring'","Bogaarsveldstraat 20",3580,"BERINGEN","011-49.33.70","info@debeerring.be"]
[16592,"VBS 'De Beerring'","Koerselsesteenweg 25",3580,"BERINGEN","011-42.27.86","directie1@debeerring.be"]
[16601,"Straf!1","Houtpark 20",3582,"KOERSEL","011-42.82.92","directie@strafschoolmetlef.be"]
[16618,"Straf! 2","Houtpark 20",3582,"KOERSEL","011-42.82.92","directie@strafschoolmetlef.be"]
[16626,"VBS Westakker","Onderwijsstraat 15",3581,"BEVERLO","011-34.42.27","directie@westakker.be"]
[16634,"GBS De Hoeksteen","Vossenhoek 10",3581,"BEVERLO","011-34.46.21","directie@sbsdehoeksteen.be"]
[16642,"Vrije Basisschool","Poststraat 6",3945,"HAM","013-66.57.87","de-sterre@telenet.be"]
[16659,"Vrije Basisschool","Schoolstraat 7",3945,"HAM","011-34.38.01","directie@de-7sprong.be"]
[16667,"VLS Sint-Michiel","Diestersteenweg 13",3970,"LEOPOLDSBURG","011-40.12.12","kleuterlagersintmichiel@tofkids.be"]
[16675,"VBS Sint-Michiel","Diestersteenweg 7",3970,"LEOPOLDSBURG","011-34.31.34","kleuterlagersintmichiel@tofkids.be"]
[16683,"VBS De Heppening","Beringsesteenweg 12",3971,"HEPPEN","011-34.35.49","info@deheppening.be"]
[16691,"VLS HARTeLU(s)T, campus Kerkstraat","Kerkstraat 4_B",3980,"TESSENDERLO","013-66.27.36","hanne.jacobs@kabot.be"]
[16709,"VBS De Lettertrein","Lindenstraat 5",3980,"TESSENDERLO","013-33.75.19","gerd.beckers@kabot.be"]
[16717,"VBS Wereldwijzer","Hofstraat 92",3980,"TESSENDERLO","013-66.31.71","chris.verachtert@kabot.be"]
[16725,"VLS Hartelust","Kerkstraat 4_B",3980,"TESSENDERLO","013-66.27.36","hanne.jacobs@kabot.be"]
[16733,"VKS Wiebelwoud Schoot","Schoterweg 284_A",3980,"TESSENDERLO","013-67.17.59","hanne.jacobs@kabot.be"]
[16758,"VKS Wiebelwoud","Kerkstraat 4_C",3980,"TESSENDERLO","013-66.27.36","hanne.jacobs@kabot.be"]
[16774,"GBS De Schans","Veerledorp 18",2431,"VEERLE","014-84.12.80","info@gbsdeschans.be"]
[16782,"VBS De Wijngaard","Veerledorp 39",2431,"VEERLE","014-84.13.96","directie@vbsdewijngaard.be"]
[16791,"GBS De Duizendpoot","Schoolstraat 1",2450,"MEERHOUT","014-30.31.62","info@deduizendpoot.net"]
[16816,"VBS de Klimmuur","Gestelsesteenweg 104",2450,"MEERHOUT","0486-13.06.17","directie@deklimmuur.com"]
[16824,"VBS Groot-Vorst","Smissestraat 50",2430,"LAAKDAL","013-66.12.59","directie@vbsgrootvorst.be"]
[16832,"VBS Meerlaar","Meerlaarstraat 95",2430,"LAAKDAL","013-66.17.27","info@vbsmeerlaar.be"]
[16857,"Gemeentelijke Basisschool","Schoolstraat 42",2430,"EINDHOUT","014-86.63.40","info@gbseindhout.be"]
[16865,"VBS Christus-Koning Sint-Lodewijscollege","Gerard Davidstraat 6",8000,"BRUGGE","050-31.16.39","info@basisschoolchristuskoning.be"]
[16873,"VBS SLHD De Lenaard","Sint-Lenardsstraat 58",8380,"DUDZELE","050-59.94.78","bart.maene@slhd.be"]
[16881,"VBS SLHD De Komme","Ronsaardbekestraat 57",8000,"BRUGGE","050-33.56.97","tristan.defebere@slhd.be"]
[16899,"VBS SLHD Brugge A","Sint-Jansstraat 16",8000,"BRUGGE","050-33.15.43","basisschoolbrugge@slhd.be"]
[16931,"VBS Het Kleurenpalet","Groenestraat 27",8000,"BRUGGE","050-66.67-86","secretariaat@kleurenpalet.be"]
[16949,"VBS SLHD Sint-Leo - Sint-Pieters","Blankenbergse Steenweg 219",8000,"BRUGGE","050-31.21.39","tom.vuylsteke@slhd.be"]
[16956,"VBS SLHD Sint-Leo Sint-Pieters (afd.B)","Potentestraat 28",8000,"BRUGGE","050-31.21.39","tina.vanoost@slhd.be"]
[16964,"VLS SLHD Brugge B","Sint-Jansstraat 16",8000,"BRUGGE","050-33.15.43","myriam.vercruysse@slhd.be"]
[16981,"VBS Sint-Andreas - Brugge","Garenmarkt 8",8000,"BRUGGE","050-47.09.67","info@sint-andreas-brugge.be"]
[17012,"VBS Sint-Pieter","Kortrijksestraat 47_G",8020,"OOSTKAMP","050-82.68.44","info@sintpieter.net"]
[17038,"VBS De Vaart","Patersonstraat 98",8020,"OOSTKAMP","050-82.62.67","info@devaart.net"]
[17046,"VBS Sint-Maartensschool Loppem","Ieperweg 9",8210,"LOPPEM","050-36.42.00","directeur.loppem@scholengruuthuse.net"]
[17061,"VBS De Regenboog","Schooldreef 5",8730,"BEERNEM","050-78.88.91","directie@deregenboogbeernem.be"]
[17079,"GBS De Notelaar","Knesselarestraat 28",8730,"BEERNEM","050-78.88.32","directeur@gemeenteschooldenotelaar.be"]
[17087,"VBS Sint-Joris","Kerkstraat 9",8730,"SINT-JORIS","050-78.99.66","iris.vanpachtenbeke@vrijeschoolsintjoris.be"]
[17103,"VBS Baliebrugge","Torhoutsestraat 268",8020,"RUDDERVOORDE","050-27.59.63","info@baliebrugge.net"]
[17111,"VBS De Kiem","Leegtestraat 1",8020,"RUDDERVOORDE","050-27.88.50","directeur@dekiem.net"]
[17129,"VBS De Sprong","Sint-Blasiusstraat 1",8020,"WAARDAMME","050-27.76.95","directeur@desprong.net"]
[17137,"Vrije Lagere School","Zandbergstraat 19",8750,"WINGENE","051-65.68.52","steven.kindt@3span.be"]
[17145,"VBS Sint-Jan","Balgerhoekstraat 80",8750,"WINGENE","051-65.75.57","sintjan.wingene@3span.be"]
[17152,"VBS Wildenburg","Beernemsteenweg 117",8750,"WINGENE","051-65.75.57","wildenburg.wingene@3span.be"]
[17161,"VLS De Regenboog","Regenboogstraat 50",8750,"ZWEVEZELE","051-61.27.39","deregenboog.zwevezele@3span.be"]
[17178,"VBS De Vlieger & De Horizon","Sint-Jozefsstraat 7_A",8750,"ZWEVEZELE","051-61.13.09","dehorizon.zwevezele@3span.be"]
[17186,"GBS Het Beverbos","Beverenstraat 18",8810,"LICHTERVELDE","051-72.25.28","school@beverbos.be"]
[17194,"VBS 'tVlot","Statiestraat 38",8810,"LICHTERVELDE","051-72.62.21","geert.vantyghem@sint-rembert.be"]
[17202,"VBS De Kiem A","Pensionaatstraat 23",8755,"RUISELEDE","051-68.94.31","patrick.vervaeck@3span.be"]
[17211,"VBS De Linde","Brandstraat 24",8755,"RUISELEDE","051-68.73.37","annelies.devolder@3span.be"]
[17228,"VBS De Kiem B","Pensionaatstraat 23",8755,"RUISELEDE","051-68.70.37","patrick.vervaeck@3span.be"]
[17236,"Vrije Basisschool","Herderstraat 1",8820,"TORHOUT","050-22.05.46","sylvia.deschacht@sint-rembert.be"]
[17244,"VBS De Revinze","Revinzestraat 35",8820,"TORHOUT","050-21.13.21","peter.savels@sint-rembert.be"]
[17251,"VBS De Boomhut","Sint-Henricusstraat 4",8820,"TORHOUT","051-72.36.43","deboomhut@sint-rembert.be"]
[17269,"VBS Wijnendale","Kloosterstraat 5",8820,"TORHOUT","050-21.19.79","wijnendale@sint-rembert.be"]
[17277,"VBS Oefenschool Torhout","Bruggestraat 23",8820,"TORHOUT","050-23.15.11","monika.lanckriet@sint-rembert.be"]
[17285,"Vrije Basisschool","Handzamestraat 14",8610,"KORTEMARK","051-56.91.66","info@mmibasisschool.be"]
[17293,"VBS 'Ellebloempje","Ieperstraat 47",8610,"KORTEMARK","051-56.93.72","vbs.elle@telenet.be"]
[17301,"VBS De Tweesprong","Kronevoordestraat 62",8610,"HANDZAME","051-56.84.57","ine.holvoet@sint-rembert.be"]
[17319,"GBS De Kreke","Torhoutstraat 38",8610,"KORTEMARK","051-56.66.15","directie.dekreke@kortemark.be"]
[17368,"VBS De Brug","Bruggestraat 24",8840,"STADEN","051-70.07.47","debrug@staho.be"]
[17376,"VBS Schooltrio","Schoolstraat 90",8650,"KLERKEN","051-50.41.52","info@schooltrio.be"]
[17384,"VBS Houthulst","Terreststraat 4_D",8650,"HOUTHULST","051-70.24.75","directie@schoolhouthulst.be"]
[17401,"VBS Kouterkind Merkem","Kouterstraat 28_b",8650,"MERKEM","051-54.54.33","directie@kouterkind.be"]
[17434,"GBS klavertje vier Esen- Leke- Beerst","Roeselarestraat 18",8600,"ESEN","051-79.34.11","bureel@gbsdiksmuide.be"]
[17442,"Vrije Basisschool","Beerststraat 36",8600,"VLADSLO","051-50.38.12","vb.vladslo@belgacom.net"]
[17467,"Vrije Basisschool","Nieuwpoortstraat 4",8600,"PERVIJZE","051-55.50.62","info@vbspervijze.be"]
[17475,"VBS De Veerkracht","Iepersteenweg 8",8600,"WOUMEN","051-50.38.65","info@vbwoumen.be"]
[17483,"Gemeentelijke Lagere School","Mgr. Schottestraat 3_b",8650,"HOUTHULST","051-62.71.34","gemeenteschool.jonkershove@telenet.be"]
[17509,"Vrije Basisschool","Hoogstraat 15",8690,"ALVERINGEM","058-28.91.03","directie@vrijebasisschoolalveringem.be"]
[17517,"GBS Spelenderwijs","Nieuwstraat 50",8690,"ALVERINGEM","058-28.89.48","info@spelenderwijs.be"]
[17541,"Vrije Basisschool","Gistelse Steenweg 440",8200,"SINT-ANDRIES","050-40.68.90","directeur@basisschoolgistelsesteenweg.be"]
[17558,"VBS Sint-Lodewijkscollege_- De Zessprong","Doornstraat 3",8200,"SINT-ANDRIES","050-40.68.77","info@dezessprong.be"]
[17566,"VBS Sint-Lodewijkscollege-afd.Zandstraat","Zandstraat 69",8200,"SINT-ANDRIES","050-31.63.22","directeur@basisschoolzandstraat.be"]
[17574,"VBS Sint-Lodewijkscollege-afd.Immaculata","Koningin Astridlaan 4",8200,"SINT-MICHIELS","050-40.45.07","directeur@basisschoolimmaculata.be"]
[17582,"VBS Sint-Lodewijkscollege","Spoorwegstraat 250",8200,"SINT-MICHIELS","050-39.45.93","anne.dierickx@baslos.be"]
[17591,"SBS De Triangel","Diksmuidse Heerweg 159",8200,"SINT-ANDRIES","050-39.13.23","secretariaat@de-triangel.be"]
[17608,"VBS De Wassenaard","Westernieuwweg 5",8490,"VARSENARE","050-38.65.43","directie@dewassenaard.be"]
[17616,"VBS Het Dorp","Groenestraat 29",8210,"ZEDELGEM","050-20.93.40","dorp.directie@sint-rembert.be"]
[17624,"VBS De Leeuw","Pastoor Staelensstraat 3_A",8210,"ZEDELGEM","050-20.97.90","pol.vlaeminck@sint-rembert.be"]
[17632,"VBS De Stapsteen","Koning Albertstraat 2",8210,"ZEDELGEM","050-27.62.12","stapsteen.directie@sint-rembert.be"]
[17657,"VBS De Klimtoren","Kapellestraat 16",8490,"JABBEKE","050-81.27.14","rebekka.buyse@klimtoren.be"]
[17665,"VBS De Loopbrug Zerkegem-Snellegem","Vedastusstraat 96",8490,"ZERKEGEM","050-81.18.10","myriam.monstrey@vbsdeloopbrug.be"]
[17673,"VBS 't Boompje","Cathilleweg 82",8490,"STALHILLE","050-81.42.98","hetboompje@telenet.be"]
[17699,"VBS H.Familie","Stedebeekpad 2",8460,"OUDENBURG","059-26.52.55","secretariaat@vbshfamilie.be"]
[17715,"VBS Gravenbos","Gravenbos 6",8470,"GISTEL","059-27.63.63","info@gravenbos.be"]
[17723,"VBS Driespan","Tempeldreef 6",8470,"GISTEL","059-27.83.40","directie@driespan.be"]
[17756,"Gemeentelijke Basisschool","Vrijheidsstraat 1",8470,"SNAASKERKE","059-27.82.95","directie@gbsdehorizon.be"]
[17764,"VBS Eernegem - Bekegem","Stationsstraat 1_A",8480,"EERNEGEM","059-29.99.88","directie@vbseernegem.be"]
[17772,"GBS 't Mozaiek","Westkerkestraat 53",8480,"EERNEGEM","059-29.92.98","directie@gbsichtegem.be"]
[17781,"VBS de Fonkel","Schoolstraat 19",8211,"AARTRIJKE","050-24.11.31","marjolijn.roets@sint-rembert.be"]
[17798,"VBS De Schatkist","Koekelarestraat 14",8480,"ICHTEGEM","051-58.97.94","deschatkist@vbsichtegem.be"]
[17814,"VBS De Negensprong 1","Kerkstraat 2_A",8680,"KOEKELARE","051-58.90.26","negensprong@sint-rembert.be"]
[17831,"VBS De Driemaster","Pastoor de Neveplein 18",8300,"KNOKKE","050-60.07.09","directie.dedriemaster@sgsaeftinghe.be"]
[17848,"GBS De Pluim","Kragendijk 182",8300,"KNOKKE","050-63.08.60","melissa.vermassen@knokke-heist.be"]
[17855,"VBS Sint-Margaretaschool","Sportlaan 8",8300,"KNOKKE","050-60.05.06","directie.margaretaschool@sgsaeftinghe.be"]
[17863,"VLS Sint-Jan","Keuvelhoekstraat 100",8300,"KNOKKE","050-60.43.10","directie.sintjansschool@sgsaeftinghe.be"]
[17871,"VBS H-Hart","Jef Mennekenslaan 3",8300,"KNOKKE-HEIST","050-60.04.72","directie.heilighartschool@sgsaeftinghe.be"]
[17889,"VLS Kantelberg","De Linde 94",8310,"SINT-KRUIS","050-35.14.25","directie@kantelberg.be"]
[17905,"VLS Sint-Andreaslyceum","Fortuinstraat 29",8310,"SINT-KRUIS","050-28.85.10","lagere@sask.be"]
[17921,"VBS - OLVA De Touwladder","Collegestraat 24_BI",8310,"ASSEBROEK","050-37.34.78","directie@olvadetouwladder.be"]
[17939,"VBS OLVA De Meersen","Astridlaan 400",8310,"ASSEBROEK","050-35.15.97","directie@olvademeersen.be"]
[17947,"VBS OLVA Katrientje","Sint-Katarinastraat 132",8310,"ASSEBROEK","050-35.55.98","directie@olvasintkatarina.be"]
[17954,"VBS OLVA Steenbrugge","Baron Ruzettelaan 439",8310,"ASSEBROEK","050-35.81.18","directie@olvasteenbrugge.be"]
[17962,"VBS Ter Bunen","Bruggestraat 30_A",8730,"OEDELEM","050-78.97.22","directeur@terbunen.be"]
[17971,"VBS Sint-Maarten","Kloosterstraat 4_A",8340,"SIJSELE","050-36.32.25","info@vrijebasisschoolsijsele.be"]
[17988,"GBS Het Spoor","Stationsstraat 13",8340,"SIJSELE","050-35.04.15","gemeenteschool@damme.be"]
[17996,"VBS OLVcollege-afd.Vivenkapelle","Bradericplein 16_A",8340,"DAMME","050-35.47.87","directie@olva-viven.be"]
[18002,"VBS Lapscheure","Vredestraat 1 bus 2",8340,"LAPSCHEURE","050-50.10.41","info@vbslapscheure.be"]
[18011,"VBS Sint-Jozef Sint-Pieter Campus Westst","Weststraat 117",8370,"BLANKENBERGE","050-41.14.89","pieter.derycker@atotzee.be"]
[18028,"VBS Sint-Jozef Sint-Pieter Campus Schaap","Schaapstraat 8",8370,"BLANKENBERGE","050-41.44.80","els.teugels@atotzee.be"]
[18036,"GBS Brugge-Noord","Stationsstraat 25",8380,"LISSEWEGE","050-54.48.28","directie@brugge-noord.be"]
[18044,"VBS De Lisblomme","Zeebruggelaan 41",8380,"LISSEWEGE","050-55.10.71","directie.delisblomme@sgsaeftinghe.be"]
[18051,"VBS Roezemoes","Zustersstraat 9",8380,"ZEEBRUGGE","050-54.50.96","directie.roezemoes@sgsaeftinghe.be"]
[18077,"GBS Het Anker","Pannenstraat 132",8301,"HEIST-AAN-ZEE","050-63.08.70","hetanker@knokke-heist.be"]
[18085,"VBS OLVO","Stadhuisstraat 4",8301,"HEIST-AAN-ZEE","050-51.29.25","directie.olvo@sgsaeftinghe.be"]
[18093,"GO! BS Freinet De Zonnebloem","Ieperstraat 5",8400,"OOSTENDE","059-80.78.75","info@zonnebloemoostende.be"]
[18119,"GO! BS Hendrik Conscience","Stuiverstraat 81",8400,"OOSTENDE","059-70.87.46","info@conscienceschool.be"]
[18127,"GO! BS Kroonlaan","Kroonlaan 18",8400,"OOSTENDE","059-70.42.95","info@kroonlaan.be"]
[18135,"GO! BS August Vermeylen","Schermplantenstraat 36",8400,"OOSTENDE","059-70.95.12","info@vermeylenschool.be"]
[18143,"GO! BS de morootjes","Thomas Van Loostraat 56",8400,"OOSTENDE","059-32.27.45","cynthia.callebout@demorootjes.be"]
[18176,"Vrije Basisschool","Kloosterstraat 2",8400,"OOSTENDE","059-26.82.75","info@zano.be"]
[18184,"Vrije Basisschool","Guido Gezellestraat 19",8400,"OOSTENDE","059-50.22.97","directeur@lodo.be"]
[18192,"Vrije Basisschool","Aartshertoginnestraat 38",8400,"OOSTENDE","059-70.55.62","directie.kleincollege@bewonderwijs.be"]
[18218,"VBS OLV College","Gerststraat 109",8400,"OOSTENDE","059-70.07.75","directie.olgo@bewonderwijs.be"]
[18226,"VBS O.-L.-V.college Mariakerke","Lijsterbeslaan 5",8400,"OOSTENDE","059-70.99.15","directie.olvoM@bewonderwijs.be"]
[18234,"VBS Sint-Andreas","Schapenstraat 32",8400,"OOSTENDE","059-70.67.68","info@saso.be"]
[18242,"VBS OLVcollege Mariakerke-Rozenlaan","Aartshertogstraat 26",8400,"OOSTENDE","059-50.55.47","directie.olvoM@bewonderwijs.be"]
[18259,"VBS Sint-Andreas Stene","Steensedijk 151_1",8400,"OOSTENDE","059-42.75.27","info@saobasis.be"]
[18275,"VBS Onze-Lieve-Vrouwecollege","Kaaistraat 22",8400,"OOSTENDE","059-70.20.03","directie.olko@bewonderwijs.be"]
[18283,"Vrije Basisschool","Stanleylaan 55",8400,"OOSTENDE","059-32.24.67","directie.vuurtoren@bewonderwijs.be"]
[18291,"Vrije Basisschool","Peter Benoitlaan 15",8450,"BREDENE","059-32.24.87","directeur@vbsduinen.be"]
[18309,"VBS Don Bosco","Nukkerstraat 106",8450,"BREDENE","059-32.23.45","directeur@donboscobredene.be"]
[18317,"VLS (CKG)","Prinses Elisabethlaan 1",8450,"BREDENE","059-32.24.84","info@ibiswerk.be"]
[18325,"VBS H.Hart","Kerkstraat 70",8420,"WENDUINE","050-41.69.68","regine.goeminne@atotzee.be"]
[18333,"GO!BS 't Klavertje","Brugsesteenweg 2",8420,"WENDUINE","050-41.33.17","directie.tklavertje@sgimpact.be"]
[18341,"GBS 't Polderhart Zuienkerke","Nieuwe Steenweg 37",8377,"ZUIENKERKE","050-41.84.30","directeur@gemeenteschoolzuienkerke.be"]
[18358,"VBS De Zeeboon","Grotestraat 18",8420,"DE HAAN","059-23.57.26","vbs.dezeeboon@atotzee.be"]
[18366,"VBS Heideschool","Heidelaan 24",8420,"DE HAAN","059-23.77.05","directie@heideschool.be"]
[18374,"Vrije Basisschool","Kerkstraat 41_A",8430,"MIDDELKERKE","059-30.19.39","directie.stjomi@bewonderwijs.be"]
[18382,"GBS Middelkerke 1","Onderwijsstraat 5",8430,"MIDDELKERKE","059-30.70.30","dezandloper@middelkerke.be"]
[18391,"GBS Middelkerke 2","Bonte Pierstraat 22",8432,"LEFFINGE","059-30.29.41","patricia.hauweele@middelkerke.be"]
[18424,"Vrije Basisschool","Santhovenstraat 1_B",8434,"LOMBARDSIJDE","058-23.56.35","directie.stjolo@bewonderwijs.be"]
[18432,"VBS St-Lutgardis","Westendelaan 344",8434,"WESTENDE","058-23.35.34","directie.stluwe@bewonderwijs.be"]
[18441,"VBS Nieuwpoort Stella Maris","Willem De Roolaan 72",8620,"NIEUWPOORT","058-23.22.11","info@stellamarisnieuwpoort.be"]
[18457,"GBS De Pagaaier","Sint-Jorisplein 31",8620,"NIEUWPOORT","058-23.51.34","info@depagaaier.be"]
[18473,"Vrije Basisschool","Vrijheidstraat 8",8670,"OOSTDUINKERKE","058-51.55.72","directie@vbsoostduinkerke.be"]
[18481,"Gemeentelijke Basisschool","Dorpsstraat 4",8670,"OOSTDUINKERKE","058-51.43.49","gemeenteschool@oostduinkerke.be"]
[18499,"VBS De Ark","Helvetiastraat 28",8670,"KOKSIJDE","058-52.34.18","info@deark-koksijde.be"]
[18515,"Gemeentelijke Basisschool","Abdijstraat 101",8670,"KOKSIJDE","058-51.18.28","gemeenteschool@koksijde.be"]
[18531,"VBS Sint-Pieter","Kloosterweg 2",8660,"DE PANNE","058-41.50.25","directie@vbs-sint-pieter.be"]
[18549,"VBS Immaculata","E. D'Arripelaan 2",8660,"DE PANNE","058-41.24.00","directie@immaculata.be"]
[18556,"GBS De Leerplaneet","Dorpsstraat 24",8660,"ADINKERKE","058-41.27.10","gemeenteschool@depanne.be"]
[18564,"VBS Houtmarkt 64","Houtmarkt 14",8630,"VEURNE","058-31.37.41","info@vbshoutmarkt.be"]
[18572,"VBS Houtmarkt 72","Houtmarkt 14",8630,"VEURNE","058-31.37.41","info@vbshoutmarkt.be"]
[18581,"VKS Steenkerke","Brugse Steenweg 77",8630,"VEURNE","058-31.26.73","griet.lenders@dedroomvlieger.be"]
[18598,"VBS Nieuwstad - Bulskamp","Brugse Steenweg 77",8630,"VEURNE","058-31.26.73","marieke.stubbe@dedroomvlieger.be"]
[18622,"Vrije Basisschool","Groeneplaats 1_A",8630,"VINKEM","058-29.83.80","GVBS.Beauvoorde@skynet.be"]
[18631,"VBS Het Talent Houtem","Kerkhoek 8",8630,"HOUTEM","058-29.90.25","school.houtem@telenet.be"]
[18655,"VBS Damiaanschool","Pottelberg 15_A",8500,"KORTRIJK","056-21.67.14","damiaanschool@kbkscholen.be"]
[18663,"VBS Sint-Theresia","Oudenaardsesteenweg 204",8500,"KORTRIJK","056-25.38.36","sint.theresia@kbkscholen.be"]
[18689,"Vrije Basisschool","Krysantenlaan 6",8500,"KORTRIJK","056-22.50.27","jan.luts@sabko.be"]
[18697,"VBS Sint-Amands Noord","Kollegestraat 8",8500,"KORTRIJK","056-96.98.87","directeur.noord@sabko.be"]
[18705,"VBS 't Fort","Plein 9",8500,"KORTRIJK","056-22.81.89","tfort@kbkscholen.be"]
[18713,"VBS Sint-Jozef","Veldstraat 168",8500,"KORTRIJK","056-22.66.39","sint.jozef@kbkscholen.be"]
[18721,"VBS O.L.V.Van Vlaanderen","Beverlaai 75",8500,"KORTRIJK","056-17.09.00","olv.vlaanderen@kbkscholen.be"]
[18739,"VBS Kinderland","Sint-Anna 41",8500,"KORTRIJK","056-20.10.64","sofie.eggermont@kinderlandweb.be"]
[18747,"VBS Sint-Paulus","Burgemeester Felix de Bethunelaa 1_A",8500,"KORTRIJK","056-21.32.10","sint.paulus@kbkscholen.be"]
[18754,"VBS Pius X","Sint-Elooisdreef 56_A",8500,"KORTRIJK","056-35.57.40","basis@piusxkortrijk.be"]
[18762,"Vrije Basisschool","Kloosterstraat 39",8510,"MARKE","056-21.08.31","directie@vcsm.be"]
[18771,"VBS Rodenburg","Rodenburgplein 31",8510,"MARKE","056-21.17.37","directie@rodenburgschool.be"]
[18788,"Vrije Basisschool","Lauwsestraat 11",8511,"AALBEKE","056-41.03.75","directie@biekorfje.be"]
[18796,"VBS De Stap","Wevelgemstraat 2_A",8930,"LAUWE","056-41.34.97","directie@destap.be"]
[18804,"GBS De Wonderwijzer","Hospitaalstraat 14",8930,"LAUWE","056-41.14.72","info@dewonderwijzer.be"]
[18812,"VBS Kaspar","Kasteeldreef 5",8930,"REKKEM","056-41.35.93","directie@vbsrekkem.be"]
[18821,"GBS Barthel","Moeskroenstraat 525",8930,"REKKEM","056-41.47.88","directeur@barthelschool.be"]
[18838,"Vrije Basisschool","Bellegemkerkdreef 1",8510,"BELLEGEM","056-21.56.80","vbsbellegem@telenet.be"]
[18846,"Gemeentelijke Basisschool","Halenplein 11",8500,"KORTRIJK","056-21.52.56","gemeenteschool@kortrijk.be"]
[18853,"Vrije Basisschool","Theophiel Toyeplein 8",8550,"ZWEVEGEM","056-75.53.76","info@vrijecentrumschool.be"]
[18861,"Vrije Basisschool","Sint-Jozefsstraat 11",8550,"ZWEVEGEM","056-75.58.34","directeur@kappaertschool.be"]
[18879,"VBS Otegem","Zwevegemstraat 5",8553,"OTEGEM","056-77.82.20","directie@vbsotegem.be"]
[18887,"Gemeentelijke Kleuterschool","Hendrik Consciencestraat 28_A",8550,"ZWEVEGEM","056-28.54.50","lieve.duyck@gszwevegem.be"]
[18903,"VBS De Wegelink","Kerkdreef 4",8570,"VICHTE","056-77.73.03","info@vbsving.be"]
[18911,"GBS Ingooigem","Pastoor Verrieststraat 12",8570,"INGOOIGEM","056-77.92.46","gemeenteschool@scholeningooigem.be"]
[18929,"Vrije Basisschool","Landergemstraat 1 bus E",8570,"ANZEGEM","056-65.18.90","info@vba.be"]
[18937,"VBS Sint- Theresia","Vichtsesteenweg 109",8570,"ANZEGEM","056-68.93.92","info@vbsdeblokkentoren.be"]
[18945,"VBS leefschool Groene Poortje","Groeningestraat 11",8572,"KASTER","056-68.85.44","info@groenepoortje.be"]
[18952,"VBS Buitenschool De Bergop","Neerstraat 1",8573,"TIEGEM","056-68.05.15","info@debergop.be"]
[18961,"Vrije Kleuterschool","Ruggestraat 39",8580,"AVELGEM","056-64.77.90","ksrugge@gmail.com"]
[18978,"VBS Sint-Jan Berchmans_Avelgem","Kloosterstraat 1",8580,"AVELGEM","056-64.65.36","directie@vbs-avelgem.be"]
[18994,"VKS De buitenkans","Doorniksesteenweg 557",8583,"BOSSUIT","056-45.68.30","ks.bossuit@gmail.com"]
[19001,"GO! BS De Polyglot_Spiere-Helkijn","Oudenaardseweg 75",8587,"SPIERE-HELKIJN","056-45.53.53","directie@bsdepolyglot.be"]
[19026,"Vrije Basisschool","Moenplaats 10",8552,"MOEN","056-64.44.83","directie@vbsmoen.be"]
[19034,"Gemeentelijke Basisschool","Dalestraat 40",8554,"SINT-DENIJS","056-45.57.72","bart.desmet@gszwevegem.be"]
[19042,"Gemeentelijke Basisschool","Kerkhofplein 3",8551,"HEESTERT","056-28.54.30","evelien.staelens@gszwevegem.be"]
[19059,"Vrije Basisschool","J. en M. Sabbestraat 132",8930,"MENEN","056-51.28.90","directie@sint-jansschool.net"]
[19067,"VBS VLAM","Vlamingenstraat 172",8930,"MENEN","056-51.30.74","basisschoolvlam@telenet.be"]
[19083,"VBS Sint-Joris","St. Jansmolenstraat 7",8930,"MENEN","056-51.28.89","directie@sint-joris.net"]
[19091,"VBS Blijdhove","Guido Gezellelaan 77",8930,"MENEN","056-51.10.01","directie@blijdhove.be"]
[19109,"VBS Binnenhof","Binnenhof 53",8930,"MENEN","056-51.29.05","binnenhof53@blijdhove-binnenhof.be"]
[19117,"VBS Wijnberg","Kleine Wijnbergstraat 6",8560,"WEVELGEM","056-41.36.65","directie@wijnberg.be"]
[19125,"VBS SPWe- basis","Schoolstraat 19",8560,"WEVELGEM","056-41.42.77","directie@spwebasis.net"]
[19133,"Vrije Basisschool","Normandiëstraat 57",8560,"WEVELGEM","056-42.76.83","directie@posthoorn.be"]
[19141,"Gemeentelijke Basisschool","Hoogstraat 10",8560,"WEVELGEM","056-42.69.62","info@gbswevelgem.be"]
[19158,"VKS De Tandem","Driekerkenstraat 6",8501,"BISSEGEM","056-35.62.72","directie@vklsbissegem.be"]
[19166,"VLS De Tandem","Hendrik Dewildestraat 4",8501,"BISSEGEM","056-35.62.72","directie@vklsbissegem.be"]
[19174,"Vrije Kleuterschool","Dorpsplein 29",8560,"GULLEGEM","056-32.79.60","secretariaat@gulleboom.be"]
[19182,"VLS De Gulleboom","Poststraat 20",8560,"GULLEGEM","056-41.29.70","lagereschool.gullegem@telenet.be"]
[19191,"VLS De Gulleboom","Bissegemstraat 22",8560,"GULLEGEM","056-41.42.82","bissegemstraat@gulleboom.be"]
[19208,"VLS BaMo","Caesar Gezellestraat 7",8560,"MOORSELE","056-42.54.17","bamo@moorsele.be"]
[19216,"Vrije Basisschool","Rozenstraat 6",8560,"MOORSELE","056-42.54.17","romo@moorsele.be"]
[19224,"VBS De Peereboom","Hugo Verriestlaan 49",8880,"LEDEGEM","056-50.95.42","directie.ledegem@moorsledegem.be"]
[19232,"VBS Sint-Jan","Rollegemstraat 216",8880,"ROLLEGEM-KAPELLE","0491-61.30.70","directie.rollegem@moorsledegem.be"]
[19241,"VBS 't Brugske Dadizele","Plaats 29",8890,"DADIZELE","056-50.93.17","directie.dadizele@moorsledegem.be"]
[19265,"VBS 't Brugske Slypskapelle","Pastorijstraat 2",8890,"MOORSLEDE","056-50.96.97","directie.slyps@moorsledegem.be"]
[19323,"GBS De Regenboog","Oude Zandvoordestraat 1",8980,"GELUVELD","057-46.62.04","info@regenbooggeluveld.be"]
[19331,"VBS De Biesweide","Kloosterlaan 4",8980,"BESELARE","057-46.64.56","info@debiesweide.be"]
[19364,"GBS De Zonnebloem","Berten Pilstraat 7",8980,"ZONNEBEKE","051-77.82.44","info@gbsdezonnebloem.be"]
[19372,"VBS De Wijzer Zonnebeke","Ieperstraat 2_a",8980,"ZONNEBEKE","051-77.90.95","info@dewijzer.be"]
[19381,"VBS De Bunderboog","Stationstraat 49_A",8890,"MOORSLEDE","051-77.22.68","directie.moorslede@moorsledegem.be"]
[19398,"GBS Klavertje Vier","Roeselaarsestraat 60",8890,"MOORSLEDE","051-77.94.52","info@gbsklavertjevier.be"]
[19431,"VBS Heilig Hart Izegem","Roeselaarsestraat 334",8870,"IZEGEM","051-30.45.11","isabelle.demeester@prizma.be"]
[19448,"VBS Sint-Rafaël","Baronielaan 19",8870,"IZEGEM","051-30.47.77","stefaan.maertens@prizma.be"]
[19463,"VSB Heilige Familie","Leenstraat 110",8870,"IZEGEM","051-30.21.26","heiligefamilie@prizma.be"]
[19489,"VBS Sint-Pieter","Prinsessestraat 13",8870,"IZEGEM","051-30.41.85","tommy.vansteenwinkel@prizma.be"]
[19497,"VBS Sint-Vincentiusschool","Hogestraat 66",8870,"KACHTEM","051-31.11.64","directie.vincentiusschool@telenet.be"]
[19505,"VLS Spes Nostra","Koffiestraat 8",8501,"HEULE","056-35.23.39","koffiestraat@vbsspesnostra.be"]
[19513,"VBS De Watermolen","Watermolenwal 2",8501,"HEULE","056-35.58.87","jo.vermeulen@heule-watermolen.be"]
[19521,"VLS Spes Nostra","Schoolstraat 2",8501,"HEULE","056-35.38.53","schoolstraat@vbsspesnostra.be"]
[19539,"VKS Spes Nostra","Steenstraat 12",8501,"HEULE","056-35.23.39","mieke.blomme@vbsspesnostra.be"]
[19547,"GBS Centrumschool Kuurne","Gasthuisstraat 30",8520,"KUURNE","056-71.10.32","directie@centrumschool.be"]
[19554,"GBS Wijzer&Pienter","Koning Boudewijnstraat 52",8520,"KUURNE","056-71.18.51","directie.wijzer@kuurne.be"]
[19562,"VBS St- Michiel","Gen. Eisenhowerstraat 8",8520,"KUURNE","056-71.40.99","vbs.stmichiel@vrijescholenkuurne.be"]
[19571,"Vrije Kleuterschool","Kortrijksestraat 12_01",8520,"KUURNE","056-71.40.99","vks.kuurne@vrijescholenkuurne.be"]
[19588,"VBS Sint-Pieter","Sint-Michielsweg 2_2",8520,"KUURNE","056-71.48.06","vbs.stpieter@vrijescholenkuurne.be"]
[19596,"GBS Noord","Tieltsestraat 31",8531,"HULSTE","056-73.34.50","leen.pison@harelbeke.be"]
[19604,"SBS Zuid","Generaal Deprezstraat 91",8530,"HARELBEKE","056-73.34.55","gregory.rassalle@harelbeke.be"]
[19612,"VBS Heilig Hart","Tuinstraat 21",8530,"HARELBEKE","056-72.43.45","directie@vbsheilighart.be"]
[19621,"VBS Maria","Schoolstraat 70",8530,"HARELBEKE","056-71.46.42","directeur@mariaschoolharelbeke.be"]
[19638,"Vrije Basisschool","Hoogstraat 41",8540,"DEERLIJK","056-70.31.92","de.berk@deerlijk.be"]
[19653,"Vrije Basisschool","Breestraat 65",8540,"DEERLIJK","056-77.50.75","directeur@basisschoolbelgiek.be"]
[19661,"VBS St- Lodewijk","Pladijsstraat 296",8540,"DEERLIJK","056-77.91.57","info@sintlodewijk.org"]
[19679,"Gemeentelijke Lagere School","Sint-Amandusstraat 26",8540,"DEERLIJK","056-71.19.49","de.beuk@deerlijk.be"]
[19687,"VBS Desselgem","Liebaardstraat 7_A",8792,"DESSELGEM","056-72.67.17","directie.desselgem@ko-dewegwijzer.be"]
[19695,"Stedelijke Basisschool","Koekoekstraat 26",8793,"SINT-ELOOIS-VIJVE","056-60.65.85","info@vijve.be"]
[19703,"Stedelijke Basisschool","Koning Albertstraat 41",8791,"BEVEREN","056-71.39.50","info@beveren-leie.be"]
[19711,"VBS Beveren-Leie","Koning Albertstraat 31",8791,"BEVEREN","056-32.56.05","directie.beveren-leie@ko-dewegwijzer.be"]
[19729,"VBS Het Vlinderbos","Monseigneur Debrabanderestraat 23",8710,"OOIGEM","056-66.66.48","info@hetvlinderbos.be"]
[19737,"VBS De Wingerd","Bruyelstraat 8",8531,"BAVIKHOVE","056-71.09.98","directie@vbsdewingerd.be"]
[19745,"VBS Prizma-De Talententuin","Stationsstraat 8",8860,"LENDELEDE","051-30.00.65","marie.maertens@prizma.be"]
[19752,"VBS De Groeitoren","Kloosterstraat 1",8880,"SINT-ELOOIS-WINKEL","0494-87.87.92","directie.sew@moorsledegem.be"]
[19761,"VBS Prizma De Wegwijzer","Schoolstraat 8",8770,"INGELMUNSTER","051-30.98.87","jo.windels@prizma.be"]
[19794,"GBS De Wingerd","Schoolstraat 4_a",8770,"INGELMUNSTER","051-30.36.13","directie@gbs-dewingerd.be"]
[19811,"VBS Mandelbloesem","Wielsbekestraat 21",8780,"OOSTROZEBEKE","056-66.80.60","directie@vbsmandelbloesem.be"]
[19828,"Vrije Basisschool Ginsteschool","Molstenstraat 83",8780,"OOSTROZEBEKE","056-66.66.04","directie@ginsteschool.be"]
[19836,"VBS Springeling","Baron van der Bruggenlaan 19",8710,"WIELSBEKE","056-66.64.75","directie@springeling.be"]
[19844,"GBS De WegWijzer","Markegemstraat 49",8720,"WAKKEN","056-60.37.41","info@dewegwijzer.be"]
[19851,"Vrije Basisschool","Brouwerijstraat 2_A",8720,"MARKEGEM","051-63.56.50","info@vbsmikado.be"]
[19869,"VBS Keukeldam-Sint-Petrus","Keukeldam 19",8790,"WAREGEM","056-60.32.70","directie.keukeldam-sintpetrus@ko-dewegwijzer.be"]
[19877,"VBS Duizend+Poot","Remi Baertlaan 2",8793,"SINT-ELOOIS-VIJVE","056-60.57.62","directie.duizendpluspoot@ko-dewegwijzer.be"]
[19885,"VBS Gaverke-College","Broekstraat 8",8790,"WAREGEM","056-60.17.41","directie.gaverkecollege@ko-dewegwijzer.be"]
[19893,"VBS Nieuwenhove","Platanendreef 17",8790,"WAREGEM","056-60.10.44","directie.nieuwenhove@ko-dewegwijzer.be"]
[19901,"VBS Biest-Jager","Bieststraat 75",8790,"WAREGEM","056-60.39.41","directie.biestjager@ko-dewegwijzer.be"]
[19919,"SBS Guido Gezelle","Guido Gezellestraat 20",8790,"WAREGEM","056-60.25.53","info@guidogezelleschool.be"]
[19927,"SBS Torenhof","Albert Servaeslaan 60",8790,"WAREGEM","056-60.31.48","info@torenhofschool.be"]
[19935,"VBS De Vliegeraar","Willem Bouvier Cartonstraat 46",8710,"SINT-BAAFS-VIJVE","056-60.77.47","info@devliegeraar.be"]
[19943,"SBS De Brug","Brugsesteenweg 75",8800,"ROESELARE","051-24.15.23","directie@sbsdebrug.be"]
[19951,"SBS De Octopus","Leeuwerikstraat 30",8800,"ROESELARE","051-26.44.40","directie@sbsdeoctopus.be"]
[19968,"VBS Arkorum 11 Vikingschool","Groenestraat 267",8800,"ROESELARE","051-22.42.59","vikingschool@arkorum.be"]
[19976,"VBS Arkorum 02 Mozaïek","Nijverheidsstraat 7",8800,"ROESELARE","051-22.23.38","demozaiek@telenet.be"]
[19992,"VBS Arkorum 03 Lenteland","Honzebroekstraat 44",8800,"ROESELARE","051-20.61.76","tania.verbeke@arkorum.be"]
[20008,"VLS Arkorum 12 De Bever","Wijnendalestraat 19",8800,"ROESELARE","051-24.49.56","debever@arkorum.be"]
[20016,"VBS Arkorum 05_VCS Burger school","Albrecht Rodenbachstraat 16",8800,"ROESELARE","051-24.28.40","william.doom@arkorum.be"]
[20024,"VLS Arkorum 09 Sint-Jozef","Tulpenstraat 6",8800,"ROESELARE","051-22.35.41","sint.jozef@arkorum.be"]
[20032,"VBS Arkorum 01 Sprankel","Dokter Delbekestraat 28",8800,"ROESELARE","051-22.73.66","directie.sint-lutgart@arkorum.be"]
[20041,"VBS Arkorum 10 Spanjeschool-De Tassche","Vierwegstraat 195",8800,"ROESELARE","051-20.70.87","gerdi.casier@arkorum.be"]
[20065,"VBS Arkorum 06 De Bever","Schoolstraat 11",8800,"ROESELARE","051-25.19.61","jan.vervaecke@arkorum.be"]
[20073,"SBS De Vlieger","Hoogstraat 58",8800,"RUMBEKE","051-23.19.76","brecht.vanmullem@sbsdevlieger.be"]
[20081,"VBS Arkorum 16 De Verrekijker","Kloosterstraat 1",8800,"RUMBEKE","051-20.29.28","gvb.rumbeke@telenet.be"]
[20099,"VBS Arkorum 18 Klim","Meensesteenweg 715",8800,"RUMBEKE","056-50.21.13","klim@arkorum.be"]
[20107,"VBS Arkorum 17 De Zilverberg","Meensesteenweg 417",8800,"RUMBEKE","051-22.44.67","info@zilverbergschool.be"]
[20123,"VBS Arkorum 08 De Ark","Sint-Eloois-Winkelsestraat 59",8800,"OEKENE","051-12.30.41","ark@arkorum.be"]
[20131,"VBS Oostnieuwkerke","Slijperstraat 1_A",8840,"OOSTNIEUWKERKE","051-24.33.05","gvboostnieuwkerke@staho.be"]
[20149,"Gemeentelijke Basisschool","Schoolstraat 9",8830,"HOOGLEDE","051-20.53.81","directie@geho.be"]
[20164,"VBS De Mozaiek","Delaeystraat 59",8830,"HOOGLEDE","051-70.23.95","demozaiek@staho.be"]
[20198,"VBS Arkorum 14 De Boomgaard","Blekerijstraat 5",8850,"ARDOOIE","051-74.68.98","deboomgaard@arkorum.be"]
[20206,"VBS Arkorum 15 De Horizon","Ardooisestraat 1_A",8851,"KOOLSKAMP","051-74.69.50","nadine.vanwalleghem@arkorum.be"]
[20222,"Gemeentelijke Basisschool","Hemelstraat 14",8850,"ARDOOIE","051-74.49.16","jan.dedecker@gbsardooie.be"]
[20231,"VBS Paandersschool","Paanderstraat 49",8760,"MEULEBEKE","051-48.74.03","elsdeclerck@sgfv.be"]
[20248,"Vrije Basisschool 't Veld","Sint-Antoniusstraat 3",8760,"MEULEBEKE","051-48.61.17","info@basisschooltveld.be"]
[20255,"VKS Sint-Lutgardis","Karel van Manderstraat 33",8760,"MEULEBEKE","051-48.80.86","directie@kleuterschool-sintlutgardis.be"]
[20263,"VBS Marialoopschool","Marialoopsteenweg 55",8760,"MEULEBEKE","051-40.35.67","evarubens@sgfv.be"]
[20271,"VBS Pit","Koolskampstraat 4",8740,"PITTEM","051-46.66.24","directie@basisschoolpit.be"]
[20289,"VBS De Akker","Molenakker 97",8740,"EGEM","051-46.76.99","lievedewitte@sgfv.be"]
[20305,"VBS 't Nieuwland","Ontvangerstraat 7",8700,"TIELT","051-40.20.62","info@vbstnieuwland.be"]
[20313,"VBS Heilige Familie","Driesstraat 1",8700,"TIELT","051-40.47.50","info@vbsheiligefamilie.be"]
[20347,"VBS De Wijzer","Molenweg 2",8700,"AARSELE","051-63.31.08","info@vbsdewijzer.be"]
[20354,"VBS Zeppelin","Statiestraat 53",8720,"DENTERGEM","051-63.62.36","vbs.zeppelin@vbszeppelin.be"]
[20362,"Gemeentelijke Basisschool","Tieltseweg 66",8720,"DENTERGEM","051-40.85.81","directie@veldschool.be"]
[20371,"VBS Sint-Michiels - Sint-Vincentius","Elverdingestraat 18",8900,"IEPER","057-20.28.61","smzil@cdi-ieper.be"]
[20388,"VBS Lyceum Heilige Familie","Maloulaan 2",8900,"IEPER","057-21.82.39","mia.ingelaere@cdi-ieper.be"]
[20396,"Vrije Basisschool","Meenseweg 33",8900,"IEPER","057-20.71.24","sintjozef@cdi-ieper.be"]
[20404,"VBS Immaculata","Goudenpoortstraat 4",8900,"IEPER","057-20.12.79","immabasis@cdi-ieper.be"]
[20412,"VBS Capucienen","Capucienenstraat 46",8900,"IEPER","057-20.04.60","capucienen@cdi-ieper.be"]
[20421,"Vrije Basisschool","Brugseweg 272",8900,"IEPER","057-20.19.75","schoolsintjan@cdi-ieper.be"]
[20446,"Vrije Kleuterschool","Augustijnenstraat 67",8900,"IEPER","057-20.65.44","augustijnen@cdi-ieper.be"]
[20487,"VBS Het Nestkastje","Schietstraat 16",8900,"DIKKEBUS","057-20.30.13","info@vbsdikkebus.be"]
[20495,"GBS Bikschooltje","Bikschotestraat 107",8920,"BIKSCHOTE","051-54.54.27","gbsbikschote@langemark-poelkapelle.be"]
[20503,"VBS Langemark","Zonnebekestraat 27",8920,"LANGEMARK-POELKAPELLE","057-48.82.62","directeur@vbslangemark.be"]
[20511,"Vrije Basisschool","Klerkenstraat 128",8920,"LANGEMARK-POELKAPELLE","057-48.83.00","vbs@masj.be"]
[20537,"VBS De Ooievaar","Brugseweg 118",8920,"POELKAPELLE","057-48.71.18","directie@deooievaar.info"]
[20545,"VBS Boezinge-Zuidschote","Boezingestraat 2_A",8904,"BOEZINGE","057-42.33.51","directie@gvbboezinge.be"]
[20552,"Vrije Basisschool","Bollemeersstraat 12",8906,"ELVERDINGE","057-42.22.68","basisschool@vbselverdinge-brielen.be"]
[20578,"Vrije Basisschool","Staanijzerstraat 53",8953,"WIJTSCHATE","057-44.68.03","info@vbswijtschate.be"]
[20594,"Vrije Basisschool","Rijselstraat 21",8957,"MESEN","057-44.63.99","directie@vbsmesen.be"]
[20602,"VBS Loker-De Klijte-Kemmel","Reningelststraat 56",8956,"KEMMEL","057-44.44.70","loker.deklijte.kemmel@sirh.be"]
[20611,"VBS Nieuwkerke","Seulestraat 38",8950,"NIEUWKERKE","057-44.65.91","directie@vbsnieuwkerke.be"]
[20628,"GBS De Zafant","Koudekotstraat 5",8951,"DRANOUTER","057-44.57.64","school@dezafant.be"]
[20644,"VBS De Zonnewijzer","Pastoorstraat 4",8970,"POPERINGE","057-33.52.81","vbsreningelst@kbrp.be"]
[20651,"Vrije Basisschool","Schomminkelstraat 20_a",8954,"WESTOUTER","057-44.43.12","vbswestouter@kbrp.be"]
[20669,"Vrije Basisschool","Hospitaalstraat 13",8908,"VLAMERTINGE","057-20.97.60","info@gvbvlamertinge.be"]
[20677,"VBS Sint-Benedictus","Boeschepestraat 16",8970,"POPERINGE","057-33.80.18","st.benpop@kbrp.be"]
[20685,"Vrije Basisschool","Heilig-Hartstraat 16",8970,"POPERINGE","057-30.92.10","gvbs.sfi@kbrp.be"]
[20693,"Vrije Basisschool","Bruggestraat 14",8970,"POPERINGE","057-30.92.10","gvbs.sfi@kbrp.be"]
[20719,"VBS De Waaier","Moenaardestraat 12",8978,"WATOU","057-38.83.08","vbswatou@kbrp.be"]
[20727,"VBS De Kleine Prins","Trappistenweg 52",8978,"WATOU","057-33.88.20","vbsabele@kbrp.be"]
[20735,"VBS Klavertje 3","Hendrik Deberghstraat 8",8640,"VLETEREN","057-40.08.67","vbsvleteren@kbrp.be"]
[20776,"VBS Onze Ark","Woestendorp 4",8640,"WOESTEN","057-42.13.45","vbsonzeark@kbrp.be"]
[20784,"VBS De Krekel","Prof.Rubbrechtstraat 58",8972,"ROESBRUGGE-HARINGE","057-30.06.26","vbsdekrekel@kbrp.be"]
[20818,"VBS De Libel","Leiseledorp 17",8691,"LEISELE","058-29.81.87","vbsdelibel@telenet.be"]
[20834,"VBS De Kastanje","Alexisplein 15",8972,"PROVEN","057-30.05.33","directie.dekastanje@kbrp.be"]
[20842,"SBS De Spiegel","Zwijnaardsesteenweg 250",9000,"GENT","09-243.80.20","despiegel.dir@onderwijs.gent.be"]
[20859,"SBS De Triangel","Kartuizerlaan 70",9000,"GENT","09-323.54.80","detriangel.dir@onderwijs.gent.be"]
[20875,"SBS Het Trappenhuis","Lucas Munichstraat 29",9000,"GENT","09-224.05.04","trappenhuis.dir@onderwijs.gent.be"]
[20891,"SBS De Piramide","Slinke Molenstraat 26_A",9000,"GENT","09-323.54.60","piramide.dir@onderwijs.gent.be"]
[20909,"SBS De Dialoog","Frans van Ryhovelaan 191",9000,"GENT","09-226.14.57","dialoog.dir@onderwijs.gent.be"]
[20917,"SBS Freinetschool de Harp","Bagattenstraat 155",9000,"GENT","09-323.50.20","deharp.dir@onderwijs.gent.be"]
[20925,"SBS De Muze","Begijnhofdries 42",9000,"GENT","09-225.14.55","demuze.dir@onderwijs.gent.be"]
[20933,"SBS Daltonschool De Lotus","Grensstraat 202",9000,"GENT","09-323.52.10","delotus.dir@onderwijs.gent.be"]
[20941,"SBS Bollekensschool","Neermeerskaai 2",9000,"GENT","09-222.01.10","bollekensschool.dir@onderwijs.gent.be"]
[20958,"SBS Désiré van Monckhoven","Désiré Van Monckhovenstraat 34",9000,"GENT","09-222.29.45","dvanmonckhoven.dir@onderwijs.gent.be"]
[20982,"SBS Jenaplanschool De Feniks","Acaciastraat 11",9000,"GENT","09-323.56.80","defeniks.dir@onderwijs.gent.be"]
[20991,"VBS Crombeen","Tentoonstellingslaan 4",9000,"GENT","09-269.06.43","directie@basisschoolcrombeen.be"]
[21006,"VBS Sint-Paulus - De Wonderboom","Ebergiste De Deynestraat 2_B",9000,"GENT","09-222.11.68","directie@spdewonderboom.be"]
[21031,"VLS KLIM","Sint-Pietersaalststraat 86",9000,"GENT","09-221.23.53","lagerescholen@klim.be"]
[21048,"VKS KLIM","Sint-Pietersaalststraat 82",9000,"GENT","09-221.15.11","kleuterschool@klim.be"]
[21055,"SBS De Stadspoort","Coupure Rechts 54",9000,"GENT","09-225.59.28","stadspoort.dir@onderwijs.gent.be"]
[21063,"SKS Ter Leie","Gordunakaai 58",9000,"GENT","09-323.55.20","terleie.dir@onderwijs.gent.be"]
[21071,"VBS Dokata","Sint-Salvatorstraat 14 bus A",9000,"GENT","09-223.68.44","ann.eerebout@dakota.be"]
[21089,"VBS VLOM","Kartuizerlaan 20",9000,"GENT","09-225.05.20","vlom@skynet.be"]
[21121,"SBS Victor Carpentier","Meulesteedsesteenweg 390",9000,"GENT","09-251.04.24","victorcarpentier.dir@onderwijs.gent.be"]
[21147,"SBS Francois Laurentinstituut","Onderstraat 10",9000,"GENT","09-323.54.50","frlaurent.dir@onderwijs.gent.be"]
[21154,"VBS Sint-Bavo","Apostelhuizen 2",9000,"GENT","09-235.22.00","directie@sint-bavo.be"]
[21162,"VBS De Mozaïek","Sint-Margrietstraat 33",9000,"GENT","09-233.78.64","basisschool@demozaiek.be"]
[21171,"VBS 't Klimrek - Reinaertstraat","Reinaertstraat 26",9000,"GENT","09-227.82.95","anne.vereecken@schoolklimrek.be"]
[21196,"VBS De Boomhut","Boomstraat 77",9000,"GENT","09-227.85.15","info@deboomhutgent.be"]
[21204,"VBS School met De Bijbel De Gaspard","Rijsenbergstraat 40",9000,"GENT","09-222.65.47","info@mijnschool.be"]
[21212,"VBS St Paulus","Smidsestraat 76",9000,"GENT","09-222.21.97","directie@spsmidse.be"]
[21221,"VBS Sint-Pietersinstituut","Meersstraat 131",9000,"GENT","09-221.56.54","stpieters@telenet.be"]
[21238,"VBS IVG-school","Nederkouter 112",9000,"GENT","09-265.70.60","arnould.van.houtryve@ivgschool.be"]
[21246,"VBS Sint-Barbaracollege","Savaanstraat 118",9000,"GENT","09-235.72.60","basisschool@sint-barbara.be"]
[21261,"VBS Nieuwen Bosch","Tweebruggenstraat 34",9000,"GENT","09-225.54.85","directie@nieuwenboschbasisschool.com"]
[21287,"VBS Mariavreugde","Vinkeslagstraat 2",9032,"WONDELGEM","09-253.87.18","directie@mariavreugde.be"]
[21295,"SBS De Regenboog","Sint-Sebastiaanstraat 8",9032,"WONDELGEM","09-253.84.19","regenboog.dir@onderwijs.gent.be"]
[21303,"VLS Slotendries","Onze Lieve Vrouwdreef 2",9041,"OOSTAKKER","09-259.02.93","viviane.vanmossevelde@edugo.be"]
[21311,"VBS Sint-Vincentius","Sint-Rafaëlstraat 14",9041,"OOSTAKKER","09-259.21.01","veerle.depaepe@edugo.be"]
[21329,"VKS Edugo Lourdes - Meerhout","Groenstraat 31",9041,"OOSTAKKER","09-259.02.92","christine.lafaut@edugo.be"]
[21337,"SBS De Panda","August Vermeylenstraat 2",9000,"GENT","09-221.61.03","depanda.dir@onderwijs.gent.be"]
[21352,"GBS Belzele","Oosteindestraat 69",9940,"EVERGEM","09-210.48.70","gbs.belzele@sgevergem.be"]
[21361,"VBS St.-Franciscus","Schepenhuisstraat 10",9940,"EVERGEM","09-253.98.80","directie@vbsfranciscusevergem.be"]
[21378,"VBS Braambos","Doornzele Dries 55",9940,"EVERGEM","09-253.71.38","directie@vbs-braambos.be"]
[21386,"GBS De Krekel","Emiel Caluslaan 9",9060,"ZELZATE","09-344.63.39","directie@dekrekel.net"]
[21411,"VBS Sint-Laurens_Zelzate West","Assenedesteenweg 115",9060,"ZELZATE","09-344.00.32","vb.zelzate@slzw.be"]
[21451,"VBS de Cocon","Riemewegel 39_G",9940,"ERTVELDE","09-344.63.63","directie@coconrieme.be"]
[21469,"VBS De Kleine Prins","Kloosterstraat 18",9940,"KLUIZEN","09-357.75.11","directie@vb-dekleineprins.be"]
[21477,"Vrije Basisschool","Overslag 1",9185,"WACHTEBEKE","09-345.85.54","directie@sloverslag.be"]
[21485,"VKS Sint-Laurens","Dorp 43_A",9185,"WACHTEBEKE","09-345.06.70","dorp@slw.be"]
[21493,"Vrije Basisschool","Langelede 146",9185,"WACHTEBEKE","09-345.72.84","langeledeschool@telenet.be"]
[21501,"VLS Sint-Laurens","Dr.Jules Persynplein 5",9185,"WACHTEBEKE","09-345.95.24","info@slw.be"]
[21527,"VBS De Sprankel","Kloosterstraat 33",9080,"BEERVELDE","09-355.88.00","directie@desprankel.be"]
[21535,"VBS De Weg-Wijzer","Zaffelare-Dorp 6",9080,"ZAFFELARE","09-355.13.82","info@deweg-wijzer.be"]
[21543,"VBS De Palster","Crevestraat 27",9180,"MOERBEKE-WAAS","09-346.69.12","directie@depalster.net"]
[21551,"GBS De Vlinderdreef","Zwaaikom 1",9180,"MOERBEKE-WAAS","09-346.88.34","vlinderdreef@moerbeke.be"]
[21584,"VBS Toermalijn Groen","Kerkstraat 63",9190,"STEKENE","03-779.76.59","directie@toermalijn.be"]
[21592,"VBS Toermalijn Geel","Kerkstraat 12",9190,"STEKENE","03-779.76.59","directie@toermalijn.be"]
[21601,"VBS 3 Beuken","Pastoor van Lierdestraat 2",9190,"STEKENE","03-779.76.68","directie@bsdriebeuken.be"]
[21618,"VBS 7-sprong","Nationalestraat 50",9190,"KEMZEKE","03-779.85.07","info@7-sprong.be"]
[21626,"VBS Tuimelaar","Pannenhuisstraat 7",9190,"STEKENE","09-346.95.61","directie@bstuimelaar.be"]
[21634,"VBS De Zonnebloem","Koewacht 110",9190,"STEKENE","03-779.84.65","directie@koewacht.be"]
[21642,"VBS Dol-fijn","Eksaarde-dorp 119",9160,"EKSAARDE","09-346.90.90","directie@gvbsdolfijn.be"]
[21667,"VKS Duizendvoet","Dwarsstraat 1_A",9160,"LOKEREN","09-349.44.23","directie@duizendvoet.be"]
[21675,"VBS Boskesschool","Slagveldstraat 48",9160,"LOKEREN","09-348.31.90","directie@boskesschool.be"]
[21683,"VBS Heiende","Heiendestraat 2",9160,"LOKEREN","09-348.56.34","directie@basisschoolheiende.be"]
[21691,"VBS Oudenbos","Fernand Hanusdreef 39",9160,"LOKEREN","09-355.79.06","directie@basisschooloudenbos.be"]
[21709,"VBS Bengel","Zelebaan 9",9160,"LOKEREN","09-348.67.18","directie@basisschoolbengel.be"]
[21717,"VBS Veertjesplein","Veerstraat 10",9160,"LOKEREN","09-348.46.92","directie@veertjesplein.net"]
[21725,"VLS OLVcollege","H.-Hartlaan 1_B",9160,"LOKEREN","09-348.72.46","directie@olvc-lokeren.be"]
[21758,"VBS Sint-Lodewijkscollege","Doorslaardorp 72",9160,"EKSAARDE","09-348.64.28","directie@gvbsdoorslaar.be"]
[21766,"VBS Sint-Janscollege Visitatie","Joseph Gérardstraat 16",9040,"SINT-AMANDSBERG","09-228.52.67","gerdirectie@sintjv.be"]
[21774,"SBS De Toverberg","Schoolstraat 27",9040,"SINT-AMANDSBERG","09-228.60.71","toverberg.dir@onderwijs.gent.be"]
[21782,"VBS Sint-Janscollege Heiveld","Heiveldstraat 127_a",9040,"SINT-AMANDSBERG","09-228.87.65","geert.van.malderen@sintjv.be"]
[21791,"VBS Sint-Janscollege - Oude Bareel","Antwerpsesteenweg 988",9040,"SINT-AMANDSBERG","09-229.25.07","katleen.dejonckheere@sintjv.be"]
[21841,"Gemeentelijke Basisschool","Dendermondesteenweg 462",9070,"DESTELBERGEN","09-228.49.87","directie@gbsdestelbergen.be"]
[21857,"VBS Wonderwijs","Kerkham 1",9070,"DESTELBERGEN","09-228.44.70","directie.vbwonderwijs@ksdh.be"]
[21865,"VBS Pius X","Bredenakkerstraat 31",9070,"DESTELBERGEN","09-228.36.69","directie.piusx@ksdh.be"]
[21873,"Gemeentelijke Basisschool","Schoolstraat 18",9080,"LOCHRISTI","09-331.53.63","directie@gbslochristi.be"]
[21881,"VBS St.Jozef","Bosdreef 2_A",9080,"LOCHRISTI","09-355.76.17","stjozef@vbs-lochristi.be"]
[21899,"VBS Sint-Elooischool","Sint-Elooistraat 58",9080,"ZEVENEKEN","09-355.73.20","directie@sintelooischool.be"]
[21907,"VBS Heikant","Bosstraat 179",9240,"ZELE","052-45.09.66","directie.heikant@kaozele.be"]
[21931,"VBS Pius X-basis","Rotstraat 4",9240,"ZELE","052-44.87.32","secretariaat.piusxbasis@kaozele.be"]
[21972,"VKS De KleuterKouter","Julie Billiartplein 2",9240,"ZELE","052-45.03.88","anke.derycke@kaozele.be"]
[21981,"Gemeentelijke Basisschool","Bookmolenstraat 2",9240,"ZELE","052-45.80.60","info@gszele.be"]
[21998,"Vrije Basisschool","Rootjensweg 78",9200,"GREMBERGEN","052-21.15.28","vrijebasis.grembergen@skynet.be"]
[22004,"Gemeentelijke Basisschool","Rootjensweg 76",9200,"GREMBERGEN","052-21.28.95","gemeenteschool.grembergen@dendermonde.be"]
[22012,"VBS KOHa Heilige Familie","Dokter H. Hyleboslaan 1",9220,"HAMME","052-47.03.46","heiligefamilie@kohamme.be"]
[22021,"VBS KOHa Sint-Anna","Sint-Annastraat 167",9220,"HAMME","052-47.16.91","info@sintannaschool-hamme.be"]
[22038,"VBS KOHa Sint-Pieter","Slangstraat 12",9220,"HAMME","052-47.24.97","m.debrabandt@kohamme.be"]
[22046,"VBS KOHa Zogge","Zogge 18",9220,"HAMME","052-47.18.35","zogge@kohamme.be"]
[22061,"GKS Ondersteboven","Kaaiplein 29",9220,"HAMME","052-48.03.82","kleuterschoolondersteboven@hamme.be"]
[22079,"Vrije Basisschool","Dorpstraat 107",9140,"ELVERSELE","052-46.42.78","directie@basisschool-elversele.be"]
[22087,"VBS KOHa De 5-Sprong","Killestraat 43",9220,"MOERZEKE","052-47.36.48","de5sprong@kohamme.be"]
[22095,"GBS De Dobbelsteen","Vredestraat 1",9220,"MOERZEKE","052-47.36.30","directiededobbelsteen@hamme.be"]
[22103,"VBS Sint-Franciscus","Kerkstraat 10",9250,"WAASMUNSTER","052-46.93.90","directie@gvbsifrawa.be"]
[22137,"VBS Sint-Lutgart","Kerkstraat 13",9111,"BELSELE","03-772.35.12","info@sintlutgart.be"]
[22145,"VBS De Fontein","Nijverheidsstraat 35",9100,"SINT-NIKLAAS","03-777.05.35","info@defontein.be"]
[22152,"Vrije Kleuterschool","Vleeshouwersstraat 2",9112,"SINAAI-WAAS","03-772.34.43","christel.deck@scs-sinaai.be"]
[22161,"Vrije Lagere School","Edgard Tinelstraat 29",9112,"SINAAI-WAAS","03-772.50.00","tinel@scs-sinaai.be"]
[22186,"GKS 't Kleuterboompje","Boomkwekerijstraat 26",9230,"WETTEREN","09-369.53.94","martine.devusser@wetteren.be"]
[22194,"Vrije Basisschool","Florimond Leirensstraat 31",9230,"WETTEREN","09-366.15.54","gertrudisbasisschool@skynet.be"]
[22236,"Vrije Lagere School","Edeschoolstraat 4",9230,"WETTEREN","09-252.38.15","info@lagereschooltenede.be"]
[22244,"VBS Scheppers","Cooppallaan 126",9230,"WETTEREN","09-369.79.80","directie@basisschoolscheppers.be"]
[22251,"VKS De Spelewei","Ten Ede Dorp 14",9230,"WETTEREN","09-252.39.63","directie@despelewei.be"]
[22285,"Vrije Basisschool","Stationsstraat 2",9260,"SCHELLEBELLE","09-369.51.11","directie@hetbelleveer.be"]
[22293,"Vrije Kleuterschool","Dorpstraat 53",9260,"SERSKAMP","09-369.24.27","directie@sterrenkind.be"]
[22301,"GBS GIBO Wichelen","Schoolstraat 4",9260,"SERSKAMP","09-369.47.61","caroline.cortens@gibowichelen.be"]
[22319,"Gemeentelijke Basisschool","Zandakkerlaan 14",9070,"HEUSDEN","09-230.63.56","secretariaat@sportbasisschool.be"]
[22327,"VBS De Parel","Steenvoordestraat 13",9070,"HEUSDEN","09-230.81.51","directie.deparel@ksdh.be"]
[22335,"SBS De Kleurdoos","Onderwijsstraat 10",9050,"LEDEBERG","09-231.22.78","kleurdoos.dir@onderwijs.gent.be"]
[22351,"VBS Onze-Lieve-Vrouwcollege","Langestraat 70",9050,"LEDEBERG","0470-97.97.08","directie@olvcledeberg.be"]
[22368,"VBS Sancta Maria","Gentbruggekouter 8",9050,"GENTBRUGGE","09-230.31.03","aline.noyelle@sancta-maria-gentbrugge.be"]
[22384,"VBS Sint-Gregoriuscollege","Alfons Biebuycklaan 24",9050,"GENTBRUGGE","09-230.82.40","mieke.clopterop@sint-gregoriuscollege.be"]
[22392,"SBS Henri D'Haese","Tweekapellenstraat 38",9050,"GENTBRUGGE","09-323.57.40","henridhaese.dir@onderwijs.gent.be"]
[22401,"SBS De Sportschool","Jules de Saint-Genoisstraat 93",9050,"GENTBRUGGE","09-323.57.30","sportschool@onderwijs.gent.be"]
[22418,"VBS Paus Johannescollege","Hundelgemsesteenweg 239",9820,"MERELBEKE","09-230.76.48","kristof.hoste@pausjohannescollege.be"]
[22426,"VBS Sint Michielsschool","Bergstraat 34",9820,"MERELBEKE","09-230.71.88","luc.dewaele@sint-michielsschool.be"]
[22434,"VBS Sint-Elooischool","Sint-Elooistraat 79",9820,"MERELBEKE","09-362.64.95","directie@sint-elooischool.be"]
[22442,"GBS Gilko Merelbeke","Kloosterstraat 19",9820,"MERELBEKE","09-210.35.70","gilko@merelbeke.be"]
[22459,"VBS Sint-Vincentiusschool","Wezenstraat 8",9090,"MELLE","09-252.27.87","directie@svsmelle.be"]
[22475,"VBS SFB Melle","Tuinstraat 103",9090,"MELLE","09-230.88.57","directeur@sfb-melle.be"]
[22483,"Vrije gemengde lagere school","Brusselsesteenweg 459",9090,"MELLE","09-252.11.09","dir.lo@collegemelle.be"]
[22491,"GBS De Parkschool","Brusselsesteenweg 397",9090,"MELLE","09-210.07.48","directie@gbsmelle.be"]
[22509,"VBS O.-L.-V.- Visitatie","Rid. A. Stas de Richellelaan 19",9820,"BOTTELARE","09-362.88.33","directie@visitatiebottelare.be"]
[22517,"VBS S.G. De Graankorrel","Gaversesteenweg 853",9820,"MELSEN","09-384.30.73","directie@sgdegraankorrel.be"]
[22525,"VBS Oosterzele","Dorp 48",9860,"OOSTERZELE","09-362.65.98","directie@vrijebasisschooloosterzele.be"]
[22533,"Gemeentelijke Basisschool","Geraardsbergse steenweg 69",9860,"OOSTERZELE","09-362.61.20","els.francois@oosterzele.be"]
[22541,"VBS Scheldewindeke","Pelgrim 48",9860,"SCHELDEWINDEKE","09-362.66.25","directie@vbsscheldewindeke.be"]
[22558,"VBS De Bloesem","Kloosterstraat 27",9860,"MOORTSELE","09-362.60.58","directie@vbsdebloesem.be"]
[22566,"VBS Sterreneiland","Smetlededorp 21",9340,"SMETLEDE","09-369.75.78","r.vanlimbergen@telenet.be"]
[22574,"GBS De Zonnevlier","Uilebroek 29",9520,"VLIERZELE","053-62.54.24","directie@dezonnevlier.be"]
[22582,"VBS 't Wimpelke","Impedorp 57_A",9340,"IMPE","053-80.18.26","directie@wimpelke.be"]
[22608,"GBS De Windwijzer","Schoolstraat 8",9270,"LAARNE","09-369.25.50","info@gsdewindwijzer.be"]
[22616,"VBS Sint-Macharius Laarne","Wegvoeringstraat 1",9270,"LAARNE","09-369.30.23","directie@vrijebasisschoollaarne.be"]
[22632,"VBS Sint-Jozef","Schoolstraat 1",9290,"OVERMERE","09-367.68.36","stjozef@olvts.be"]
[22657,"VBS Sint-Denijs","Kouterstraat 14",9270,"KALKEN","09-367.55.51","directie@sintdenijs.be"]
[22673,"VBS ORS De Duizendpoot","Nieuwstraat 8",9290,"BERLARE","052-42.37.29","secretariaat@duizendpootberlare.be"]
[22699,"VBS De Kleurenboog","Seugensveld 28",9260,"WICHELEN","052-42.29.04","directie@dekleurenboog.be"]
[22715,"VKS Sint-Maarten","Sint Jozefstraat 5",9300,"AALST","053-78.22.43","kleuterschool.st.maarten@telenet.be"]
[22723,"VBS Sint-Maarten","Kloosterstraat 32",9310,"MOORSEL","053-77.61.63","vrijebasisschoolmoorsel@skynet.be"]
[22764,"VBS SintJozefscollege","Pontstraat 20",9300,"AALST","053-60.58.67","bsp@sjcaalst.be"]
[22772,"VLS Sint Jozefscollege","Capucienenlaan 95",9300,"AALST","053-21.38.84","directeur.lscapucienen@sjcaalst.be"]
[22781,"VBS Sint-Jozefscollege campus Eikstraat","Eikstraat 2",9300,"AALST","053-77.70.49","directeur.bseikstraat@sjcaalst.be"]
[22798,"VBS Sint-Maarten Moorselbaan","Moorselbaan 128",9300,"AALST","053-21.54.02","smi_moorselbaan@skynet.be"]
[22806,"VLS Sint-Maarten","Esplanadeplein 6",9300,"AALST","053-21.16.44","smi.lagereschool@telenet.be"]
[22822,"SBS Notelaar","Vrijheidstraat 65",9300,"AALST","053-72.34.77","sbs.notelaar@aalst.be"]
[22831,"SBS De Duizendpootjes","Binnenstraat 157",9300,"AALST","053-72.34.72","sbs.binnenstraat@aalst.be"]
[22863,"SBS Klaproosje","Oude Gentbaan 34",9300,"AALST","053-72.34.79","sks.klaproosje@aalst.be"]
[22871,"VBS Sint-Vincentius","Kruisstraat 2",9308,"GIJZEGEM","053-72.93.66","secretariaat@svibasisschool.be"]
[22889,"VBS De Vlieger","Hofstade-Dorp 44",9308,"HOFSTADE","053-78.73.99","directie@vbsdevlieger.be"]
[22897,"SBS 't Hofje","Zijpstraat 49",9308,"HOFSTADE","053-72.34.74","sbs.hofstade@aalst.be"]
[22921,"VKS Morgenster","Kluisberg 1",9340,"LEDE","053-80.49.65","directie@vksmorgenster.be"]
[22947,"GBS De Klinker","Klinkaertstraat 28",9200,"SCHOONAARDE","052-42.32.01","gemeenteschool.schoonaarde@dendermonde.be"]
[22954,"VBS Óscar Romerocollege","Sas 39",9200,"DENDERMONDE","052-22.28.16","basisschool@romerocollege.be"]
[22962,"VBS ORS vzw Campus Appels-Oudegem","Hoofdstraat 18",9200,"APPELS","052-21.41.30","directie@deoogappel.be"]
[22988,"VBS HEHAschool","Otterstraat 179",9200,"SINT-GILLIS-DENDERMONDE","052-21.82.39","kim.dewolf@heha.be"]
[22996,"VLS Óscar Romerocollege","Kerkstraat 97",9200,"DENDERMONDE","052-25.88.92","basisschool@romerocollege.be"]
[23002,"GBS De Schakel","Molenberg 9",9200,"BAASRODE","052-34.59.11","gemeenteschool.baasrode@dendermonde.be"]
[23011,"VBS Visitatie","Rosstraat 7",9200,"BAASRODE","052-33.44.12","visitatie.baasrode@telenet.be"]
[23028,"VBS Sint-Vincentius","Schoolstraat 20",9255,"BUGGENHOUT","052-33.30.40","vbs.buggenhout@vincentrum.be"]
[23036,"VBS OPSTAL","Broekstraat 29",9255,"BUGGENHOUT","052-35.18.16","info@vbsopstal.be"]
[23044,"VKS Sint-Jozef","Vekenstraat 2",9255,"OPDORP","052-33.35.34","info@kleuterschoolopdorp.be"]
[23051,"GLS - De Pupil","Veldstraat 1",9255,"BUGGENHOUT","052-33.95.58","directie@depupil.be"]
[23069,"GBS De Puzzel","Opwijksestraat 1_A",9280,"LEBBEKE","052-46.82.86","gemeenteschool@lebbeke.be"]
[23077,"VBS A","Brusselsesteenweg 43",9280,"LEBBEKE","052-41.14.18","directie@vbslebbeke.be"]
[23085,"Vrije Basisschool","Lange Minnestraat 59",9280,"LEBBEKE","052-35.84.20","nadia.robberechts@minnestraal.be"]
[23093,"VBS Lebbeke B","Brusselsesteenweg 43",9280,"LEBBEKE","052-41.14.18","directie@vbslebbeke.be"]
[23119,"VBS De Schatkist","Kloosterstraat 1_-5",9280,"WIEZE","053-77.31.45","directie@vbswieze.be"]
[23127,"SBS 't Meivisje","Grote Baan 209",9310,"HERDERSEM","053-72.34.78","sbs.herdersem@aalst.be"]
[23135,"VBS Herdersem","Alfons De Cockstraat 10_A",9310,"HERDERSEM","053-77.39.40","directie@vsherdersem.be"]
[23151,"SBS Tinnenhoek","Herbergstraat 28",9310,"MOORSEL","053-72.34.76","sbs.moorsel@aalst.be"]
[23218,"GBS Parklaan-Seringen","Parklaan 11",9400,"NINOVE","054-33.22.36","ikke@sbsninove.be"]
[23226,"GBS Nederhasselt-Voorde","Geraardsbergsesteenweg 184",9400,"NEDERHASSELT","054-32.20.16","dehazelaar@sbsninove.be"]
[23242,"VBS Hartencollege Basisonderwijs","Weggevoerdenstraat 55",9400,"NINOVE","054-31.74.95","info.bwe@hartencollege.be"]
[23259,"VBS Hartencollege Onderwijslaan","Onderwijslaan 8",9400,"NINOVE","054-31.06.65","info.bon@hartencollege.be"]
[23267,"VBS Hartencollege Meerbeke","Nieuwstraat 2",9402,"MEERBEKE","054-33.20.49","info.bme@hartencollege.be"]
[23283,"VBS Hartencollege","Plekkersstraat 4",9404,"ASPELARE","054-32.27.54","info.bas@hartencollege.be"]
[23317,"VBS Sint-Martinusschool","Botermelkstraat 74",9420,"ERPE","053-80.20.60","directeur@smserpe.be"]
[23333,"VBS Sint-Jozef","Kloosterstraat 29",9420,"MERE","053-83.75.33","vbsmere@yahoo.com"]
[23341,"VBS De Linde","Tolstraat 1",9320,"NIEUWERKERKEN","053-83.82.52","secretariaat@basisschooldelinde.be"]
[23358,"SBS De Regenboog","Erembodegem-Dorp 21",9320,"EREMBODEGEM","053-72.34.71","sbs.erembodegem@aalst.be"]
[23366,"VBS De Stip","Termurenlaan 24",9320,"EREMBODEGEM","053-70.22.14","directie@vbsdestip.be"]
[23374,"VBS De Luchtballon","Geraardsbergsesteenweg 77",9320,"EREMBODEGEM","053-83.20.80","directie@deluchtballon.be"]
[23382,"GO! basisschool De Zilverberk","Ninovestraat 27",9450,"HAALTERT","053-83.21.35","directeur@dezilverberk.be"]
[23416,"VBS De Bloesem","Beekstraat 17",9451,"KERKSKEN","053-83.91.46","directie@debloesem.net"]
[23424,"VBS Sint-Vincentius","Aaigemdorp 66",9420,"AAIGEM","053-62.60.02","directie@vbsaaigem.be"]
[23457,"VBS 't Landuiterke","Landuitstraat 137",9470,"DENDERLEEUW","053-66.55.07","secretariaat@tlanduiterke.be"]
[23481,"VBS Welle","Kerkstraat 55",9473,"WELLE","053-66.48.89","directie@welle.be"]
[23499,"Gemeentelijke Basisschool","Welleplein 1",9473,"WELLE","053-66.53.93","gemeenteschoolwelle@telenet.be"]
[23523,"GBS Windekind","Edingsesteenweg 344",9400,"DENDERWINDEKE","054-33.51.97","slsdenderwindeke@telenet.be"]
[23556,"Vrije Basisschool","Gasthuisstraat 98",9500,"GERAARDSBERGEN","054-41.26.43","hunnegem@skynet.be"]
[23564,"Vrije Basisschool","Boelarestraat 1",9500,"GERAARDSBERGEN","054-41.41.40","christa.degauquier@sccg.be"]
[23614,"Vrije Basisschool","Kerkstraat 25",9570,"DEFTINGE","054-41.54.42","directie@vbsdeftinge.be"]
[23622,"VBS De Wegwijzer","Poststraat 10_A",9860,"BALEGEM","09-362.68.17","directie@vbbdewegwijzer.be"]
[23655,"GBS Erpe-Mere","Molenveld 11",9420,"BURST","053-60.35.30","directeur@gbs.erpe-mere.be"]
[23663,"VBS Sint-Franciscusschool","Kapelhofstraat 6",9420,"ERONDEGEM","053-80.85.10","directeur@sfserondegem.be"]
[23671,"Vrije Basisschool","Kerkstraat 12",9550,"HERZELE","053-62.36.98","info@vbsh.be"]
[23689,"Gemeentelijke Basisschool","Pastorijstraat 3 bus a",9552,"BORSBEKE","053-62.21.58","gbs.directie@herzele.be"]
[23739,"VBS Sint-Katrien","Kloosterberg 25",9550,"STEENHUIZE-WIJNHUIZE","054-50.00.88","info@vbssintkatrien.be"]
[23762,"GKS 't Kapoentje","Paepmunte 32",9571,"HEMELVEERDEGEM","054-41.06.41","magy.vandaele@gkslierde.be"]
[23771,"VBS De Kei","Nieuwstraat 23",9570,"SINT-MARIA-LIERDE","055-42.22.29","directeur@schooldekei.be"]
[23788,"Vrije Basisschool","Kuregoed 4",9500,"OPHASSELT","054-50.15.52","directie@tschoolke.be"]
[23804,"VKS Madeliefje","Dagmoedstraat 9_b",9506,"SCHENDELBEKE","054-41.68.28","vks.madeliefje@hotmail.com"]
[23812,"VBS Sint Lutgardis","Bovenkassei 12_A",9506,"ZANDBERGEN","054-32.18.62","st-lutgardisschool@telenet.be"]
[23846,"VBS Sint-Antonius 1","Charles de Gaullestraat 10",9600,"RONSE","055-61.25.75","aureliepoupaert@koronse.be"]
[23853,"VBS Glorieux1","Sint-Pietersnieuwstraat 4",9600,"RONSE","055-61.25.55","bernadettedingenen@koronse.be"]
[23861,"VBS Glorieux 2","Sint-Pietersnieuwstraat 4",9600,"RONSE","055-61.25.45","stijndemilde@koronse.be"]
[23895,"GBS SBS Zottegem De Kleine Planeet","Wolvenstraat 13",9620,"ZOTTEGEM","09-361.02.04","dekleineplaneet@sbszottegem.be"]
[23945,"VBS Grotenberge","Grotstraat 1",9620,"GROTENBERGE","09-360.44.06","info@basisschoolgrotenberge.be"]
[23952,"Vrije Basisschool","Kruiswaterplein 10",9620,"ZOTTEGEM","09-360.47.79","directie@schoolsintgoriksstrijpen.be"]
[23961,"Vrije Basisschool","Penitentenlaan 18",9620,"VELZEKE-RUDDERSHOVE","09-360.34.68","directie@schoolvelzeke.be"]
[23978,"VBS Munkzwalm VZW","Decoenestraat 8",9630,"MUNKZWALM","055-49.81.43","directeur@vbszwalm.be"]
[23994,"VBS Hundelgem","Hundelgemsebaan 96",9630,"HUNDELGEM","055-49.87.08","info@basisschoolhundelgem.be"]
[24001,"VBS De Groene Heuvel","Latemdreef 77",9630,"SINT-MARIA-LATEM","055-49.68.82","sabine.de.bruycker@hetgroenelilare.be"]
[24026,"VBS De Groene Poort","Lilarestraat 2",9620,"SINT-MARIA-OUDENHOVE(ZO","09-360.23.51","basisschoolsmo@gmail.com"]
[24059,"VBS Lilare","Groenstraat 15_A",9660,"MICHELBEKE","055-42.17.89","thierry.rouckhout@hetgroenelilare.be"]
[24075,"VBS Valkenberg","Schoolstraat 6",9660,"BRAKEL","055-42.71.82","kleuterschool-valkenberg@skynet.be"]
[24083,"GBS Klavertje vier","Steenweg 93",9661,"PARIKE","055-42.30.94","info@gbsbrakel.be"]
[24109,"VBS Horebeke","Dorpsstraat 14",9667,"SINT-MARIA-HOREBEKE","055-45.67.40","directeurschoolhorebeke@gmail.com"]
[24117,"VBS De Talentenboog","Glorieuxstraat 4",9681,"NUKERKE","055-21.04.69","felix.aelvoet@scholensgvla.be"]
[24133,"GBS De Kleine Reus","Holandstraat 22",9681,"NUKERKE","055-21.94.59","directie@dekleinereus.be"]
[24141,"GBS De Start","Kloosterstraat 24",9690,"KLUISBERGEN","055-38.85.55","directiedestart@kluisbergen.be"]
[24158,"Vrije Basisschool","Grote Herreweg 104_A",9690,"RUIEN","055-38.85.51","info@vbsruien.be"]
[24166,"Vrije Basisschool","Kloosterstraat 33",9690,"KLUISBERGEN","055-38.97.39","info.berchem@scholensgvla.be"]
[24174,"VBS KBO Sint-Walburga","Smallendam 6",9700,"OUDENAARDE","055-31.39.51","nancy.vanderstraeten@kbonet.be"]
[24182,"VBS KBO-Sint-Jozef 1","Vlaanderenstraat 4",9700,"OUDENAARDE","055-30.30.43","secretariaat.kbostjozef@kbonet.be"]
[24191,"VBS KBO Leupegem-Melden","Vontstraat 53",9700,"LEUPEGEM","055-30.18.85","nathalie.dekeyzer@kbonet.be"]
[24208,"Vrije Basisschool","Nestor De Tièrestraat 102_A",9700,"EINE","055-31.18.65","lien.ampe@kbonet.be"]
[24216,"Vrije Basisschool","Achter de Wacht 23",9700,"OUDENAARDE","055-31.23.51","info.kbocollege@kbonet.be"]
[24224,"Vrije Basisschool","Pelikaanstraat 2",9700,"NEDERENAME","055-31.80.77","katrien.desmet@kbonet.be"]
[24232,"VBS KBO-Ename","Martijn van Torhoutstraat 190",9700,"ENAME","055-30.47.41","info.kboename@kbonet.be"]
[24241,"Vrije Basisschool","Materplein 15",9700,"MATER","055-45.56.26","info.kbomaterwelden@kbonet.be"]
[24257,"VBS - Bevere 1","Kortrijkstraat 3",9700,"BEVERE","055-31.56.69","info.kbobevere@kbonet.be"]
[24265,"VBS Sint-Vincentiusschool","Hutsepotstraat 27",9052,"ZWIJNAARDE","09-222.65.40","administratie@basisschoolzwijnaarde.be"]
[24273,"VBS De Pinte","Baron de Gieylaan 25",9840,"DE PINTE","09-282.80.40","info@vbs-depinte.be"]
[24281,"Gemeentelijke Basisschool","Polderbos 1",9840,"DE PINTE","09-282.64.02","directie@gemeenteschooldepinte.be"]
[24299,"VBS Zevergem","Dorp 32",9840,"ZEVERGEM","09-385.47.13","directie@vbszevergem.be"]
[24307,"Gemeentelijke Basisschool","Ommegangstraat 11_A",9810,"NAZARETH","09-385.48.28","gbsnazareth@nazareth.be"]
[24315,"VBS Nazareth","Dorp 10",9810,"NAZARETH","09-385.42.88","directie@vbsnazareth.be"]
[24323,"VBS Eke","Steenweg 52",9810,"EKE","09-385.52.49","info@vbseke.be"]
[24331,"VBS De Vliegenier","Opperweg 8",9890,"SEMMERZAKE","09-384.10.31","devliegenier@telenet.be"]
[24349,"GBS De Vierklaver A","Veldstraat 14",9890,"ASPER","09-384.56.19","vermeiren.helene@gbsdevierklaver.be"]
[24356,"Vrije Basisschool","Bossemstraat 2",9890,"DIKKELVENNE","09-384.42.60","directie.vbdedolfijn@sgkruizinga.be"]
[24364,"VBS De Regenboog","Kwaadstraat 20",9750,"KRUISEM","09-384.38.75","school@vbszderegenboog.be"]
[24372,"GBS De Bosrank","Kerkplein 24",9750,"KRUISEM","09-384.24.76","info@gbz-de-bosrank.be"]
[24381,"Vrije Basisschool","Steenweg 41",9890,"ASPER","09-384.40.28","directie.vbasper@sgkruizinga.be"]
[24406,"VKS Het Hukkelpad","Lozerstraat 26",9770,"KRUISEM","09-383.58.18","hethukkelpad@telenet.be"]
[24414,"VBS Huise_de hartepit","Kloosterstraat 18_a",9750,"HUISE","09-383.58.23","directie.vbhuise@sgkruizinga.be"]
[24448,"GBS De Weide Wereld","Passionistenstraat 25",9770,"KRUISEM","09-381.06.70","info@deweidewereld.be"]
[24455,"VBS De Kruin","Brugstraat 29",9770,"KRUISEM","09-383.60.88","directie.vbkruishoutem@sgkruizinga.be"]
[24463,"VKS Het Nest","Nokerepontweg 5",9772,"WANNEGEM-LEDE","09-383.70.04","directie.kleuterschoolhetnest@sgkruizinga.be"]
[24489,"GBS Zulte De Vijf Wegen","Waalstraat 116",9870,"ZULTE","09-388.80.74","directie@gemeenteschoolzulte.be"]
[24497,"VBS 't Hinkelpad","Lindestraat 16",9790,"WORTEGEM-PETEGEM","055-31.79.90","secretariaat@thinkelpad.be"]
[24505,"VBS De Sterrenboom","Gotstraat 1_A",9790,"WORTEGEM-PETEGEM","056-68.93.29","els.bostyn@scholensgvla.be"]
[24513,"GBS De Kouter","Lindestraat 30",9790,"WORTEGEM-PETEGEM","055-31.64.89","gbsdekouter@wortegem-petegem.be"]
[24521,"Vrije Basisschool","Kaaistraat 11",9800,"DEINZE","09-381.55.50","directie@dekerselaargottem.be"]
[24539,"VBS Driessprong","Gaversesteenweg 126_B",9800,"PETEGEM-AAN-DE-LEIE","09-386.13.32","info@driessprong.be"]
[24562,"VBS Sint-Hendrik","Oostkouterlaan 7",9800,"PETEGEM-AAN-DE-LEIE","09-386.29.79","directie@shpetegem.be"]
[24571,"SBS Klaverdries","Klaverdries 1",9031,"DRONGEN","09-323.55.94","klaverdries.dir@onderwijs.gent.be"]
[24588,"Vrije Basisschool","Kloosterstraat 6_C",9031,"DRONGEN","09-282.54.92","directie@donboscobaarle.be"]
[24596,"VBS De Vuurtoren","Oude-Abdijstraat 11",9031,"DRONGEN","09-226.25.38","directie@vuurtorendrongen.be"]
[24604,"SBS Westerhem","Kerkdreef 9",9051,"SINT-DENIJS-WESTREM","09-222.33.30","westerhem.dir@onderwijs.gent.be"]
[24612,"Vrije Basisschool","Oudeheerweg 3",9051,"SINT-DENIJS-WESTREM","09-221.32.73","directie@spsdw.be"]
[24621,"VBS - Sint-Jozef","Philippe de Denterghemlaan 7",9831,"DEURLE","09-282.44.70","directie@vbs-latem-deurle.be"]
[24638,"VBS Simonnet","Maenhoutstraat 68",9830,"SINT-MARTENS-LATEM","09-282.78.70","directie@basisschoolsimonnet.be"]
[24646,"Gemeentelijke Basisschool","Burgemeesterstraat 7",9830,"SINT-MARTENS-LATEM","09-282.49.46","els.hautekeete@gbslatem-deurle.be"]
[24653,"VBS Sint-Gerolfsschool","Merendreedorp 24",9850,"MERENDREE","09-371.62.74","directie.gerolf@op-weg.be"]
[24661,"VBS Sint-Paulus Hansbeke","Hansbekedorp 30",9850,"HANSBEKE","09-371.73.64","directie.paulus@op-weg.be"]
[24679,"GLS 't Wilgennest Landegem","Vosselarestraat 20",9850,"LANDEGEM","09-321.92.65","secretariaat.wilgennest@deinze.be"]
[24695,"VBS Tabor Lotenhulle","Hullaertstraat 2",9880,"LOTENHULLE","051-68.94.87","stefanie.vandenbussche@op-weg.be"]
[24729,"VBS Olsene","Heirweg 30",9870,"OLSENE","09-388.73.00","info@vbsolsene.be"]
[24737,"VLS Emmaüs","Maria-Middelareslaan 5",9880,"AALTER","09-336.00.00","kimberley.debie@op-weg.be"]
[24745,"VKS Emmaüs","Brouwerijstraat 28",9880,"AALTER","09-336.00.00","jan.sierens@op-weg.be"]
[24752,"VBS Tabor Sint-Maria-Aalter","Aalterstraat 6",9880,"AALTER","09-374.05.00","schoolsint-maria-aalter@taborscholen.be"]
[24761,"VBS Sint-Medardus","Hendelstraat 9_A",9910,"AALTER","09-334.86.40","contact.medardus@op-weg.net"]
[24778,"VBS Sint-Franciscus","Kloosterstraat 79",9910,"AALTER","09-374.53.33","els.nemegeer@op-weg.be"]
[24802,"Vrije Basisschool","Abdijstraat 33",9900,"EEKLO","09-377.47.67","leen.smets@coltd.be"]
[24811,"Vrije Basisschool","Pastoor Bontestraat 2",9900,"EEKLO","09-377.32.30","directie.sintantonius@coltd.be"]
[24836,"VBS Wegel A","Burg. Lionel Pussemierstraat 120",9900,"EEKLO","09-377.29.65","info.dewegel@coltd.be"]
[24869,"SBS De Brug","Trekweg 1",9030,"MARIAKERKE","09-226.13.96","debrug.dir@onderwijs.gent.be"]
[24877,"VLS Sint-Lieven Kolegem","Eeklostraat 7",9030,"MARIAKERKE","09-226.52.73","directie.lager@sintlievenkolegem.be"]
[24885,"VKS Sint Lieven Kolegem","Eeklostraat 144",9030,"MARIAKERKE","09-226.39.77","directie.kleuter@sintlievenkolegem.be"]
[24893,"VBS -O.-L.-V.- Visitatie","Elfnovemberstraat 23",9030,"MARIAKERKE","09-226.76.82","directie@bsvm.be"]
[24901,"GBS Lievegem","Eeksken 29",9920,"LIEVEGEM","09-357.34.83","directeur@gbslievegem.be"]
[24943,"VKS De Speelfontein","Kasteellaan 9",9921,"VINDERHOUTE","09-226.96.40","directie@kleuterschoolvinderhoute.be"]
[24951,"VBS Beke","Oude Staatsbaan 64",9930,"LIEVEGEM","09-372.75.79","schoolbeke@telenet.be"]
[24984,"VBS Twinkel","Veldhoek 4",9931,"OOSTWINKEL","09-377.26.08","directie@basisschooloostwinkel.be"]
[24992,"GBS Sleidinge","Sleidinge-Dorp 142",9940,"SLEIDINGE","09-210.31.20","gbs.sleidinge@sgevergem.be"]
[25007,"Vrije Basisschool","Akkerken 2",9940,"SLEIDINGE","09-357.75.21","directie@vbs-bijenkorf.be"]
[25015,"VLS De Lieve","Toekomststraat 15",9950,"LIEVEGEM","09-377.57.78","directie@delieve.be"]
[25023,"VKS 't Kersenpitje","Toekomststraat 14",9950,"LIEVEGEM","09-377.86.89","directie@kersenpitje.be"]
[25072,"VBS 't Brugje","Sint-Bernardusstraat 1_B",9968,"BASSEVELDE","09-238.46.05","directie@tbrugje.be"]
[25081,"GBS De Duizendpoot","Nieuwe Boekhoutestraat 26",9968,"BASSEVELDE","09-373.74.09","gbsbassevelde@assenede.be"]
[25098,"VBS De Kameleon","Oosteeklo-Dorp 58_A",9968,"OOSTEEKLO","09-373.82.89","directie@vbsdekameleon.be"]
[25122,"VBS De Hei(r)akker","Heihoekse Kerkwegel 9",9971,"LEMBEKE","09-377.80.04","directie@deheirakker.be"]
[25131,"VBS De Schakel","Dorpsstraat 59",9980,"SINT-LAUREINS","09-379.88.13","info@vbsdeschakel.be"]
[25148,"GBS De Regenboog","Leemweg 1",9980,"SINT-LAUREINS","09-379.90.61","directie@regenboogschool.be"]
[25155,"VBS De Springplank","Moerstraat 2",9982,"SINT-JAN-IN-EREMO","09-379.81.10","directie@vbsdespringplank.be"]
[25163,"VBS De Kangoeroe","Kloosterstraat 18",9988,"WATERVLIET","09-379.87.24","directie@kleuterschooldekangoeroe.be"]
[25171,"VKS De Kleuterark","Marktstraat 15",9990,"MALDEGEM","050-72.98.87","dekleuterark@maricolen.be"]
[25189,"VBS De Ark II","Zwarte Zusterslaan 1",9990,"MALDEGEM","050-71.23.81","karim.hermie@maricolen.be"]
[25197,"VBS De Parel","Donkstraat 118",9990,"MALDEGEM","050-71.15.62","vbsdeparel@maricolen.be"]
[25205,"VBS De Ark I","Marktstraat 15",9990,"MALDEGEM","050-72.98.88","vbsdeark1@maricolen.be"]
[25221,"VBS De Papaver","Adegem-Dorp 16_A",9991,"ADEGEM","050-71.15.93","directie@depapaver.be"]
[25239,"GO! BS De Kruipuit","Kruipuit 19_A",9991,"ADEGEM","09-377.27.52","directie@schoolkruipuit.be"]
[25247,"VBSBO SPES","Verheydenstraat 39",1070,"ANDERLECHT","02-426.61.23","directie@spesbubao.be"]
[25254,"VLSBO Sint-Jozefschool","Vandernootstraat 52",1080,"SINT-JANS-MOLENBEEK","02-428.17.97","buitengewone.jozef@telenet.be"]
[25271,"Kasterlinden BUBAO","Groot-Bijgaardenstraat 434",1082,"SINT-AGATHA-BERCHEM","02-430.67.00","secretariaat@kasterlinden-vgc.be"]
[25288,"VBSBO KI Woluwe","Georges Henrilaan 278",1200,"SINT-LAMBRECHTS-WOLUWE","02-739.43.02","bubao@kiwoluwe.broedersvanliefde.be"]
[25296,"GLSBO Klim Op","Heilige-Familieplein 1",1200,"SINT-LAMBRECHTS-WOLUWE","02-761.29.17","info@klimopschoolwoluwe.be"]
[25304,"VLSBO Don Bosco","Lenniksesteenweg 2",1500,"HALLE","02-360.32.01","agnes.luyckx@telenet.be"]
[25321,"VLSBO Sint-Victor","Brusselsesteenweg 20",1652,"ALSEMBERG","02-381.09.28","info@svbulo.be"]
[25346,"VLSBO Sint-Franciscus","Luitenant Jacopsstraat 41",1750,"LENNIK","02-582.54.58","veroniek.dermaux@sintfranciscus.be"]
[25353,"VLSBO Levenslust","Scheestraat 74",1750,"LENNIK","02-309.28.82","stefan@bubao.be"]
[25379,"VBSBO Inkendaal","Inkendaalstraat 1",1602,"VLEZENBEEK","02-531.56.30","koen.bellemans@inkendaal.be"]
[25395,"VBSBO Sint-Franciscus","Lostraat 175",1760,"ROOSDAAL","053-64.66.50","kristy.van.den.eeckhout@sintfranciscus.be"]
[25403,"VLSBO Klavertje Vier","Guldenschaapstraat 27",1800,"VILVOORDE","02-251.33.57","info.k4@kov.be"]
[25411,"GLSBO Oase","de Bavaylei 130",1800,"VILVOORDE","02-255.47.93","directie.oase@sovilvoorde.be"]
[25429,"GBSBO MOZA-IK","Heiveld 17",1745,"OPWIJK","052-35.41.95","directie@moza-ik.be"]
[25445,"VBSBO Katrinahof","Van Schoonbekestraat 32",2018,"ANTWERPEN","03-257.11.06","bubao@katrinahofscholen.be"]
[25452,"VLSBO Parcivalschool","Lamorinièrestraat 75",2018,"ANTWERPEN","03-230.24.44","parcivalschool@parcivalschool.be"]
[25461,"VLSBO KOCA Basisonderwijs","Rudolfstraat 40",2018,"ANTWERPEN","03-244.94.94","basisonderwijs@koca.be"]
[25478,"GLSBO De Leerexpert (25478)","Biekorfstraat 21",2060,"ANTWERPEN","03-292.21.10","biekorfstraat@leerexpert.be"]
[25486,"GBSBO De Leerexpert (25486) Ziekenh.sch.","Lindendreef 1",2020,"ANTWERPEN","03-280.49.07","ziekenhuisschool.basis@leerexpert.be"]
[25494,"VLSBO KOCA Basisonderwijs","Solvynsstraat 75",2018,"ANTWERPEN","03-244.94.94","basisonderwijs@koca.be"]
[25502,"GBSBO De Leerexpert (25502)","August Leyweg 4",2020,"ANTWERPEN","03-242.01.30","augustleyweg4@leerexpert.be"]
[25511,"GBSBO De Leerexpert (25511)","August Leyweg 10",2020,"ANTWERPEN","03-242.01.40","augustleyweg10@leerexpert.be"]
[25528,"GLSBO De Leerexpert (25528)","August Leyweg 14",2020,"ANTWERPEN","03-242.01.20","augustleyweg14@leerexpert.be"]
[25536,"VBSBO Het Sas","Galjoenstraat 2",2030,"ANTWERPEN","03-541.32.64","het.sas@cksa.be"]
[25544,"VLSBO Het Veer","Canadalaan 252",2030,"ANTWERPEN","03-541.16.88","directie@bulohetveer.be"]
[25551,"GBSBO De Leerexpert (25551)","Burchtse Weel 102",2050,"ANTWERPEN","03-250.16.40","burchtseweel.basis@leerexpert.be"]
[25569,"GLSBO De Leerexpert (25569)","Jozef Van Poppelstraat 6",2100,"DEURNE","03-291.18.20","jozefvanpoppelstraat@leerexpert.be"]
[25577,"VBSBO De Mostheuvel","Mostheuvellaan 27",2390,"MALLE","03-311.78.93","school@demostheuvel.be"]
[25593,"VBSBO Kristus Koning","Bethaniënlei 5",2960,"SINT-JOB-IN-'T-GOOR","03-217.03.13","directie@bulokk.be"]
[25601,"VBSBO Sint-Rafaël","Kerklei 44",2960,"SINT-JOB-IN-'T-GOOR","03-637.51.31","st.raf@telenet.be"]
[25619,"GBSBO De Leerexpert (25619)","Dullingen 46",2930,"BRASSCHAAT","03-217.26.30","dullingen.basis@leerexpert.be"]
[25627,"VBSBO Triolo","Miksebaan 264_B",2930,"BRASSCHAAT","03-633.25.70","bubao@olo.be"]
[25635,"VBSBO Berkenbeek 2/A","Nieuwmoerse Steenweg 113_B",2990,"WUUSTWEZEL","03-669.68.19","erwin.v.nispen@berkenbeek.be"]
[25643,"GBSBO De Leerexpert (25643)","Schotensesteenweg 256",2100,"DEURNE","03-298.28.80","schotensesteenweg256@leerexpert.be"]
[25651,"VBSBO Dennenhof","De Rentfort 9",2970,"SCHILDE","03-383.11.43","directie@openluchtschooldennenhof.be"]
[25668,"VBSBO PUlderbos","Reebergenlaan 4",2242,"PULDERBOS","03-466.06.29","bo@revapulderbos.be"]
[25684,"Vrije Lagere School BuO","Noord-Brabantlaan 79",2300,"TURNHOUT","014-42.69.45","directieblo@vibo-dering.be"]
[25701,"Gemeentelijke Basisschool voor BuO","Schransdriesstraat 47",2340,"BEERSE","014-61.26.50","info@giblo.be"]
[25718,"Vrije Basisschool BuO","Oude Arendonkse Baan 36",2360,"OUD-TURNHOUT","014-45.07.37","directiebklo@vibo-debrem.be"]
[25726,"GLSBO SAIGO STERRENBOS","Don Boscostraat 37",2400,"MOL","014-31.36.96","directie.saigosterrenbos@gemeentemol.be"]
[25734,"VBSBO De Ark Oosterlo","Eindhoutseweg 25",2440,"GEEL","014-86.11.41","secretariaat.blo@bkoblo-oosterlo.be"]
[25742,"SBSBO SAIO","De-Billemontstraat 77",2440,"GEEL","014-56.64.20","sbs.saio@geel.be"]
[25759,"VBSBO De Regenboog","Oude Bevelsesteenweg 107",2560,"KESSEL","03-480.28.58","directie@bubaoderegenboog.be"]
[25775,"VLSBO Ritmica","Wouwstraat 44",2540,"HOVE","03-460.11.51","info@ritmica.be"]
[25783,"VBSBO Ter Elst","Zandstraat 30",2570,"DUFFEL","015-30.75.99","info@schoolterelst.be"]
[25791,"VBSBO School de Merode","Frans Van Hombeeckplein 17",2600,"BERCHEM","03-230.97.86","schooldemerode.info@ankerwijs.be"]
[25817,"VBSBuO De Wissel","Kleine Amer 20",2870,"PUURS-SINT-AMANDS","03-897.95.85","directie@bubaodewissel.be"]
[25825,"VBSBO Berkenboom Mozaïek","Kasteelstraat 6_A",9100,"SINT-NIKLAAS","03-760.41.40","directie@berkmoz.be"]
[25833,"VLSBO Berkenboom Jonatan","Kasteelstraat 6_B",9100,"SINT-NIKLAAS","03-776.75.21","directie@jonatan.be"]
[25841,"VLSBO Klim-Op","Mauroystraat 52",2660,"HOBOKEN","03-828.97.76","klim-op@cksa.be"]
[25866,"VBSBO Sint-Rafael","Kallobaan 3",9120,"BEVEREN-WAAS","03-775.45.32","sintrafael@sgkei.be"]
[25874,"GO! BSBO Den Anker","Sint-Janstraat 4",2800,"MECHELEN","015-20.37.95","directie@denankerblo.be"]
[25882,"VLSBO De Vlinder","Nekkerspoelstraat 391",2800,"MECHELEN","015-21.99.30","directie@bubaodevlinder.be"]
[25891,"VBSBO Windekind","Schapenstraat 98",3000,"LEUVEN","016-24.11.10","geertrui.raye@windekindleuven.be"]
[25908,"VBSBO Ziekenhuisschool UZ Leuven","Herestraat 49",3000,"LEUVEN","016-34.39.62","ziekenhuisschool@uzleuven.be"]
[25916,"GLSBO Parkschool","Geldenaaksebaan 18",3001,"HEVERLEE","016-23.58.93","parkschool@leuven.be"]
[25924,"VBSBO Ter Bank","Tervuursesteenweg 295",3001,"HEVERLEE","016-29.01.81","damiaan.ovaere@teb.ksleuven.be"]
[25932,"VBSBO Ten Desselaer","Klein Park 4",3360,"LOVENJOEL","016-85.21.70","directie@tendesselaer.be"]
[25941,"VBSBO Centrum Ganspoel","Ganspoel 2",3040,"HULDENBERG","02-686.00.40","katrien.strauven@ganspoel.be"]
[25957,"VBSBO Instituut Mevrouw Govaerts","Kastanjedreef 12",2220,"HEIST-OP-DEN-BERG","015-24.07.24","directie.blo@img-heist.be"]
[25965,"VBSBO Damiaanschool","Baalsebaan 10",3120,"TREMELO","016-53.37.98","info@damiaanschool.be"]
[25973,"VLSBO Tongelsbos","Oevelse dreef 20",2260,"WESTERLO","014-53.81.82","info@blo.tongelsbos.be"]
[25981,"GBSBO Elzenhof","Nieuwland 1",3200,"AARSCHOT","016-56.76.17","schoolelzenhof@telenet.be"]
[25999,"VBSBO BuO KSD Warandeschool","Rode Kruisstraat 13",3290,"DIEST","013-31.13.26","warandeschool@ksdiest.be"]
[26005,"VBSBO De Bremberg","Groenstraat 16",3294,"MOLENSTEDE","013-33.38.86","directie@bubaodebremberg.net"]
[26021,"PBSBO De Sterretjes","Alexianenweg 30",3300,"TIENEN","016-81.86.46","liesbeth.costermans@vlaamsbrabant.be"]
[26039,"VLSBO SLO Mariadal","Klein Overlaar 3",3320,"HOEGAARDEN","016-76.54.97","directie@slomariadal.be"]
[26047,"VLSBO De Oogappel Sint-Leonardus","Sint-Truidensestraat 14",3440,"ZOUTLEEUW","011-78.12.29","directie@bubaodeoogappel.be"]
[26054,"VBSBO De Berk","Kloosterbeekstraat 7",3500,"HASSELT","011-22.98.93","school@deberk.be"]
[26062,"VBSBO KIDS","Borggravevijversstraat 9",3500,"HASSELT","011-22.25.93","nele.beckers@kids.be"]
[26071,"VLSBO De Linde","Galgenbergstraat 45",3550,"ZOLDER","011-57.12.84","school.delinde@scarlet.be"]
[26088,"VBSBO Buidtelberg","Wildrozenstraat 17",3530,"HOUTHALEN-HELCHTEREN","011-52.57.17","info@buidtelberg.be"]
[26096,"VBSBO St.Elisabethschool voor BuBaO","Steenovenstraat 20_A",3990,"PEER","011-34.08.00","info@st-elisabethschool.be"]
[26104,"VBSBO Speciale Basisschool Pallieter","Haspershovenstraat 28",3900,"PELT","011-64.35.00","noella.schildermans@pallieterschool.be"]
[26112,"VBSBO Sint-Martinusschool","Emiel Van Dorenlaan 145",3600,"GENK","089-36.31.04","info@sima-genk.be"]
[26138,"VBSBO Sint-Gerardus","Sint-Gerardusdreef 1",3590,"DIEPENBEEK","011-35.01.50","liesbet.ruison@sintgerardus.be"]
[26153,"VLSBO Mozaïek-Plus","Parklaan 3",3630,"MAASMECHELEN","089-76.12.08","directie@mozaiekplus.be"]
[26161,"GLSBO 't Schakeltje","Borreshoefstraat 10",3650,"DILSEN-STOKKEM","089-79.08.72","rob.segers@dilsen-stokkem.be"]
[26179,"VBSBO De Wikke","Burgemeester Philipslaan 15",3680,"MAASEIK","089-56.69.85","info@dewikkemaaseik.be"]
[26187,"VLSBO De Boemerang","Gerdingerpoort 20",3960,"BREE","089-46.34.14","directie.deboemerang@dekubus-bree.be"]
[26195,"VLSBO Klimopschool","Kanjelstraat 1_2",3700,"TONGEREN","012-23.57.01","directie@klimoptongeren.be"]
[26203,"GO! LSBO De Zonnestraal_Tongeren","Hasseltsesteenweg 135",3700,"TONGEREN","012-23.70.23","administratie@zonnestraal-tongeren.be"]
[26211,"VBSBO Klavertje 3","Schureveld 9",3740,"BILZEN","089-51.53.20","klavertje3@klavertje3.net"]
[26237,"VLSBO Sint-Jan Berchmansschool","Schepen Dejonghstraat 55",3800,"SINT-TRUIDEN","011-68.74.40","secretariaat@berchmansschool.be"]
[26252,"VBSBO Eymardschool","Oude Diestersebaan 5",3920,"LOMMEL","011-54.03.25","info@eymardschool.be"]
[26261,"VLSBO De Olm","Diestsesteenweg 5",3540,"HERK-DE-STAD","013-55.25.55","directie@blo-hds.be"]
[26278,"VLSBO De Blinker","St.-Ferdinandstraat 1",3560,"LUMMEN","013-53.06.10","deblinker@ferdinand.broedersvanliefde.be"]
[26294,"VBSBO De Brug","Maasheide 17",3580,"BERINGEN","011-42.63.28","directie@debrugberingen.be"]
[26302,"VBSBO De Regenboog","Stationsstraat 5",3980,"TESSENDERLO","013-66.27.36","erika.tinlot@kabot.be"]
[26311,"VBSBO Spermalie","Oliebaan 2_B",8000,"BRUGGE","050-47.19.84","jeroen.naesen@de-kade.be"]
[26328,"SBSBO De Ganzenveer","Ganzenstraat 15",8000,"BRUGGE","050-33.21.86","administratie@ganzenveer.be"]
[26336,"VLSBO De Torretjes","Bruggestraat 23",8820,"TORHOUT","050-23.15.12","blo@sint-rembert.be"]
[26344,"VBSBO Heuvelzicht","Stokstraat 1_A",8650,"KLERKEN","051-50.55.58","buo@heuvelzicht.be"]
[26351,"VBSBO Klimop","Pluimstraat 22",8600,"DIKSMUIDE","051-50.13.75","karen.ollevier@klimopdiksmuide.be"]
[26369,"VBSBO Het Noordveld","Noordveldstraat 31",8200,"SINT-ANDRIES","050-31.69.60","directie@noordveld.be"]
[26377,"VBSBO Het Anker","Beisbroekdreef 12",8200,"SINT-ANDRIES","050-39.09.35","bubao-hetanker@de-kade.be"]
[26385,"VBSBO De Berkjes","Torhoutse Steenweg 513_B",8200,"SINT-MICHIELS","050-40.41.68","schooldeberkjes@de-kade.be"]
[26393,"VBSBO Ter Dreve Type 2","Koning Albert I-laan 188",8200,"SINT-MICHIELS","050-39.01.24","info@bubaoterdreve.be"]
[26401,"VLSBO De Rietzang","Westendelaan 39",8430,"MIDDELKERKE","059-31.99.30","directie.rietzang@bewonderwijs.be"]
[26419,"VBSBO Zonnehart","Sportlaan 18",8211,"AARTRIJKE","050-54.84.35","directie@zonnehart.be"]
[26427,"VLSBO Regenboog","Belhuttebaan 24_A",8680,"KOEKELARE","051-58.05.10","regenboogkoekelare@telenet.be"]
[26451,"VLSBO De Schuit","Weststraat 115",8370,"BLANKENBERGE","050-41.83.40","laethitia.lagast@atotzee.be"]
[26468,"VLSBO De Vuurtoren","Heistlaan 26 bus A",8301,"HEIST-AAN-ZEE","050-51.10.20","directie.devuurtoren@sgsaeftinghe.be"]
[26476,"VBSBO Heilig Hartschool","Clivialaan 9",8400,"OOSTENDE","059-80.28.80","directie.h2o@bewonderwijs.be"]
[26484,"GO! BSBO Aan Zee De Haan","Koninklijke Baan 5",8420,"DE HAAN","059-23.43.36","emily.baert@basisschoolaanzee.be"]
[26492,"GO! BSBO La Ruche","Koninklijke Baan 5",8420,"DE HAAN","059-23.56.38","ecole.laruche@gmail.com"]
[26534,"VBSBO De Strandloper","Albert I Laan 56",8670,"KOKSIJDE","058-53.20.83","directie@strandloper.be"]
[26575,"VLSBO 't Brugje","Dan. De Haenelaan 6",8630,"VEURNE","058-31.30.02","brugje@kustenpolder.be"]
[26583,"Vrije Basisschool BuO BEMOK","Walle 115",8500,"KORTRIJK","056-21.58.37","school@bemok.be"]
[26617,"VBSBO De Kindervriend","Rollegemkerkstraat 51",8510,"ROLLEGEM","056-24.57.84","directie@bo-kindervriend.be"]
[26625,"GBSBO De Klim-Op","Stedestraat 39",8550,"ZWEVEGEM","056-28.54.00","frank.dooms@klimopzwevegem.be"]
[26641,"VLSBO Blijdhove","Guido Gezellelaan 106",8930,"MENEN","056-51.31.91","administratie@buloblijdhove.be"]
[26658,"VBSBO De Waterlelie","Sint-Maartensplein 19",8560,"MOORSELE","056-41.77.23","els.roelstraete@dewaterlelieschool.be"]
[26666,"VBSBO Prizma-De Zonnebloem","Slabbaardstraat-Noord 90",8870,"IZEGEM","051-30.63.08","lynn.moyaert@prizma.be"]
[26674,"GBSBO De Kim","Sint-Amandusstraat 28_A",8540,"DEERLIJK","056-71.68.40","directie@kimsam.net"]
[26682,"GBSBO De Zon","Bollewerpstraat 5_A",8770,"INGELMUNSTER","051-30.36.13","directie@dezon-blo.be"]
[26691,"VLSBO Zonneburcht","Sint-Jozefsstraat 3",8790,"WAREGEM","056-60.05.50","directie.zonneburcht@ko-dewegwijzer.be"]
[26708,"VBSBO Sint-Idesbald","De Zilten 52",8800,"ROESELARE","051-26.43.26","marie.boullart@sint-idesbald.broedersvanliefde.be"]
[26716,"VBSBO Arkorum 13 - De Hagewinde","Vikingstraat 37",8800,"ROESELARE","051-20.33.12","directie.dehagewinde@arkorum.be"]
[26741,"VBSBO Dominiek Savio","Koolskampstraat 37",8830,"GITS","051-23.06.15","annabel.deneckere@dominiek-savio.be"]
[26757,"VLSBO De Vlinder","Oude Pittemstraat 1",8700,"TIELT","051-40.15.90","directie@blo-devlinder.be"]
[26765,"VBSBO Het Vlot","Sint-Elisabethstraat 6",8900,"IEPER","057-20.40.74","hetvlot@cdi-ieper.be"]
[26773,"VLSBO De Klimrank","Deken De Bolaan 2",8970,"POPERINGE","057-33.91.95","klimrank@kbrp.be"]
[26799,"VBSBO OCNIEUWEVAART","Jozef Guislainstraat 47",9000,"GENT","09-226.70.70","geertruis@oc-nieuwevaart.be"]
[26815,"VBSBO Rozemarijn","Kloosterstraat 6_D",9031,"DRONGEN","09-282.09.34","school@rozemarijn.org"]
[26823,"VBSBO Salvator","Meerhoutstraat 55",9041,"OOSTAKKER","09-255.92.20","info@ivio-salvator.be"]
[26831,"VLSBO Macarius","Karel Lodewijk Dierickxstraat 28",9000,"GENT","09-269.92.70","school@school-balans.be"]
[26849,"VLSBO Korenbloem","Korenbloemstraat 17",9000,"GENT","09-269.92.70","school@school-balans.be"]
[26856,"VLSBO Styrka Lager Onderwijs","Ebergiste De Deynestraat 1",9000,"GENT","09-245.57.46","lageronderwijs@styrka.broedersvanliefde.be"]
[26864,"VBSBO Sint-Lievenspoort","Sint-Lievenspoortstraat 129",9000,"GENT","09-268.26.50","bubao@sintlievenspoort.be"]
[26881,"SBSBO Ziekenhuisschool Stad Gent","Corneel Heymanslaan 10",9000,"GENT","09-332.24.05","ziekenhuisschool.bao.directeur@onderwijs.gent.be"]
[26898,"SLSBO De Octopus","Drongensesteenweg 146",9000,"GENT","09-251.02.75","octopus.dir@onderwijs.gent.be"]
[26906,"SBSBO De Zonnepoort","Sint-Lievenspoortstraat 2_-8",9000,"GENT","09-323.52.20","zonnepoort.dir@onderwijs.gent.be"]
[26914,"SLSBO Het Kompas","Ijskelderstraat 29",9000,"GENT","09-225.44.23","kompas.dir@onderwijs.gent.be"]
[26922,"SBSBO Sassepoort - Spoor 9","Bevelandstraat 22_24",9000,"GENT","09-233.36.58","sassepoort.directeur@onderwijs.gent.be"]
[26948,"VBSBO De Vinderij 2","Bleekmeersstraat 17_B",9160,"LOKEREN","09-337.52.70","lies.christiaens@devinderij.be"]
[26955,"VBSBO De Vinderij 1","Bleekmeersstraat 17_A",9160,"LOKEREN","09-337.52.70","an.decoster@devinderij.be"]
[26963,"VLSBO De Zonnewijzer","Kouterstraat 108",9240,"ZELE","052-44.88.32","directie.dezonnewijzer@kaozele.be"]
[26971,"VLSBO De Meiroos","Meidoornlaan 57",9230,"WETTEREN","09-366.32.49","directie@demeiroos.be"]
[26989,"VBSBO Sint Lodewijk","Kwatrechtsteenweg 168",9230,"WETTEREN","09-272.52.44","bubao@sintlodewijk.be"]
[27003,"VBSBO Sint-Gregorius","Jules Destréelaan 67",9050,"GENTBRUGGE","09-210.01.60","nadine.vandesompel@greg.broedersvanliefde.be"]
[27011,"VLSBO Don Bosco","Bergemeersenstraat 106",9300,"AALST","053-39.66.99","contact@donboscobuloaalst.be"]
[27029,"VBS BuO De Zonneroos","Botermelkstraat 201",9300,"AALST","053-38.28.20","directeur@zonnerooslevensvreugde.be"]
[27037,"VBSBO Óscar Romerocollege Het Laar","Zuidlaan 34",9200,"DENDERMONDE","052-21.52.13","hetlaar@romerocollege.be"]
[27045,"VBSBO Blijdorp","Blijdorpstraat 3",9255,"BUGGENHOUT","052-39.99.90","buggenhout@blijdorp.be"]
[27052,"PLSBO Kiempunt campus Buggenhout","Klaverveld 6",9255,"BUGGENHOUT","052-39.70.29","info@kiempuntbuggenhout.net"]
[27061,"VLSBO Hartencollege Buitengewoon LO","Sint-Jorisstraat 45",9400,"NINOVE","054-33.70.26","info.bulo@hartencollege.be"]
[27078,"VBSBO De Mozaïek","Boelarestraat 3",9500,"GERAARDSBERGEN","054-41.83.50","dirbubao@sint-jozefsinstituut.be"]
[27102,"VLSBO Bernadetteschool","Parkstraat 2",9620,"GROTENBERGE","09-360.29.21","info@bernadetteschool.be"]
[27111,"VLSBO De Horizon","Sint-Jozefsplein 10",9700,"OUDENAARDE","055-31.52.00","nathalie.kellens@kbonet.be"]
[27128,"VBSBO Levensblij","Galgestraat 2",9700,"OUDENAARDE","055-31.37.38","sofie.lemarcq@kbonet.be"]
[27136,"Vrije Basisschool BuO","Kouter 93",9800,"DEINZE","09-386.38.65","directie@vibloleieland.be"]
[27144,"VBSBO Ter Leie","Bachtekerkstraat 7",9800,"DEINZE","09-386.55.80","info@bo-terleie.be"]
[27151,"VBSBO Ten Dries","Dennendreef 62",9850,"LANDEGEM","09-371.67.12","bubao@tendries.be"]
[27185,"VBSBO De Triangel","Molendreef 16_c",9920,"LIEVEGEM","09-370.72.16","nancy.deroo@dvcdetriangel.be"]
[44602,"GO! BS De Schakel_Hoboken","Weerstandlaan 141",2660,"HOBOKEN","03-827.62.58","directie@bsgo-deschakel.be"]
[44628,"VBS Steinerschool Lier-Sterrendaalders","Mallekotstraat 43",2500,"LIER","03-491.80.10","directie@sterrendaalders.be"]
[44636,"GO! BS Beukenbos","Groenstraat 29",1501,"BUIZINGEN","02-360.03.11","secretariaat.beukenbos@ringscholen.be"]
[44644,"VBS Ipos","Eekhoornlei 9",2900,"SCHOTEN","03-658.01.96","schoolhoofd.tuimelaar@gmail.com"]
[44651,"VBS Steinerschool Kasteellaan Gent","Kasteellaan 54",9000,"GENT","09-235.28.00","heidi.de.biscop@steinerschoolgent.be"]
[44677,"VBS Het Spoor","Stationstraat 22",8700,"TIELT","051-40.62.63","info@vbshetspoor.be"]
[44693,"VBS Klim-Op","Losting 43",3221,"NIEUWRODE","016-56.09.18","kim.geens@katholiekonderwijsholsbeek.be"]
[44801,"VBS De Klinker","Torenstraat 62",3110,"ROTSELAAR","016-44.90.46","secretariaat@deklinker.be"]
[44818,"VLS De Kraal","Van Bladelstraat 28",3020,"HERENT","016-20.82.74","info@kraal.be"]
[45211,"VBS Mozaïek","Nieuwstraat 60",9800,"ASTENE","09-386.59.85","info@mozaiekastene.be"]
[45237,"VBS Kwikstaartje","Speurtstraat 3",9340,"OORDEGEM","09-369.44.46","directie@kwikstaartje.be"]
[45245,"VBS Sint-Paulus Drongen","Gavergrachtstraat 97",9031,"DRONGEN","09-226.43.12","directie@spdrongen.be"]
[45252,"VBS Belzele","Belzeelsestraat 22",9940,"EVERGEM","09-253.05.49","directie@vbbelzele.be"]
[45261,"SBS De Boomgaard","Bommelstraat 24",9000,"GENT","09-323.56.90","deboomgaard.dir@onderwijs.gent.be"]
[45278,"Vrije Basisschool","Pastorijstraat 15",1982,"WEERDE","015-61.28.25","directie@zonnewijzer.net"]
[45286,"VBS Sint-Maartenschool","Hombekerkouter 18",2811,"HOMBEEK","015-41.55.33","sint.maartenschool@telenet.be"]
[45294,"VBS Yggdrasil","Zwemdoklei 3",2930,"BRASSCHAAT","03-665.41.90","info@steinerschoolyggdrasil.be"]
[45302,"SBS Larum","Larum 9",2440,"GEEL","014-56.64.80","sbs.larum@geel.be"]
[45311,"VBS De Toverboom","Bel 131",2440,"GEEL","014-58.92.44","directie@detoverboom.be"]
[45328,"SBS De Katersberg","Katersberg 27",2440,"GEEL","014-56.64.60","de.katersberg@geel.be"]
[45344,"GLS Klim Op","Gasthuisstraat 8",2990,"WUUSTWEZEL","03-690.46.65","info@schoolklimop.be"]
[45351,"VBS De Klimming","Assestraat 5",1790,"ESSENE","02-582.20.17","directie@klimming.be"]
[45831,"VBS De Twijg","Ursulinenstraat 1",3018,"WIJGMAAL","016-44.63.48","directie@detwijg.be"]
[45898,"VBS De Zonnetuin","Beeweg 32",8310,"SINT-KRUIS","050-35.89.09","directie@zonnetuin.be"]
[45922,"HBS Leidstar","Claessensstraat 59",1020,"LAKEN","02-422.03.80","sec.leidstar@brucity.education"]
[45931,"HSKS Koningin Astrid","Donderberg 35",1120,"NEDER-OVER-HEEMBEEK","02-263.06.00","nadine.bracke@brucity.education"]
[46045,"VBS De Zandloper","Weg naar Opoeteren 172",3660,"OUDSBERGEN","089-85.65.85","info@basisschool-louwel.be"]
[46052,"VBS Regina Pacis 2","Jozef Mattheessensstraat 62",2540,"HOVE","03-455.07.99","directie@rp2.be"]
[46086,"VBS Sint-Aloysius","Zonnestraat 4",9450,"DENDERHOUTEM","054-33.92.13","directie@sabdenderhoutem.be"]
[46128,"VBS Sint-Franciscus","Schorvoortstraat 31",2300,"TURNHOUT","014-41.33.53","sint-franciscus@telenet.be"]
[46177,"VBS Leertuin","Populierenlaan 1",2200,"HERENTALS","014-21.29.06","rina.vets@kosh.be"]
[46185,"VBS Steinerschool Guido Gezelleschool","Astridlaan 86",8310,"ASSEBROEK","050-37.00.75","basis@steinerschoolbrugge.be"]
[46193,"VBS Hartencollege Okegem","Okegem-Dorp 2",9400,"OKEGEM","054-32.60.65","info.bok@hartencollege.be"]
[46201,"GBS De Geluksvogel","Rijselstraat 71",8200,"SINT-MICHIELS","050-38.44.71","secretariaat@sbsdegeluksvogel.com"]
[46227,"Vrije Basisschool","Heistraat 206",9100,"SINT-NIKLAAS","03-777.73.66","directeur@berkenboomheistraat.be"]
[46268,"GBS Schransdries","Schransdriesstraat 45",2340,"BEERSE","014-61.13.48","info@gbs-schransdries.be"]
[46292,"VKS Heilig Hart","Naamsesteenweg 355",3001,"HEVERLEE","016-39.90.35","directie.hhh.kleuter@sgarchipel.be"]
[46301,"GBS Eksaarde","Dam 67",9160,"EKSAARDE","09-346.82.96","directie.basisschooleksaarde@lokeren.be"]
[46631,"GBS school 3212","Kerkplein 2",3212,"PELLENBERG","016-46.02.28","directie.school3212@gbslubbeek.be"]
[46672,"VBS De Toverbol","Wittestraat 116",2020,"ANTWERPEN","03-248.00.48","info@toverbol.be"]
[46755,"VBS Steinerschool Hibernia Antwerpen","Volkstraat 40",2000,"ANTWERPEN","03-248.40.34","bart.de.mare@steinerschoolantwerpen.be"]
[46797,"SBS De Octopus","Sint-Rochusstraat 124",2100,"DEURNE","03-292.66.90","deoctopus@so.antwerpen.be"]
[47027,"VBS Klaproos","Molenheide 12",2242,"PULDERBOS","03-464.10.54","directie@klaproos-school.be"]
[47035,"VBS 't Schooltje van Oppem","Processieweg 4",1860,"MEISE","02-269.33.52","directie@schooltjevanoppem.be"]
[47134,"VKS De Ark","Tiensesteenweg 190",3001,"HEVERLEE","016-25.96.63","info@ark123.be"]
[47142,"GBS De Wijsneus","Worteldorp 13",2323,"WORTEL","03-314.50.41","directie@dewijsneus.be"]
[47167,"VBS De Zevensprong","Vital Decosterstraat 67",3000,"LEUVEN","016-29.15.44","secretariaat@zevensprong.org"]
[47522,"VBS Rudolf Steinerschool De Zonnewijzer","Privaatweg 7",3018,"WIJGMAAL","016-20.29.54","directie.basisschool@steinerschoolleuven.be"]
[47985,"VBS Rinkeling","Dorpstraat 42",1785,"BRUSSEGEM","02-460.02.86","directie@rinkelingschool.be"]
[48009,"VBS Lohrangrin","Boomsesteenweg 94",2610,"WILRIJK","03-827.25.20","school@lohrangrin.be"]
[48322,"Vrije Kleuterschool","Stella Marisstraat 3",2170,"MERKSEM","03-645.31.30","kleuterschool@groenendaal.be"]
[48331,"VBS Jesode Hatora-Beth Jacob","Steenbokstraat 10",2018,"ANTWERPEN","03-239.25.35","roseanne.zohori@jhbj.be"]
[48355,"VKS Sint-Michiel","Diestersteenweg 9",3970,"LEOPOLDSBURG","011-34.31.34","kleuterlagersintmichiel@tofkids.be"]
[48363,"VBS De Puzzel","Zavelstraat 2",3990,"PEER","011-63.26.06","info@basisschooldepuzzel.be"]
[48371,"Vrije Basisschool","Kerkplein 4",2330,"MERKSPLAS","014-63.30.00","koenthone@vbsmerksplas.be"]
[48678,"VBS De Kleiheuvel","Kleitkalseide 107",9990,"MALDEGEM","050-71.52.07","joke.vandemaele@vbsdekleiheuvel.be"]
[48744,"VBS KOHa Zouaaf","Evangeliestraat 85",9220,"HAMME","052-47.03.45","zouaaf@kohamme.be"]
[48751,"Gemeentelijke Basisschool (FR)","Jef Van Lishoutstraat 17",1630,"LINKEBEEK","02-380.88.11","direction@ecl-fr.be"]
[53199,"VBS Sancta Maria Leuven","Charles Deberiotstraat 3",3000,"LEUVEN","016-23.67.15","directie@sanctamariabasisschool.be"]
[53215,"VBS Tabor Bellem","Lotenhullestraat 30",9881,"BELLEM","09-374.16.97","taborbellem@op-weg.net"]
[53306,"GBS Heieinde","Sint-Jozefstraat 39",2350,"VOSSELAAR","014-61.43.42","directie.heieinde@gbsvosselaar.be"]
[53314,"VKS De Duizendpoot","Lepelstraat 38_A",2290,"VORSELAAR","014-50.93.40","directie@ks-vorselaar.be"]
[53322,"VKS Immaculata","Smekenstraat 12",2390,"MALLE","03-311.67.58","directie.kleuters@immaculata-oostmalle.be"]
[53348,"GO! BS De Kn@ppe Ontdekker_Maasmechelen","Daalstraat 9",3630,"MAASMECHELEN","089-77.39.30","secretariaat@deknappeontdekker.be"]
[53439,"VBS De Akker","Donkerstraat 11",8640,"WESTVLETEREN","057-40.12.37","deakker@kbrp.be"]
[53488,"Gemeentelijke Lagere School","Podtsmeulen 9",9250,"WAASMUNSTER","09-349.23.94","directie@glsruiter.be"]
[53553,"VKS Regina Pacis 1","Boechoutsesteenweg 87",2540,"HOVE","03-455.03.55","directie.ks@regpacho.net"]
[53967,"SBS Tuilt","Zolderse kiezel 86",3511,"KURINGEN","011-25.17.57","sbs.tuilt@hasselt.be"]
[53975,"Provinciale Kleuterschool","Kwinten 3_B",3790,"SINT-MARTENS-VOEREN","04-381.23.00","pks.voeren@campusvoeren.be"]
[54692,"VBS Sint-Gummaruscollege","Lisperstraat 112",2500,"LIER","03-480.06.10","secretariaat@sgcbasis.be"]
[55301,"VBS De Driehoek","Matthijsplein 2",3950,"BOCHOLT","089-46.28.32","bs.de.driehoek@skynet.be"]
[55335,"VBS Karamba","Grotstraat 8",1880,"RAMSDONK","015-71.24.13","infokaramba@kobos.be"]
[55459,"VBS Sint-Gertrudis","Grootveldstraat 2",3400,"LANDEN","011-88.23.21","vera.counard@vbslanden.be"]
[55681,"VBS Kindercampus Godsheide","Kleinstraat 19",3500,"HASSELT","011-22.26.64","godsheide@kt-scholengroep.be"]
[55715,"VBS Scheutplaneet","Ninoofse Steenweg 339",1070,"ANDERLECHT","02-411.15.54","directie@scheut-planeet.be"]
[55723,"VBS HHC Halleweg","Halleweg 220",1500,"HALLE","02-356.95.14","bart.parrez@hhchalle.be"]
[55781,"Gemeentelijke Basisschool","Haagbeemdenplantsoen 95",2300,"TURNHOUT","014-43.03.48","sbs.secretariaat@turnhout.be"]
[55814,"VBS Regina Assumpta","Adolphe Willemynsstraat 215",1070,"ANDERLECHT","02-522.66.59","regina.assumptaschool@gmail.com"]
[55822,"GLS De Meerpaal","Terbeeksestraat 6",2321,"MEER","03-315.77.51","directie@demeerpaal.be"]
[55831,"VBS Mater Dei","Bredabaan 479",2930,"BRASSCHAAT","03-651.49.07","centrum@bsmaterdei.be"]
[55855,"VBS De Kleine Prins","Aug. Debunnestraat 15",8930,"MENEN","056-53.25.91","info@dekleineprins.be"]
[55871,"GO!Leefschool De Oogappel_Gent","Bisdomkaai 1_B",9000,"GENT","09-233.85.32","dir.bsdeoogappel@scholengroep.gent"]
[55889,"GO! BS Op Dreef","Melgesdreef 113",2170,"MERKSEM","03-647.01.12","secretariaat@opdreef.be"]
[55897,"GO! BS De Nova Kids","Rerum Novarumlaan 1",3010,"KESSEL-LO","016-25.29.08","directeur@deschool.be"]
[55905,"Vrije Basisschool Sint-Victor Dworp","Kerkstraat 3",1653,"DWORP","02-380.08.08","info@sint-victordworp.be"]
[55939,"VBS ZAVO","Hoogstraat 1",1930,"ZAVENTEM","02-720.42.18","info@zavobasis.be"]
[56011,"GO! Freinetschool De Appeltuin","Weldadigheidsstraat 74",3000,"LEUVEN","016-20.17.62","secretariaat@appeltuin.be"]
[56077,"VKS Regina Caeli","Kaudenaardestraat 121",1700,"DILBEEK","02-568.18.38","directie@rckleuter.be"]
[57174,"VBS Sint-Lievenscollege","Keizer Karelstraat 12",9000,"GENT","09-225.05.93","directie@slckeizerkarel.be"]
[60988,"VBS Heilig Hart","Waversebaan 81",3050,"OUD-HEVERLEE","016-40.44.58","directie.hhoh@sgarchipel.be"]
[60996,"GBS Scheut","Léopold De Swaefstraat 38",1070,"ANDERLECHT","02-522.95.11","gbsscheut@anderlecht.brussels"]
[61002,"Vrije Basisschool","Oude Haachtsesteenweg 125",1831,"DIEGEM","02-720.33.43","info.pbd@kov.be"]
[61077,"VBS Sint-Jozef","Ieperleedstraat 58",8432,"LEFFINGE","059-30.06.17","directie.stjolef@bewonderwijs.be"]
[61151,"Vrije Kleuterschool","Edegemsesteenweg 116_A",2550,"KONTICH","03-457.03.43","directieKS@altena.be"]
[61176,"VBS O.L.V. van Vreugde","Koning Leopold III-plein 69",8530,"HARELBEKE","056-71.94.92","devleugel@kbhonline.be"]
[61218,"GO! BS Icarus_Kinrooi","Kasteelstraat 3",3640,"KINROOI","089-56.20.18","info@bsicarus.be"]
[61226,"VBS De Zonnebloem","Rollebaanstraat 8_A",8730,"BEERNEM","050-84.25.09","ellen.vaneenoo@de-zonnebloem.be"]
[61242,"VBS Lutselus","Pastorijstraat 2",3590,"DIEPENBEEK","011-32.35.70","directeur@lutselus.be"]
[61267,"VBS KCD","Collegestraat 19",9470,"DENDERLEEUW","053-67.06.10","info@kcd.be"]
[61325,"VBS Leernest","Kloosterstraat 3",9800,"BACHTE-MARIA-LEERNE","09-282.77.87","directie@leernest.be"]
[61424,"VLS Sint-Michielscollege","Zwaantjeslei",2930,"BRASSCHAAT","03-640.30.34","secretariaat@smcbls.be"]
[61457,"VBS Prizma - OLV","Brigandsstraat 15",8770,"INGELMUNSTER","051-30.27.57","bruno.six@prizma.be"]
[61754,"SBS Optimist","Quebecstraat 3",2030,"ANTWERPEN","03-292.97.97","optimist@so.antwerpen.be"]
[61903,"GKS Kaart 't Veldhoppertje","Schoolstraat 4",2930,"BRASSCHAAT","03-653.15.89","directie@veldhoppertje.be"]
[61961,"HSBS De Droomboom","Louis Wittouckstraat 46",1020,"LAKEN","02-421.08.60","christine.sterckx@brucity.education"]
[61978,"GBS Van Asbroeck","Wilgstraat 1",1090,"JETTE","02-426.97.69","johancomhair@gbsjette.be"]
[61986,"VLS Sancta Maria","Stevens-de Waelplein 13",1502,"LEMBEEK","02-356.67.21","sanctamariasdw@gvbslembeek.be"]
[62166,"GO! BS Het Oogappeltje","Dasstraat 26",2160,"WOMMELGEM","03/353.75.89","info@bshetoogappeltje.be"]
[62331,"GBS De Wonderboom","Kerkstraat 49",9250,"WAASMUNSTER","052-46.17.01","directie@gbswaasmunster.be"]
[62364,"VLS Sint-Dimpna","Laar 3",2440,"GEEL","014-58.91.30","gie.geuns@kogeka.be"]
[62372,"VBS Met De Bijbel Den Akker","Sint-Janstraat 16_A",3920,"LOMMEL","011-34.60.21","directie@denakker.be"]
[102525,"Vrije Kleuterschool O.-L.-Vrouwinstituut","Kloosterweg 1_B",1640,"SINT-GENESIUS-RODE","02-380.10.15","secretariaat@olvrodebasis.be"]
[102533,"Gemeentelijke Basisschool","Kleine Kouterstraat 1",9290,"UITBERGEN","09-367.50.88","gemeenteschool.uitbergen@telenet.be"]
[102566,"GO! KS Ronse-Dr Ovide Decroly KS","Geraardsbergenstraat 221",9600,"RONSE","055-21.49.56","decroly.kleuter@sgr21.be"]
[102574,"VKS Maria Immaculata","Oude Bergsebaan 20",2950,"KAPELLEN","03-664.36.23","directieks@basisschoolzilverenhoek.be"]
[102591,"Vrije Kleuterschool KSD Sint-Jan","Peetersstraat 14",3290,"DIEST","013-35.19.23","basisschool.sj@ksdiest.be"]
[102641,"VKS O.L.V. van Lourdesinstituut","Kloosterstraat 82",2180,"EKEREN","03-541.75.70","ks-olv@telenet.be"]
[102673,"VBS Sint-Victor","Kasteeldreef 2",2300,"TURNHOUT","014-41.71.48","chris.vangool@sint-victor.be"]
[102681,"VKS De Zevensprong","Sint Willebrordusstraat 29",2960,"BRECHT","03-660.07.70","directie@de7sprong.be"]
[103242,"VBS Leefschool De Dageraad","Lange Altaarstraat 4",2018,"ANTWERPEN","03-288.65.66","info@leefschooldedageraad.be"]
[103549,"SBS De Vlieger","Wasstraat 120",9000,"GENT","09-323.55.80","devlieger.dir@onderwijs.gent.be"]
[103887,"GBS De Springveer","Gemeenveldstraat 10",1652,"ALSEMBERG","02-359.16.32","info.despringveer@gbsbeersel.be"]
[104241,"VLS De Rank","Aarschotsesteenweg 172_a",3111,"WEZEMAAL","016-58.20.68","info@derank.be"]
[104265,"VKS Mini Virgo","Kerkhofstraat 43",1840,"LONDERZEEL","052-30.31.07","ingridv@minivirgo.be"]
[104299,"GO! BS T' Overbeek Ganshoren","Van Overbekelaan 229",1083,"GANSHOREN","02-428.41.87","lydia.dhont@toverbeek.be"]
[104307,"GO! BS De Mozaïek_Schaarbeek","Van Ysendyckstraat 24",1030,"SCHAARBEEK","02-215.09.50","secretariaat@bsmozaiek.be"]
[104315,"VBS O.-L.-V. - Visitatie Klimop","Theresianenstraat 34",9000,"GENT","09-223.75.08","directie@montessoriklimop.be"]
[104372,"VBS Sint- Jan Berchmans Outrijve","Moerbeekstraat 3",8582,"OUTRIJVE","056-64.79.53","info@sjb2.be"]
[104381,"VBS Proosterbos","Drossaardstraat 21",3630,"MAASMECHELEN","089-77.27.92","directie@proosterbos.be"]
[104398,"VKS Arkorum 07 Sint-Jozef","Seringenstraat 57",8800,"ROESELARE","051-22.35.36","sint.jozef@arkorum.be"]
[104431,"VLS De Wegwijzer","Gemeenteplein 7",3560,"LUMMEN","013-52.19.43","lagereschool@dewegwijzer-lummen.be"]
[104513,"VLS Kindercampus Mozaïek","Zegestraat 40",3500,"HASSELT","011-21.17.64","mozaiek@kt-scholengroep.be"]
[104521,"VBS Sint-Cajetanusschool","Tervuursesteenweg 176",1820,"PERK","02-751.79.18","lieve.duthoo@cajetanus-perk.be"]
[104547,"VBS Freinetschool De Torteltuin","Werf 52_A",8970,"POPERINGE","057-33.30.85","info@detorteltuin.be"]
[104571,"VBS Sjabi","Begijnhofstraat 8",2870,"PUURS-SINT-AMANDS","03-827.76.22","katrin.pepermans@sjabi.be"]
[104588,"GO! Freinetschool Triangel","Kleine steenweg 33",2221,"BOOISCHOT","015-22.16.30","info@freinetschool-triangel.be"]
[104596,"Vrije Basisschool","Hoge Akker 16",2550,"KONTICH","03-457.10.15","directie@sint-montfort.be"]
[104604,"VBS De Griffel","Marie Joséestraat 4",3630,"MAASMECHELEN","089-76.47.21","directie@degriffeleisden.be"]
[104638,"VBS De Horizon","Zondereigen 57",2387,"BAARLE-HERTOG","014-63.37.10","secretariaat@dehorizon-tspoor.kobart.be"]
[104711,"VBS De Droomgaard","Diestseweg 34_F",2440,"GEEL","014-56.26.56","directie@vbsdedroomgaard.be"]
[104851,"VBS DvM","Sint Martensplein 2_A",9300,"AALST","053-21.29.88","info@dvmbasis.be"]
[105379,"VBS Glorieux 3","Stefaan Modest Glorieuxlaan 40",9600,"RONSE","055-61.25.50","bernadettedingenen@koronse.be"]
[105445,"GBS Kallo","Hoog-Kallostraat 30",9120,"KALLO","03-750.10.95","gbs.kallo@beveren.be"]
[105461,"VBS Oeterveld","Ophovenstraat 71",3680,"NEEROETEREN","089-86.30.71","oeterveld@kbaoneeroeteren.be"]
[105478,"VBS Sint-Jozef Sint-Pieter Campus Zuidla","Zuidlaan 70",8370,"BLANKENBERGE","050-41.35.82","ilya.aerts@atotzee.be"]
[105742,"VBS De Bolster","Dorpsstraat 48",3040,"NEERIJSE","016-47.74.97","directie@vbneerijse.be"]
[105817,"VBS Sint-Gorik","Pluimstraat 2 bus A",9450,"HAALTERT","053-83.74.30","directie@sint-gorik.be"]
[105825,"VBS Het Palet","Mariastraat 7",8000,"BRUGGE","050-33.63.47","info@paletbrugge.be"]
[105833,"VBS De Knipoog 1","Rooseveltlaan (Franklin) 98",1800,"VILVOORDE","02-254.88.44","kathy.stockmans@kov.be"]
[105882,"GO! Freinetschool De Step Beringen","Salviastraat 7",3580,"BERINGEN","011-42.29.77","info@destep.be"]
[105932,"VBS Kindercampus Catharina","Jan Palfijnlaan 4",3500,"HASSELT","011-22.44.28","catharina@kt-scholengroep.be"]
[105941,"VBS Klim-Op","Gootstraat 12",3800,"SINT-TRUIDEN","011-68.94.15","directie@basisschoolklimop.be"]
[105957,"VBS Sint-Trudo","Stenaartberg 2",3800,"SINT-TRUIDEN","011-68.29.41","info@hhartsinttrudo.be"]
[105965,"VBS Jan Rosier","Pastorijstraat 11",3620,"LANAKEN","089-71.40.39","wendy.peerlings@janrosier.be"]
[105973,"Vrije Basisschool","Loostraat 5",3724,"VLIERMAAL","012-23.76.59","directie@vlierbloem.be"]
[105981,"VBS De mAgneet","Albertus Morrenstraat 6",3990,"PEER","011-38.38.01","info@basisschoolpeer.be"]
[105999,"VBS De Kap(r)oenen","Alfred De Taeyestraat 40_A",9970,"KAPRIJKE","09-373.73.81","directie@dekaproenen.be"]
[106005,"VBS Massemen","Massemsesteenweg 244",9230,"MASSEMEN","09-369.82.46","directie@schoolmassemen.be"]
[106013,"VBS Broederschool Driegaaien","Driegaaienstraat 8",9100,"SINT-NIKLAAS","03-780.92.12","directie@basis3.broeders.be"]
[106021,"VBS De Bron","Molendreef 16",9920,"LIEVEGEM","09-355.68.76","annelieslannoo@debron-lovendegem.be"]
[106039,"VBS Sint-Martinus","Dreef 47",9930,"LIEVEGEM","09-372.78.26","martinus47.directie@skynet.be"]
[106047,"VBS Zulte","Staatsbaan 190",9870,"ZULTE","09-388.69.41","zulte@ko-dewegwijzer.be"]
[106088,"GO! BS Veltwijck","Veltwijcklaan 235",2180,"EKEREN","03-645.10.33","directie@veltwijck.be"]
[106112,"VLS Sint-Jan Berchmanscollege","Nieuwland 75",1000,"BRUSSEL","02-512.32.81","celien.heyvaert@sjbbrussel.be"]
[106121,"Gemeentelijke Lagere School","Kouterstraat 80_A",8550,"ZWEVEGEM","056-28.54.50","laura.arnout@gszwevegem.be"]
[106138,"VBS School met de Bijbel De Ark","Bruyningstraat 56_a",8510,"MARKE","056-24.04.40","directie@smdb-ark.be"]
[106153,"GBS De Toverboon","Denderbellestraat 2_A",9200,"DENDERMONDE","052-21.46.03","toverboon@dendermonde.be"]
[106161,"GO! BS leefschool De Vlieger_Oostende","Rogierlaan 12",8400,"OOSTENDE","059-51.22.35","saar.trybou@leefschooldevlieger.be"]
[106179,"Vrije Basisschool","Termerestraat 19_C",3020,"WINKSELE","016-20.82.74","info@kraal.be"]
[106187,"VBS St- Theresia","Rollegemkerkstraat 53",8510,"ROLLEGEM","056-21.34.16","directie@vbsrol.be"]
[106195,"VBS Klavertjevier","Engelselei 10",2950,"KAPELLEN","03-664.56.90","school@bk4.be"]
[106203,"Vrije Kleuterschool","Steenbakkersstraat 80",8400,"OOSTENDE","059-70.07.85","directie@westdiepkleuter.be"]
[106815,"VBS De Step","Veltwijcklaan 134",2180,"EKEREN","03-544.84.45","info@vzwdestep.be"]
[107524,"VBS Prinses Juliana","d'Oultremontstraat 19",1040,"ETTERBEEK","02-733.86.16","directiebpj@julianaschool.be"]
[107532,"VBS Mater Dei","Zalighedenlaan 16",1780,"WEMMEL","02-461.39.56","directie@materdeiwemmel.be"]
[107541,"VBS Burgemeester Marnix","Amerlolaan 53",2900,"SCHOTEN","03-658.00.40","info@marnixschool.be"]
[107557,"GBS Rode","Papenmeuter 8",1860,"MEISE","02-892.23.80","info@gbsrode.be"]
[107623,"Vrije Basisschool","Kerkplein 3",3600,"GENK","089-38.11.17","directie@sintalbertus.be"]
[107631,"VBS Mozaiek","Parklaan 3",3630,"MAASMECHELEN","089-79.00.68","directie@mozaiekmm.be"]
[107649,"VBS Sint-Janscollege De Krekel","Krekelberg 1",9040,"SINT-AMANDSBERG","09-228.58.71","vbs.dekrekel@sintjv.be"]
[107656,"VKS De Wegwijzer","Gemeenteplein 7",3560,"LUMMEN","013-52.19.43","kleuterschool@dewegwijzer-lummen.be"]
[107681,"GO! Next FS de Toverfluit","Alfons Jeurissenstraat 46",3500,"HASSELT","011-26.23.46","directie@toverfluit.be"]
[107698,"GO! BS De Letterfant","Driewilgenstraat 23",3800,"SINT-TRUIDEN","011-48.46.18","germaine.plevoets@deletterfant.be"]
[107789,"VLS KLIM","Sint-Pietersaalststraat 78_A",9000,"GENT","09-220.62.79","lagerescholen@klim.be"]
[107797,"Vrije Basisschool","Ottergemsesteenweg 155",9000,"GENT","0477-04.61.01","directie@spgent.be"]
[107805,"SBS Mandala","Jozef II-straat 28",9000,"GENT","09-265.76.10","mandala.dir@onderwijs.gent.be"]
[107813,"Vrije Basisschool","Wegvoeringstraat 59",9230,"WETTEREN","09-369.23.91","jozefbasisschool@skynet.be"]
[107821,"VBS De Bellewij","Kapellenstraat 43",9280,"DENDERBELLE","052-41.09.64","directie@dorpsschoolbelle.be"]
[107839,"VBS Onze Lieve Vrouw Presentatie","Plezantstraat 135",9100,"SINT-NIKLAAS","03-760.08.73","basisschool.plezant@olvp.be"]
[107847,"Vrije Basischool","Patronagestraat 52",9060,"ZELZATE","09-345.59.95","secretariaat@basila.be"]
[107862,"VBS Sint-Amelbergaschool","Akkerstraat 42",9140,"TEMSE","03-771.06.03","directie@sint-amelbergaschool.be"]
[107904,"VBS Zeveren-Vinkt","Leeuwstraat 12_A",9800,"DEINZE","09-386.80.95","directie@zevi.be"]
[107912,"VBS Leiebloem","Leihoekstraat 7",9870,"MACHELEN","09-386.52.57","info@vbsmachelen.be"]
[107921,"GBS Kortrijk-Dutsel- De Gobbel","Gobbelsrode 5",3220,"HOLSBEEK","016-62.22.29","secretariaat@gemeenteschoolholsbeek.be"]
[107938,"VBS De Kouter-basis Zele","Koevliet 1_A",9240,"ZELE","052-44.69.31","secretariaat.dekouterbasis@kaozele.be"]
[107946,"VBS Regina Pacis Campus Pioenen","Pioenenstraat 4",1020,"LAKEN","02-478.52.36","els.vanderstraeten@pioenen.reginapacis.eu"]
[107953,"GBS De Zonne","Zonderschotsesteenweg 65",2220,"HEIST-OP-DEN-BERG","015-22.05.62","basisschool.zonderschot@telenet.be"]
[107995,"VBS Sint-Maarten","Raffelgemstraat 8",9300,"AALST","053-70.19.16","smi.vb.stanna@skynet.be"]
[108027,"GO! KS Toverfluit","Toverfluitstraat 19",1080,"SINT-JANS-MOLENBEEK","02-413.11.32","sabine.vanheeswijck@campustoverfluit.be"]
[108043,"VBS Rinkrank","Pastoor Hensstraatje 14",2920,"KALMTHOUT","03-666.72.72","secretariaat@rinkrank.be"]
[108051,"GO! BS 't Regenboogje","Generaal Capiaumontstraat 73",1040,"ETTERBEEK","02-646.22.97","directie@regenboogje-etterbeek.be"]
[108225,"VBS Sint- Katrien","Heulsestraat 111",8860,"LENDELEDE","056-35.03.28","directie@vbssint-katrien.be"]
[109851,"GO! freinetschool De Tandem","Leopold Debruynestraat 56",8310,"SINT-KRUIS","050-37.76.78","mike.goudeseune@detandem.be"]
[110064,"VBS De Meidoorn","Zuidmoerstraat 125",9900,"EEKLO","09-341.82.36","directie.demeidoorn@coltd.be"]
[110072,"Vrije Basisschool","Rupelmondestraat 42",9150,"BAZEL","03-774.15.64","sintpetrus@ksas.be"]
[110081,"VBS De Schatkist Ertvelde","Eeklostraat 2",9940,"ERTVELDE","09-344.91.41","directie@vbsertvelde.be"]
[110098,"VBS 't Karmelieten","Karmelietenstraat 57",9500,"GERAARDSBERGEN","054-41.07.10","dirbao@sint-jozefsinstituut.be"]
[110106,"VBS Borsbeke","Provincieweg 73_B",9552,"BORSBEKE","053-62.43.77","vbsborsbeke@telenet.be"]
[110205,"VLS De Boomgaard","Eerste Straat 19",3680,"MAASEIK","089-56.54.95","gunter.haeldermans@deboomgaard.org"]
[110213,"SBS Mopertingen- Hees","St.Catarinastraat 4",3740,"MOPERTINGEN","089-49.13.23","mopertingen@sbsbilzen.be"]
[110221,"VBS De Bladwijzer","Binnenlaan 1",3600,"GENK","089-38.26.44","info@debladwijzer.be"]
[110239,"VBS Sint-Augustinus","Driehoekstraat 42_A",9660,"NEDERBRAKEL","055-42.35.79","sab-basisschool@vbsab.be"]
[110254,"VKS De Kraal","Van Bladelstraat 29",3020,"HERENT","016-20.82.74","info@kraal.be"]
[110271,"VBS Mozaiek","Pastorieweg 4",8310,"SINT-KRUIS","050-35.12.10","info@basisschoolmozaiek.be"]
[110429,"VBS SLHD De Smalle","Smallestraat 2",8000,"BRUGGE","050-33.29.04","annelies.vercoutter@slhd.be"]
[110437,"VBS Prizma - De stadsparel","Baron de Pélichystraat 6",8870,"IZEGEM","051-30.35.52","nele.windels@prizma.be"]
[110445,"VBS De Fontein","4e Regiment Karabiniersstraat 9",8980,"PASSENDALE","051-77.00.49","directie.passendale@moorsledegem.be"]
[110452,"VBS De Brug","Statiestraat 35_A",1740,"TERNAT","02-582.93.29","pascal.blijkers@debrugternat.be"]
[110461,"Stedelijke Basisschool","Pompoenstraat 44",8792,"DESSELGEM","056-71.38.36","info@sbsdesselgem.be"]
[110478,"VLS Sint-Amandus","Schutterijstraat 6",8760,"MEULEBEKE","051-48.71.49","kattyrosseel@sgfv.be"]
[110494,"VBS Bais Chinuch","Lamorinièrestraat 83",2018,"ANTWERPEN","03-281.54.13","office@bchinuch.be"]
[110511,"VLS Joma","Maantjessteenweg 130",2170,"MERKSEM","03-645.59.60","directie@jomabasis.be"]
[110528,"GO! leefschool Pluishoek","Pluishoekstraat 3",2220,"HEIST-OP-DEN-BERG","0486-97.62.18","leefschool@pluishoek.be"]
[110551,"VBS Sint-Ludgardis","Bervoetstraat 25",2000,"ANTWERPEN","03-233.93.20","sigyn.blondeel@stludgardis.be"]
[110569,"VBS Het Hinkelpad","Geluwestraat 4",2600,"BERCHEM","03-286.78.90","hethinkelpad.info@ankerwijs.be"]
[110577,"VBS Sint-Guibertus","Schoolstraat 23",2222,"ITEGEM","015-24.68.04","directie@basisschool-itegem.be"]
[110601,"VLS OLVP Bornem","Rijkenhoek 2",2880,"BORNEM","03-889.44.74","nathalie.smet@olvpls.be"]
[110627,"VKS De Link","Patronaatstraat 28",2650,"EDEGEM","03-457.04.22","directiekleuter@de-link.be"]
[110643,"GO! BS Europa_Bredene","Europastraat 2",8450,"BREDENE","059-33.15.66","directeur@europaschool.be"]
[110676,"GO! BS Zavelput","Gulden Koornstraat 15",1082,"SINT-AGATHA-BERCHEM","02-465.44.39","directie@zavelput.be"]
[110684,"VBS Onafhank. Freinetschool De Klaproos","Groteweg 240",9500,"GERAARDSBERGEN","054-42.21.71","postbus@freinetschooldeklaproos.be"]
[110692,"GO! BS De Zandlopertjes_Bredene","Schoollaan 10",8450,"BREDENE","059-32.11.36","directeur@dezandlopertjes.be"]
[110726,"GO! LSBO De Balderschool","Doelstraat 36_A1",2590,"BERLAAR","03-482.00.62","directie@balderschool.be"]
[111047,"VBS Sint-Norbertus","Geldenaaksebaan 200",3001,"HEVERLEE","016-40.43.06","directie.sintnorbertus@sgarchipel.be"]
[111104,"GO! freinetschool Het Reuzenhuis Tielt","Gruuthusestraat 90",8700,"TIELT","051-40.92.72","info@reuzenhuis.be"]
[111138,"GO! Freinetschool Villa Zonnebloem","Berthoudersplein 22",2800,"MECHELEN","015-33.66.60","info@villazonnebloem.be"]
[111914,"GBS Mooi-Bos","Doorndal 3",1150,"SINT-PIETERS-WOLUWE","02-773.18.03","directie@gbsmooibos.be"]
[111955,"Vrije Kleuterschool","Stationsstraat 271",1700,"DILBEEK","02-466.20.36","a.vrijders@donboscogbd.be"]
[112177,"VBS De Triangel","Gouv.H. Verwilghenlaan 37",3630,"MAASMECHELEN","089-76.08.32","info@detriangel.be"]
[112185,"VBS Wegwijs","Generaal de Wittestraat 29",3545,"HALEN","013-44.43.61","directie@basisschool-halen.be"]
[112383,"VBS 2 Bloemendaal","Paalstraat 309",2900,"SCHOTEN","03-658.79.45","info@bloemendaal.be"]
[112474,"GBS Cade","della Faillelaan 36",2630,"AARTSELAAR","03-887.62.49","directie.cade@aartselaar.be"]
[112482,"VBS Axijoma","Sint-Fredegandusstraat 32",2100,"DEURNE","03-324.79.92","directie.axijoma@sgkod.be"]
[112524,"VBS 2 Sint-Cordula","Vordensteinstraat 32",2900,"SCHOTEN","03-658.94.51","sintcordulalagereschool@sg-kbs.be"]
[112565,"VKS Sint- Clemensschool","Désiré Vandervaerenstraat 1_a",1560,"HOEILAART","02-657.51.95","admdir.sint-clemens@telenet.be"]
[112623,"VBS De Tandem","Sint-Benedictusstraat 14_A",2640,"MORTSEL","03-440.51.19","ilse.de.vooght@ankerwijs.be"]
[112631,"VBS OLFA Elsdonk","Ingenieur Haesaertslaan 4",2650,"EDEGEM","03-449.85.59","directie@olfaelsdonk.be"]
[112862,"VLS De Basis","Stationsstraat 4",2570,"DUFFEL","015-30.38.38","info@lagereschoolduffel.be"]
[112871,"VLS Wonderster","Kasteeldreef 63",9340,"LEDE","053-80.09.20","directie@vlswonderster.be"]
[112921,"VBS St-Calasanz","Witvenstraat 59",2940,"HOEVENEN","03-660.13.60","mail@sint-calasanz.be"]
[112938,"VBS De Levensboom","Bruyningstraat 56_B",8510,"MARKE","056-21.51.54","info@levensboom.be"]
[112953,"GO! BS De Wegwijzer_Essenede","Leegstraat 18",9960,"ASSENEDE","09-344.67.84","directie@dewegwijzer-assenede.be"]
[112979,"VBS Heilig Hart","Cauwerburg 2",9140,"TEMSE","03-771.32.47","directeur@edu.heiligharttemse.be"]
[113076,"VBS St.-Augustinus","Stasegemdorp 32",8530,"HARELBEKE","056-20.37.76","info@augustinusschool.be"]
[113217,"SBS De Gummi's - De Toverboom","Sint-Gummarusstraat 2",2060,"ANTWERPEN","03-432.92.50","degummis@so.antwerpen.be"]
[113571,"GLS OKIDO","Vijfwegenstraat 19",8840,"WESTROZEBEKE","051-77.91.12","gemeenteschool@staden.be"]
[113589,"GBS De Oogappel Appelterre","Appelterre-Dorp 48",9400,"NINOVE","054-32.15.89","appelterre@sbsninove.be"]
[113613,"GO! freinetschool De Speelplaneet","Meersstraat 10",9308,"GIJZEGEM","053-41.62.70","directie@bsdespeelplaneet.be"]
[113621,"GO! freinetschool De Boomhut","Koning Leopold III-laan 102",8200,"SINT-ANDRIES","050-39.68.90","directie.deboomhut@sgimpact.be"]
[113639,"VBS Wiznitz","Belgiëlei 32",2018,"ANTWERPEN","03-218.40.90","wiznitz@scarlet.be"]
[113662,"VBS 't piepelke","Vlinderhof 1",3740,"BILZEN","089-51.14.57","directie@tpiepelke.be"]
[114091,"VBS Rudolf Steinerschool Brussel","Sint-Janskruidlaan 14",1070,"ANDERLECHT","02-521.04.92","directie@steinerschoolbrussel.be"]
[114124,"GO! freinetschool De Boomhut","Oude Postweg 76",1652,"ALSEMBERG","02-356.45.65","directie@boomhut.be"]
[115386,"VLS Campus \"Sint-Jan\"","Sint-Jansstraat 15",3700,"TONGEREN","012-22.00.10","info@csjt.be"]
[115402,"VBS V.Z.W Hollebeke Voormezele","Neerwaastenstraat 3",8902,"HOLLEBEKE","057-20.76.72","lena.sohier@sirh.be"]
[115428,"VBS Sint-Niklaas","De Breyne Peellaertstraat 23",8600,"DIKSMUIDE","051-50.43.12","maarten.dumoulin@vbsdiksmuide.be"]
[115436,"Vrije Lagere School","Gagelveldenstraat 71",2170,"MERKSEM","03-645.74.40","groenendaal.ls@telenet.be"]
[115485,"VLS Mater Dei","Sint-Jacobsplein 15",3000,"LEUVEN","016-22.64.37","directie.lager@materdei-leuven.be"]
[115493,"VLS Sint-Niklaasinstituut","Bergense Steenweg 1421",1070,"ANDERLECHT","02-523.15.20","kaatje.vanlathem@sni.be"]
[115501,"Gemeentelijke Basisschool","Hoogstraat 6",1570,"GALMAARDEN","054-89.04.50","school@gbsgalmaarden.be"]
[115519,"GBS De Knipoog","Schoolstraat 2",1570,"GALMAARDEN","054-89.04.55","info@centrumschooldeknipoog.be"]
[115527,"GO! BS Magnolia","Drogenbossesteenweg 156",1180,"UKKEL","02-376.92.70","secretariaat@bsgo-magnolia.be"]
[115535,"GO! BS De Buurt Schaarbeek","Groenstraat 136",1030,"SCHAARBEEK","02-217.18.58","directeur@bsdebuurt.be"]
[115543,"VLS KSD Sint- Jan","Peetersstraat 14",3290,"DIEST","013-35.19.23","basisschool.sj@ksdiest.be"]
[115551,"VBS Maria-Assumpta","Paul Jansonstraat 51",1020,"LAKEN","02-268.19.73","directie@malb.be"]
[115568,"VLS Terbank- Egenhoven","Egenhovenweg 43",3001,"HEVERLEE","016-22.36.23","directie@terbank-egenhoven.be"]
[115576,"GO! BS Daltonschool Xcl Eigenwijs","Mudakkers 25",3920,"LOMMEL","011-54.25.25","info@xcleigenwijs.be"]
[115592,"VBS Sint-Jan","Bloemenlaan 71",3630,"MAASMECHELEN","089-76.03.10","directie@sintjaneisden.be"]
[115601,"VBS 2 Maria-Middelares","Hogebaan 2",2960,"SINT-JOB-IN-'T-GOOR","03-636.12.29","filip.vanherck@maria-middelares.be"]
[115618,"VLS Regina Ceali","H. Theresialaan 77",1700,"DILBEEK","02-568.18.32","johan.van.linthoudt@rclager.be"]
[115626,"VBS 2","Lenniksesteenweg 2",1500,"HALLE","02-360.01.44","directie.pedagogisch@donboscobasishalle.net"]
[115634,"VLS Westdiep","Prof. Mac Leodstraat 11",8400,"OOSTENDE","059-70.55.63","info@westdiep.be"]
[115642,"VKS Sint-Andreaslyceum","Fortuinstraat 29",8310,"SINT-KRUIS","050-28.85.10","kleuter@sask.be"]
[115659,"VBS De Boomgaard","Schoolstraat 40",3500,"HASSELT","011-28.47.49","guy.meert@kt-scholengroep.be"]
[115667,"Vrije Lagere School","De Schom 8",3600,"GENK","089-36.78.13","secretariaat@deschom.be"]
[115675,"VBS Leieparel","Kaaistraat 9",9800,"DEINZE","09-381.55.50","directie@leieparel.be"]
[115683,"VBS Driekoningen","Steenveldstraat 2",8820,"TORHOUT","050-22.36.95","sabine.latre@sint-rembert.be"]
[115691,"Vrije Kleuterschool","Nieuwstraat 16",8750,"WINGENE","051-65.68.52","hubert.kaes@3span.be"]
[115709,"VBS 't Fort","Plein 9",8500,"KORTRIJK","056-22.81.89","tfort@kbkscholen.be"]
[115733,"VBS Don Bosco B","Tulpenstraat 16",9100,"SINT-NIKLAAS","03-777.71.11","directeur-marc@donboscoschool.be"]
[115741,"Vrije Basisschool","Heistraat 206",9100,"SINT-NIKLAAS","03-777.73.66","directeur@berkenboomheistraat.be"]
[115758,"VKS Heilige Familie","Rich. Van Britsomstraat 1",9100,"SINT-NIKLAAS","03-777.82.82","directeur.ks@basishfam.be"]
[115766,"VBS Groeiweide","Groeiplein 1",9750,"KRUISEM","09-384.95.47","directie.vbouwegem@sgkruizinga.be"]
[115774,"GBS De Droomballon","Gyselstraat 35",9100,"NIEUWKERKEN-WAAS","03-778.38.90","ellen.heyns@droomballon.be"]
[115808,"VBS_Broederschool Nieuwstraat","Nieuwstraat 75",9100,"SINT-NIKLAAS","03-780.92.10","vnb@broeders.be"]
[115824,"VBS Glorieux 4","Stefaan Modest Glorieuxlaan 40",9600,"RONSE","055-61.25.50","lievendelanghe@koronse.be"]
[115832,"VBS Sint Antonius 2","Charles de Gaullestraat 10",9600,"RONSE","055-61.25.75","lievenlandries@koronse.be"]
[115841,"VBS Sint-Antonius 3","Charles de Gaullestraat 10",9600,"RONSE","055-61.25.75","lievenlandries@koronse.be"]
[115857,"GBS Centrum","Paretteplein 21",8530,"HARELBEKE","056-73.34.90","centrumschool@harelbeke.be"]
[115865,"VBS Sint-Martinus","Dreef 47",9930,"LIEVEGEM","09-372.78.26","martinus47.directie@skynet.be"]
[115873,"Vrije Lagere School","Theophiel Toyeplein 8",8550,"ZWEVEGEM","056-75.53.76","info@vrijecentrumschool.be"]
[115881,"VBS De Bron","Molendreef 16",9920,"LIEVEGEM","09-355.68.76","erwinmeire@debron-lovendegem.be"]
[115907,"GO! BS De Vierklaver_Temse","Azalealaan 101",9140,"TEMSE","03-771.08.84","directie@vierklaver.be"]
[115915,"VBS De Meidoorn","Zuidmoerstraat 125",9900,"EEKLO","09-341.82.36","directie.demeidoorn@coltd.be"]
[115923,"VBS Wegel B","Burg. Lionel Pussemierstraat 120",9900,"EEKLO","09-377.29.65","info.dewegel@coltd.be"]
[115931,"VKS Joma","Frans Adriaenssensstraat 123",2170,"MERKSEM","03-645.59.60","directie@jomabasis.be"]
[115949,"SLS Parkschool","Lusthovenlaan 12",2640,"MORTSEL","03-449.77.41","parkschool@mortsel.be"]
[115972,"GO! BS Het Egeltje","Beukenbosstraat 24",2400,"MOL","014-31.99.95","directie@bsegeltje.be"]
[115981,"VBS Wezel 2","Keiheuvelstraat 7_A",2400,"MOL","014-81.03.16","directie@basisschoolwezel.be"]
[116021,"Vrije Basisschool","Nestor De Tièrestraat 102",9700,"EINE","055-31.18.65","lien.ampe@kbonet.be"]
[116038,"VBS Montessorischool De Sterrenkijker","Volkegemberg 58",9700,"OUDENAARDE","055-31.44.74","info.kbovolkegem@kbonet.be"]
[116046,"VBS Bevere 2","Kortrijkstraat 3",9700,"BEVERE","055-31.56.69","info.kbobevere@kbonet.be"]
[116053,"VBS KBO-Sint-Jozef 2","Vlaanderenstraat 4",9700,"OUDENAARDE","055-30.30.43","secretariaat.kbostjozef@kbonet.be"]
[116061,"VLS Kindercampus Mozaïek","Kiewitstraat 101",3500,"HASSELT","011-21.02.20","mozaiek@kt-scholengroep.be"]
[116079,"PLSBO Kiempunt campus Eeklo","Gentsesteenweg 82_84",9900,"EEKLO","09-377.32.82","elien.heynssens@kiempunteeklo.be"]
[116186,"Vrije Lagere School","Terlindenhofstraat 206",2170,"MERKSEM","03-645.97.96","Ls@virgomaria.be"]
[117151,"Vrije Basisschool","Annunciadenstraat 13",3600,"GENK","089-30.74.01","info@debret.be"]
[117366,"VBS De Dobbelsteen","Emile Verhaerenlaan 19",2050,"ANTWERPEN","03-288.84.52","de.dobbelsteen@cksa.be"]
[117374,"VBS (W)onderwijs 2","Nonnenstraat 16",2200,"HERENTALS","014-28.68.90","wonderwijs@kosh.be"]
[117382,"VBS Sint-Barbaracollega","Heilig Hartplein 3",9620,"ZOTTEGEM","09-360.05.96","marc@degroote.me"]
[117432,"GO! Next LSBO de Schakelschool","Larestraat 15",3511,"KURINGEN","011-25.53.16","directeur@schakelschool.be"]
[117556,"VBS Klimop (MS)","Fabiolalaan 2",8020,"OOSTKAMP","050-39.69.79","info@klimop.info"]
[117705,"VLS De Zonnewijzer","Kleine Hemmenweg 2",3520,"ZONHOVEN","011-81.35.28","secretariaat.zonnewijzer@sgkabaz.be"]
[117713,"VLS De Robbert","Kloosterstraat 6",3930,"HAMONT-ACHEL","011-44.55.61","secretariaat@derobbert.be"]
[117879,"GBS Pierenbos","Halmolenweg 3",2980,"ZOERSEL","03-298.08.31","directie@pb.zoersel.be"]
[117887,"VBS HHC Vondel","Vondel 41",1500,"HALLE","0478-988.144","kris.cooman@hhchalle.be"]
[117903,"GLSBO De Leerexpert_(117903)","Columbiastraat 8",2030,"ANTWERPEN","03-334.44.70","columbiastraat@leerexpert.be"]
[117937,"VBS Sint-Lievensinstituut","Marktplein 13",9520,"SINT-LIEVENS-HOUTEM","053-62.23.18","directie.houtem@vbhoutembavegem.be"]
[118232,"VBS Wonderwijzer","Kerkelei 57",2970,"SCHILDE","03-384.06.28","directie.lagereschool@wonderwijzer.be"]
[118241,"VBS (W)onderwijs 3","Nonnenstraat 16",2200,"HERENTALS","014-28.68.90","wonderwijs@kosh.be"]
[118414,"VBS Sint-Lievenscollege","Kasteelpleinstraat 31",2000,"ANTWERPEN","03-201.48.80","basisonderwijs@slca.be"]
[118448,"VBS Jeugdland","Molenstraat 23",3700,"TONGEREN","012-23.16.15","administratie@jeugdland.be"]
[118455,"VBS Sprankel Methodeschool Jenaplan","Elzenstraat 11",3530,"HOUTHALEN-HELCHTEREN","011-52.28.68","secretariaat@sprankelmethodeschool.be"]
[118463,"GO! BS De Linde Borgloon","Stationsstraat 32",3840,"BORGLOON","012-74.13.95","directie@bsdelinde.be"]
[118521,"VBS De Luchtballon","Nieuwe Beggaardenstraat 50",2800,"MECHELEN","015-21.86.23","info@basisschooldeluchtballon.be"]
[118539,"GBSBO Sancta Maria","Nieuwstraat 3_B",8540,"DEERLIJK","056-71.26.89","directie@kimsam.net"]
[118547,"VBS Heilig-Hart","Thaelstraat 7",1800,"VILVOORDE","02-251.67.67","info.hh@kov.be"]
[118554,"VBS De Vlinderboom","Avermaat 135_A",9240,"ZELE","052-44.40.80","secretariaat.devlinderboom@kaozele.be"]
[118571,"VBS De Graankorrel Geluwe","Schoolstraat 1",8940,"GELUWE","056-51.34.90","info@degraankorrelgeluwe.be"]
[118588,"VBS De Graankorrel","Magdalenastraat 29",8940,"WERVIK","056-30.06.60","secretariaat@degraankorrelwervik.be"]
[118596,"GO! BS De Kleurenplaneet_Deinze","Peter Benoitlaan 10",9800,"DEINZE","09-381.55.05","directie@dekleurenplaneet.be"]
[118604,"GBS het kompas","Kardinaal J.Cardijnstraat 1",9170,"SINT-GILLIS-WAAS","03-727.17.70","directie@gbshetkompas.be"]
[118621,"VBS Het Ooievaarsnest","Leegstraat 17_b",9960,"ASSENEDE","09-344.63.72","secretariaat@hetooievaarsnest.be"]
[118646,"GBS KLIM-OP","Berdenweg 5",2288,"BOUWEL","014-51.37.15","bouwel@klimopschool.be"]
[118653,"VBS De Dorpslinde","Dorpsstraat 142",8450,"BREDENE","059-32.04.53","directeur@vbsdedorpslinde.be"]
[118661,"GBS Goezo]","Klokkenlaan 25",2560,"NIJLEN","03-410.01.40","directie.klokkenlaan@goezo.be"]
[118679,"GO! BS De Wilg","Eikhof 20",2547,"LINT","03-455.39.80","directeur@bsdewilg.be"]
[118687,"VBS De Bosbes","Wingensestraat 10",8020,"HERTSBERGE","050-54.51.57","directeur@debosbes.net"]
[118695,"Vrije Basisschool","Halingenstraat 49",3806,"VELM","011-68.07.09","basisschool@vlindertjevelm.be"]
[118703,"GO! freinetschool De Kring_Berchem","Uitbreidingstraat 251",2600,"BERCHEM","03-239.30.22","directie@de-kring.com"]
[122804,"GO! freinetschool Klim-op","Blaasveldstraat 57",2830,"TISSELT","03-290.76.18","directeur@klimoptisselt.be"]
[123075,"VBS Helibel Lille","Sint-Hubertusstraat 3",3910,"SINT-HUIBRECHTS-LILLE","011-64.57.82","directielille@helibel.net"]
[123083,"VBS Kozen-Wijer","Opcosenstraat 22",3850,"NIEUWERKERKEN","011-31.21.62","directie@vbs-kozen-wijer.be"]
[123091,"GO! BS De Luchtballon_Tienen","Sliksteenvest 1",3300,"TIENEN","016-81.49.72","renilde.dewaelheyns@huis11.be"]
[123257,"GBS De Twinkeling","Ossenberg 100",2490,"BALEN","014-74.42.90","directie.detwinkeling@balen.be"]
[123448,"GO!Next Wonderwijs","Hameestraat 11",3570,"ALKEN","011-31.26.83","secretariaat@bswonderwijs.be"]
[123455,"GBS De Zandloper","Gemeenteheistraat 1",2400,"MOL","014-81.00.33","secretariaat.gbsdezandloper@gemeentemol.be"]
[124008,"GBS De Oogappel","Nieuwe Baan 8",9120,"VRASENE","03-750.17.65","gbs.vrasene@beveren.be"]
[124156,"GBS De Waterleest","Waterleestweg 20",1980,"EPPEGEM","015-61.88.40","directie@gbsdewaterleest.be"]
[124164,"VBS Vrije Rudolf Steinerschool Gent","Elyzeese Velden 8",9000,"GENT","09-234.39.08","info@deteunisbloem.be"]
[124172,"VBS Vrije Rudolf Steinerschool Aalst","Affligemdreef 71",9300,"AALST","053-77.36.84","directie@steinerschoolaalst.be"]
[124198,"VBS Andromeda","Herentalsebaan 482",2100,"DEURNE","03-321.99.50","directie.andromeda@sgkod.be"]
[124206,"GO! Futura Basisschool Menen","Onderwijsplein 10",8930,"MENEN","056-51.35.78","carine@futurascholen.be"]
[124263,"SBS De Letterdoos - MI school","Gentstraat 212",9041,"OOSTAKKER","09-255.17.61","letterdoos.dir@onderwijs.gent.be"]
[124339,"VBS Lucernacollege Brussel","Poxcatstraat 6",1070,"ANDERLECHT","02-521.82.98","ramazan.kocaklioglu@lucerna.be"]
[125096,"VBS (W)onderwijs 1","Nonnenstraat 16",2200,"HERENTALS","014-28.68.90","wonderwijs@kosh.be"]
[125104,"VBS De Parel","Sint-Jan-Berchmansstraat 1",2800,"MECHELEN","015-41.57.63","info@deparel.eu"]
[125484,"VBS Parkschool_Relst","Aarschotsebaan 130",1910,"KAMPENHOUT","016-65.53.53","info@parkschool-relst.be"]
[125492,"GBS 't Populiertje","Jan Vanderstraetenstraat 91",1600,"SINT-PIETERS-LEEUW","02-377.03.83","ingrid.borremans@sint-pieters-leeuw.be"]
[125501,"VBS De Lampion","Kerkstraat 14",1800,"PEUTIE","02-251.29.39","info.lmp@kov.be"]
[125609,"GO! BS In De Engelse Hof_Lanaken","Koning Albertlaan 58",3620,"LANAKEN","089-73.06.72","info@bsengelsehof.be"]
[125617,"VLSBO Lamdeni","Isabellalei 69",2018,"ANTWERPEN","03-218.43.43","directeur@lamdeni.be"]
[125625,"GO! freinetschool Het Wijdeland_Brustem","Geelstraat 51_A",3800,"SINT-TRUIDEN","011-48.04.00","directie@wijdeland.be"]
[125641,"VBS Sint- Rita","Zandbergstraat 24",8530,"HARELBEKE","056-71.94.59","info@vbssintrita.be"]
[125674,"VLSBO School met de Bijbel Mijn Oogappel","Doorniksewijk 83_B",8500,"KORTRIJK","056-24.04.48","info@mijnoogappel.be"]
[125682,"GBS De Stip Linden","Martelarenplaats 1",3210,"LINDEN","016-28.40.30","directie.linden@gbslubbeek.be"]
[126301,"GBS Gibo Driehoek","Het Heiken 47",2930,"BRASSCHAAT","03-651.75.39","directie@gibodriehoek.be"]
[126318,"Gemeentelijke Basisschool","Ninoofsesteenweg 72",1570,"VOLLEZELE","054-89.04.60","notelaar@gbsvollezele.be"]
[126326,"SBS Spalbeek","Spalbeekstraat 62",3510,"SPALBEEK","011-25.08.31","info.spalbeek@sbshasselt.be"]
[126342,"VBS Sancta Maria","Breendonkstraat 160",2830,"WILLEBROEK","03-886.64.59","directiebr@sanctamariawillebroek.be"]
[126367,"GBS De Linde","Stadenstraat 14",8610,"KORTEMARK","051-56.72.53","directie.delinde@kortemark.be"]
[126375,"VLS Arkorum 04 College Grauwzusters","Zuidstraat 33",8800,"ROESELARE","051-26.47.33","william.doom@arkorum.be"]
[126417,"VBS Domino Meldert","Schoolstraat 2",3560,"LUMMEN","013-31.16.28","directie@dominomeldert.be"]
[127027,"GBS De Puzzel","de Fierlantstraat 35",1190,"VORST","02-538.49.29","gbs.depuzzel@vorst.brussels"]
[127043,"GBS Moorsel- De Fonkel","Moorselstraat 252",3080,"TERVUREN","02-731.63.19","gbsm@tervuren.be"]
[127051,"VBS Sint-Annaschool","Rootstraat 34",3080,"TERVUREN","02-768.13.83","directie@sintannaschool.be"]
[127068,"VBS De Lanetuin","Lanestraat 57",3090,"OVERIJSE","02-687.29.05","secretariaat@delanetuin.be"]
[127076,"GBS De Oester","Strijlandstraat 40",1755,"GOOIK","054-56.78.05","conny.stuckens@gooik.be"]
[127084,"VBS Campus Kajee","Alice Nahonlei 65",2900,"SCHOTEN","03-641.86.70","n.dumon@campuskajee.be"]
[127101,"VBS Lo-Pollinkhove","Ooststraat 58",8647,"LO","058-28.99.31","directeur.lynn@lorenpolnie.be"]
[127175,"VBS Freinet School de Vier Tuinen","Nederenamestraat 30",9700,"OUDENAARDE","055-30.37.66","info@deviertuinen.be"]
[128033,"Gemeentelijke Basisschool","Schapenweg 30",1933,"STERREBEEK","02-731.95.43","directie@stegbs.com"]
[128058,"GBS Het Anker","Appelweg 4",3221,"NIEUWRODE","016-56.09.93","secretariaat@gemeenteschoolholsbeek.be"]
[128116,"GO! freinetschool De Koorddanser","Baljuw Vermeulenstraat 1",8760,"MEULEBEKE","051-48.85.76","info@dekoorddanser.be"]
[128124,"GBS Spoele","Spoele 40",9160,"LOKEREN","09-348.26.51","directie.basisschoolspoele@lokeren.be"]
[128132,"GBS Staakte","Hoogstraat 192",9160,"LOKEREN","09-348.53.64","directie.basisschoolstaakte@lokeren.be"]
[128141,"VBS Landelijke Steinerschool Munte","Munteplein 5_A",9820,"MERELBEKE","09-330.62.96","ann.cuyvers@steinerschoolmunte.be"]
[128173,"SBS Het Eiland","Heldenplein 45",9000,"GENT","09-323.55.40","heteiland.dir@onderwijs.gent.be"]
[128231,"GO! freinetschool Tinteltuin","Budingenweg 2",3440,"ZOUTLEEUW","011-78.13.29","coordinator@tinteltuin.be"]
[128249,"VBS De Springplank School Met De Bijbel","Godshertogestraat 36",3200,"AARSCHOT","016-43.78.79","info@despringplank.net"]
[128256,"VBS Lucerna","Hendriklei 209",2660,"HOBOKEN","03-808.01.57","niyazi.koycu@lucerna.be"]
[128471,"VBS De Biekorf","Trekelsstraat (Karel) 42",1800,"VILVOORDE","02-757.08.72","katelijne.dekeye@kov.be"]
[128488,"VBS De Kraal","Schaffelkantstraat 47",3020,"HERENT","016-20.82.74","info@kraal.be"]
[128496,"Vrije Basisschool","Margrietstraat 15",9310,"BAARDEGEM","052-35.05.97","directie@vbsbaardegem.be"]
[128504,"VBS De Graankorrel Kruiseke","Kruisekestraat 461_A",8940,"WERVIK","056-31.42.55","info@degraankorrelkruiseke.be"]
[128579,"GBSBO De Schrieken","Antwerpseweg 48_1",2340,"BEERSE","014-61.05.49","info@giblo.be"]
[128587,"VBS De Tandem","Brugsesteenweg 91",8460,"OUDENBURG","059-26.52.37","directie@vbsdetandem.be"]
[128595,"VBS Gits Groeit]","Gitsbergstraat 15",8830,"HOOGLEDE","051-20.11.86","gitsgroeit@staho.be"]
[128611,"VBS De Wonder-wijzer","Hoogstraat 41",3690,"ZUTENDAAL","089-25.61.71","info@de-wonder-wijzer.be"]
[128645,"GO! BSBO De Veerboot_Astene","Pontstraat 45",9800,"DEINZE","09-386.03.58","directie@deveerboot.be"]
[128652,"Vrije Basisschool","Meldert-Dorp 19",9310,"MELDERT","052-35.65.03","directie@vbsmeldert.be"]
[128661,"VBS De Levensboom Wevelgem-Kortrijk","Kijkuitstraat 10",8560,"WEVELGEM","056-42.80.49","levensboom@lvbm.be"]
[128678,"GO! BS Freinet De Ark","Beneluxstraat 50",9100,"SINT-NIKLAAS","0468-04.71.29","directie@fsdeark.be"]
[128686,"VBS De Bosuiltjes","Bieststraat 229",3191,"HEVER","015-61.10.73","directie@debosuiltjes.be"]
[128702,"SBS De Kleurenboom","Pastoor Goetschalckxstraat 57",2180,"EKEREN","03-502.18.50","dekleurenboom@so.antwerpen.be"]
[128711,"VBS Speelscholeke","Hertstraat 7",2100,"DEURNE","03-324.71.71","info@speelscholeke.be"]
[128785,"GBS 't Keperke","Keperenbergstraat 37_A",1701,"ITTERBEEK","02-456.81.80","an.claeye@keperke.be"]
[128819,"VBS De Kleine Wereldburger","Generaal De Wetstraat 16",2140,"BORGERHOUT","03-297.91.28","onthaal@dekleinewereldburger.be"]
[128827,"GO! freinetschool De Pientere Piste","Ruggeveldlaan 375",2100,"DEURNE","03-336.25.27","directie@pienterepiste.be"]
[128835,"GBS Kameleon","Ropsy Chaudronstraat 7",1070,"ANDERLECHT","0492-91.55.66","gbskameleon@anderlecht.brussels"]
[128868,"GO! freinetschool Het Avontuur","Filip Williotstraat 11",2600,"BERCHEM","03-281.84.27","secretariaat@hetavontuur.be"]
[128876,"VBS De leertuin","Korte Altaarstraat 19",2018,"ANTWERPEN","03-293.06.08","info@leertuinantwerpen.be"]
[129007,"GO!BS De Knipoog","Diestsesteenweg 387_A",3202,"RILLAAR","016-50.06.50","onthaal@bsknipoog.be"]
[129015,"GO! freinetschool Krullevaar't","Oudstrijderslaan 2_C",3012,"WILSELE","016-67.01.49","info@krullevaart.be"]
[129023,"GBS De Knipoog","Zaadstraat 30",1080,"SINT-JANS-MOLENBEEK","02-414.35.40","deknipoog.1080@molenbeek.irisnet.be"]
[129056,"GO! freinetschool De Zwierezwaai","de Bavaylei 134 bus 1",1800,"VILVOORDE","02-252.62.04","bsvf.dir@sgr10.be"]
[129064,"VBS DE LINDE","Van Steenlandstraat 15",2100,"DEURNE","03-321.02.58","directie.delinde@sgkod.be"]
[129072,"GO! BS De Klimpaal_St-Jans Molenbeek","Paalstraat 61",1080,"SINT-JANS-MOLENBEEK","02-411.56.04","info@klimpaal.be"]
[129081,"SBS De Gele Ballon","Lamorinièrestraat 93",2018,"ANTWERPEN","03-502.19.50","degeleballon@so.antwerpen.be"]
[129098,"SBS Omnimundo","Van Maerlantstraat 30",2060,"ANTWERPEN","03-298.16.50","omnimundo@so.antwerpen.be"]
[129106,"VBS De Wingerd Terhagen","Stille Weg 2",2840,"TERHAGEN","03-888.57.81","school@wingerdterhagen.be"]
[129114,"GBS Evergem","Reibroekstraat 2_A",9940,"EVERGEM","09-210.31.10","gbs.evergem@sgevergem.be"]
[129122,"GBS Wippelgem","Droogte 208",9940,"EVERGEM","09-210.31.30","gbs.wippelgem@sgevergem.be"]
[129131,"GBS De Vierklaver B/G/V","Baaigemstraat 26",9890,"GAVERE","09-384.31.68","vandereviere.wenne@gbsdevierklaver.be"]
[129189,"GBS Jenaplanschool Lieven Gevaert","Osylei 86",2640,"MORTSEL","03-449.36.70","lievengevaert@skynet.be"]
[129197,"GO! BS Het Bollebos Anzegem","Kerkstraat 30",8570,"ANZEGEM","056-68.88.30","ilse.delombaerde@hetbollebos.be"]
[129205,"GBS De Doening","Aarschotsestraat 94",1800,"VILVOORDE","02-251.92.21","directie.dedoening@sovilvoorde.be"]
[129213,"SBS Het Prisma","Steenakker 4",9000,"GENT","09-222.08.22","prisma.dir@onderwijs.gent.be"]
[129221,"GO! freinetschool De Pluim Hoboken","Pauwenlaan 55",2660,"HOBOKEN","03-899.37.70","directie@freinetschooldepluim.be"]
[129239,"VBS De Cirkel","Dorpsstraat 24",1851,"HUMBEEK","02-269.39.41","directie@vbs-decirkel.be"]
[129254,"SBS Hét Talent","Juul Grietensstraat 8",2140,"BORGERHOUT","03-298.16.80","hettalent@so.antwerpen.be"]
[129271,"GO! BS Carolus Magnus","de Jamblinne de Meuxplein 8",1030,"SCHAARBEEK","02-733.10.97","directie@carolusmagnus.be"]
[129304,"VBS Wondere Wereld","Dr. Vanderhoeydonckstraat 14",3560,"LUMMEN","013-29.65.77","info@wondere-wereld.be"]
[129312,"GBS De Kriek","Grote Bosstraat 76",1030,"SCHAARBEEK","02-241.54.64","info@gemeenteschooldekriek.be"]
[129321,"VBS De Zonnebloem","Van Trierstraat 28",2018,"ANTWERPEN","03-237.77.73","zonnebloem@cksa.be"]
[129338,"GO! BS Papageno","Twee Huizenstraat 43",1140,"EVERE","02-705.24.92","benedicte.stenier@bspapageno.be"]
[129346,"GO! BS De Muziekladder","Jan Blockxstraat 23",1030,"SCHAARBEEK","02-216.55.80","marinka.van.ingelgom@muziekladder.be"]
[129445,"GBS De Buitenkans","Dorpsstraat 82",3294,"MOLENSTEDE","013-32.69.28","directiemolenstede@gbsdiest.be"]
[129478,"GO! Next MS de Loep","Toekomststraat 45",3590,"DIEPENBEEK","011-32.32.13","info@deloep.be"]
[129486,"VBS Sint-Vincentiusschool","Camille Van der Cruyssenstraat 1_A",9850,"DEINZE","09-371.70.57","directie.vincentius@op-weg.be"]
[129494,"VBSBO De Sprankel","Nekkerspoelstraat 358_A",2800,"MECHELEN","015-20.25.38","directie@buodesprankel.be"]
[129502,"VBS Etikhove","Etikhoveplein 16",9680,"ETIKHOVE","055-31.54.33","greta.vanmaelsaeke@scholensgvla.be"]
[129511,"VBS Klim-Op","Kerkkouterstraat 58",9520,"BAVEGEM","09-362.98.03","directie.bavegem@vbhoutembavegem.be"]
[129528,"VBSBO KBO Kameleon/Cocon","Doorn 17_BI",9700,"OUDENAARDE","055-60.04.48","greet.weyme@kbonet.be"]
[129536,"VBS Moerkerke","Vissersstraat 71_B",8340,"MOERKERKE","050-50.09.66","info@vbsmoerkerke.be"]
[129544,"GO! Leefschool Klavertje 4 Nevele","Biebuyckstraat 1",9850,"DEINZE","09-371.57.79","directie@leefschoolklavertje4.be"]
[129551,"VBS De Mozaïek Bis","Kaprijkestraat 12",9000,"GENT","09-233.78.64","basisschool@demozaiek.be"]
[129569,"GO! BS Nellie Melba_Anderlecht","Nellie Melbalaan 71",1070,"ANDERLECHT","02-521.04.84","secretariaat@nelliemelba.be"]
[129577,"GO! BS De kleine geuzen jette","Dieleghemse Steenweg 24",1090,"JETTE","02-479.26.82","secretariaat@bsdekleinegeuzen.be"]
[129593,"VBS Sint-Lukas","Groenstraat 156",1030,"SCHAARBEEK","02-217.77.00","wim@sintlukasbasisschool.be"]
[129601,"GO! BS Wonderwijs","Bovenweg 17",1980,"ZEMST","015-61.27.29","directie@wonderwijs.be"]
[129619,"SBS Kleine Muze","Maarschalk Montgomeryplein 8",2140,"BORGERHOUT","03-289.19.30","kleinemuze@so.antwerpen.be"]
[129627,"SBS Het GroeneEilandje","Hardenvoort 41",2060,"ANTWERPEN","03-291.16.60","groeneeilandje@so.antwerpen.be"]
[129635,"SBS Kosmos","Gerard Le Grellelaan 5",2020,"ANTWERPEN","03-820.81.50","kosmos@so.antwerpen.be"]
[129643,"GO! BS STEM De Trampoline","Tweegezusterslaan 47_B",2100,"DEURNE","0478-48.12.69","directie@bsdetrampoline.be"]
[129651,"GO! Muzische BS K'DO","Schildersstraat 41",2000,"ANTWERPEN","03-290.68.08","info@kdo-go.be"]
[129973,"VBS Helibel Herent","Herent 122",3910,"PELT","011-64.19.05","info@helibel.net"]
[129999,"VBS 't Schommelbootje","Dieregaertstraat 9",3570,"ALKEN","011-72.92.26","info@schommelbootje.be"]
[130013,"GO! Next DS de Talentuin","Windmolenstraat 9",3560,"LUMMEN","013-52.13.42","directie@daltonschooldetalentuin.be"]
[130021,"GO! BS De Bijenkorf","Mechelsesteenweg 397",3020,"HERENT","016-23.61.63","directie@debijenkorfherent.be"]
[130054,"VBS Sint-Godelieve","Van Cortbeemdelei 277",2100,"DEURNE","03-324.16.25","directie.sintgodelieve@sgkod.be"]
[130088,"GO! BS Kadee","Frank Craeybeckxlaan 24",2100,"DEURNE","03-328.02.30","directie@bskadee.be"]
[130096,"GO! BS De Rozen","Kerkhofstraat 29",9160,"LOKEREN","09-348.25.48","directie@derozen.be"]
[130121,"VBS IQRA","Hogeweg 51",2140,"BORGERHOUT","03-667.17.40","info@iqra-school.be"]
[130138,"SBS Melopee","Kompasplein 1",9000,"GENT","09-323.56.00","melopee.dir@onderwijs.gent.be"]
[130146,"VBS Klimrek - Van Beverenplein","Edmond van Beverenplein 15",9000,"GENT","09-226.02.66","anne.vereecken@schoolklimrek.be"]
[130153,"VBS De Knikkerbaan","Frederik de Merodestraat 36",2600,"BERCHEM","03-285.94.30","liesbeth.nijs@ankerwijs.be"]
[130161,"GO! Next BS de Schans","Schansstraat 137",3550,"HEUSDEN-ZOLDER","011-57.26.51","directie@schansluchtballon.be"]
[130179,"VBS Sint-Catharinacollege","Kloosterstraat 60",9500,"GERAARDSBERGEN","054-41.00.33","joyce.melis@sccg.be"]
[130195,"SBS Land van Nu","Boekenberglei 279",2100,"DEURNE","03-283.76.57","landvannu@so.antwerpen.be"]
[130203,"VLSBO Berkenbeek 1/8","Nieuwmoerse Steenweg 113_B",2990,"WUUSTWEZEL","03-669.68.19","christel.loots@berkenbeek.be"]
[130237,"PBSBO Kiempunt campus Assenede","Stoepestraat 40",9960,"ASSENEDE","09-344.98.69","sabine.claeys@kiempuntassenede.be"]
[130278,"GO! BS De Telescoop","Mathieu Desmaréstraat 16",1020,"LAKEN","02-424.14.12","secretariaat@detelescoop.be"]
[130815,"VLSBO Wonderwijs Brugge","Sint-Kristoffelstraat 125_B",8310,"ASSEBROEK","050-35.34.38","directie@wonderwijsbrugge.be"]
[130872,"VBS 't Oogappeltje","Loksbergenstraat 42",3545,"HALEN","013-46.10.88","oogappeltje@basisschool-loksbergen.be"]
[130881,"VBS De Leerheide","Kapellestraat 9",1730,"ASSE","02-452.70.45","directie@deleerheide.be"]
[130898,"GBS De Kiem","Langestraat 4",1741,"WAMBEEK","02-582.72.13","secretariaat.wambeek@gbsdekiem.be"]
[130906,"VBS De Kraal","Elststraat 95",3020,"HERENT","016-20.82.74","info@kraal.be"]
[130914,"GBS De Stip","Schoolstraat 4",3211,"BINKOM","016-63.11.54","directie.binkom@gbslubbeek.be"]
[130922,"GO! BS De Notelaar","Stationsstraat 81",3370,"BOUTERSEM","016-73.34.29","secretariaat@godenotelaar.be"]
[130948,"VBS Lucerna","Huidevettersstraat 5",3530,"HOUTHALEN-HELCHTEREN","011-89.17.22","secretariaat.houthalen@lucerna.be"]
[130955,"GO! BS Theodoortje","Laarbeeklaan 117",1090,"JETTE","02-479.61.28","veerle.dierick@theodoortje.be"]
[131029,"GO! BS Arendonk Talentenschool Atlantis","De Maaskens 18",2370,"ARENDONK","014-65.47.65","secretariaat@bsatlantis.be"]
[131037,"VBS De Reuzenpoort","Zonstraat 71",2140,"BORGERHOUT","03-291.30.83","de.reuzenpoort@cksa.be"]
[131045,"SBS De Zonnebloem","Boomsesteenweg 387",2610,"WILRIJK","03-432.16.40","dezonnebloem@so.antwerpen.be"]
[131052,"SBS Elisabeth","Sint-Elisabethstraat 38_A",2060,"ANTWERPEN","03-334.45.20","elisabeth@so.antwerpen.be"]
[131061,"VBS Sint-Ludgardis Campus KVO","Bredabaan 814_A",2170,"MERKSEM","03-502.50.10","directeur@slcampus.be"]
[131284,"VBS De Kleine Tovenaar","Tinnenpotstraat 43",8870,"IZEGEM","051-80.90.42","info@kleinetovenaar.be"]
[131367,"VBS Sint-Jozefsschool","Halmstraat 5",3600,"GENK","089-38.36.45","directeur@sintjozefhoevenzavel.be"]
[131417,"GBS 't Steltje","Teekbroek 22",3272,"TESTELT","013-77.27.38","steltje@scherpenheuvel-zichem.be"]
[131441,"VBS Michaëlschool","Hoveniersstraat 53_A",2300,"TURNHOUT","014-42.37.82","directie@steinerschoolturnhout.be"]
[131458,"GO! BS Hamme","Zouavenstraat 1_A",9220,"HAMME","052-49.97.20","directie@gohamme.be"]
[131466,"VBS Sancta Maria","Latemstraat 30",9830,"SINT-MARTENS-LATEM","09-282.63.97","directie@vbs-latem-deurle.be"]
[131474,"SBS Freinetschool 't Groen Drieske","Voordries 31",9050,"GENTBRUGGE","09-323.54.00","groendrieske.dir@onderwijs.gent.be"]
[131491,"GO! BS De Puzzel","Zandvoordedorpstraat 53",8400,"OOSTENDE","059-26.74.95","info@godepuzzel.be"]
[131508,"VBS Koningsdale Steinerschool Ieper","Oudstrijderslaan 1",8900,"IEPER","057-61.10.97","info@koningsdale.be"]
[131516,"VBS De Schatkist Evangelische BS","Arthur Maesstraat 58",1130,"HAREN","02-208.25.41","directie@deschatkist.org"]
[131524,"GO! BS De Iris_Ukkel","Nekkersgatlaan 17",1180,"UKKEL","02-332.57.52","info@bs-de-iris.be"]
[131532,"GO! BS Balder St-Gillis","de Mérodestraat 105",1060,"SINT-GILLIS","02-897.56.10","info@basisschoolbalder.be"]
[131541,"VLSBO De Sprong","Rekollettenstraat 48",8500,"KORTRIJK","056-35.28.90","directie@desprongkortrijk.be"]
[131557,"VBS Pistache","Lambermontlaan 278",1030,"SCHAARBEEK","02-310.53.88","info@pistachepistache.be"]
[131573,"VBS De Hoek","Gehuchtstraat 170",1640,"SINT-GENESIUS-RODE","02-358.24.27","info@basisschooldehoek.be"]
[131615,"VBS De Kleine Wereld","Nokerseweg 105",8790,"WAREGEM","0470-41.75.12","info@freinetwaregem.be"]
[131797,"VBS Buurtschool De Winde","Albertstraat 2",1500,"HALLE","02-426.46.41","hilde@buurtschooldewinde.be"]
[131896,"GBS De Kameleon","Sint Jansstraat 82",3118,"WERCHTER","0473-39.62.03","directie@schoolwerchter.be"]
[131904,"VBS De Negensprong_2","Oudstrijdersstraat 4",8680,"KOEKELARE","051-58.90.26","negensprong@sint-rembert.be"]
[131912,"VBS Reninge-Nieuwkapelle","Ieperstraat 7_A",8647,"RENINGE","057-40.16.50","pieter.formesyn@lorenpolnie.be"]
[131921,"VBS Wijnhuize_Hillegem","Ledebergstraat 106",9550,"HILLEGEM","054-50.30.29","jan.devroe@kboherzele.be"]
[131938,"GO! BS De Lotusbloem","Zomerstraat 27",2590,"BERLAAR","03-482.12.60","directie@bsdelotusbloem.be"]
[131946,"GO! BS Leefschool Heyerdahl","Merelstraat 48_ bus a",9100,"SINT-NIKLAAS","03-284.57.53","directie@leefschoolheyerdahl.be"]
[131953,"GBS De Vaart","Vaart Links 23",9850,"DEINZE","09-321.92.60","directiedevaart@deinze.be"]
[131961,"SBS Jenaplanschool Hippo's Hof","Hippoliet Lammensstraat 10",9000,"GENT","0470-20.43.68","hipposhof.dir@onderwijs.gent.be"]
[131979,"SBS Freinetschool De Loods","Patrijsstraat 12",9000,"GENT","09-251.06.61","deloods.dir@onderwijs.gent.be"]
[131987,"GBS Deurle","Dorpsstraat 28",9831,"DEURLE","09-282.59.19","directie@gbslatem-deurle.be"]
[132043,"VBS Kindercampus De Startlijn","Sint-Amandusstraat 43",3511,"STOKROOIE","011-25.03.93","de.startlijn@kt-scholengroep.be"]
[132076,"VBS Arkades","Herenthoutseweg 124",2200,"HERENTALS","014-74.96.94","directie.herentals@bsarkades.be"]
[132233,"GBS 't Sprinkhaantje","Collegestraat 1",9255,"BUGGENHOUT","052-33.95.67","directie@gbsbuggenhout.be"]
[132241,"GO! BS Wonderwijs Neerwinden","Laarstraat 21",3400,"NEERWINDEN","016-78.81.62","stefaan.mombaers@huis11.be"]
[132258,"GO! BS De Wereldboom","Steenveldlaan 34",9470,"DENDERLEEUW","053-46.02.10","directie@bsdewereldboom.be"]
[132266,"SBS Het Pieterke","Pieter Van Isackerlaan 1_A",2100,"DEURNE","03-320.81.20","hetpieterke@so.antwerpen.be"]
[132274,"GO! BS XCL Wegwijs","Hendrik van Veldekestraat 55",3920,"LOMMEL","011-54.44.48","directie@xclwegwijs.be"]
[132282,"SBS Studio Dynamo","Verschansingstraat 29",2000,"ANTWERPEN","03-334.43.83","studiodynamo@so.antwerpen.be"]
[132291,"GO! BS Ondersteboven","Boskantstraat 152",3970,"LEOPOLDSBURG","011-34.28.90","directie@ondersteboven.eu"]
[132308,"VBS De Zonnebloem","Ortolanenstraat 2",3010,"KESSEL-LO","0490-11.84.33","directie.dezonnebloem@sgarchipel.be"]
[132316,"GO!BS De Pannebeke-De Stempel","Pannebekestraat 34",8000,"BRUGGE","050-33.75.30","secretariaat@brugge-depannebeke.be"]
[132324,"GO! BS 't Weilandje","Slachthuislaan 68",2060,"ANTWERPEN","03-344.50.94","directie@bshetweilandje.be"]
[132332,"GO! Daltonschool in 't Groen","Leopoldstraat 15",2960,"BRECHT","03-313.86.63","info@bs-intgroen.be"]
[132365,"VBS Sint-Vincentius","Beeckmanstraat 99",1180,"UKKEL","02-346.64.57","directie@sintvincentiusschool.be"]
[132621,"VBS Familiale school Edward Poppe","Fodderiestraat 12",2660,"HOBOKEN","03-430.26.71","info@familialeschool.be"]
[132829,"GBS Freinetschool De Beverboom","Itterbeekse Laan 226",1070,"ANDERLECHT","02-431.94.60","gfsdebeverboom@anderlecht.brussels"]
[132837,"GBS Paviljoen","François-Joseph Navezstraat 59",1030,"SCHAARBEEK","02-431.68.11","info@paviljoen-schaarbeek.be"]
[133371,"GO! BS Campus Comenius","Félix Vande Sandestraat 15",1081,"KOEKELBERG","02-897.50.37","freya.drachman@comeniusbrussel.be"]
[133397,"GBS Triangel Strijtem/O.L.V.-Lombeek","Strijtemplein 30",1760,"ROOSDAAL","054-32.61.27","vanessa.geeraerts@triangel-roosdaal.be"]
[133405,"VBS Maria Assumpta Donderberg","Donderberg 28",1120,"NEDER-OVER-HEEMBEEK","02-269.09.79","directie@malbdo.be"]
[133413,"GBS Spring in 't Veldeke","Leuvensebaan 299",3040,"SINT-AGATHA-RODE","02-302.43.95","directiegbssar@huldenberg.be"]
[133421,"GO! BS O.B.A.M.A.","Hospitaalstraat 99",3582,"KOERSEL","011-46.01.53","info@obama.school"]
[133447,"GO! BS Freinetschool Het Toverbos","Lage Kaart 542",2930,"BRASSCHAAT","03-653.51.37","toverbos@inventoscholen.be"]
[133454,"GO! BS Deuzeldpark","Sterrestraat 1",2900,"SCHOTEN","03-645.55.62","directie@bsdeuzeldpark.be"]
[133462,"GO! BS De Bel","Peter Benoitstraat 2_A",2812,"MUIZEN","015-67.69.21","directie@debel.be"]
[133471,"VBS Steinerschool Skellig Michaël","Lamorinièrestraat 231",2018,"ANTWERPEN","03-344.72.88","ietje.visser@steinerschoolantwerpen.be"]
[133496,"VBS De Toverwijzer","Sint-Truidensesteenweg 26",3300,"TIENEN","016-46.40.74","info@toverwijzer.be"]
[133521,"VBS MONDOMIO junior academy","Tramstraat 41",3970,"LEOPOLDSBURG","011-49.51.49","secretariaat@bsmondomio.be"]
[133595,"SBS Het Atelier","Duinstraat 16",2060,"ANTWERPEN","03-291.14.90","hetatelier@so.antwerpen.be"]
[133603,"SBS TipTop","Van den Hautelei 79_A",2100,"DEURNE","03-283.49.79","tiptop@so.antwerpen.be"]
[137133,"VBS De Witte Stamroos Bijbelgetrouwe sch","Lieven Bauwensstraat 26",8000,"BRUGGE","0485-16.02.14","info@dewittestamroos.be"]
[137463,"VBS Sint-Jozefsschool","Eikeveldstraat 15",3272,"MESSELBROEK","013-77.80.58","elke.vanwezemael@sjsm.be"]
[137471,"VBS De Wante Schorisse","Essestraat 3",9688,"SCHORISSE","055-45.65.45","marie.vandriessche@scholensgvla.be"]
[137489,"GBS De Bever","Engelstraat 52",8480,"ICHTEGEM","051-58.85.10","directie@gbsichtegem.be"]
[137497,"VBS 't Hoge","Steenbakkersstraat 2",8500,"KORTRIJK","056-22.74.72","thoge@kbkscholen.be"]
[137505,"GO! Freinetschool De Baai Kortrijk","Baaistraat 10",8500,"KORTRIJK","056-21.37.93","freinetschool@debaai.be"]
[137521,"VBS De Ringelwikke_Landelijke Steinersch","Elzeelsesteenweg 647",9600,"RONSE","055-60.52.45","info@deringelwikke.be"]
[137539,"GBS klavertje vier Keiem","Keiemdorpstraat 51",8600,"KEIEM","0475-78.21.19","anneleen.becu@gbsdiksmuide.be"]
[137554,"GO! BS De Grasspriet","Ommegangstraat 51",9420,"ERPE-MERE","053-83.59.74","directeur@bsdegrasspriet.be"]
[137562,"VBS OLFA Drie Eiken","Renaat de Rudderlaan 35",2650,"EDEGEM","03-458.47.88","directie@olfa3eiken.be"]
[137588,"SBS De Tovertuin","Francisco Ferrerlaan 42",9000,"GENT","09-323.54.10","tovertuin.dir@onderwijs.gent.be"]
[137604,"GO! BS 't Vlasbloempje","Verbindingsstraat 24",9200,"DENDERMONDE","052-21.34.23","directie@tvlasbloempje.be"]
[137612,"GO! BS Ten Dorpe","Theofiel Reynlaan 13",2640,"MORTSEL","03-440.27.59","directie@bolsterdorp.be"]
[137621,"GO! BS Blik","Kontichstraat 43",2650,"EDEGEM","03-550.53.48","directie@basisschoolblik.be"]
[137638,"VBS Zeppelin","Lieven Gevaertstraat 54",2640,"MORTSEL","03-449.40.18","studio@zeppelinfo.be"]
[137653,"VBS Steinerschool Kristoffel Tervuren","Kasteelstraat 10",3080,"TERVUREN","02-366.31.77","directie@steinerschooltervuren.be"]
[137679,"VBS De Droomgaard 2","Dahlialaan 1",1742,"SINT-KATHERINA-LOMBEEK","053-66.67.27","directie@dedroomgaard.be"]
[137761,"GO!BS De Glinster","Cesar Van Malderenstraat 35",1731,"ZELLIK","02-466.26.13","directie.de.glinster@ringscholen.be"]
[137794,"VBS Sint-Pieterscollege De Zenne","Drootbeekstraat 8",1020,"LAKEN","02-420.14.40","directie@basisschooldezenne.be"]
[137802,"SBS Zottegem De Smidse","Smissenhoek 103",9620,"ZOTTEGEM","09-360.79.57","info@sbszottegem.be"]
[137811,"GO! BS De Dorpsparel","Henri D'Hontstraat 42",8700,"SCHUIFERSKAPELLE","051-40.46.87","directie@dedorpsparel.be"]
[138347,"VBS De KaBaZ","Bevrijdingslaan 255",2450,"MEERHOUT","0495-57.06.62","directie@dekabaz.com"]
[138371,"VBS Sleihage","Diksmuidesteenweg 93",8830,"HOOGLEDE","0485-68.86.93","hannelore.ostyn@staho.be"]
[138388,"VBS Tabor Aalter-Brug","Middelweg 105",9880,"AALTER","09-374.02.00","schoolaalterbrug@taborscholen.be"]
[138396,"GO!BS XCL Stapsgewijs","Buntstraat 117",3920,"LOMMEL","011-64.19.63","directie@xclstapsgewijs.be"]
[138404,"GO! Freinetschool De Bonte Specht","Spechtenwegel 1",8800,"ROESELARE","051-20.63.40","directie@freinetdebontespecht.be"]
[138412,"GO! BS Leefschool de WonderWijzer","Pastorijstraat 5",3850,"NIEUWERKERKEN","0497-54.52.71","carmen.dalli@leefschooldewonderwijzer.be"]
[138421,"GO!BS Freinet Op Stelten","Europalaan 95_A",3650,"DILSEN-STOKKEM","089-79-27.25","directie@freinetopstelten.be"]
[138438,"VBS De Muze","Rijmenamsesteenweg 194",3150,"HAACHT","016-26.09.00","welkom@demuzehaacht.be"]
[138446,"VBS Sint-Franciscusschool","Burstdorp 1",9420,"ERPE-MERE","053-62.61.78","directeur@sfsburst.be"]
[138453,"GO! BS Eugeen Laermans","Ninoofsesteenweg 191",1080,"SINT-JANS-MOLENBEEK","02-313.80.80","directie@elaermans.be"]
[138461,"VBS KieM, natuur- en montessorischool","Zavelstraat 78",3010,"KESSEL-LO","0477-83.05.70","info@kiemmontessori.be"]
[138479,"VBS De Sterrebloem","Lange Akkerstraat 17_A",9800,"DEINZE","09-386.14.10","info@desterrebloem.be"]
[138487,"VBS Harduynschool","Hofstraat 37_A",9200,"DENDERMONDE","052-21.04.58","directie@harduynschool.be"]
[138495,"GO! BS Klim Op","Schoolstraat 10",2820,"BONHEIDEN","015-51.26.44","directie@bs-klimop.be"]
[138503,"SBS Het Tandwiel","Sint-Bernadettestraat 258",9040,"SINT-AMANDSBERG","09-323.51.80","tandwiel.dir@onderwijs.gent.be"]
[138511,"GO! BS De Zonnebloem","Nerenweg 7",9270,"LAARNE","09-367.56.88","anniq.patho@hetleercollectief.be"]
[138529,"GBS De Start Ruien","De Pacht 12",9690,"KLUISBERGEN","055-38.94.89","directiedestartruien@kluisbergen.be"]
[138537,"VBS 't Spoor","Bredaseweg 52",2381,"WEELDE","014-63.37.10","secretariaat@dehorizon-tspoor.kobart.be"]
[138545,"VBS De Leeroase","Stelen 17",2440,"GEEL","0486-13.03.35","directie@vbsdeleeroase.be"]
[138552,"GBS GILKO","Burg. Maenhautstraat 1",9820,"MERELBEKE","09/210.35.40","gilko@merelbeke.be"]
[138561,"GBS Eke De Vlinderboom","Steenweg 132",9810,"NAZARETH","09-385.59.08","myriam.neirynck@nazareth.be"]
[138578,"VBS Serafijn","de Mérodestraat 26",9600,"RONSE","055-47.00.05","secretariaat@serafijnronse.be"]
[138586,"VBS Sinaai","Leebrugstraat 65",9112,"SINAAI-WAAS","03-772.47.61","dezwaan@scs-sinaai.be"]
[138594,"GO! BS Bunderbos Zele","Alois De Beulelaan 17",9240,"ZELE","052-44.54.78","directie@bunderboszele.be"]
[138602,"GVBS Hertenhof","Schotensesteenweg 69",2100,"DEURNE","03-324.00.76","els.vanmencxel@sgkod.be"]
[138611,"VBS De Kleine Helden","Boelare 145",9900,"EEKLO","09-282.39.54","info@dekleinehelden.be"]
[138628,"VBS De Ritsheuvel Berkenboom","Kemzekestraat 20",9111,"BELSELE","03-772.52.44","info@deritsheuvel.be"]
[138644,"GO! BS De Stempel","Karel Ledeganckstraat 3",8000,"BRUGGE","050-32.89.50","secretariaat@brugge-destempel.be"]
[138651,"VBS Het Leerbos","Ten Bosse 140",9800,"DEINZE","0465-00.79.25","info@hetleerbos.be"]
[138685,"GBS De Kersentuin","Tuinwijkstraat 2",9550,"HERZELE","053-62.21.58","anja.vandelsen@gbsherzele.be"]
[138693,"VBS Schooltrio afdeling Klerken","Smissestraat 7",8650,"KLERKEN","051-50.41.52","info@schooltrio.be"]
[138719,"VBS de Libellenschool","Sooi Willemsplein 3",3910,"PELT","011-49.45.30","info@delibellenschool.be"]
[138909,"VBS Kindcentrum Straal","Stevoortse kiezel 119",3511,"KURINGEN","0467-00.90.31","info@kindcentrumstraal.be"]
[139113,"VBS Freinetschool De Kasteeltuin","Koolskampstraat 26",8830,"HOOGLEDE","0497-10.48.92","coordinator@dekasteeltuin.be"]
[139121,"GO! BS De Kleine Kunstgalerij","Burgemeester Felix de Bethunelaa 4 bus A",8500,"KORTRIJK","056-24.56.69","info@dekleinekunstgalerij.be"]
[139154,"VKSBO KOCA","Rudolfstraat 16",2018,"ANTWERPEN","03-244.94.94","basisonderwijs@koca.be"]
[143511,"VBS Sint-Elooi","Rozendalestraat 125",8750,"WINGENE","051-65.75.78","sintelooi.wingene@3span.be"]
[143529,"GO!BS tienerschool Tangram","Broekplein 9",1800,"VILVOORDE","02-669.20.12","info@tangramvilvoorde.be"]
[143537,"GO! BS Kameleon","Diepestraat 28",1780,"WEMMEL","02-342.01.60","directie.kameleon@ringscholen.be"]
[143545,"GO! BS Freinet De Kolibrie","Kerkstraat 14",9140,"TEMSE","03-771.39.31","directie@fsdekolibrie.be"]
[143552,"VBS Spring in't Veld","Kareelstraat 19",1674,"BELLINGEN","02-360.32.78","anja.devos@springintveldbellingen.be"]
[143578,"GO! BS Leefschool De Wollewei","Zandstraat 26 bus B",9120,"BEVEREN-WAAS","03-775.88.34","directie@leefschooldewollewei.be"]
[143586,"VBS 't Zarlarhartje","Rekestraat 13",9500,"GERAARDSBERGEN","054-41.10.38","catharina.meremans@sccg.be"]
[143594,"VBS Dromenvanger","Coeveltstraat 7_A",2100,"DEURNE","033-24.00.63","directie.dromenvanger@sgkod.be"]
[143602,"GBS Berlaar-Heikant","Aarschotsebaan 60",2590,"BERLAAR","015-24.57.43","wim.van.dessel@gemeenteschoolberlaar.be"]
[143611,"VBS De Vlieger","Steenweg op Heindonk 8",2801,"HEFFEN","015-27.26.75","info@vbheffen.be"]
[143636,"VBS Groei","Zwaluwstraat 2",2490,"BALEN","0474-45.45.69",""]
[143727,"Vrije Basisschool voor BuO","Sint-Hubertusstraat 12",2600,"BERCHEM","03-230.97.86","schooldemerode.info@ankerwijs.be"]
[143735,"VLSBO De Springplank","Godshertogestraat 36",3200,"AARSCHOT","016-43.78.79","info@despringplank.net"]
[143743,"GO! BS Ter Duinen","Rode Kruisplein 8",3940,"HECHTEL","011-73.47.11","directie@schoolterduinen.be"]
[143768,"VBS De Nieuwe Maan","Larum 8",2440,"GEEL","014-59.44.21","directie@denieuwemaan.be"]
[143834,"VBS Kompas","Gallaitstraat 58",1030,"SCHAARBEEK","0494-50.48.85","directiebasis@campuskompas.brussels"]
[143867,"GBS Zwevegem","Maria Bernardastraat 1_A",8550,"ZWEVEGEM","056-28.54.95","nathalie.herremans@gszwevegem.be"]
[143875,"VBS 't Vindingrijk","Leopold II straat 5",3800,"SINT-TRUIDEN","0471-85.01.60","nieuwefreinetschool@gmail.com"]
[143883,"VBS School met de Bijbel Mijn Oogappel","Peter Benoitstraat 17",8570,"ANZEGEM","056-18.57.60","info@mijnoogappel.be"]
[144576,"GO! BSBO 't Vestje","Rederijkerslei 4",2500,"LIER","03-480.65.85","info@tvestje.be"]
[144675,"VBS De kleine TOEKAN","Kerkstraat 11",3290,"DIEST","0479-81.53.63","directie@dekleinetoekan.be"]
[144683,"Stedelijke Basisschool","Molenstraat 24",2018,"ANTWERPEN","035-02.14.30","els.truyman@so.antwerpen.be"]
[144691,"VBS Kanne","St.-Hubertusstraat 9",3770,"RIEMST","0472-36.07.84","vbsmvv@rievoe.be"]
[144709,"GO! BS Ulens","Ulensstraat 40",1080,"SINT-JANS-MOLENBEEK",".","directie@basisschool-ulens.be"]
[144717,"VBS Nachtegaai","Leopold II straat 5",3800,"SINT-TRUIDEN","0471-85.01.60","info@nachtegaai.be"]
[144725,"GBS Iddergem \"De Toverlelie\"","Leliestraat 1",9472,"IDDERGEM","05-366.72.47",""]
[144733,"GO! BS VONK!","Lamorinièrestraat 231",2018,"ANTWERPEN","032-56.23.88","info@bsvonk.be"]
[144741,"VBS Clementiaanschool","Holvenstraat 82",3900,"PELT","011-64.23.97","administratie@corneliusschool.be"]
[144758,"VBS De Goede Basis: De Verrekijker","Blaarhoekstraat 5",8570,"ANZEGEM","053-65.18.90",""]
[145995,"GBSBO De Ruimtevaarder","Statiestraat 53",8720,"DENTERGEM","0477-27.06.73","info@bubaoderuimtevaarder.be"]
[146019,"VBSBO De Brug 2","Maasheide 17",3580,"BERINGEN","011-42.63.28",""]
[146027,"VLSBO De Polder","Polderstraat 78",8310,"SINT-KRUIS","050-69.26.24","bubao-depolder@de-kade.be"]
[146035,"VBSBO Darkenoe","Haringrodestraat 84",2018,"ANTWERPEN","03-230.07.76","gisele.konig@tikvatenoe.be"]
[146043,"GBSBO De leerexpert Capitan","Columbiastraat 5",2030,"ANTWERPEN","03-334.40.77",""]
[146076,"GO! BS Het Biezebos","Zultseweg 11",8790,"WAREGEM","056-60.08.18","directie@hetbiezebos.be"]
[146084,"VBS POER","Zeger van Heulestraat 47",8501,"HEULE","0499-21.23.89","poer@levensboom.be"]
[146118,"VBS Belz","Isabellalei 63",2018,"ANTWERPEN","0489-02.27.20","beheer@belzantwerp.eu"]
[146126,"GO! Daltonschool Merelbeke","Gaversesteenweg 195",9820,"MERELBEKE","09-231.64.57","dir.bs-merelbeke@scholengroep.gent"]
[146142,"VBS BuitenWijs","Pastorijstraat 1",9403,"NEIGEM","0474-08.52.50","info@buitenwijs.be"]
[146159,"HSBS De Zennestraal","Zennestraat 82",1000,"BRUSSEL","02-279.39.31","sec.dezennestraal@brucity.education"]
[146167,"VBS Nachtegaai","Leopold II straat 5",3800,"SINT-TRUIDEN","0471-85.01.60",""]
[146175,"VBS Sint-Joris Basisschool","Cellebroersstraat 16",1000,"BRUSSEL","0472-21.59.53","jcauwels@sintjorisbasisschool.be"]
[146191,"VBS Optimum Genk","Bijlkestraat 26",3600,"GENK","0499-74.90.74",""]
[146209,"VBS Montessorischool Nieuwrode","Losting 43",3221,"NIEUWRODE","0485-04.00.95","kim.geens@kodid.be"]
[146233,"GBS Elsene","Graystraat 126",1050,"ELSENE",".","openbaar.onderwijs@elsene.brussels"]

{"sheet":"km-vergoeding","index":27,"n_rows":28,"n_cols":5,"rows_kept":28,"hidden":true}
["tarieven km-vergoeding"]
[]
["2023-01-01","tot en met","2023-12-31",0.21,"fiets"]
["2022-07-01","tot en met","2023-06-30",{"v":0.417,"d":"0.4170"},"auto"]
["2023-07-01","tot en met","2024-06-30",{"v":0.428,"d":"0.4280"},"auto"]
[]
[]
[]
[1]
[2]
[3]
[4]
[5]
[6]
[7]
[8]
[9]
[10]
[11]
[12]
[13]
[14]
[15]
[16]
[17]
[18]
[19]
[20]