{"text_format":"3","workbook":"xlsx","n_sheets":28,"sheets":["Terugvordering reiskosten OAH","Blad23","Blad1","Blad2","Blad3","Blad4","Blad5","Blad6","Blad7","Blad8","Blad9","Blad10","Blad11","Blad12","Blad13","Blad14","Blad15","Blad16","Blad17","Blad18","Blad19","Blad20","Blad21","Blad22","gegevensblad samenvatting vord.","gegevensblad detail terugvord.","instellingsgegevens","km-vergoeding"],"not_rendered":{"images":1,"defined_names":1,"comments":1},"read":"whole","date_system":"1900"}

{"sheet":"Terugvordering reiskosten OAH","index":0,"n_rows":390,"n_cols":111,"rows_kept":390,"merged":[[0,92,0,101],[1,92,1,101],[2,3,2,101],[3,3,3,101],[4,28,6,101],[9,4,9,17],[11,3,11,101],[13,3,13,101],[14,3,14,45],[15,3,15,45],[17,3,17,101],[19,1,19,2],[19,3,19,101],[24,6,24,101],[26,4,26,101],[28,3,28,101],[30,3,30,101],[32,1,32,2],[33,3,33,45],[33,47,33,101],[35,11,35,18],[35,19,35,23],[37,11,37,18],[37,19,37,45],[37,46,39,101],[39,11,39,18],[39,19,39,45],[41,8,41,18],[41,19,41,22],[41,23,41,45],[41,46,41,74],[43,11,43,18],[43,19,43,27],[45,12,45,18],[45,19,45,45],[47,3,47,95],[49,1,49,2],[51,0,53,2],[51,29,53,51],[55,1,55,2],[56,3,56,101],[57,3,57,101],[58,3,58,76],[59,3,59,101],[60,3,60,60],[61,3,61,101],[62,3,62,101],[63,3,63,101],[64,3,64,101],[65,3,65,101],[66,3,66,101],[67,3,67,101],[68,3,68,101],[69,3,69,101],[70,3,70,101],[72,3,72,6],[72,7,72,16],[72,17,72,22],[72,23,72,34],[72,35,72,42],[72,43,72,49],[72,50,72,53],[72,54,72,61],[72,62,72,68],[72,69,72,76],[72,77,72,83],[72,84,72,89],[72,90,72,95],[72,96,72,101],[73,3,73,6],[73,7,73,16],[73,17,73,22],[73,23,73,34],[73,35,73,42],[73,43,73,49],[73,50,73,53],[73,54,73,61],[73,62,73,68],[73,69,73,76],[73,77,73,83],[73,84,73,89],[73,90,73,95],[73,96,73,101],[74,3,74,6],[74,7,74,16],[74,17,74,22],[74,23,74,34],[74,35,74,42],[74,43,74,49],[74,50,74,53],[74,54,74,61],[74,62,74,68],[74,69,74,76],[74,77,74,83],[74,84,74,89],[74,90,74,95],[74,96,74,101],[75,3,75,6],[75,7,75,16],[75,17,75,22],[75,23,75,34],[75,35,75,42],[75,43,75,49],[75,50,75,53],[75,54,75,61],[75,62,75,68],[75,69,75,76],[75,77,75,83],[75,84,75,89],[75,90,75,95],[75,96,75,101],[76,3,76,6],[76,7,76,16],[76,17,76,22],[76,23,76,34],[76,35,76,42],[76,43,76,49],[76,50,76,53],[76,54,76,61],[76,62,76,68],[76,69,76,76],[76,77,76,83],[76,84,76,89],[76,90,76,95],[76,96,76,101],[77,3,77,6],[77,7,77,16],[77,17,77,22],[77,23,77,34],[77,35,77,42],[77,43,77,49],[77,50,77,53],[77,54,77,61],[77,62,77,68],[77,69,77,76],[77,77,77,83],[77,84,77,89],[77,90,77,95],[77,96,77,101],[78,3,78,6],[78,7,78,16],[78,17,78,22],[78,23,78,34],[78,35,78,42],[78,43,78,49],[78,50,78,53],[78,54,78,61],[78,62,78,68],[78,69,78,76],[78,77,78,83],[78,84,78,89],[78,90,78,95],[78,96,78,101],[79,3,79,6],[79,7,79,16],[79,17,79,22],[79,23,79,34],[79,35,79,42],[79,43,79,49],[79,50,79,53],[79,54,79,61],[79,62,79,68],[79,69,79,76],[79,77,79,83],[79,84,79,89],[79,90,79,95],[79,96,79,101],[80,3,80,6],[80,7,80,16],[80,17,80,22],[80,23,80,34],[80,35,80,42],[80,43,80,49],[80,50,80,53],[80,54,80,61],[80,62,80,68],[80,69,80,76],[80,77,80,83],[80,84,80,89],[80,90,80,95],[80,96,80,101],[81,3,81,6],[81,7,81,16],[81,17,81,22],[81,23,81,34],[81,35,81,42],[81,43,81,49],[81,50,81,53],[81,54,81,61],[81,62,81,68],[81,69,81,76],[81,77,81,83],[81,84,81,89],[81,90,81,95],[81,96,81,101],[82,3,82,6],[82,7,82,16],[82,17,82,22],[82,23,82,34],[82,35,82,42],[82,43,82,49],[82,50,82,53],[82,54,82,61],[82,62,82,68],[82,69,82,76],[82,77,82,83],[82,84,82,89],[82,90,82,95],[82,96,82,101],[83,3,83,6],[83,7,83,16],[83,17,83,22],[83,23,83,34],[83,35,83,42],[83,43,83,49],[83,50,83,53],[83,54,83,61],[83,62,83,68],[83,69,83,76],[83,77,83,83],[83,84,83,89],[83,90,83,95],[83,96,83,101],[84,3,84,6],[84,7,84,16],[84,17,84,22],[84,23,84,34],[84,35,84,42],[84,43,84,49],[84,50,84,53],[84,54,84,61],[84,62,84,68],[84,69,84,76],[84,77,84,83],[84,84,84,89],[84,90,84,95],[84,96,84,101],[85,3,85,6],[85,7,85,16],[85,17,85,22],[85,23,85,34],[85,35,85,42],[85,43,85,49],[85,50,85,53],[85,54,85,61],[85,62,85,68],[85,69,85,76],[85,77,85,83],[85,84,85,89],[85,90,85,95],[85,96,85,101],[86,3,86,6],[86,7,86,16],[86,17,86,22],[86,23,86,34],[86,35,86,42],[86,43,86,49],[86,50,86,53],[86,54,86,61],[86,62,86,68],[86,69,86,76],[86,77,86,83],[86,84,86,89],[86,90,86,95],[86,96,86,101],[87,3,87,6],[87,7,87,16],[87,17,87,22],[87,23,87,34],[87,35,87,42],[87,43,87,49],[87,50,87,53],[87,54,87,61],[87,62,87,68],[87,69,87,76],[87,77,87,83],[87,84,87,89],[87,90,87,95],[87,96,87,101],[88,3,88,6],[88,7,88,16],[88,17,88,22],[88,23,88,34],[88,35,88,42],[88,43,88,49],[88,50,88,53],[88,54,88,61],[88,62,88,68],[88,69,88,76],[88,77,88,83],[88,84,88,89],[88,90,88,95],[88,96,88,101],[89,3,89,6],[89,7,89,16],[89,17,89,22],[89,23,89,34],[89,35,89,42],[89,43,89,49],[89,50,89,53],[89,54,89,61],[89,62,89,68],[89,69,89,76],[89,77,89,83],[89,84,89,89],[89,90,89,95],[89,96,89,101],[90,3,90,6],[90,7,90,16],[90,17,90,22],[90,23,90,34],[90,35,90,42],[90,43,90,49],[90,50,90,53],[90,54,90,61],[90,62,90,68],[90,69,90,76],[90,77,90,83],[90,84,90,89],[90,90,90,95],[90,96,90,101],[91,3,91,6],[91,7,91,16],[91,17,91,22],[91,23,91,34],[91,35,91,42],[91,43,91,49],[91,50,91,53],[91,54,91,61],[91,62,91,68],[91,69,91,76],[91,77,91,83],[91,84,91,89],[91,90,91,95],[91,96,91,101],[92,3,92,6],[92,7,92,16],[92,17,92,22],[92,23,92,34],[92,35,92,42],[92,43,92,49],[92,50,92,53],[92,54,92,61],[92,62,92,68],[92,69,92,76],[92,77,92,83],[92,84,92,89],[92,90,92,95],[92,96,92,101],[93,3,93,6],[93,7,93,16],[93,17,93,22],[93,23,93,34],[93,35,93,42],[93,43,93,49],[93,50,93,53],[93,54,93,61],[93,62,93,68],[93,69,93,76],[93,77,93,83],[93,84,93,89],[93,90,93,95],[93,96,93,101],[94,3,94,6],[94,7,94,16],[94,17,94,22],[94,23,94,34],[94,35,94,42],[94,43,94,49],[94,50,94,53],[94,54,94,61],[94,62,94,68],[94,69,94,76],[94,77,94,83],[94,84,94,89],[94,90,94,95],[94,96,94,101],[95,3,95,6],[95,7,95,16],[95,17,95,22],[95,23,95,34],[95,35,95,42],[95,43,95,49],[95,50,95,53],[95,54,95,61],[95,62,95,68],[95,69,95,76],[95,77,95,83],[95,84,95,89],[95,90,95,95],[95,96,95,101],[96,3,96,6],[96,7,96,16],[96,17,96,22],[96,23,96,34],[96,35,96,42],[96,43,96,49],[96,50,96,53],[96,54,96,61],[96,62,96,68],[96,69,96,76],[96,77,96,83],[96,84,96,89],[96,90,96,95],[96,96,96,101],[97,3,97,6],[97,7,97,16],[97,17,97,22],[97,23,97,34],[97,35,97,42],[97,43,97,49],[97,50,97,53],[97,54,97,61],[97,62,97,68],[97,69,97,76],[97,77,97,83],[97,84,97,89],[97,90,97,95],[97,96,97,101],[98,3,98,6],[98,7,98,16],[98,17,98,22],[98,23,98,34],[98,35,98,42],[98,43,98,49],[98,50,98,53],[98,54,98,61],[98,62,98,68],[98,69,98,76],[98,77,98,83],[98,84,98,89],[98,90,98,95],[98,96,98,101],[99,3,99,6],[99,7,99,16],[99,17,99,22],[99,23,99,34],[99,35,99,42],[99,43,99,49],[99,50,99,53],[99,54,99,61],[99,62,99,68],[99,69,99,76],[99,77,99,83],[99,84,99,89],[99,90,99,95],[99,96,99,101],[100,3,100,6],[100,7,100,16],[100,17,100,22],[100,23,100,34],[100,35,100,42],[100,43,100,49],[100,50,100,53],[100,54,100,61],[100,62,100,68],[100,69,100,76],[100,77,100,83],[100,84,100,89],[100,90,100,95],[100,96,100,101],[101,3,101,6],[101,7,101,16],[101,17,101,22],[101,23,101,34],[101,35,101,42],[101,43,101,49],[101,50,101,53],[101,54,101,61],[101,62,101,68],[101,69,101,76],[101,77,101,83],[101,84,101,89],[101,90,101,95],[101,96,101,101],[102,3,102,6],[102,7,102,16],[102,17,102,22],[102,23,102,34],[102,35,102,42],[102,43,102,49],[102,50,102,53],[102,54,102,61],[102,62,102,68],[102,69,102,76],[102,77,102,83],[102,84,102,89],[102,90,102,95],[102,96,102,101],[103,3,103,6],[103,7,103,16],[103,17,103,22],[103,23,103,34],[103,35,103,42],[103,43,103,49],[103,50,103,53],[103,54,103,61],[103,62,103,68],[103,69,103,76],[103,77,103,83],[103,84,103,89],[103,90,103,95],[103,96,103,101],[104,3,104,6],[104,7,104,16],[104,17,104,22],[104,23,104,34],[104,35,104,42],[104,43,104,49],[104,50,104,53],[104,54,104,61],[104,62,104,68],[104,69,104,76],[104,77,104,83],[104,84,104,89],[104,90,104,95],[104,96,104,101],[105,3,105,6],[105,7,105,16],[105,17,105,22],[105,23,105,34],[105,35,105,42],[105,43,105,49],[105,50,105,53],[105,54,105,61],[105,62,105,68],[105,69,105,76],[105,77,105,83],[105,84,105,89],[105,90,105,95],[105,96,105,101],[106,3,106,6],[106,7,106,16],[106,17,106,22],[106,23,106,34],[106,35,106,42],[106,43,106,49],[106,50,106,53],[106,54,106,61],[106,62,106,68],[106,69,106,76],[106,77,106,83],[106,84,106,89],[106,90,106,95],[106,96,106,101],[107,3,107,6],[107,7,107,16],[107,17,107,22],[107,23,107,34],[107,35,107,42],[107,43,107,49],[107,50,107,53],[107,54,107,61],[107,62,107,68],[107,69,107,76],[107,77,107,83],[107,84,107,89],[107,90,107,95],[107,96,107,101],[108,3,108,6],[108,7,108,16],[108,17,108,22],[108,23,108,34],[108,35,108,42],[108,43,108,49],[108,50,108,53],[108,54,108,61],[108,62,108,68],[108,69,108,76],[108,77,108,83],[108,84,108,89],[108,90,108,95],[108,96,108,101],[109,3,109,6],[109,7,109,16],[109,17,109,22],[109,23,109,34],[109,35,109,42],[109,43,109,49],[109,50,109,53],[109,54,109,61],[109,62,109,68],[109,69,109,76],[109,77,109,83],[109,84,109,89],[109,90,109,95],[109,96,109,101],[110,3,110,6],[110,7,110,16],[110,17,110,22],[110,23,110,34],[110,35,110,42],[110,43,110,49],[110,50,110,53],[110,54,110,61],[110,62,110,68],[110,69,110,76],[110,77,110,83],[110,84,110,89],[110,90,110,95],[110,96,110,101],[111,3,111,6],[111,7,111,16],[111,17,111,22],[111,23,111,34],[111,35,111,42],[111,43,111,49],[111,50,111,53],[111,54,111,61],[111,62,111,68],[111,69,111,76],[111,77,111,83],[111,84,111,89],[111,90,111,95],[111,96,111,101],[112,3,112,6],[112,7,112,16],[112,17,112,22],[112,23,112,34],[112,35,112,42],[112,43,112,49],[112,50,112,53],[112,54,112,61],[112,62,112,68],[112,69,112,76],[112,77,112,83],[112,84,112,89],[112,90,112,95],[112,96,112,101],[113,3,113,6],[113,7,113,16],[113,17,113,22],[113,23,113,34],[113,35,113,42],[113,43,113,49],[113,50,113,53],[113,54,113,61],[113,62,113,68],[113,69,113,76],[113,77,113,83],[113,84,113,89],[113,90,113,95],[113,96,113,101],[114,3,114,6],[114,7,114,16],[114,17,114,22],[114,23,114,34],[114,35,114,42],[114,43,114,49],[114,50,114,53],[114,54,114,61],[114,62,114,68],[114,69,114,76],[114,77,114,83],[114,84,114,89],[114,90,114,95],[114,96,114,101],[115,3,115,6],[115,7,115,16],[115,17,115,22],[115,23,115,34],[115,35,115,42],[115,43,115,49],[115,50,115,53],[115,54,115,61],[115,62,115,68],[115,69,115,76],[115,77,115,83],[115,84,115,89],[115,90,115,95],[115,96,115,101],[116,3,116,6],[116,7,116,16],[116,17,116,22],[116,23,116,34],[116,35,116,42],[116,43,116,49],[116,50,116,53],[116,54,116,61],[116,62,116,68],[116,69,116,76],[116,77,116,83],[116,84,116,89],[116,90,116,95],[116,96,116,101],[117,3,117,6],[117,7,117,16],[117,17,117,22],[117,23,117,34],[117,35,117,42],[117,43,117,49],[117,50,117,53],[117,54,117,61],[117,62,117,68],[117,69,117,76],[117,77,117,83],[117,84,117,89],[117,90,117,95],[117,96,117,101],[118,3,118,6],[118,7,118,16],[118,17,118,22],[118,23,118,34],[118,35,118,42],[118,43,118,49],[118,50,118,53],[118,54,118,61],[118,62,118,68],[118,69,118,76],[118,77,118,83],[118,84,118,89],[118,90,118,95],[118,96,118,101],[119,3,119,6],[119,7,119,16],[119,17,119,22],[119,23,119,34],[119,35,119,42],[119,43,119,49],[119,50,119,53],[119,54,119,61],[119,62,119,68],[119,69,119,76],[119,77,119,83],[119,84,119,89],[119,90,119,95],[119,96,119,101],[120,3,120,6],[120,7,120,16],[120,17,120,22],[120,23,120,34],[120,35,120,42],[120,43,120,49],[120,50,120,53],[120,54,120,61],[120,62,120,68],[120,69,120,76],[120,77,120,83],[120,84,120,89],[120,90,120,95],[120,96,120,101],[121,3,121,6],[121,7,121,16],[121,17,121,22],[121,23,121,34],[121,35,121,42],[121,43,121,49],[121,50,121,53],[121,54,121,61],[121,62,121,68],[121,69,121,76],[121,77,121,83],[121,84,121,89],[121,90,121,95],[121,96,121,101],[122,3,122,6],[122,7,122,16],[122,17,122,22],[122,23,122,34],[122,35,122,42],[122,43,122,49],[122,50,122,53],[122,54,122,61],[122,62,122,68],[122,69,122,76],[122,77,122,83],[122,84,122,89],[122,90,122,95],[122,96,122,101],[123,3,123,6],[123,7,123,16],[123,17,123,22],[123,23,123,34],[123,35,123,42],[123,43,123,49],[123,50,123,53],[123,54,123,61],[123,62,123,68],[123,69,123,76],[123,77,123,83],[123,84,123,89],[123,90,123,95],[123,96,123,101],[124,3,124,6],[124,7,124,16],[124,17,124,22],[124,23,124,34],[124,35,124,42],[124,43,124,49],[124,50,124,53],[124,54,124,61],[124,62,124,68],[124,69,124,76],[124,77,124,83],[124,84,124,89],[124,90,124,95],[124,96,124,101],[125,3,125,6],[125,7,125,16],[125,17,125,22],[125,23,125,34],[125,35,125,42],[125,43,125,49],[125,50,125,53],[125,54,125,61],[125,62,125,68],[125,69,125,76],[125,77,125,83],[125,84,125,89],[125,90,125,95],[125,96,125,101],[126,3,126,6],[126,7,126,16],[126,17,126,22],[126,23,126,34],[126,35,126,42],[126,43,126,49],[126,50,126,53],[126,54,126,61],[126,62,126,68],[126,69,126,76],[126,77,126,83],[126,84,126,89],[126,90,126,95],[126,96,126,101],[127,3,127,6],[127,7,127,16],[127,17,127,22],[127,23,127,34],[127,35,127,42],[127,43,127,49],[127,50,127,53],[127,54,127,61],[127,62,127,68],[127,69,127,76],[127,77,127,83],[127,84,127,89],[127,90,127,95],[127,96,127,101],[128,3,128,6],[128,7,128,16],[128,17,128,22],[128,23,128,34],[128,35,128,42],[128,43,128,49],[128,50,128,53],[128,54,128,61],[128,62,128,68],[128,69,128,76],[128,77,128,83],[128,84,128,89],[128,90,128,95],[128,96,128,101],[129,3,129,6],[129,7,129,16],[129,17,129,22],[129,23,129,34],[129,35,129,42],[129,43,129,49],[129,50,129,53],[129,54,129,61],[129,62,129,68],[129,69,129,76],[129,77,129,83],[129,84,129,89],[129,90,129,95],[129,96,129,101],[130,3,130,6],[130,7,130,16],[130,17,130,22],[130,23,130,34],[130,35,130,42],[130,43,130,49],[130,50,130,53],[130,54,130,61],[130,62,130,68],[130,69,130,76],[130,77,130,83],[130,84,130,89],[130,90,130,95],[130,96,130,101],[131,3,131,6],[131,7,131,16],[131,17,131,22],[131,23,131,34],[131,35,131,42],[131,43,131,49],[131,50,131,53],[131,54,131,61],[131,62,131,68],[131,69,131,76],[131,77,131,83],[131,84,131,89],[131,90,131,95],[131,96,131,101],[132,3,132,6],[132,7,132,16],[132,17,132,22],[132,23,132,34],[132,35,132,42],[132,43,132,49],[132,50,132,53],[132,54,132,61],[132,62,132,68],[132,69,132,76],[132,77,132,83],[132,84,132,89],[132,90,132,95],[132,96,132,101],[133,3,133,6],[133,7,133,16],[133,17,133,22],[133,23,133,34],[133,35,133,42],[133,43,133,49],[133,50,133,53],[133,54,133,61],[133,62,133,68],[133,69,133,76],[133,77,133,83],[133,84,133,89],[133,90,133,95],[133,96,133,101],[134,3,134,6],[134,7,134,16],[134,17,134,22],[134,23,134,34],[134,35,134,42],[134,43,134,49],[134,50,134,53],[134,54,134,61],[134,62,134,68],[134,69,134,76],[134,77,134,83],[134,84,134,89],[134,90,134,95],[134,96,134,101],[135,3,135,6],[135,7,135,16],[135,17,135,22],[135,23,135,34],[135,35,135,42],[135,43,135,49],[135,50,135,53],[135,54,135,61],[135,62,135,68],[135,69,135,76],[135,77,135,83],[135,84,135,89],[135,90,135,95],[135,96,135,101],[136,3,136,6],[136,7,136,16],[136,17,136,22],[136,23,136,34],[136,35,136,42],[136,43,136,49],[136,50,136,53],[136,54,136,61],[136,62,136,68],[136,69,136,76],[136,77,136,83],[136,84,136,89],[136,90,136,95],[136,96,136,101],[137,3,137,6],[137,7,137,16],[137,17,137,22],[137,23,137,34],[137,35,137,42],[137,43,137,49],[137,50,137,53],[137,54,137,61],[137,62,137,68],[137,69,137,76],[137,77,137,83],[137,84,137,89],[137,90,137,95],[137,96,137,101],[138,69,138,76],[138,77,138,83],[138,84,138,89],[138,90,138,95],[138,96,138,101],[139,3,139,6],[139,7,139,16],[139,17,139,22],[139,23,139,34],[139,35,139,42],[139,43,139,49],[139,50,139,53],[139,54,139,61],[139,62,139,68],[139,69,139,76],[139,77,139,83],[139,84,139,89],[139,90,139,95],[373,3,373,95],[373,96,373,101],[374,4,374,45]],"merged_total":4272,"flags":["merged_cut"]}
[{"$nulls":92},"1F3C8E-5767-03-230807"]
[{"$nulls":92},"AV006"]
[{"$nulls":3},{"$f":"\"Terugvordering van reiskosten voor onderwijs aan huis in het secundair onderwijs - \"&Blad23!C15","v":"Terugvordering van reiskosten voor onderwijs aan huis in het secundair onderwijs - kalenderjaar 2023"}]
[{"$nulls":3},"//////////////////////////////////////////////////////////////////////////////////////////////////////////////////////////////////////////////////////////////////////////////////////////////////////////////////////////////////////////////////////////////////////////////////////////////////////////////////////////////////////////////////////////////////////////////////////////////////////////////////////////////////////////////////////////"]
[{"$nulls":3},"Agentschap voor Onderwijsdiensten (AGODI)",{"$nulls":24},{"$f":"IF(TODAY()>VLOOKUP(Blad23!$C$15,Blad23!$A$1:$B$11,2,FALSE),\"Deze versie is alleen geldig voor het \"&Blad23!$C$15&\". Voor dat kalenderjaar is de aangiftedatum verstreken. \"&\"Opgelet! Vanaf 1 januari 2024 wordt de kilometervergoeding voor verplaatsingen met de eigen wagen per kwartaal herzien. \"&\"Aangezien het tarief voor het vierde kwartaal pas in de tweede helft van september bekend zal zijn, zal het formulier voor het kalenderjaar 2024 in september/oktober bij de omzendbrieven worden gevoegd.\",\"\")","v":""}]
[{"$nulls":3},"Afdeling Secundair Onderwijs"]
[{"$nulls":3},"Scholen en leerlingen"]
[{"$nulls":3},"Koning Albert II-laan 15 bus 138"]
[{"$nulls":3},"1210 BRUSSEL"]
[{"$nulls":3},"T","02 553 88 10 (Pieter Lemahieu)"]
[{"$nulls":3},"Waarvoor dient dit formulier?"]
[{"$nulls":3},"Met dit formulier kunt u de reiskosten voor onderwijs aan huis voor zieke jongeren in het secundair onderwijs terugvorderen van het Agentschap voor Onderwijsdiensten.\nOpgepast! U mag maar één terugvordering per kalenderjaar en per instelling indienen.\nAls u een correctie van een reeds eerder ingediende terugvordering doorstuurt, moet u bij vraag 2 het hokje vóór 'een correctie van een eerder ingediende terugvordering' aankruisen."]
[{"$nulls":3},"Wie vult dit formulier in en waar vindt u meer informatie over dit formulier?"]
[{"$nulls":3},"De school vult de terugvordering in. Het bedrag wordt uitbetaald op de rekening waarop ook de werkingsmiddelen worden gestort. \nMeer informatie over de manier waarop u dit formulier moet invullen, is opgenomen onder punt 2.7 in de omzendbrief SO/2005/05 van 22 juli 2005 over tijdelijk onderwijs aan huis (TOAH) en permanent onderwijs aan huis (POAH) in het gewoon secundair onderwijs, en onder punt 2.7 in de omzendbrief SO/2005/06(BUSO) van 22 juli 2005 over tijdelijk onderwijs aan huis (TOAH) en permanent onderwijs aan huis (POAH) in het buitengewoon secundair onderwijs. U vindt de omzendbrieven op "]
[{"$nulls":3},"http://data-onderwijs.vlaanderen.be/edulex/document.aspx?docid=13646;"]
[{"$nulls":3},"http://data-onderwijs.vlaanderen.be/edulex/document.aspx?docid=13647."]
[{"$nulls":3},"Waarom vult u dit formulier in Excel in?"]
[{"$nulls":3},"In de vragen die u moet beantwoorden, hoeft u alleen de vakken met grijze achtergrond in te vullen. De overige berekeningen en controles worden automatisch uitgevoerd. Het Excelbestand wordt door AGODI automatisch ingelezen. "]
[{"$nulls":3},"Hoe en aan wie bezorgt u dit formulier?"]
[{"$nulls":3},"Bezorg ons de terugvordering alsExcelbestand uiterlijk op 28 februari 2024 via Mijn Onderwijs. Daardoor hoeft u het formulier niet meer te ondertekenen.\nOpgelet: om het Excelbestand te versturen, hebt u toegang nodig tot het thema 'Omkadering en toelagen (vertrouwelijk)' in Mijn Onderwijs. U kunt die rechten nakijken in Mijn Onderwijs onder het tabblad 'Mijn profiel' bij 'Mijn Thema's'."]
[{"$nulls":3},"U kunt het formulier in Mijn Onderwijs opladen door de volgende stappen te doorlopen:"]
[{"$nulls":3},"-","Log in op Mijn Onderwijs en ga naar het tabblad 'Documenten'."]
[{"$nulls":3},"-","Kies 'Document versturen' en vul de verplichte velden in:"]
[{"$nulls":5},"-","Selecteer de instelling waarvoor u een document wilt doorsturen."]
[{"$nulls":5},"-","Selecteer het type document dat u wilt doorsturen. (Dit formulier is TOEL 3 - Terugvordering van reiskosten voor onderwijs aan huis in het secundair onderwijs.)"]
[{"$nulls":5},"-","Selecteer het schooljaar 2023-2024. Standaard staat dit op het lopende schooljaar."]
[{"$nulls":3},"-","Klik in hetzelfde scherm op de knop '+Bijlage toevoegen' en selecteer het opgeslagen bestand. Daarna wordt de naam van het toegevoegde bestand onder de knop '+Bijlage toevoegen' weergegeven."]
[{"$nulls":3},"Als het document is opgeladen, vindt u het terug onder het tabblad 'Documenten' bij 'Verstuurd door instelling'."]
[{"$nulls":3},"Dit formulier wordt automatisch ingelezen. Het kan alleenals Excelbestandworden verwerkt. Als u de terugvordering in een ander formaat, bijvoorbeeld pdf-bestand, bezorgt, wordt ze niet aanvaard."]
[]
[{"$nulls":3},"Schoolgegevens"]
[]
[null,1,null,"Vul de gegevens van de school in."]
[{"$nulls":3},"Als u het instellingsnummer invult, verschijnen de andere gegevens van deze vraag automatisch.",{"$nulls":43},{"$f":"IF(DA34=\"X\",\"U hebt een onbestaand instellingsnummer of een instellingsnummer van een ander niveau ingevuld!\",\"\")","v":""},{"$nulls":56},{"$f":"_xlfn.IFNA(T38,\"X\")","v":""}]
[]
[{"$nulls":11},"instellingsnummer ",{"$nulls":12},{"$f":"IF(AND(T36=\"\",COUNTIF(D52:D54,\"X\")>0),\" <= Vul het instellingsnummer in!\",\"\")","v":""}]
[]
[{"$nulls":11},"naam ",{"$nulls":7},{"$f":"IF(ISBLANK(T36),\"\",VLOOKUP(T36,instellingsgegevens!$A$2:$G$5002,2,FALSE))","v":""}]
[]
[{"$nulls":11},"straat en nummer ",{"$nulls":7},{"$f":"IF(ISBLANK(T36),\"\",VLOOKUP(T36,instellingsgegevens!$A$2:$G$5002,3,FALSE))","v":""}]
[]
[{"$nulls":8},"postnummer en gemeente ",{"$nulls":10},{"$f":"IF(ISBLANK(T36),\"\",VLOOKUP(T36,instellingsgegevens!$A$2:$G$5002,4,FALSE))","v":""},{"$nulls":3},{"$f":"IF(ISBLANK(T36),\"\",VLOOKUP(T36,instellingsgegevens!$A$2:$G$5002,5,FALSE))","v":""}]
[]
[{"$nulls":11},"telefoonnummer",{"$nulls":7},{"$f":"IF(ISBLANK(T36),\"\",VLOOKUP(T36,instellingsgegevens!$A$2:$G$5002,6,FALSE))","v":""}]
[]
[{"$nulls":12},"e-mailadres",{"$nulls":6},{"$f":"IF(ISBLANK(T36),\"\",VLOOKUP(T36,instellingsgegevens!$A$2:$G$5002,7))","v":""}]
[]
[{"$nulls":3},"Gegevens over het onderwijs aan huis"]
[]
[null,2,null,"Kruis aan waarop deze aanvraag betrekking heeft.",{"$nulls":24},{"$f":"IF(A52=\"\",\"\",\"Beantwoord eerst vraag \"&B50&\" voor u vraag 3 beantwoordt!\")","v":""}]
[{"$nulls":3},"Een instelling kan per kalenderjaar maar één terugvordering indienen."]
[{"$f":"IF(OR(AND(T36<>\"\",AV34=\"\",COUNTIF(D52:D54,\"X\")=0),AND(D74<>\"\",COUNTIF(D52:D54,\"X\")=0)),\"=>\",\"\")","v":""},{"$nulls":3}," een nieuwe terugvordering",{"$nulls":24},{"$f":"IF(COUNTIF(D52:D54,\"X\")>1,\"U mag bij vraag \"&B50&\" maar één hokje aankruisen!\",\"\")","v":""}]
[]
[{"$nulls":4}," een correctie van een eerder ingediende terugvordering"]
[]
[null,3,null,"Vul de gegevens in over het onderwijs aan huis."]
[{"$nulls":3},"Door deze terugvordering in te dienen, bevestigt u dat alle gegevens in dit formulier naar waarheid zijn ingevuld en dat de reiskosten die teruggevorderd worden, betaald zijn met toepassing van artikel 116 tot en met 120 van de Codex Secundair Onderwijs van 17 december 2010 en het besluit van de Vlaamse Regering van 13 juli 2007 betreffende het onderwijs aan huis voor zieke kinderen en jongeren.\nU verklaart ook dat u hebt kennisgenomen van artikel 102 van de Codex Secundair Onderwijs van 17 december 2010."]
[{"$nulls":3},"U hoeft alleen de vakken met grijze achtergrond in te vullen. De bedragen worden automatisch berekend en de nodige controles worden automatisch uitgevoerd.Vul de vakken rij per rij van links naar rechts in en laat geen blanco rij(en) tussen ingevulde rijen!"]
[{"$nulls":3},"Een rij is pas volledig correct ingevuld als er op die rij in kolom DG geen foutmelding meer wordt getoond. Vul de volgende rij pas in nadat u de foutmelding(en) over de vorige rij hebt opgelost."]
[{"$nulls":3},"Als de tabel nog onlogische of onvolledige vermeldingen bevat, wordt voor- of achteraan de rij(en) in kwestie een '!' geplaatst. Onder de tabel vindt u een korte uitleg over de foutieve of ontbrekende gegevens. Als u vraag 1 of 2 nog niet of foutief hebt beantwoord, wordt dat respectievelijk op de eerste of tweede rij in de onderstaande tabel vermeld."]
[{"$nulls":3},"Dien het formulier pas in als er geen foutmeldingen meer worden getoond.Terugvorderingen die nog foutmeldingen bevatten, worden niet aanvaard!"]
[{"$nulls":3},{"$f":"IF(AND(AV34=\"\",Y36=\"\"),\"\",IF(Y36<>\"\",\"U hebt vraag \"&B33&\" nog niet beantwoord!\",IF(AV34<>\"\",\"U hebt vraag \"&B33&\" foutief beantwoord!\",\"\")))","v":""}]
[{"$nulls":3},{"$f":"IF(AND(AC50=\"\",AD52=\"\"),\"\",IF(AC50<>\"\",\"U hebt vraag \"&B50&\" nog niet beantwoord!\",IF(AD52<>\"\",\"U hebt vraag \"&B50&\" foutief beantwoord!\")))","v":""}]
[{"$nulls":3},{"$f":"IF(COUNTIF(A74:A373,\"!\")>0,\"U dient zowel de voor- en achternaam van het personeelslid, het stamboeknummer als de voor- en achternaam van de leerling in te vullen! Dat is nog niet overal het geval. Zie '!' vóór de betrokken rij(en).\",\"\")","v":""}]
[{"$nulls":3},{"$f":"IF(COUNTIF(C74:C373,\"!\")>0,\"U dient zowel de wijze van verplaatsing, de afgelegde afstand als het aantal trajecten in de vullen! Dat is nog niet overal het geval. Zie '!' vóór de betrokken rij(en). VUL BIJ DE AFSTANDEN GEEN NUL IN!\",\"\")","v":""}]
[{"$nulls":3},{"$f":"IF(COUNTIF(DB74:DB373,\"!\")>0,\"Als u in de kolom 'wijze van verplaasing' de optie 'openbaar vervoer' invult, mag u in de kolommen 'afgelegde afstand' en 'aantal trajecten' geen gegevens invullen! Zie '!' na de betrokken rij(en).\",\"\")","v":""}]
[{"$nulls":3},{"$f":"IF(COUNTIF(CY74:CY373,\"!\")>0,\"U mag enkel een bedrag in de kolom 'vergoeding openbaar vervoer' invullen als u in de kolom 'wijze van verplaatsing' de optie 'openbaar vervoer' hebt ingevuld! Zie '!' na de betrokken rij(en).\",\"\")","v":""}]
[{"$nulls":3},{"$f":"IF(COUNTIF(B74:B373,\"!\")>0,\"U hebt op een of meer rijen de periode niet ingevuld! Zie'!' vóór de betrokken rij(en).\",\"\")","v":""}]
[{"$nulls":3},{"$f":"IF(COUNTIF(CZ74:CZ373,\"!\")=0,\"\",\"U hebt een of meer rijen (gedeeltelijk) blanco gelaten! Zie '!' na de betrokken rij(en).\")","v":""}]
[{"$nulls":3},{"$f":"IF(COUNTIF(DC74:DC373,\"!\")>0,\"U hebt op een of meer rijen de kolom 'wijze van verplaatsing' of de kolom 'vergoeding openbaar vervoer' niet ingevuld! Zie '!' na de betrokken rij(en).\",\"\")","v":""}]
[{"$nulls":3},{"$f":"IF(COUNTIF(DD74:DD373,\"!\")>0,\"U hebt op een of meer rijen 'openbaar vervoer' ingevuld maar geen bedrag 'vergoeding openbaar vervoer' ingevuld, of u hebt een bedrag 'vergoeding openbaar vervoer' ingevuld, maar deze verplaatsingswijze niet ingevuld! Zie '!' na de betrokken rij(en).\",\"\")","v":""}]
[]
[{"$nulls":3},"periode\n(maand/\njaar)",{"$nulls":3},"voor- en achternaam personeelslid",{"$nulls":9},"stamboeknr.",{"$nulls":5},"voor- en achternaam leerling",{"$nulls":11},"wijze van verplaatsing",{"$nulls":7},"afgelegde afstand in km",{"$nulls":6},"aantal trajecten",{"$nulls":3},"vergoeding/km verplaatsing auto",{"$nulls":7},"bedrag in euro verplaatsing auto",{"$nulls":6},"vergoeding/km verplaatsing fiets ",{"$nulls":7},"bedrag in euro verplaatsing fiets",{"$nulls":6},"vergoeding openbaar vervoer",{"$nulls":5},"bedrag in euro per ingevulde rij",{"$nulls":5},"gecumuleerd teruggevorderd bedrag"]
[{"$f":"IF(OR(AND(D74<>\"\",H74=\"\"),AND(H74<>\"\",R74=\"\"),AND(R74<>\"\",H74=\"\"),AND(R74<>\"\",X74=\"\"),AND(X74<>\"\",R74=\"\")),\"!\",\"\")","v":""},{"$f":"IF(OR(AND(ISBLANK(D74),OR(H74<>\"\",R74<>\"\",X74<>\"\",AJ74<>\"\",AR74<>\"\",AY74<>\"\",CG74<>\"\"))),\"!\",\"\")","v":""},{"$f":"IF(AND(CG74=0,AJ74<>\"openbaar vervoer\",OR(AND(OR(AJ74=\"auto\",AJ74=\"fiets\"),OR(AR74=\"\",AR74=0)),AND(AR74>0,AY74=\"\"),AND(AR74=\"\",AY74>0),AND(AR74>0,AJ74=\"\"))),\"!\",\"\")","v":""},{"$nulls":51},{"$f":"IF($AU$38<>\"\",\"zie hierboven\",IF(AJ74=\"auto\",IF(AND((D74>'km-vergoeding'!$A$4),(D74<'km-vergoeding'!$A$5)),'km-vergoeding'!$D$4,'km-vergoeding'!$D$5),0))","v":{"v":0,"d":"0.0000 "}},{"$nulls":7},{"$f":"IF(AJ74=\"auto\",ROUND(AR74*AY74*BC74,2),0)","v":{"v":0,"d":"0.00"}},{"$nulls":6},{"$f":"IF($AU$38<>\"\",\"zie hierboven\",IF(AJ74=\"fiets\",'km-vergoeding'!$D$3,0))","v":{"v":0,"d":"0.00"}},{"$nulls":7},{"$f":"IF(AJ74=\"fiets\",ROUND(AR74*AY74*BR74,2),0)","v":{"v":0,"d":"0.00"}},{"$nulls":12},{"$f":"IF(AND(OR((AJ74=\"fiets\"),(AJ74=\"auto\")),(CG74>0)),\"xxxx\",BK74+BZ74+CG74)","v":{"v":0,"d":"0.00"}},{"$nulls":5},{"$f":"IF(CM74=0,0,IF(AND(CM74<>0,CM75>0),0,CM74))","v":{"v":0,"d":"0.00"}},{"$nulls":5},{"$f":"IF(AND(OR((AJ74=\"fiets\"),(AJ74=\"auto\")),(CG74>0)),\"!\",\"\")","v":""},{"$f":"IF(AND(D74=\"\",D75<>\"\"),\"!\",\"\")","v":""},"<= afwijkende formule !",{"$f":"IF(AND(AJ74=\"openbaar vervoer\",OR(AR74<>\"\",AY74<>\"\")),\"!\",\"\")","v":""},{"$f":"IF(AND(X74<>\"\",AND(AJ74=\"\",CM74=0)),\"!\",\"\")","v":""},{"$f":"IF(OR(AND(AJ74=\"openbaar vervoer\",CG74=0),AND(CG74>0,AJ74=\"\")),\"!\",\"\")","v":""},{"$f":"CM74","v":{"v":0,"d":"0.00"}},"<= afwijkende formule!",{"$f":"IF(AND(A74=\"\",B74=\"\",C74=\"\",CY74=\"\",CZ74=\"\",DB74=\"\",DC74=\"\",DD74=\"\"),\"\",\"Deze rij is nog onvolledig of bevat nog fouten! Zie foutmeldingen boven de tabel.\")","v":""}]
[{"$f":"IF(OR(AND(D75<>\"\",H75=\"\"),AND(H75<>\"\",R75=\"\"),AND(R75<>\"\",H75=\"\"),AND(R75<>\"\",X75=\"\"),AND(X75<>\"\",R75=\"\")),\"!\",\"\")","v":""},{"$f":"IF(OR(AND(ISBLANK(D75),OR(H75<>\"\",R75<>\"\",X75<>\"\",AJ75<>\"\",AR75<>\"\",AY75<>\"\",CG75<>\"\"))),\"!\",\"\")","v":""},{"$f":"IF(AND(CG75=0,AJ75<>\"openbaar vervoer\",OR(AND(OR(AJ75=\"auto\",AJ75=\"fiets\"),OR(AR75=\"\",AR75=0)),AND(AR75>0,AY75=\"\"),AND(AR75=\"\",AY75>0),AND(AR75>0,AJ75=\"\"))),\"!\",\"\")","v":""},{"$nulls":51},{"$f":"IF($AU$38<>\"\",\"zie hierboven\",IF(AJ75=\"auto\",IF(AND((D75>'km-vergoeding'!$A$4),(D75<'km-vergoeding'!$A$5)),'km-vergoeding'!$D$4,'km-vergoeding'!$D$5),0))","v":{"v":0,"d":"0.0000 "}},{"$nulls":7},{"$f":"IF(AJ75=\"auto\",ROUND(AR75*AY75*BC75,2),0)","v":{"v":0,"d":"0.00"}},{"$nulls":6},{"$f":"IF($AU$38<>\"\",\"zie hierboven\",IF(AJ75=\"fiets\",'km-vergoeding'!$D$3,0))","v":{"v":0,"d":"0.00"}},{"$nulls":7},{"$f":"IF(AJ75=\"fiets\",ROUND(AR75*AY75*BR75,2),0)","v":{"v":0,"d":"0.00"}},{"$nulls":12},{"$f":"IF(AND(OR((AJ75=\"fiets\"),(AJ75=\"auto\")),(CG75>0)),\"xxxx\",BK75+BZ75+CG75)","v":{"v":0,"d":"0.00"}},{"$nulls":5},{"$f":"IF(CM75=0,0,IF(CM76=0,DE75,0))","v":{"v":0,"d":"0.00"}},{"$nulls":5},{"$f":"IF(AND(OR((AJ75=\"fiets\"),(AJ75=\"auto\")),(CG75>0)),\"!\",\"\")","v":""},{"$f":"IF(OR(AND(D74<>\"\",D75=\"\",D76<>\"\"),AND(D74=\"\",D75=\"\",D76<>\"\")),\"!\",\"\")","v":""},null,{"$f":"IF(AND(AJ75=\"openbaar vervoer\",OR(AR75<>\"\",AY75<>\"\")),\"!\",\"\")","v":""},{"$f":"IF(AND(X75<>\"\",AND(AJ75=\"\",CM75=0)),\"!\",\"\")","v":""},"",{"$f":"IF(CM75=0,DE74,DE74+CM75)","v":{"v":0,"d":"0.00"}},null,{"$f":"IF(AND(A75=\"\",B75=\"\",C75=\"\",CY75=\"\",CZ75=\"\",DB75=\"\",DC75=\"\",DD75=\"\"),\"\",\"Deze rij is nog onvolledig of bevat nog fouten! Zie foutmeldingen boven de tabel.\")","v":""}]
["","","",{"$nulls":51},{"$f":"IF($AU$38<>\"\",\"zie hierboven\",IF(AJ76=\"auto\",IF(AND((D76>'km-vergoeding'!$A$4),(D76<'km-vergoeding'!$A$5)),'km-vergoeding'!$D$4,'km-vergoeding'!$D$5),0))","v":{"v":0,"d":"0.0000 "}},{"$nulls":7},{"v":0,"d":"0.00"},{"$nulls":6},{"$f":"IF($AU$38<>\"\",\"zie hierboven\",IF(AJ76=\"fiets\",'km-vergoeding'!$D$3,0))","v":{"v":0,"d":"0.00"}},{"$nulls":7},{"v":0,"d":"0.00"},{"$nulls":12},{"v":0,"d":"0.00"},{"$nulls":5},{"$f":"IF(CM76=0,0,IF(CM77=0,DE76,0))","v":{"v":0,"d":"0.00"}},{"$nulls":5},{"$f":"IF(AND(OR((AJ76=\"fiets\"),(AJ76=\"auto\")),(CG76>0)),\"!\",\"\")","v":""},{"$f":"IF(OR(AND(D75<>\"\",D76=\"\",D77<>\"\"),AND(D75=\"\",D76=\"\",D77<>\"\")),\"!\",\"\")","v":""},null,{"$f":"IF(AND(AJ76=\"openbaar vervoer\",OR(AR76<>\"\",AY76<>\"\")),\"!\",\"\")","v":""},{"$f":"IF(AND(X76<>\"\",AND(AJ76=\"\",CM76=0)),\"!\",\"\")","v":""},{"$f":"IF(OR(AND(AJ76=\"openbaar vervoer\",CG76=0),AND(CG76>0,AJ76=\"\")),\"!\",\"\")","v":""},{"$f":"IF(CM76=0,DE75,DE75+CM76)","v":{"v":0,"d":"0.00"}},null,""]
["","","",{"$nulls":51},{"$f":"IF($AU$38<>\"\",\"zie hierboven\",IF(AJ77=\"auto\",IF(AND((D77>'km-vergoeding'!$A$4),(D77<'km-vergoeding'!$A$5)),'km-vergoeding'!$D$4,'km-vergoeding'!$D$5),0))","v":{"v":0,"d":"0.0000 "}},{"$nulls":7},{"v":0,"d":"0.00"},{"$nulls":6},{"$f":"IF($AU$38<>\"\",\"zie hierboven\",IF(AJ77=\"fiets\",'km-vergoeding'!$D$3,0))","v":{"v":0,"d":"0.00"}},{"$nulls":7},{"v":0,"d":"0.00"},{"$nulls":12},{"v":0,"d":"0.00"},{"$nulls":5},{"v":0,"d":"0.00"},{"$nulls":5},"","",null,"","","",{"$f":"IF(CM77=0,DE76,DE76+CM77)","v":{"v":0,"d":"0.00"}},null,""]
["","","",{"$nulls":51},{"$f":"IF($AU$38<>\"\",\"zie hierboven\",IF(AJ78=\"auto\",IF(AND((D78>'km-vergoeding'!$A$4),(D78<'km-vergoeding'!$A$5)),'km-vergoeding'!$D$4,'km-vergoeding'!$D$5),0))","v":{"v":0,"d":"0.0000 "}},{"$nulls":7},{"v":0,"d":"0.00"},{"$nulls":6},{"$f":"IF($AU$38<>\"\",\"zie hierboven\",IF(AJ78=\"fiets\",'km-vergoeding'!$D$3,0))","v":{"v":0,"d":"0.00"}},{"$nulls":7},{"v":0,"d":"0.00"},{"$nulls":12},{"v":0,"d":"0.00"},{"$nulls":5},{"v":0,"d":"0.00"},{"$nulls":5},"","",null,"","","",{"v":0,"d":"0.00"},null,""]
["","","",{"$nulls":51},{"$f":"IF($AU$38<>\"\",\"zie hierboven\",IF(AJ79=\"auto\",IF(AND((D79>'km-vergoeding'!$A$4),(D79<'km-vergoeding'!$A$5)),'km-vergoeding'!$D$4,'km-vergoeding'!$D$5),0))","v":{"v":0,"d":"0.0000 "}},{"$nulls":7},{"v":0,"d":"0.00"},{"$nulls":6},{"$f":"IF($AU$38<>\"\",\"zie hierboven\",IF(AJ79=\"fiets\",'km-vergoeding'!$D$3,0))","v":{"v":0,"d":"0.00"}},{"$nulls":7},{"v":0,"d":"0.00"},{"$nulls":12},{"v":0,"d":"0.00"},{"$nulls":5},{"v":0,"d":"0.00"},{"$nulls":5},"","",null,"","","",{"v":0,"d":"0.00"},null,""]
["","","",{"$nulls":51},{"$f":"IF($AU$38<>\"\",\"zie hierboven\",IF(AJ80=\"auto\",IF(AND((D80>'km-vergoeding'!$A$4),(D80<'km-vergoeding'!$A$5)),'km-vergoeding'!$D$4,'km-vergoeding'!$D$5),0))","v":{"v":0,"d":"0.0000 "}},{"$nulls":7},{"v":0,"d":"0.00"},{"$nulls":6},{"$f":"IF($AU$38<>\"\",\"zie hierboven\",IF(AJ80=\"fiets\",'km-vergoeding'!$D$3,0))","v":{"v":0,"d":"0.00"}},{"$nulls":7},{"v":0,"d":"0.00"},{"$nulls":12},{"v":0,"d":"0.00"},{"$nulls":5},{"v":0,"d":"0.00"},{"$nulls":5},"","",null,"","","",{"v":0,"d":"0.00"},null,""]
["","","",{"$nulls":51},{"$f":"IF($AU$38<>\"\",\"zie hierboven\",IF(AJ81=\"auto\",IF(AND((D81>'km-vergoeding'!$A$4),(D81<'km-vergoeding'!$A$5)),'km-vergoeding'!$D$4,'km-vergoeding'!$D$5),0))","v":{"v":0,"d":"0.0000 "}},{"$nulls":7},{"v":0,"d":"0.00"},{"$nulls":6},{"$f":"IF($AU$38<>\"\",\"zie hierboven\",IF(AJ81=\"fiets\",'km-vergoeding'!$D$3,0))","v":{"v":0,"d":"0.00"}},{"$nulls":7},{"v":0,"d":"0.00"},{"$nulls":12},{"v":0,"d":"0.00"},{"$nulls":5},{"v":0,"d":"0.00"},{"$nulls":5},"","",null,"","","",{"v":0,"d":"0.00"},null,""]
["","","",{"$nulls":51},{"$f":"IF($AU$38<>\"\",\"zie hierboven\",IF(AJ82=\"auto\",IF(AND((D82>'km-vergoeding'!$A$4),(D82<'km-vergoeding'!$A$5)),'km-vergoeding'!$D$4,'km-vergoeding'!$D$5),0))","v":{"v":0,"d":"0.0000 "}},{"$nulls":7},{"v":0,"d":"0.00"},{"$nulls":6},{"$f":"IF($AU$38<>\"\",\"zie hierboven\",IF(AJ82=\"fiets\",'km-vergoeding'!$D$3,0))","v":{"v":0,"d":"0.00"}},{"$nulls":7},{"v":0,"d":"0.00"},{"$nulls":12},{"v":0,"d":"0.00"},{"$nulls":5},{"v":0,"d":"0.00"},{"$nulls":5},"","",null,"","","",{"v":0,"d":"0.00"},null,""]
["","","",{"$nulls":51},{"$f":"IF($AU$38<>\"\",\"zie hierboven\",IF(AJ83=\"auto\",IF(AND((D83>'km-vergoeding'!$A$4),(D83<'km-vergoeding'!$A$5)),'km-vergoeding'!$D$4,'km-vergoeding'!$D$5),0))","v":{"v":0,"d":"0.0000 "}},{"$nulls":7},{"v":0,"d":"0.00"},{"$nulls":6},{"$f":"IF($AU$38<>\"\",\"zie hierboven\",IF(AJ83=\"fiets\",'km-vergoeding'!$D$3,0))","v":{"v":0,"d":"0.00"}},{"$nulls":7},{"v":0,"d":"0.00"},{"$nulls":12},{"v":0,"d":"0.00"},{"$nulls":5},{"v":0,"d":"0.00"},{"$nulls":5},"","",null,"","","",{"v":0,"d":"0.00"},null,""]
["","","",{"$nulls":51},{"$f":"IF($AU$38<>\"\",\"zie hierboven\",IF(AJ84=\"auto\",IF(AND((D84>'km-vergoeding'!$A$4),(D84<'km-vergoeding'!$A$5)),'km-vergoeding'!$D$4,'km-vergoeding'!$D$5),0))","v":{"v":0,"d":"0.0000 "}},{"$nulls":7},{"v":0,"d":"0.00"},{"$nulls":6},{"$f":"IF($AU$38<>\"\",\"zie hierboven\",IF(AJ84=\"fiets\",'km-vergoeding'!$D$3,0))","v":{"v":0,"d":"0.00"}},{"$nulls":7},{"v":0,"d":"0.00"},{"$nulls":12},{"v":0,"d":"0.00"},{"$nulls":5},{"v":0,"d":"0.00"},{"$nulls":5},"","",null,"","","",{"v":0,"d":"0.00"},null,""]
["","","",{"$nulls":51},{"$f":"IF($AU$38<>\"\",\"zie hierboven\",IF(AJ85=\"auto\",IF(AND((D85>'km-vergoeding'!$A$4),(D85<'km-vergoeding'!$A$5)),'km-vergoeding'!$D$4,'km-vergoeding'!$D$5),0))","v":{"v":0,"d":"0.0000 "}},{"$nulls":7},{"v":0,"d":"0.00"},{"$nulls":6},{"$f":"IF($AU$38<>\"\",\"zie hierboven\",IF(AJ85=\"fiets\",'km-vergoeding'!$D$3,0))","v":{"v":0,"d":"0.00"}},{"$nulls":7},{"v":0,"d":"0.00"},{"$nulls":12},{"v":0,"d":"0.00"},{"$nulls":5},{"v":0,"d":"0.00"},{"$nulls":5},"","",null,"","","",{"v":0,"d":"0.00"},null,""]
["","","",{"$nulls":51},{"$f":"IF($AU$38<>\"\",\"zie hierboven\",IF(AJ86=\"auto\",IF(AND((D86>'km-vergoeding'!$A$4),(D86<'km-vergoeding'!$A$5)),'km-vergoeding'!$D$4,'km-vergoeding'!$D$5),0))","v":{"v":0,"d":"0.0000 "}},{"$nulls":7},{"v":0,"d":"0.00"},{"$nulls":6},{"$f":"IF($AU$38<>\"\",\"zie hierboven\",IF(AJ86=\"fiets\",'km-vergoeding'!$D$3,0))","v":{"v":0,"d":"0.00"}},{"$nulls":7},{"v":0,"d":"0.00"},{"$nulls":12},{"v":0,"d":"0.00"},{"$nulls":5},{"v":0,"d":"0.00"},{"$nulls":5},"","",null,"","","",{"v":0,"d":"0.00"},null,""]
["","","",{"$nulls":51},{"$f":"IF($AU$38<>\"\",\"zie hierboven\",IF(AJ87=\"auto\",IF(AND((D87>'km-vergoeding'!$A$4),(D87<'km-vergoeding'!$A$5)),'km-vergoeding'!$D$4,'km-vergoeding'!$D$5),0))","v":{"v":0,"d":"0.0000 "}},{"$nulls":7},{"v":0,"d":"0.00"},{"$nulls":6},{"$f":"IF($AU$38<>\"\",\"zie hierboven\",IF(AJ87=\"fiets\",'km-vergoeding'!$D$3,0))","v":{"v":0,"d":"0.00"}},{"$nulls":7},{"v":0,"d":"0.00"},{"$nulls":12},{"v":0,"d":"0.00"},{"$nulls":5},{"v":0,"d":"0.00"},{"$nulls":5},"","",null,"","","",{"v":0,"d":"0.00"},null,""]
["","","",{"$nulls":51},{"$f":"IF($AU$38<>\"\",\"zie hierboven\",IF(AJ88=\"auto\",IF(AND((D88>'km-vergoeding'!$A$4),(D88<'km-vergoeding'!$A$5)),'km-vergoeding'!$D$4,'km-vergoeding'!$D$5),0))","v":{"v":0,"d":"0.0000 "}},{"$nulls":7},{"v":0,"d":"0.00"},{"$nulls":6},{"$f":"IF($AU$38<>\"\",\"zie hierboven\",IF(AJ88=\"fiets\",'km-vergoeding'!$D$3,0))","v":{"v":0,"d":"0.00"}},{"$nulls":7},{"v":0,"d":"0.00"},{"$nulls":12},{"v":0,"d":"0.00"},{"$nulls":5},{"v":0,"d":"0.00"},{"$nulls":5},"","",null,"","","",{"v":0,"d":"0.00"},null,""]
["","","",{"$nulls":51},{"$f":"IF($AU$38<>\"\",\"zie hierboven\",IF(AJ89=\"auto\",IF(AND((D89>'km-vergoeding'!$A$4),(D89<'km-vergoeding'!$A$5)),'km-vergoeding'!$D$4,'km-vergoeding'!$D$5),0))","v":{"v":0,"d":"0.0000 "}},{"$nulls":7},{"v":0,"d":"0.00"},{"$nulls":6},{"$f":"IF($AU$38<>\"\",\"zie hierboven\",IF(AJ89=\"fiets\",'km-vergoeding'!$D$3,0))","v":{"v":0,"d":"0.00"}},{"$nulls":7},{"v":0,"d":"0.00"},{"$nulls":12},{"v":0,"d":"0.00"},{"$nulls":5},{"v":0,"d":"0.00"},{"$nulls":5},"","",null,"","","",{"v":0,"d":"0.00"},null,""]
["","","",{"$nulls":51},{"$f":"IF($AU$38<>\"\",\"zie hierboven\",IF(AJ90=\"auto\",IF(AND((D90>'km-vergoeding'!$A$4),(D90<'km-vergoeding'!$A$5)),'km-vergoeding'!$D$4,'km-vergoeding'!$D$5),0))","v":{"v":0,"d":"0.0000 "}},{"$nulls":7},{"v":0,"d":"0.00"},{"$nulls":6},{"$f":"IF($AU$38<>\"\",\"zie hierboven\",IF(AJ90=\"fiets\",'km-vergoeding'!$D$3,0))","v":{"v":0,"d":"0.00"}},{"$nulls":7},{"v":0,"d":"0.00"},{"$nulls":12},{"v":0,"d":"0.00"},{"$nulls":5},{"v":0,"d":"0.00"},{"$nulls":5},"","",null,"","","",{"v":0,"d":"0.00"},null,""]
["","","",{"$nulls":51},{"$f":"IF($AU$38<>\"\",\"zie hierboven\",IF(AJ91=\"auto\",IF(AND((D91>'km-vergoeding'!$A$4),(D91<'km-vergoeding'!$A$5)),'km-vergoeding'!$D$4,'km-vergoeding'!$D$5),0))","v":{"v":0,"d":"0.0000 "}},{"$nulls":7},{"v":0,"d":"0.00"},{"$nulls":6},{"$f":"IF($AU$38<>\"\",\"zie hierboven\",IF(AJ91=\"fiets\",'km-vergoeding'!$D$3,0))","v":{"v":0,"d":"0.00"}},{"$nulls":7},{"v":0,"d":"0.00"},{"$nulls":12},{"v":0,"d":"0.00"},{"$nulls":5},{"v":0,"d":"0.00"},{"$nulls":5},"","",null,"","","",{"v":0,"d":"0.00"},null,""]
["","","",{"$nulls":51},{"$f":"IF($AU$38<>\"\",\"zie hierboven\",IF(AJ92=\"auto\",IF(AND((D92>'km-vergoeding'!$A$4),(D92<'km-vergoeding'!$A$5)),'km-vergoeding'!$D$4,'km-vergoeding'!$D$5),0))","v":{"v":0,"d":"0.0000 "}},{"$nulls":7},{"v":0,"d":"0.00"},{"$nulls":6},{"$f":"IF($AU$38<>\"\",\"zie hierboven\",IF(AJ92=\"fiets\",'km-vergoeding'!$D$3,0))","v":{"v":0,"d":"0.00"}},{"$nulls":7},{"v":0,"d":"0.00"},{"$nulls":12},{"v":0,"d":"0.00"},{"$nulls":5},{"v":0,"d":"0.00"},{"$nulls":5},"","",null,"","","",{"v":0,"d":"0.00"},null,""]
["","","",{"$nulls":51},{"$f":"IF($AU$38<>\"\",\"zie hierboven\",IF(AJ93=\"auto\",IF(AND((D93>'km-vergoeding'!$A$4),(D93<'km-vergoeding'!$A$5)),'km-vergoeding'!$D$4,'km-vergoeding'!$D$5),0))","v":{"v":0,"d":"0.0000 "}},{"$nulls":7},{"v":0,"d":"0.00"},{"$nulls":6},{"$f":"IF($AU$38<>\"\",\"zie hierboven\",IF(AJ93=\"fiets\",'km-vergoeding'!$D$3,0))","v":{"v":0,"d":"0.00"}},{"$nulls":7},{"v":0,"d":"0.00"},{"$nulls":12},{"v":0,"d":"0.00"},{"$nulls":5},{"v":0,"d":"0.00"},{"$nulls":5},"","",null,"","","",{"v":0,"d":"0.00"},null,""]
["","","",{"$nulls":51},{"$f":"IF($AU$38<>\"\",\"zie hierboven\",IF(AJ94=\"auto\",IF(AND((D94>'km-vergoeding'!$A$4),(D94<'km-vergoeding'!$A$5)),'km-vergoeding'!$D$4,'km-vergoeding'!$D$5),0))","v":{"v":0,"d":"0.0000 "}},{"$nulls":7},{"v":0,"d":"0.00"},{"$nulls":6},{"$f":"IF($AU$38<>\"\",\"zie hierboven\",IF(AJ94=\"fiets\",'km-vergoeding'!$D$3,0))","v":{"v":0,"d":"0.00"}},{"$nulls":7},{"v":0,"d":"0.00"},{"$nulls":12},{"v":0,"d":"0.00"},{"$nulls":5},{"v":0,"d":"0.00"},{"$nulls":5},"","",null,"","","",{"v":0,"d":"0.00"},null,""]
["","","",{"$nulls":51},{"$f":"IF($AU$38<>\"\",\"zie hierboven\",IF(AJ95=\"auto\",IF(AND((D95>'km-vergoeding'!$A$4),(D95<'km-vergoeding'!$A$5)),'km-vergoeding'!$D$4,'km-vergoeding'!$D$5),0))","v":{"v":0,"d":"0.0000 "}},{"$nulls":7},{"v":0,"d":"0.00"},{"$nulls":6},{"$f":"IF($AU$38<>\"\",\"zie hierboven\",IF(AJ95=\"fiets\",'km-vergoeding'!$D$3,0))","v":{"v":0,"d":"0.00"}},{"$nulls":7},{"v":0,"d":"0.00"},{"$nulls":12},{"v":0,"d":"0.00"},{"$nulls":5},{"v":0,"d":"0.00"},{"$nulls":5},"","",null,"","","",{"v":0,"d":"0.00"},null,""]
["","","",{"$nulls":51},{"$f":"IF($AU$38<>\"\",\"zie hierboven\",IF(AJ96=\"auto\",IF(AND((D96>'km-vergoeding'!$A$4),(D96<'km-vergoeding'!$A$5)),'km-vergoeding'!$D$4,'km-vergoeding'!$D$5),0))","v":{"v":0,"d":"0.0000 "}},{"$nulls":7},{"v":0,"d":"0.00"},{"$nulls":6},{"$f":"IF($AU$38<>\"\",\"zie hierboven\",IF(AJ96=\"fiets\",'km-vergoeding'!$D$3,0))","v":{"v":0,"d":"0.00"}},{"$nulls":7},{"v":0,"d":"0.00"},{"$nulls":12},{"v":0,"d":"0.00"},{"$nulls":5},{"v":0,"d":"0.00"},{"$nulls":5},"","",null,"","","",{"v":0,"d":"0.00"},null,""]
["","","",{"$nulls":51},{"$f":"IF($AU$38<>\"\",\"zie hierboven\",IF(AJ97=\"auto\",IF(AND((D97>'km-vergoeding'!$A$4),(D97<'km-vergoeding'!$A$5)),'km-vergoeding'!$D$4,'km-vergoeding'!$D$5),0))","v":{"v":0,"d":"0.0000 "}},{"$nulls":7},{"v":0,"d":"0.00"},{"$nulls":6},{"$f":"IF($AU$38<>\"\",\"zie hierboven\",IF(AJ97=\"fiets\",'km-vergoeding'!$D$3,0))","v":{"v":0,"d":"0.00"}},{"$nulls":7},{"v":0,"d":"0.00"},{"$nulls":12},{"v":0,"d":"0.00"},{"$nulls":5},{"v":0,"d":"0.00"},{"$nulls":5},"","",null,"","","",{"v":0,"d":"0.00"},null,""]
["","","",{"$nulls":51},{"$f":"IF($AU$38<>\"\",\"zie hierboven\",IF(AJ98=\"auto\",IF(AND((D98>'km-vergoeding'!$A$4),(D98<'km-vergoeding'!$A$5)),'km-vergoeding'!$D$4,'km-vergoeding'!$D$5),0))","v":{"v":0,"d":"0.0000 "}},{"$nulls":7},{"v":0,"d":"0.00"},{"$nulls":6},{"$f":"IF($AU$38<>\"\",\"zie hierboven\",IF(AJ98=\"fiets\",'km-vergoeding'!$D$3,0))","v":{"v":0,"d":"0.00"}},{"$nulls":7},{"v":0,"d":"0.00"},{"$nulls":12},{"v":0,"d":"0.00"},{"$nulls":5},{"v":0,"d":"0.00"},{"$nulls":5},"","",null,"","","",{"v":0,"d":"0.00"},null,""]
["","","",{"$nulls":51},{"$f":"IF($AU$38<>\"\",\"zie hierboven\",IF(AJ99=\"auto\",IF(AND((D99>'km-vergoeding'!$A$4),(D99<'km-vergoeding'!$A$5)),'km-vergoeding'!$D$4,'km-vergoeding'!$D$5),0))","v":{"v":0,"d":"0.0000 "}},{"$nulls":7},{"v":0,"d":"0.00"},{"$nulls":6},{"$f":"IF($AU$38<>\"\",\"zie hierboven\",IF(AJ99=\"fiets\",'km-vergoeding'!$D$3,0))","v":{"v":0,"d":"0.00"}},{"$nulls":7},{"v":0,"d":"0.00"},{"$nulls":12},{"v":0,"d":"0.00"},{"$nulls":5},{"v":0,"d":"0.00"},{"$nulls":5},"","",null,"","","",{"v":0,"d":"0.00"},null,""]
["","","",{"$nulls":51},{"$f":"IF($AU$38<>\"\",\"zie hierboven\",IF(AJ100=\"auto\",IF(AND((D100>'km-vergoeding'!$A$4),(D100<'km-vergoeding'!$A$5)),'km-vergoeding'!$D$4,'km-vergoeding'!$D$5),0))","v":{"v":0,"d":"0.0000 "}},{"$nulls":7},{"v":0,"d":"0.00"},{"$nulls":6},{"$f":"IF($AU$38<>\"\",\"zie hierboven\",IF(AJ100=\"fiets\",'km-vergoeding'!$D$3,0))","v":{"v":0,"d":"0.00"}},{"$nulls":7},{"v":0,"d":"0.00"},{"$nulls":12},{"v":0,"d":"0.00"},{"$nulls":5},{"v":0,"d":"0.00"},{"$nulls":5},"","",null,"","","",{"v":0,"d":"0.00"},null,""]
["","","",{"$nulls":51},{"$f":"IF($AU$38<>\"\",\"zie hierboven\",IF(AJ101=\"auto\",IF(AND((D101>'km-vergoeding'!$A$4),(D101<'km-vergoeding'!$A$5)),'km-vergoeding'!$D$4,'km-vergoeding'!$D$5),0))","v":{"v":0,"d":"0.0000 "}},{"$nulls":7},{"v":0,"d":"0.00"},{"$nulls":6},{"$f":"IF($AU$38<>\"\",\"zie hierboven\",IF(AJ101=\"fiets\",'km-vergoeding'!$D$3,0))","v":{"v":0,"d":"0.00"}},{"$nulls":7},{"v":0,"d":"0.00"},{"$nulls":12},{"v":0,"d":"0.00"},{"$nulls":5},{"v":0,"d":"0.00"},{"$nulls":5},"","",null,"","","",{"v":0,"d":"0.00"},null,""]
["","","",{"$nulls":51},{"$f":"IF($AU$38<>\"\",\"zie hierboven\",IF(AJ102=\"auto\",IF(AND((D102>'km-vergoeding'!$A$4),(D102<'km-vergoeding'!$A$5)),'km-vergoeding'!$D$4,'km-vergoeding'!$D$5),0))","v":{"v":0,"d":"0.0000 "}},{"$nulls":7},{"v":0,"d":"0.00"},{"$nulls":6},{"$f":"IF($AU$38<>\"\",\"zie hierboven\",IF(AJ102=\"fiets\",'km-vergoeding'!$D$3,0))","v":{"v":0,"d":"0.00"}},{"$nulls":7},{"v":0,"d":"0.00"},{"$nulls":12},{"v":0,"d":"0.00"},{"$nulls":5},{"v":0,"d":"0.00"},{"$nulls":5},"","",null,"","","",{"v":0,"d":"0.00"},null,""]
["","","",{"$nulls":51},{"$f":"IF($AU$38<>\"\",\"zie hierboven\",IF(AJ103=\"auto\",IF(AND((D103>'km-vergoeding'!$A$4),(D103<'km-vergoeding'!$A$5)),'km-vergoeding'!$D$4,'km-vergoeding'!$D$5),0))","v":{"v":0,"d":"0.0000 "}},{"$nulls":7},{"$f":"IF(AJ103=\"auto\",ROUND(AR103*AY103*BC103,2),0)","v":{"v":0,"d":"0.00"}},{"$nulls":6},{"$f":"IF($AU$38<>\"\",\"zie hierboven\",IF(AJ103=\"fiets\",'km-vergoeding'!$D$3,0))","v":{"v":0,"d":"0.00"}},{"$nulls":7},{"$f":"IF(AJ103=\"fiets\",ROUND(AR103*AY103*BR103,2),0)","v":{"v":0,"d":"0.00"}},{"$nulls":12},{"$f":"IF(AND(OR((AJ103=\"fiets\"),(AJ103=\"auto\")),(CG103>0)),\"xxxx\",BK103+BZ103+CG103)","v":{"v":0,"d":"0.00"}},{"$nulls":5},{"v":0,"d":"0.00"},{"$nulls":5},"","",null,"","","",{"v":0,"d":"0.00"},null,""]
["","","",{"$nulls":51},{"$f":"IF($AU$38<>\"\",\"zie hierboven\",IF(AJ104=\"auto\",IF(AND((D104>'km-vergoeding'!$A$4),(D104<'km-vergoeding'!$A$5)),'km-vergoeding'!$D$4,'km-vergoeding'!$D$5),0))","v":{"v":0,"d":"0.0000 "}},{"$nulls":7},{"v":0,"d":"0.00"},{"$nulls":6},{"$f":"IF($AU$38<>\"\",\"zie hierboven\",IF(AJ104=\"fiets\",'km-vergoeding'!$D$3,0))","v":{"v":0,"d":"0.00"}},{"$nulls":7},{"v":0,"d":"0.00"},{"$nulls":12},{"v":0,"d":"0.00"},{"$nulls":5},{"v":0,"d":"0.00"},{"$nulls":5},"","",null,"","","",{"v":0,"d":"0.00"},null,""]
["","","",{"$nulls":51},{"$f":"IF($AU$38<>\"\",\"zie hierboven\",IF(AJ105=\"auto\",IF(AND((D105>'km-vergoeding'!$A$4),(D105<'km-vergoeding'!$A$5)),'km-vergoeding'!$D$4,'km-vergoeding'!$D$5),0))","v":{"v":0,"d":"0.0000 "}},{"$nulls":7},{"v":0,"d":"0.00"},{"$nulls":6},{"$f":"IF($AU$38<>\"\",\"zie hierboven\",IF(AJ105=\"fiets\",'km-vergoeding'!$D$3,0))","v":{"v":0,"d":"0.00"}},{"$nulls":7},{"v":0,"d":"0.00"},{"$nulls":12},{"v":0,"d":"0.00"},{"$nulls":5},{"v":0,"d":"0.00"},{"$nulls":5},"","",null,"","","",{"v":0,"d":"0.00"},null,""]
["","","",{"$nulls":51},{"$f":"IF($AU$38<>\"\",\"zie hierboven\",IF(AJ106=\"auto\",IF(AND((D106>'km-vergoeding'!$A$4),(D106<'km-vergoeding'!$A$5)),'km-vergoeding'!$D$4,'km-vergoeding'!$D$5),0))","v":{"v":0,"d":"0.0000 "}},{"$nulls":7},{"v":0,"d":"0.00"},{"$nulls":6},{"$f":"IF($AU$38<>\"\",\"zie hierboven\",IF(AJ106=\"fiets\",'km-vergoeding'!$D$3,0))","v":{"v":0,"d":"0.00"}},{"$nulls":7},{"v":0,"d":"0.00"},{"$nulls":12},{"v":0,"d":"0.00"},{"$nulls":5},{"v":0,"d":"0.00"},{"$nulls":5},"","",null,"","","",{"v":0,"d":"0.00"},null,""]
["","","",{"$nulls":51},{"$f":"IF($AU$38<>\"\",\"zie hierboven\",IF(AJ107=\"auto\",IF(AND((D107>'km-vergoeding'!$A$4),(D107<'km-vergoeding'!$A$5)),'km-vergoeding'!$D$4,'km-vergoeding'!$D$5),0))","v":{"v":0,"d":"0.0000 "}},{"$nulls":7},{"v":0,"d":"0.00"},{"$nulls":6},{"$f":"IF($AU$38<>\"\",\"zie hierboven\",IF(AJ107=\"fiets\",'km-vergoeding'!$D$3,0))","v":{"v":0,"d":"0.00"}},{"$nulls":7},{"v":0,"d":"0.00"},{"$nulls":12},{"v":0,"d":"0.00"},{"$nulls":5},{"v":0,"d":"0.00"},{"$nulls":5},"","",null,"","","",{"v":0,"d":"0.00"},null,""]
["","","",{"$nulls":51},{"$f":"IF($AU$38<>\"\",\"zie hierboven\",IF(AJ108=\"auto\",IF(AND((D108>'km-vergoeding'!$A$4),(D108<'km-vergoeding'!$A$5)),'km-vergoeding'!$D$4,'km-vergoeding'!$D$5),0))","v":{"v":0,"d":"0.0000 "}},{"$nulls":7},{"v":0,"d":"0.00"},{"$nulls":6},{"$f":"IF($AU$38<>\"\",\"zie hierboven\",IF(AJ108=\"fiets\",'km-vergoeding'!$D$3,0))","v":{"v":0,"d":"0.00"}},{"$nulls":7},{"v":0,"d":"0.00"},{"$nulls":12},{"v":0,"d":"0.00"},{"$nulls":5},{"v":0,"d":"0.00"},{"$nulls":5},"","",null,"","","",{"v":0,"d":"0.00"},null,""]
["","","",{"$nulls":51},{"$f":"IF($AU$38<>\"\",\"zie hierboven\",IF(AJ109=\"auto\",IF(AND((D109>'km-vergoeding'!$A$4),(D109<'km-vergoeding'!$A$5)),'km-vergoeding'!$D$4,'km-vergoeding'!$D$5),0))","v":{"v":0,"d":"0.0000 "}},{"$nulls":7},{"v":0,"d":"0.00"},{"$nulls":6},{"$f":"IF($AU$38<>\"\",\"zie hierboven\",IF(AJ109=\"fiets\",'km-vergoeding'!$D$3,0))","v":{"v":0,"d":"0.00"}},{"$nulls":7},{"v":0,"d":"0.00"},{"$nulls":12},{"v":0,"d":"0.00"},{"$nulls":5},{"v":0,"d":"0.00"},{"$nulls":5},"","",null,"","","",{"v":0,"d":"0.00"},null,""]
["","","",{"$nulls":51},{"$f":"IF($AU$38<>\"\",\"zie hierboven\",IF(AJ110=\"auto\",IF(AND((D110>'km-vergoeding'!$A$4),(D110<'km-vergoeding'!$A$5)),'km-vergoeding'!$D$4,'km-vergoeding'!$D$5),0))","v":{"v":0,"d":"0.0000 "}},{"$nulls":7},{"v":0,"d":"0.00"},{"$nulls":6},{"$f":"IF($AU$38<>\"\",\"zie hierboven\",IF(AJ110=\"fiets\",'km-vergoeding'!$D$3,0))","v":{"v":0,"d":"0.00"}},{"$nulls":7},{"v":0,"d":"0.00"},{"$nulls":12},{"v":0,"d":"0.00"},{"$nulls":5},{"v":0,"d":"0.00"},{"$nulls":5},"","",null,"","","",{"v":0,"d":"0.00"},null,""]
["","","",{"$nulls":51},{"$f":"IF($AU$38<>\"\",\"zie hierboven\",IF(AJ111=\"auto\",IF(AND((D111>'km-vergoeding'!$A$4),(D111<'km-vergoeding'!$A$5)),'km-vergoeding'!$D$4,'km-vergoeding'!$D$5),0))","v":{"v":0,"d":"0.0000 "}},{"$nulls":7},{"v":0,"d":"0.00"},{"$nulls":6},{"$f":"IF($AU$38<>\"\",\"zie hierboven\",IF(AJ111=\"fiets\",'km-vergoeding'!$D$3,0))","v":{"v":0,"d":"0.00"}},{"$nulls":7},{"v":0,"d":"0.00"},{"$nulls":12},{"v":0,"d":"0.00"},{"$nulls":5},{"v":0,"d":"0.00"},{"$nulls":5},"","",null,"","","",{"v":0,"d":"0.00"},null,""]
["","","",{"$nulls":51},{"$f":"IF($AU$38<>\"\",\"zie hierboven\",IF(AJ112=\"auto\",IF(AND((D112>'km-vergoeding'!$A$4),(D112<'km-vergoeding'!$A$5)),'km-vergoeding'!$D$4,'km-vergoeding'!$D$5),0))","v":{"v":0,"d":"0.0000 "}},{"$nulls":7},{"v":0,"d":"0.00"},{"$nulls":6},{"$f":"IF($AU$38<>\"\",\"zie hierboven\",IF(AJ112=\"fiets\",'km-vergoeding'!$D$3,0))","v":{"v":0,"d":"0.00"}},{"$nulls":7},{"v":0,"d":"0.00"},{"$nulls":12},{"v":0,"d":"0.00"},{"$nulls":5},{"v":0,"d":"0.00"},{"$nulls":5},"","",null,"","","",{"v":0,"d":"0.00"},null,""]
["","","",{"$nulls":51},{"$f":"IF($AU$38<>\"\",\"zie hierboven\",IF(AJ113=\"auto\",IF(AND((D113>'km-vergoeding'!$A$4),(D113<'km-vergoeding'!$A$5)),'km-vergoeding'!$D$4,'km-vergoeding'!$D$5),0))","v":{"v":0,"d":"0.0000 "}},{"$nulls":7},{"v":0,"d":"0.00"},{"$nulls":6},{"$f":"IF($AU$38<>\"\",\"zie hierboven\",IF(AJ113=\"fiets\",'km-vergoeding'!$D$3,0))","v":{"v":0,"d":"0.00"}},{"$nulls":7},{"v":0,"d":"0.00"},{"$nulls":12},{"v":0,"d":"0.00"},{"$nulls":5},{"v":0,"d":"0.00"},{"$nulls":5},"","",null,"","","",{"v":0,"d":"0.00"},null,""]
["","","",{"$nulls":51},{"$f":"IF($AU$38<>\"\",\"zie hierboven\",IF(AJ114=\"auto\",IF(AND((D114>'km-vergoeding'!$A$4),(D114<'km-vergoeding'!$A$5)),'km-vergoeding'!$D$4,'km-vergoeding'!$D$5),0))","v":{"v":0,"d":"0.0000 "}},{"$nulls":7},{"v":0,"d":"0.00"},{"$nulls":6},{"$f":"IF($AU$38<>\"\",\"zie hierboven\",IF(AJ114=\"fiets\",'km-vergoeding'!$D$3,0))","v":{"v":0,"d":"0.00"}},{"$nulls":7},{"v":0,"d":"0.00"},{"$nulls":12},{"v":0,"d":"0.00"},{"$nulls":5},{"v":0,"d":"0.00"},{"$nulls":5},"","",null,"","","",{"v":0,"d":"0.00"},null,""]
["","","",{"$nulls":51},{"$f":"IF($AU$38<>\"\",\"zie hierboven\",IF(AJ115=\"auto\",IF(AND((D115>'km-vergoeding'!$A$4),(D115<'km-vergoeding'!$A$5)),'km-vergoeding'!$D$4,'km-vergoeding'!$D$5),0))","v":{"v":0,"d":"0.0000 "}},{"$nulls":7},{"v":0,"d":"0.00"},{"$nulls":6},{"$f":"IF($AU$38<>\"\",\"zie hierboven\",IF(AJ115=\"fiets\",'km-vergoeding'!$D$3,0))","v":{"v":0,"d":"0.00"}},{"$nulls":7},{"v":0,"d":"0.00"},{"$nulls":12},{"v":0,"d":"0.00"},{"$nulls":5},{"v":0,"d":"0.00"},{"$nulls":5},"","",null,"","","",{"v":0,"d":"0.00"},null,""]
["","","",{"$nulls":51},{"$f":"IF($AU$38<>\"\",\"zie hierboven\",IF(AJ116=\"auto\",IF(AND((D116>'km-vergoeding'!$A$4),(D116<'km-vergoeding'!$A$5)),'km-vergoeding'!$D$4,'km-vergoeding'!$D$5),0))","v":{"v":0,"d":"0.0000 "}},{"$nulls":7},{"v":0,"d":"0.00"},{"$nulls":6},{"$f":"IF($AU$38<>\"\",\"zie hierboven\",IF(AJ116=\"fiets\",'km-vergoeding'!$D$3,0))","v":{"v":0,"d":"0.00"}},{"$nulls":7},{"v":0,"d":"0.00"},{"$nulls":12},{"v":0,"d":"0.00"},{"$nulls":5},{"v":0,"d":"0.00"},{"$nulls":5},"","",null,"","","",{"v":0,"d":"0.00"},null,""]
["","","",{"$nulls":51},{"$f":"IF($AU$38<>\"\",\"zie hierboven\",IF(AJ117=\"auto\",IF(AND((D117>'km-vergoeding'!$A$4),(D117<'km-vergoeding'!$A$5)),'km-vergoeding'!$D$4,'km-vergoeding'!$D$5),0))","v":{"v":0,"d":"0.0000 "}},{"$nulls":7},{"v":0,"d":"0.00"},{"$nulls":6},{"$f":"IF($AU$38<>\"\",\"zie hierboven\",IF(AJ117=\"fiets\",'km-vergoeding'!$D$3,0))","v":{"v":0,"d":"0.00"}},{"$nulls":7},{"v":0,"d":"0.00"},{"$nulls":12},{"v":0,"d":"0.00"},{"$nulls":5},{"v":0,"d":"0.00"},{"$nulls":5},"","",null,"","","",{"v":0,"d":"0.00"},null,""]
["","","",{"$nulls":51},{"$f":"IF($AU$38<>\"\",\"zie hierboven\",IF(AJ118=\"auto\",IF(AND((D118>'km-vergoeding'!$A$4),(D118<'km-vergoeding'!$A$5)),'km-vergoeding'!$D$4,'km-vergoeding'!$D$5),0))","v":{"v":0,"d":"0.0000 "}},{"$nulls":7},{"v":0,"d":"0.00"},{"$nulls":6},{"$f":"IF($AU$38<>\"\",\"zie hierboven\",IF(AJ118=\"fiets\",'km-vergoeding'!$D$3,0))","v":{"v":0,"d":"0.00"}},{"$nulls":7},{"v":0,"d":"0.00"},{"$nulls":12},{"v":0,"d":"0.00"},{"$nulls":5},{"v":0,"d":"0.00"},{"$nulls":5},"","",null,"","","",{"v":0,"d":"0.00"},null,""]
["","","",{"$nulls":51},{"$f":"IF($AU$38<>\"\",\"zie hierboven\",IF(AJ119=\"auto\",IF(AND((D119>'km-vergoeding'!$A$4),(D119<'km-vergoeding'!$A$5)),'km-vergoeding'!$D$4,'km-vergoeding'!$D$5),0))","v":{"v":0,"d":"0.0000 "}},{"$nulls":7},{"v":0,"d":"0.00"},{"$nulls":6},{"$f":"IF($AU$38<>\"\",\"zie hierboven\",IF(AJ119=\"fiets\",'km-vergoeding'!$D$3,0))","v":{"v":0,"d":"0.00"}},{"$nulls":7},{"v":0,"d":"0.00"},{"$nulls":12},{"v":0,"d":"0.00"},{"$nulls":5},{"v":0,"d":"0.00"},{"$nulls":5},"","",null,"","","",{"v":0,"d":"0.00"},null,""]
["","","",{"$nulls":51},{"$f":"IF($AU$38<>\"\",\"zie hierboven\",IF(AJ120=\"auto\",IF(AND((D120>'km-vergoeding'!$A$4),(D120<'km-vergoeding'!$A$5)),'km-vergoeding'!$D$4,'km-vergoeding'!$D$5),0))","v":{"v":0,"d":"0.0000 "}},{"$nulls":7},{"v":0,"d":"0.00"},{"$nulls":6},{"$f":"IF($AU$38<>\"\",\"zie hierboven\",IF(AJ120=\"fiets\",'km-vergoeding'!$D$3,0))","v":{"v":0,"d":"0.00"}},{"$nulls":7},{"v":0,"d":"0.00"},{"$nulls":12},{"v":0,"d":"0.00"},{"$nulls":5},{"v":0,"d":"0.00"},{"$nulls":5},"","",null,"","","",{"v":0,"d":"0.00"},null,""]
["","","",{"$nulls":51},{"$f":"IF($AU$38<>\"\",\"zie hierboven\",IF(AJ121=\"auto\",IF(AND((D121>'km-vergoeding'!$A$4),(D121<'km-vergoeding'!$A$5)),'km-vergoeding'!$D$4,'km-vergoeding'!$D$5),0))","v":{"v":0,"d":"0.0000 "}},{"$nulls":7},{"v":0,"d":"0.00"},{"$nulls":6},{"$f":"IF($AU$38<>\"\",\"zie hierboven\",IF(AJ121=\"fiets\",'km-vergoeding'!$D$3,0))","v":{"v":0,"d":"0.00"}},{"$nulls":7},{"v":0,"d":"0.00"},{"$nulls":12},{"v":0,"d":"0.00"},{"$nulls":5},{"v":0,"d":"0.00"},{"$nulls":5},"","",null,"","","",{"v":0,"d":"0.00"},null,""]
["","","",{"$nulls":51},{"$f":"IF($AU$38<>\"\",\"zie hierboven\",IF(AJ122=\"auto\",IF(AND((D122>'km-vergoeding'!$A$4),(D122<'km-vergoeding'!$A$5)),'km-vergoeding'!$D$4,'km-vergoeding'!$D$5),0))","v":{"v":0,"d":"0.0000 "}},{"$nulls":7},{"v":0,"d":"0.00"},{"$nulls":6},{"$f":"IF($AU$38<>\"\",\"zie hierboven\",IF(AJ122=\"fiets\",'km-vergoeding'!$D$3,0))","v":{"v":0,"d":"0.00"}},{"$nulls":7},{"v":0,"d":"0.00"},{"$nulls":12},{"v":0,"d":"0.00"},{"$nulls":5},{"v":0,"d":"0.00"},{"$nulls":5},"","",null,"","","",{"v":0,"d":"0.00"},null,""]
["","","",{"$nulls":51},{"$f":"IF($AU$38<>\"\",\"zie hierboven\",IF(AJ123=\"auto\",IF(AND((D123>'km-vergoeding'!$A$4),(D123<'km-vergoeding'!$A$5)),'km-vergoeding'!$D$4,'km-vergoeding'!$D$5),0))","v":{"v":0,"d":"0.0000 "}},{"$nulls":7},{"v":0,"d":"0.00"},{"$nulls":6},{"$f":"IF($AU$38<>\"\",\"zie hierboven\",IF(AJ123=\"fiets\",'km-vergoeding'!$D$3,0))","v":{"v":0,"d":"0.00"}},{"$nulls":7},{"v":0,"d":"0.00"},{"$nulls":12},{"v":0,"d":"0.00"},{"$nulls":5},{"v":0,"d":"0.00"},{"$nulls":5},"","",null,"","","",{"v":0,"d":"0.00"},null,""]
["","","",{"$nulls":51},{"$f":"IF($AU$38<>\"\",\"zie hierboven\",IF(AJ124=\"auto\",IF(AND((D124>'km-vergoeding'!$A$4),(D124<'km-vergoeding'!$A$5)),'km-vergoeding'!$D$4,'km-vergoeding'!$D$5),0))","v":{"v":0,"d":"0.0000 "}},{"$nulls":7},{"v":0,"d":"0.00"},{"$nulls":6},{"$f":"IF($AU$38<>\"\",\"zie hierboven\",IF(AJ124=\"fiets\",'km-vergoeding'!$D$3,0))","v":{"v":0,"d":"0.00"}},{"$nulls":7},{"v":0,"d":"0.00"},{"$nulls":12},{"v":0,"d":"0.00"},{"$nulls":5},{"v":0,"d":"0.00"},{"$nulls":5},"","",null,"","","",{"v":0,"d":"0.00"},null,""]
["","","",{"$nulls":51},{"$f":"IF($AU$38<>\"\",\"zie hierboven\",IF(AJ125=\"auto\",IF(AND((D125>'km-vergoeding'!$A$4),(D125<'km-vergoeding'!$A$5)),'km-vergoeding'!$D$4,'km-vergoeding'!$D$5),0))","v":{"v":0,"d":"0.0000 "}},{"$nulls":7},{"v":0,"d":"0.00"},{"$nulls":6},{"$f":"IF($AU$38<>\"\",\"zie hierboven\",IF(AJ125=\"fiets\",'km-vergoeding'!$D$3,0))","v":{"v":0,"d":"0.00"}},{"$nulls":7},{"v":0,"d":"0.00"},{"$nulls":12},{"v":0,"d":"0.00"},{"$nulls":5},{"v":0,"d":"0.00"},{"$nulls":5},"","",null,"","","",{"v":0,"d":"0.00"},null,""]
["","","",{"$nulls":51},{"$f":"IF($AU$38<>\"\",\"zie hierboven\",IF(AJ126=\"auto\",IF(AND((D126>'km-vergoeding'!$A$4),(D126<'km-vergoeding'!$A$5)),'km-vergoeding'!$D$4,'km-vergoeding'!$D$5),0))","v":{"v":0,"d":"0.0000 "}},{"$nulls":7},{"v":0,"d":"0.00"},{"$nulls":6},{"$f":"IF($AU$38<>\"\",\"zie hierboven\",IF(AJ126=\"fiets\",'km-vergoeding'!$D$3,0))","v":{"v":0,"d":"0.00"}},{"$nulls":7},{"v":0,"d":"0.00"},{"$nulls":12},{"v":0,"d":"0.00"},{"$nulls":5},{"v":0,"d":"0.00"},{"$nulls":5},"","",null,"","","",{"v":0,"d":"0.00"},null,""]
["","","",{"$nulls":51},{"$f":"IF($AU$38<>\"\",\"zie hierboven\",IF(AJ127=\"auto\",IF(AND((D127>'km-vergoeding'!$A$4),(D127<'km-vergoeding'!$A$5)),'km-vergoeding'!$D$4,'km-vergoeding'!$D$5),0))","v":{"v":0,"d":"0.0000 "}},{"$nulls":7},{"v":0,"d":"0.00"},{"$nulls":6},{"$f":"IF($AU$38<>\"\",\"zie hierboven\",IF(AJ127=\"fiets\",'km-vergoeding'!$D$3,0))","v":{"v":0,"d":"0.00"}},{"$nulls":7},{"v":0,"d":"0.00"},{"$nulls":12},{"v":0,"d":"0.00"},{"$nulls":5},{"v":0,"d":"0.00"},{"$nulls":5},"","",null,"","","",{"v":0,"d":"0.00"},null,""]
["","","",{"$nulls":51},{"$f":"IF($AU$38<>\"\",\"zie hierboven\",IF(AJ128=\"auto\",IF(AND((D128>'km-vergoeding'!$A$4),(D128<'km-vergoeding'!$A$5)),'km-vergoeding'!$D$4,'km-vergoeding'!$D$5),0))","v":{"v":0,"d":"0.0000 "}},{"$nulls":7},{"v":0,"d":"0.00"},{"$nulls":6},{"$f":"IF($AU$38<>\"\",\"zie hierboven\",IF(AJ128=\"fiets\",'km-vergoeding'!$D$3,0))","v":{"v":0,"d":"0.00"}},{"$nulls":7},{"v":0,"d":"0.00"},{"$nulls":12},{"v":0,"d":"0.00"},{"$nulls":5},{"v":0,"d":"0.00"},{"$nulls":5},"","",null,"","","",{"v":0,"d":"0.00"},null,""]
["","","",{"$nulls":51},{"$f":"IF($AU$38<>\"\",\"zie hierboven\",IF(AJ129=\"auto\",IF(AND((D129>'km-vergoeding'!$A$4),(D129<'km-vergoeding'!$A$5)),'km-vergoeding'!$D$4,'km-vergoeding'!$D$5),0))","v":{"v":0,"d":"0.0000 "}},{"$nulls":7},{"v":0,"d":"0.00"},{"$nulls":6},{"$f":"IF($AU$38<>\"\",\"zie hierboven\",IF(AJ129=\"fiets\",'km-vergoeding'!$D$3,0))","v":{"v":0,"d":"0.00"}},{"$nulls":7},{"v":0,"d":"0.00"},{"$nulls":12},{"v":0,"d":"0.00"},{"$nulls":5},{"v":0,"d":"0.00"},{"$nulls":5},"","",null,"","","",{"v":0,"d":"0.00"},null,""]
["","","",{"$nulls":51},{"$f":"IF($AU$38<>\"\",\"zie hierboven\",IF(AJ130=\"auto\",IF(AND((D130>'km-vergoeding'!$A$4),(D130<'km-vergoeding'!$A$5)),'km-vergoeding'!$D$4,'km-vergoeding'!$D$5),0))","v":{"v":0,"d":"0.0000 "}},{"$nulls":7},{"v":0,"d":"0.00"},{"$nulls":6},{"$f":"IF($AU$38<>\"\",\"zie hierboven\",IF(AJ130=\"fiets\",'km-vergoeding'!$D$3,0))","v":{"v":0,"d":"0.00"}},{"$nulls":7},{"v":0,"d":"0.00"},{"$nulls":12},{"v":0,"d":"0.00"},{"$nulls":5},{"v":0,"d":"0.00"},{"$nulls":5},"","",null,"","","",{"v":0,"d":"0.00"},null,""]
["","","",{"$nulls":51},{"$f":"IF($AU$38<>\"\",\"zie hierboven\",IF(AJ131=\"auto\",IF(AND((D131>'km-vergoeding'!$A$4),(D131<'km-vergoeding'!$A$5)),'km-vergoeding'!$D$4,'km-vergoeding'!$D$5),0))","v":{"v":0,"d":"0.0000 "}},{"$nulls":7},{"v":0,"d":"0.00"},{"$nulls":6},{"$f":"IF($AU$38<>\"\",\"zie hierboven\",IF(AJ131=\"fiets\",'km-vergoeding'!$D$3,0))","v":{"v":0,"d":"0.00"}},{"$nulls":7},{"v":0,"d":"0.00"},{"$nulls":12},{"v":0,"d":"0.00"},{"$nulls":5},{"v":0,"d":"0.00"},{"$nulls":5},"","",null,"","","",{"v":0,"d":"0.00"},null,""]
["","","",{"$nulls":51},{"$f":"IF($AU$38<>\"\",\"zie hierboven\",IF(AJ132=\"auto\",IF(AND((D132>'km-vergoeding'!$A$4),(D132<'km-vergoeding'!$A$5)),'km-vergoeding'!$D$4,'km-vergoeding'!$D$5),0))","v":{"v":0,"d":"0.0000 "}},{"$nulls":7},{"v":0,"d":"0.00"},{"$nulls":6},{"$f":"IF($AU$38<>\"\",\"zie hierboven\",IF(AJ132=\"fiets\",'km-vergoeding'!$D$3,0))","v":{"v":0,"d":"0.00"}},{"$nulls":7},{"v":0,"d":"0.00"},{"$nulls":12},{"v":0,"d":"0.00"},{"$nulls":5},{"v":0,"d":"0.00"},{"$nulls":5},"","",null,"","","",{"v":0,"d":"0.00"},null,""]
["","","",{"$nulls":51},{"$f":"IF($AU$38<>\"\",\"zie hierboven\",IF(AJ133=\"auto\",IF(AND((D133>'km-vergoeding'!$A$4),(D133<'km-vergoeding'!$A$5)),'km-vergoeding'!$D$4,'km-vergoeding'!$D$5),0))","v":{"v":0,"d":"0.0000 "}},{"$nulls":7},{"v":0,"d":"0.00"},{"$nulls":6},{"$f":"IF($AU$38<>\"\",\"zie hierboven\",IF(AJ133=\"fiets\",'km-vergoeding'!$D$3,0))","v":{"v":0,"d":"0.00"}},{"$nulls":7},{"v":0,"d":"0.00"},{"$nulls":12},{"v":0,"d":"0.00"},{"$nulls":5},{"v":0,"d":"0.00"},{"$nulls":5},"","",null,"","","",{"v":0,"d":"0.00"},null,""]
["","","",{"$nulls":51},{"$f":"IF($AU$38<>\"\",\"zie hierboven\",IF(AJ134=\"auto\",IF(AND((D134>'km-vergoeding'!$A$4),(D134<'km-vergoeding'!$A$5)),'km-vergoeding'!$D$4,'km-vergoeding'!$D$5),0))","v":{"v":0,"d":"0.0000 "}},{"$nulls":7},{"v":0,"d":"0.00"},{"$nulls":6},{"$f":"IF($AU$38<>\"\",\"zie hierboven\",IF(AJ134=\"fiets\",'km-vergoeding'!$D$3,0))","v":{"v":0,"d":"0.00"}},{"$nulls":7},{"v":0,"d":"0.00"},{"$nulls":12},{"v":0,"d":"0.00"},{"$nulls":5},{"v":0,"d":"0.00"},{"$nulls":5},"","",null,"","","",{"v":0,"d":"0.00"},null,""]
["","","",{"$nulls":51},{"$f":"IF($AU$38<>\"\",\"zie hierboven\",IF(AJ135=\"auto\",IF(AND((D135>'km-vergoeding'!$A$4),(D135<'km-vergoeding'!$A$5)),'km-vergoeding'!$D$4,'km-vergoeding'!$D$5),0))","v":{"v":0,"d":"0.0000 "}},{"$nulls":7},{"v":0,"d":"0.00"},{"$nulls":6},{"$f":"IF($AU$38<>\"\",\"zie hierboven\",IF(AJ135=\"fiets\",'km-vergoeding'!$D$3,0))","v":{"v":0,"d":"0.00"}},{"$nulls":7},{"v":0,"d":"0.00"},{"$nulls":12},{"v":0,"d":"0.00"},{"$nulls":5},{"v":0,"d":"0.00"},{"$nulls":5},"","",null,"","","",{"v":0,"d":"0.00"},null,""]
["","","",{"$nulls":51},{"$f":"IF($AU$38<>\"\",\"zie hierboven\",IF(AJ136=\"auto\",IF(AND((D136>'km-vergoeding'!$A$4),(D136<'km-vergoeding'!$A$5)),'km-vergoeding'!$D$4,'km-vergoeding'!$D$5),0))","v":{"v":0,"d":"0.0000 "}},{"$nulls":7},{"v":0,"d":"0.00"},{"$nulls":6},{"$f":"IF($AU$38<>\"\",\"zie hierboven\",IF(AJ136=\"fiets\",'km-vergoeding'!$D$3,0))","v":{"v":0,"d":"0.00"}},{"$nulls":7},{"v":0,"d":"0.00"},{"$nulls":12},{"v":0,"d":"0.00"},{"$nulls":5},{"v":0,"d":"0.00"},{"$nulls":5},"","",null,"","","",{"v":0,"d":"0.00"},null,""]
["","","",{"$nulls":51},{"$f":"IF($AU$38<>\"\",\"zie hierboven\",IF(AJ137=\"auto\",IF(AND((D137>'km-vergoeding'!$A$4),(D137<'km-vergoeding'!$A$5)),'km-vergoeding'!$D$4,'km-vergoeding'!$D$5),0))","v":{"v":0,"d":"0.0000 "}},{"$nulls":7},{"v":0,"d":"0.00"},{"$nulls":6},{"$f":"IF($AU$38<>\"\",\"zie hierboven\",IF(AJ137=\"fiets\",'km-vergoeding'!$D$3,0))","v":{"v":0,"d":"0.00"}},{"$nulls":7},{"v":0,"d":"0.00"},{"$nulls":12},{"v":0,"d":"0.00"},{"$nulls":5},{"v":0,"d":"0.00"},{"$nulls":5},"","",null,"","","",{"v":0,"d":"0.00"},null,""]
["","","",{"$nulls":51},{"$f":"IF($AU$38<>\"\",\"zie hierboven\",IF(AJ138=\"auto\",IF(AND((D138>'km-vergoeding'!$A$4),(D138<'km-vergoeding'!$A$5)),'km-vergoeding'!$D$4,'km-vergoeding'!$D$5),0))","v":{"v":0,"d":"0.0000 "}},{"$nulls":7},{"v":0,"d":"0.00"},{"$nulls":6},{"$f":"IF($AU$38<>\"\",\"zie hierboven\",IF(AJ138=\"fiets\",'km-vergoeding'!$D$3,0))","v":{"v":0,"d":"0.00"}},{"$nulls":7},{"v":0,"d":"0.00"},{"$nulls":12},{"v":0,"d":"0.00"},{"$nulls":5},{"v":0,"d":"0.00"},{"$nulls":5},"","",null,"","","",{"v":0,"d":"0.00"},null,""]
[{"$f":"IF(OR(AND(D139<>\"\",H139=\"\"),AND(H139<>\"\",R139=\"\"),AND(R139<>\"\",H139=\"\"),AND(R139<>\"\",X139=\"\"),AND(X139<>\"\",R139=\"\")),\"!\",\"\")","v":""},{"$f":"IF(OR(AND(ISBLANK(D139),OR(H139<>\"\",R139<>\"\",X139<>\"\",AJ139<>\"\",AR139<>\"\",AY139<>\"\",CG139<>\"\"))),\"!\",\"\")","v":""},{"$f":"IF(AND(CG139=0,AJ139<>\"openbaar vervoer\",OR(AND(OR(AJ139=\"auto\",AJ139=\"fiets\"),OR(AR139=\"\",AR139=0)),AND(AR139>0,AY139=\"\"),AND(AR139=\"\",AY139>0),AND(AR139>0,AJ139=\"\"))),\"!\",\"\")","v":""},{"$nulls":51},{"$f":"IF($AU$38<>\"\",\"zie hierboven\",IF(AJ139=\"auto\",IF(AND((D139>'km-vergoeding'!$A$4),(D139<'km-vergoeding'!$A$5)),'km-vergoeding'!$D$4,'km-vergoeding'!$D$5),0))","v":{"v":0,"d":"0.0000 "}},{"$nulls":7},{"v":0,"d":"0.00"},{"$nulls":6},{"$f":"IF($AU$38<>\"\",\"zie hierboven\",IF(AJ139=\"fiets\",'km-vergoeding'!$D$3,0))","v":{"v":0,"d":"0.00"}},{"$nulls":7},{"v":0,"d":"0.00"},{"$nulls":12},{"v":0,"d":"0.00"},{"$nulls":5},{"v":0,"d":"0.00"},{"$nulls":5},"","",null,"","","",{"v":0,"d":"0.00"},null,{"$f":"IF(AND(A139=\"\",B139=\"\",C139=\"\",CY139=\"\",CZ139=\"\",DB139=\"\",DC139=\"\",DD139=\"\"),\"\",\"Deze rij is nog onvolledig of bevat nog fouten! Zie foutmeldingen boven de tabel.\")","v":""}]
["","","",{"$nulls":51},{"$f":"IF($AU$38<>\"\",\"zie hierboven\",IF(AJ140=\"auto\",IF(AND((D140>'km-vergoeding'!$A$4),(D140<'km-vergoeding'!$A$5)),'km-vergoeding'!$D$4,'km-vergoeding'!$D$5),0))","v":{"v":0,"d":"0.0000 "}},{"$nulls":7},{"v":0,"d":"0.00"},{"$nulls":6},{"$f":"IF($AU$38<>\"\",\"zie hierboven\",IF(AJ140=\"fiets\",'km-vergoeding'!$D$3,0))","v":{"v":0,"d":"0.00"}},{"$nulls":7},{"v":0,"d":"0.00"},{"$nulls":12},{"v":0,"d":"0.00"},{"$nulls":5},{"$f":"IF(CM140=0,0,IF(CM141=0,DE140,0))","v":{"v":0,"d":"0.00"}},{"$nulls":5},{"$f":"IF(AND(OR((AJ140=\"fiets\"),(AJ140=\"auto\")),(CG140>0)),\"!\",\"\")","v":""},{"$f":"IF(OR(AND(D139<>\"\",D140=\"\",D141<>\"\"),AND(D139=\"\",D140=\"\",D141<>\"\")),\"!\",\"\")","v":""},null,{"$f":"IF(AND(AJ140=\"openbaar vervoer\",OR(AR140<>\"\",AY140<>\"\")),\"!\",\"\")","v":""},{"$f":"IF(AND(X140<>\"\",AND(AJ140=\"\",CM140=0)),\"!\",\"\")","v":""},{"$f":"IF(OR(AND(AJ140=\"openbaar vervoer\",CG140=0),AND(CG140>0,AJ140=\"\")),\"!\",\"\")","v":""},{"v":0,"d":"0.00"},null,""]
["","","",{"$nulls":51},{"$f":"IF($AU$38<>\"\",\"zie hierboven\",IF(AJ141=\"auto\",IF(AND((D141>'km-vergoeding'!$A$4),(D141<'km-vergoeding'!$A$5)),'km-vergoeding'!$D$4,'km-vergoeding'!$D$5),0))","v":{"v":0,"d":"0.0000 "}},{"$nulls":7},{"v":0,"d":"0.00"},{"$nulls":6},{"$f":"IF($AU$38<>\"\",\"zie hierboven\",IF(AJ141=\"fiets\",'km-vergoeding'!$D$3,0))","v":{"v":0,"d":"0.00"}},{"$nulls":7},{"v":0,"d":"0.00"},{"$nulls":12},{"v":0,"d":"0.00"},{"$nulls":5},{"v":0,"d":"0.00"},{"$nulls":5},"","",null,"","","",{"$f":"IF(CM141=0,DE140,DE140+CM141)","v":{"v":0,"d":"0.00"}},null,""]
["","","",{"$nulls":51},{"$f":"IF($AU$38<>\"\",\"zie hierboven\",IF(AJ142=\"auto\",IF(AND((D142>'km-vergoeding'!$A$4),(D142<'km-vergoeding'!$A$5)),'km-vergoeding'!$D$4,'km-vergoeding'!$D$5),0))","v":{"v":0,"d":"0.0000 "}},{"$nulls":7},{"$f":"IF(AJ142=\"auto\",ROUND(AR142*AY142*BC142,2),0)","v":{"v":0,"d":"0.00"}},{"$nulls":6},{"$f":"IF($AU$38<>\"\",\"zie hierboven\",IF(AJ142=\"fiets\",'km-vergoeding'!$D$3,0))","v":{"v":0,"d":"0.00"}},{"$nulls":7},{"$f":"IF(AJ142=\"fiets\",ROUND(AR142*AY142*BR142,2),0)","v":{"v":0,"d":"0.00"}},{"$nulls":12},{"$f":"IF(AND(OR((AJ142=\"fiets\"),(AJ142=\"auto\")),(CG142>0)),\"xxxx\",BK142+BZ142+CG142)","v":{"v":0,"d":"0.00"}},{"$nulls":5},{"v":0,"d":"0.00"},{"$nulls":5},"","",null,"","","",{"v":0,"d":"0.00"},null,""]
["","","",{"$nulls":51},{"$f":"IF($AU$38<>\"\",\"zie hierboven\",IF(AJ143=\"auto\",IF(AND((D143>'km-vergoeding'!$A$4),(D143<'km-vergoeding'!$A$5)),'km-vergoeding'!$D$4,'km-vergoeding'!$D$5),0))","v":{"v":0,"d":"0.0000 "}},{"$nulls":7},{"v":0,"d":"0.00"},{"$nulls":6},{"$f":"IF($AU$38<>\"\",\"zie hierboven\",IF(AJ143=\"fiets\",'km-vergoeding'!$D$3,0))","v":{"v":0,"d":"0.00"}},{"$nulls":7},{"v":0,"d":"0.00"},{"$nulls":12},{"v":0,"d":"0.00"},{"$nulls":5},{"v":0,"d":"0.00"},{"$nulls":5},"","",null,"","","",{"v":0,"d":"0.00"},null,""]
["","","",{"$nulls":51},{"$f":"IF($AU$38<>\"\",\"zie hierboven\",IF(AJ144=\"auto\",IF(AND((D144>'km-vergoeding'!$A$4),(D144<'km-vergoeding'!$A$5)),'km-vergoeding'!$D$4,'km-vergoeding'!$D$5),0))","v":{"v":0,"d":"0.0000 "}},{"$nulls":7},{"v":0,"d":"0.00"},{"$nulls":6},{"$f":"IF($AU$38<>\"\",\"zie hierboven\",IF(AJ144=\"fiets\",'km-vergoeding'!$D$3,0))","v":{"v":0,"d":"0.00"}},{"$nulls":7},{"v":0,"d":"0.00"},{"$nulls":12},{"v":0,"d":"0.00"},{"$nulls":5},{"v":0,"d":"0.00"},{"$nulls":5},"","",null,"","","",{"v":0,"d":"0.00"},null,""]
["","","",{"$nulls":51},{"$f":"IF($AU$38<>\"\",\"zie hierboven\",IF(AJ145=\"auto\",IF(AND((D145>'km-vergoeding'!$A$4),(D145<'km-vergoeding'!$A$5)),'km-vergoeding'!$D$4,'km-vergoeding'!$D$5),0))","v":{"v":0,"d":"0.0000 "}},{"$nulls":7},{"v":0,"d":"0.00"},{"$nulls":6},{"$f":"IF($AU$38<>\"\",\"zie hierboven\",IF(AJ145=\"fiets\",'km-vergoeding'!$D$3,0))","v":{"v":0,"d":"0.00"}},{"$nulls":7},{"v":0,"d":"0.00"},{"$nulls":12},{"v":0,"d":"0.00"},{"$nulls":5},{"v":0,"d":"0.00"},{"$nulls":5},"","",null,"","","",{"v":0,"d":"0.00"},null,""]
["","","",{"$nulls":51},{"$f":"IF($AU$38<>\"\",\"zie hierboven\",IF(AJ146=\"auto\",IF(AND((D146>'km-vergoeding'!$A$4),(D146<'km-vergoeding'!$A$5)),'km-vergoeding'!$D$4,'km-vergoeding'!$D$5),0))","v":{"v":0,"d":"0.0000 "}},{"$nulls":7},{"v":0,"d":"0.00"},{"$nulls":6},{"$f":"IF($AU$38<>\"\",\"zie hierboven\",IF(AJ146=\"fiets\",'km-vergoeding'!$D$3,0))","v":{"v":0,"d":"0.00"}},{"$nulls":7},{"v":0,"d":"0.00"},{"$nulls":12},{"v":0,"d":"0.00"},{"$nulls":5},{"v":0,"d":"0.00"},{"$nulls":5},"","",null,"","","",{"v":0,"d":"0.00"},null,""]
["","","",{"$nulls":51},{"$f":"IF($AU$38<>\"\",\"zie hierboven\",IF(AJ147=\"auto\",IF(AND((D147>'km-vergoeding'!$A$4),(D147<'km-vergoeding'!$A$5)),'km-vergoeding'!$D$4,'km-vergoeding'!$D$5),0))","v":{"v":0,"d":"0.0000 "}},{"$nulls":7},{"v":0,"d":"0.00"},{"$nulls":6},{"$f":"IF($AU$38<>\"\",\"zie hierboven\",IF(AJ147=\"fiets\",'km-vergoeding'!$D$3,0))","v":{"v":0,"d":"0.00"}},{"$nulls":7},{"v":0,"d":"0.00"},{"$nulls":12},{"v":0,"d":"0.00"},{"$nulls":5},{"v":0,"d":"0.00"},{"$nulls":5},"","",null,"","","",{"v":0,"d":"0.00"},null,""]
["","","",{"$nulls":51},{"$f":"IF($AU$38<>\"\",\"zie hierboven\",IF(AJ148=\"auto\",IF(AND((D148>'km-vergoeding'!$A$4),(D148<'km-vergoeding'!$A$5)),'km-vergoeding'!$D$4,'km-vergoeding'!$D$5),0))","v":{"v":0,"d":"0.0000 "}},{"$nulls":7},{"v":0,"d":"0.00"},{"$nulls":6},{"$f":"IF($AU$38<>\"\",\"zie hierboven\",IF(AJ148=\"fiets\",'km-vergoeding'!$D$3,0))","v":{"v":0,"d":"0.00"}},{"$nulls":7},{"v":0,"d":"0.00"},{"$nulls":12},{"v":0,"d":"0.00"},{"$nulls":5},{"v":0,"d":"0.00"},{"$nulls":5},"","",null,"","","",{"v":0,"d":"0.00"},null,""]
["","","",{"$nulls":51},{"$f":"IF($AU$38<>\"\",\"zie hierboven\",IF(AJ149=\"auto\",IF(AND((D149>'km-vergoeding'!$A$4),(D149<'km-vergoeding'!$A$5)),'km-vergoeding'!$D$4,'km-vergoeding'!$D$5),0))","v":{"v":0,"d":"0.0000 "}},{"$nulls":7},{"v":0,"d":"0.00"},{"$nulls":6},{"$f":"IF($AU$38<>\"\",\"zie hierboven\",IF(AJ149=\"fiets\",'km-vergoeding'!$D$3,0))","v":{"v":0,"d":"0.00"}},{"$nulls":7},{"v":0,"d":"0.00"},{"$nulls":12},{"v":0,"d":"0.00"},{"$nulls":5},{"v":0,"d":"0.00"},{"$nulls":5},"","",null,"","","",{"v":0,"d":"0.00"},null,""]
["","","",{"$nulls":51},{"$f":"IF($AU$38<>\"\",\"zie hierboven\",IF(AJ150=\"auto\",IF(AND((D150>'km-vergoeding'!$A$4),(D150<'km-vergoeding'!$A$5)),'km-vergoeding'!$D$4,'km-vergoeding'!$D$5),0))","v":{"v":0,"d":"0.0000 "}},{"$nulls":7},{"v":0,"d":"0.00"},{"$nulls":6},{"$f":"IF($AU$38<>\"\",\"zie hierboven\",IF(AJ150=\"fiets\",'km-vergoeding'!$D$3,0))","v":{"v":0,"d":"0.00"}},{"$nulls":7},{"v":0,"d":"0.00"},{"$nulls":12},{"v":0,"d":"0.00"},{"$nulls":5},{"v":0,"d":"0.00"},{"$nulls":5},"","",null,"","","",{"v":0,"d":"0.00"},null,""]
["","","",{"$nulls":51},{"$f":"IF($AU$38<>\"\",\"zie hierboven\",IF(AJ151=\"auto\",IF(AND((D151>'km-vergoeding'!$A$4),(D151<'km-vergoeding'!$A$5)),'km-vergoeding'!$D$4,'km-vergoeding'!$D$5),0))","v":{"v":0,"d":"0.0000 "}},{"$nulls":7},{"v":0,"d":"0.00"},{"$nulls":6},{"$f":"IF($AU$38<>\"\",\"zie hierboven\",IF(AJ151=\"fiets\",'km-vergoeding'!$D$3,0))","v":{"v":0,"d":"0.00"}},{"$nulls":7},{"v":0,"d":"0.00"},{"$nulls":12},{"v":0,"d":"0.00"},{"$nulls":5},{"v":0,"d":"0.00"},{"$nulls":5},"","",null,"","","",{"v":0,"d":"0.00"},null,""]
["","","",{"$nulls":51},{"$f":"IF($AU$38<>\"\",\"zie hierboven\",IF(AJ152=\"auto\",IF(AND((D152>'km-vergoeding'!$A$4),(D152<'km-vergoeding'!$A$5)),'km-vergoeding'!$D$4,'km-vergoeding'!$D$5),0))","v":{"v":0,"d":"0.0000 "}},{"$nulls":7},{"v":0,"d":"0.00"},{"$nulls":6},{"$f":"IF($AU$38<>\"\",\"zie hierboven\",IF(AJ152=\"fiets\",'km-vergoeding'!$D$3,0))","v":{"v":0,"d":"0.00"}},{"$nulls":7},{"v":0,"d":"0.00"},{"$nulls":12},{"v":0,"d":"0.00"},{"$nulls":5},{"v":0,"d":"0.00"},{"$nulls":5},"","",null,"","","",{"v":0,"d":"0.00"},null,""]
["","","",{"$nulls":51},{"$f":"IF($AU$38<>\"\",\"zie hierboven\",IF(AJ153=\"auto\",IF(AND((D153>'km-vergoeding'!$A$4),(D153<'km-vergoeding'!$A$5)),'km-vergoeding'!$D$4,'km-vergoeding'!$D$5),0))","v":{"v":0,"d":"0.0000 "}},{"$nulls":7},{"v":0,"d":"0.00"},{"$nulls":6},{"$f":"IF($AU$38<>\"\",\"zie hierboven\",IF(AJ153=\"fiets\",'km-vergoeding'!$D$3,0))","v":{"v":0,"d":"0.00"}},{"$nulls":7},{"v":0,"d":"0.00"},{"$nulls":12},{"v":0,"d":"0.00"},{"$nulls":5},{"v":0,"d":"0.00"},{"$nulls":5},"","",null,"","","",{"v":0,"d":"0.00"},null,""]
["","","",{"$nulls":51},{"$f":"IF($AU$38<>\"\",\"zie hierboven\",IF(AJ154=\"auto\",IF(AND((D154>'km-vergoeding'!$A$4),(D154<'km-vergoeding'!$A$5)),'km-vergoeding'!$D$4,'km-vergoeding'!$D$5),0))","v":{"v":0,"d":"0.0000 "}},{"$nulls":7},{"v":0,"d":"0.00"},{"$nulls":6},{"$f":"IF($AU$38<>\"\",\"zie hierboven\",IF(AJ154=\"fiets\",'km-vergoeding'!$D$3,0))","v":{"v":0,"d":"0.00"}},{"$nulls":7},{"v":0,"d":"0.00"},{"$nulls":12},{"v":0,"d":"0.00"},{"$nulls":5},{"v":0,"d":"0.00"},{"$nulls":5},"","",null,"","","",{"v":0,"d":"0.00"},null,""]
["","","",{"$nulls":51},{"$f":"IF($AU$38<>\"\",\"zie hierboven\",IF(AJ155=\"auto\",IF(AND((D155>'km-vergoeding'!$A$4),(D155<'km-vergoeding'!$A$5)),'km-vergoeding'!$D$4,'km-vergoeding'!$D$5),0))","v":{"v":0,"d":"0.0000 "}},{"$nulls":7},{"v":0,"d":"0.00"},{"$nulls":6},{"$f":"IF($AU$38<>\"\",\"zie hierboven\",IF(AJ155=\"fiets\",'km-vergoeding'!$D$3,0))","v":{"v":0,"d":"0.00"}},{"$nulls":7},{"v":0,"d":"0.00"},{"$nulls":12},{"v":0,"d":"0.00"},{"$nulls":5},{"v":0,"d":"0.00"},{"$nulls":5},"","",null,"","","",{"v":0,"d":"0.00"},null,""]
["","","",{"$nulls":51},{"$f":"IF($AU$38<>\"\",\"zie hierboven\",IF(AJ156=\"auto\",IF(AND((D156>'km-vergoeding'!$A$4),(D156<'km-vergoeding'!$A$5)),'km-vergoeding'!$D$4,'km-vergoeding'!$D$5),0))","v":{"v":0,"d":"0.0000 "}},{"$nulls":7},{"v":0,"d":"0.00"},{"$nulls":6},{"$f":"IF($AU$38<>\"\",\"zie hierboven\",IF(AJ156=\"fiets\",'km-vergoeding'!$D$3,0))","v":{"v":0,"d":"0.00"}},{"$nulls":7},{"v":0,"d":"0.00"},{"$nulls":12},{"v":0,"d":"0.00"},{"$nulls":5},{"v":0,"d":"0.00"},{"$nulls":5},"","",null,"","","",{"v":0,"d":"0.00"},null,""]
["","","",{"$nulls":51},{"$f":"IF($AU$38<>\"\",\"zie hierboven\",IF(AJ157=\"auto\",IF(AND((D157>'km-vergoeding'!$A$4),(D157<'km-vergoeding'!$A$5)),'km-vergoeding'!$D$4,'km-vergoeding'!$D$5),0))","v":{"v":0,"d":"0.0000 "}},{"$nulls":7},{"v":0,"d":"0.00"},{"$nulls":6},{"$f":"IF($AU$38<>\"\",\"zie hierboven\",IF(AJ157=\"fiets\",'km-vergoeding'!$D$3,0))","v":{"v":0,"d":"0.00"}},{"$nulls":7},{"v":0,"d":"0.00"},{"$nulls":12},{"v":0,"d":"0.00"},{"$nulls":5},{"v":0,"d":"0.00"},{"$nulls":5},"","",null,"","","",{"v":0,"d":"0.00"},null,""]
["","","",{"$nulls":51},{"$f":"IF($AU$38<>\"\",\"zie hierboven\",IF(AJ158=\"auto\",IF(AND((D158>'km-vergoeding'!$A$4),(D158<'km-vergoeding'!$A$5)),'km-vergoeding'!$D$4,'km-vergoeding'!$D$5),0))","v":{"v":0,"d":"0.0000 "}},{"$nulls":7},{"v":0,"d":"0.00"},{"$nulls":6},{"$f":"IF($AU$38<>\"\",\"zie hierboven\",IF(AJ158=\"fiets\",'km-vergoeding'!$D$3,0))","v":{"v":0,"d":"0.00"}},{"$nulls":7},{"v":0,"d":"0.00"},{"$nulls":12},{"v":0,"d":"0.00"},{"$nulls":5},{"v":0,"d":"0.00"},{"$nulls":5},"","",null,"","","",{"v":0,"d":"0.00"},null,""]
["","","",{"$nulls":51},{"$f":"IF($AU$38<>\"\",\"zie hierboven\",IF(AJ159=\"auto\",IF(AND((D159>'km-vergoeding'!$A$4),(D159<'km-vergoeding'!$A$5)),'km-vergoeding'!$D$4,'km-vergoeding'!$D$5),0))","v":{"v":0,"d":"0.0000 "}},{"$nulls":7},{"v":0,"d":"0.00"},{"$nulls":6},{"$f":"IF($AU$38<>\"\",\"zie hierboven\",IF(AJ159=\"fiets\",'km-vergoeding'!$D$3,0))","v":{"v":0,"d":"0.00"}},{"$nulls":7},{"v":0,"d":"0.00"},{"$nulls":12},{"v":0,"d":"0.00"},{"$nulls":5},{"v":0,"d":"0.00"},{"$nulls":5},"","",null,"","","",{"v":0,"d":"0.00"},null,""]
["","","",{"$nulls":51},{"$f":"IF($AU$38<>\"\",\"zie hierboven\",IF(AJ160=\"auto\",IF(AND((D160>'km-vergoeding'!$A$4),(D160<'km-vergoeding'!$A$5)),'km-vergoeding'!$D$4,'km-vergoeding'!$D$5),0))","v":{"v":0,"d":"0.0000 "}},{"$nulls":7},{"v":0,"d":"0.00"},{"$nulls":6},{"$f":"IF($AU$38<>\"\",\"zie hierboven\",IF(AJ160=\"fiets\",'km-vergoeding'!$D$3,0))","v":{"v":0,"d":"0.00"}},{"$nulls":7},{"v":0,"d":"0.00"},{"$nulls":12},{"v":0,"d":"0.00"},{"$nulls":5},{"v":0,"d":"0.00"},{"$nulls":5},"","",null,"","","",{"v":0,"d":"0.00"},null,""]
["","","",{"$nulls":51},{"$f":"IF($AU$38<>\"\",\"zie hierboven\",IF(AJ161=\"auto\",IF(AND((D161>'km-vergoeding'!$A$4),(D161<'km-vergoeding'!$A$5)),'km-vergoeding'!$D$4,'km-vergoeding'!$D$5),0))","v":{"v":0,"d":"0.0000 "}},{"$nulls":7},{"v":0,"d":"0.00"},{"$nulls":6},{"$f":"IF($AU$38<>\"\",\"zie hierboven\",IF(AJ161=\"fiets\",'km-vergoeding'!$D$3,0))","v":{"v":0,"d":"0.00"}},{"$nulls":7},{"v":0,"d":"0.00"},{"$nulls":12},{"v":0,"d":"0.00"},{"$nulls":5},{"v":0,"d":"0.00"},{"$nulls":5},"","",null,"","","",{"v":0,"d":"0.00"},null,""]
["","","",{"$nulls":51},{"$f":"IF($AU$38<>\"\",\"zie hierboven\",IF(AJ162=\"auto\",IF(AND((D162>'km-vergoeding'!$A$4),(D162<'km-vergoeding'!$A$5)),'km-vergoeding'!$D$4,'km-vergoeding'!$D$5),0))","v":{"v":0,"d":"0.0000 "}},{"$nulls":7},{"v":0,"d":"0.00"},{"$nulls":6},{"$f":"IF($AU$38<>\"\",\"zie hierboven\",IF(AJ162=\"fiets\",'km-vergoeding'!$D$3,0))","v":{"v":0,"d":"0.00"}},{"$nulls":7},{"v":0,"d":"0.00"},{"$nulls":12},{"v":0,"d":"0.00"},{"$nulls":5},{"v":0,"d":"0.00"},{"$nulls":5},"","",null,"","","",{"v":0,"d":"0.00"},null,""]
["","","",{"$nulls":51},{"$f":"IF($AU$38<>\"\",\"zie hierboven\",IF(AJ163=\"auto\",IF(AND((D163>'km-vergoeding'!$A$4),(D163<'km-vergoeding'!$A$5)),'km-vergoeding'!$D$4,'km-vergoeding'!$D$5),0))","v":{"v":0,"d":"0.0000 "}},{"$nulls":7},{"v":0,"d":"0.00"},{"$nulls":6},{"$f":"IF($AU$38<>\"\",\"zie hierboven\",IF(AJ163=\"fiets\",'km-vergoeding'!$D$3,0))","v":{"v":0,"d":"0.00"}},{"$nulls":7},{"v":0,"d":"0.00"},{"$nulls":12},{"v":0,"d":"0.00"},{"$nulls":5},{"v":0,"d":"0.00"},{"$nulls":5},"","",null,"","","",{"v":0,"d":"0.00"},null,""]
["","","",{"$nulls":51},{"$f":"IF($AU$38<>\"\",\"zie hierboven\",IF(AJ164=\"auto\",IF(AND((D164>'km-vergoeding'!$A$4),(D164<'km-vergoeding'!$A$5)),'km-vergoeding'!$D$4,'km-vergoeding'!$D$5),0))","v":{"v":0,"d":"0.0000 "}},{"$nulls":7},{"v":0,"d":"0.00"},{"$nulls":6},{"$f":"IF($AU$38<>\"\",\"zie hierboven\",IF(AJ164=\"fiets\",'km-vergoeding'!$D$3,0))","v":{"v":0,"d":"0.00"}},{"$nulls":7},{"v":0,"d":"0.00"},{"$nulls":12},{"v":0,"d":"0.00"},{"$nulls":5},{"v":0,"d":"0.00"},{"$nulls":5},"","",null,"","","",{"v":0,"d":"0.00"},null,""]
["","","",{"$nulls":51},{"$f":"IF($AU$38<>\"\",\"zie hierboven\",IF(AJ165=\"auto\",IF(AND((D165>'km-vergoeding'!$A$4),(D165<'km-vergoeding'!$A$5)),'km-vergoeding'!$D$4,'km-vergoeding'!$D$5),0))","v":{"v":0,"d":"0.0000 "}},{"$nulls":7},{"v":0,"d":"0.00"},{"$nulls":6},{"$f":"IF($AU$38<>\"\",\"zie hierboven\",IF(AJ165=\"fiets\",'km-vergoeding'!$D$3,0))","v":{"v":0,"d":"0.00"}},{"$nulls":7},{"v":0,"d":"0.00"},{"$nulls":12},{"v":0,"d":"0.00"},{"$nulls":5},{"v":0,"d":"0.00"},{"$nulls":5},"","",null,"","","",{"v":0,"d":"0.00"},null,""]
["","","",{"$nulls":51},{"$f":"IF($AU$38<>\"\",\"zie hierboven\",IF(AJ166=\"auto\",IF(AND((D166>'km-vergoeding'!$A$4),(D166<'km-vergoeding'!$A$5)),'km-vergoeding'!$D$4,'km-vergoeding'!$D$5),0))","v":{"v":0,"d":"0.0000 "}},{"$nulls":7},{"v":0,"d":"0.00"},{"$nulls":6},{"$f":"IF($AU$38<>\"\",\"zie hierboven\",IF(AJ166=\"fiets\",'km-vergoeding'!$D$3,0))","v":{"v":0,"d":"0.00"}},{"$nulls":7},{"v":0,"d":"0.00"},{"$nulls":12},{"v":0,"d":"0.00"},{"$nulls":5},{"v":0,"d":"0.00"},{"$nulls":5},"","",null,"","","",{"v":0,"d":"0.00"},null,""]
["","","",{"$nulls":51},{"$f":"IF($AU$38<>\"\",\"zie hierboven\",IF(AJ167=\"auto\",IF(AND((D167>'km-vergoeding'!$A$4),(D167<'km-vergoeding'!$A$5)),'km-vergoeding'!$D$4,'km-vergoeding'!$D$5),0))","v":{"v":0,"d":"0.0000 "}},{"$nulls":7},{"v":0,"d":"0.00"},{"$nulls":6},{"$f":"IF($AU$38<>\"\",\"zie hierboven\",IF(AJ167=\"fiets\",'km-vergoeding'!$D$3,0))","v":{"v":0,"d":"0.00"}},{"$nulls":7},{"v":0,"d":"0.00"},{"$nulls":12},{"v":0,"d":"0.00"},{"$nulls":5},{"v":0,"d":"0.00"},{"$nulls":5},"","",null,"","","",{"v":0,"d":"0.00"},null,""]
["","","",{"$nulls":51},{"$f":"IF($AU$38<>\"\",\"zie hierboven\",IF(AJ168=\"auto\",IF(AND((D168>'km-vergoeding'!$A$4),(D168<'km-vergoeding'!$A$5)),'km-vergoeding'!$D$4,'km-vergoeding'!$D$5),0))","v":{"v":0,"d":"0.0000 "}},{"$nulls":7},{"v":0,"d":"0.00"},{"$nulls":6},{"$f":"IF($AU$38<>\"\",\"zie hierboven\",IF(AJ168=\"fiets\",'km-vergoeding'!$D$3,0))","v":{"v":0,"d":"0.00"}},{"$nulls":7},{"v":0,"d":"0.00"},{"$nulls":12},{"v":0,"d":"0.00"},{"$nulls":5},{"v":0,"d":"0.00"},{"$nulls":5},"","",null,"","","",{"v":0,"d":"0.00"},null,""]
["","","",{"$nulls":51},{"$f":"IF($AU$38<>\"\",\"zie hierboven\",IF(AJ169=\"auto\",IF(AND((D169>'km-vergoeding'!$A$4),(D169<'km-vergoeding'!$A$5)),'km-vergoeding'!$D$4,'km-vergoeding'!$D$5),0))","v":{"v":0,"d":"0.0000 "}},{"$nulls":7},{"v":0,"d":"0.00"},{"$nulls":6},{"$f":"IF($AU$38<>\"\",\"zie hierboven\",IF(AJ169=\"fiets\",'km-vergoeding'!$D$3,0))","v":{"v":0,"d":"0.00"}},{"$nulls":7},{"v":0,"d":"0.00"},{"$nulls":12},{"v":0,"d":"0.00"},{"$nulls":5},{"v":0,"d":"0.00"},{"$nulls":5},"","",null,"","","",{"v":0,"d":"0.00"},null,""]
["","","",{"$nulls":51},{"$f":"IF($AU$38<>\"\",\"zie hierboven\",IF(AJ170=\"auto\",IF(AND((D170>'km-vergoeding'!$A$4),(D170<'km-vergoeding'!$A$5)),'km-vergoeding'!$D$4,'km-vergoeding'!$D$5),0))","v":{"v":0,"d":"0.0000 "}},{"$nulls":7},{"v":0,"d":"0.00"},{"$nulls":6},{"$f":"IF($AU$38<>\"\",\"zie hierboven\",IF(AJ170=\"fiets\",'km-vergoeding'!$D$3,0))","v":{"v":0,"d":"0.00"}},{"$nulls":7},{"v":0,"d":"0.00"},{"$nulls":12},{"v":0,"d":"0.00"},{"$nulls":5},{"v":0,"d":"0.00"},{"$nulls":5},"","",null,"","","",{"v":0,"d":"0.00"},null,""]
["","","",{"$nulls":51},{"$f":"IF($AU$38<>\"\",\"zie hierboven\",IF(AJ171=\"auto\",IF(AND((D171>'km-vergoeding'!$A$4),(D171<'km-vergoeding'!$A$5)),'km-vergoeding'!$D$4,'km-vergoeding'!$D$5),0))","v":{"v":0,"d":"0.0000 "}},{"$nulls":7},{"v":0,"d":"0.00"},{"$nulls":6},{"$f":"IF($AU$38<>\"\",\"zie hierboven\",IF(AJ171=\"fiets\",'km-vergoeding'!$D$3,0))","v":{"v":0,"d":"0.00"}},{"$nulls":7},{"v":0,"d":"0.00"},{"$nulls":12},{"v":0,"d":"0.00"},{"$nulls":5},{"v":0,"d":"0.00"},{"$nulls":5},"","",null,"","","",{"v":0,"d":"0.00"},null,""]
["","","",{"$nulls":51},{"$f":"IF($AU$38<>\"\",\"zie hierboven\",IF(AJ172=\"auto\",IF(AND((D172>'km-vergoeding'!$A$4),(D172<'km-vergoeding'!$A$5)),'km-vergoeding'!$D$4,'km-vergoeding'!$D$5),0))","v":{"v":0,"d":"0.0000 "}},{"$nulls":7},{"v":0,"d":"0.00"},{"$nulls":6},{"$f":"IF($AU$38<>\"\",\"zie hierboven\",IF(AJ172=\"fiets\",'km-vergoeding'!$D$3,0))","v":{"v":0,"d":"0.00"}},{"$nulls":7},{"v":0,"d":"0.00"},{"$nulls":12},{"v":0,"d":"0.00"},{"$nulls":5},{"v":0,"d":"0.00"},{"$nulls":5},"","",null,"","","",{"v":0,"d":"0.00"},null,""]
["","","",{"$nulls":51},{"$f":"IF($AU$38<>\"\",\"zie hierboven\",IF(AJ173=\"auto\",IF(AND((D173>'km-vergoeding'!$A$4),(D173<'km-vergoeding'!$A$5)),'km-vergoeding'!$D$4,'km-vergoeding'!$D$5),0))","v":{"v":0,"d":"0.0000 "}},{"$nulls":7},{"v":0,"d":"0.00"},{"$nulls":6},{"$f":"IF($AU$38<>\"\",\"zie hierboven\",IF(AJ173=\"fiets\",'km-vergoeding'!$D$3,0))","v":{"v":0,"d":"0.00"}},{"$nulls":7},{"v":0,"d":"0.00"},{"$nulls":12},{"v":0,"d":"0.00"},{"$nulls":5},{"v":0,"d":"0.00"},{"$nulls":5},"","",null,"","","",{"v":0,"d":"0.00"},null,""]
["","","",{"$nulls":51},{"$f":"IF($AU$38<>\"\",\"zie hierboven\",IF(AJ174=\"auto\",IF(AND((D174>'km-vergoeding'!$A$4),(D174<'km-vergoeding'!$A$5)),'km-vergoeding'!$D$4,'km-vergoeding'!$D$5),0))","v":{"v":0,"d":"0.0000 "}},{"$nulls":7},{"v":0,"d":"0.00"},{"$nulls":6},{"$f":"IF($AU$38<>\"\",\"zie hierboven\",IF(AJ174=\"fiets\",'km-vergoeding'!$D$3,0))","v":{"v":0,"d":"0.00"}},{"$nulls":7},{"v":0,"d":"0.00"},{"$nulls":12},{"v":0,"d":"0.00"},{"$nulls":5},{"v":0,"d":"0.00"},{"$nulls":5},"","",null,"","","",{"v":0,"d":"0.00"},null,""]
["","","",{"$nulls":51},{"$f":"IF($AU$38<>\"\",\"zie hierboven\",IF(AJ175=\"auto\",IF(AND((D175>'km-vergoeding'!$A$4),(D175<'km-vergoeding'!$A$5)),'km-vergoeding'!$D$4,'km-vergoeding'!$D$5),0))","v":{"v":0,"d":"0.0000 "}},{"$nulls":7},{"v":0,"d":"0.00"},{"$nulls":6},{"$f":"IF($AU$38<>\"\",\"zie hierboven\",IF(AJ175=\"fiets\",'km-vergoeding'!$D$3,0))","v":{"v":0,"d":"0.00"}},{"$nulls":7},{"v":0,"d":"0.00"},{"$nulls":12},{"v":0,"d":"0.00"},{"$nulls":5},{"v":0,"d":"0.00"},{"$nulls":5},"","",null,"","","",{"v":0,"d":"0.00"},null,""]
["","","",{"$nulls":51},{"$f":"IF($AU$38<>\"\",\"zie hierboven\",IF(AJ176=\"auto\",IF(AND((D176>'km-vergoeding'!$A$4),(D176<'km-vergoeding'!$A$5)),'km-vergoeding'!$D$4,'km-vergoeding'!$D$5),0))","v":{"v":0,"d":"0.0000 "}},{"$nulls":7},{"v":0,"d":"0.00"},{"$nulls":6},{"$f":"IF($AU$38<>\"\",\"zie hierboven\",IF(AJ176=\"fiets\",'km-vergoeding'!$D$3,0))","v":{"v":0,"d":"0.00"}},{"$nulls":7},{"v":0,"d":"0.00"},{"$nulls":12},{"v":0,"d":"0.00"},{"$nulls":5},{"v":0,"d":"0.00"},{"$nulls":5},"","",null,"","","",{"v":0,"d":"0.00"},null,""]
["","","",{"$nulls":51},{"$f":"IF($AU$38<>\"\",\"zie hierboven\",IF(AJ177=\"auto\",IF(AND((D177>'km-vergoeding'!$A$4),(D177<'km-vergoeding'!$A$5)),'km-vergoeding'!$D$4,'km-vergoeding'!$D$5),0))","v":{"v":0,"d":"0.0000 "}},{"$nulls":7},{"v":0,"d":"0.00"},{"$nulls":6},{"$f":"IF($AU$38<>\"\",\"zie hierboven\",IF(AJ177=\"fiets\",'km-vergoeding'!$D$3,0))","v":{"v":0,"d":"0.00"}},{"$nulls":7},{"v":0,"d":"0.00"},{"$nulls":12},{"v":0,"d":"0.00"},{"$nulls":5},{"v":0,"d":"0.00"},{"$nulls":5},"","",null,"","","",{"v":0,"d":"0.00"},null,""]
["","","",{"$nulls":51},{"$f":"IF($AU$38<>\"\",\"zie hierboven\",IF(AJ178=\"auto\",IF(AND((D178>'km-vergoeding'!$A$4),(D178<'km-vergoeding'!$A$5)),'km-vergoeding'!$D$4,'km-vergoeding'!$D$5),0))","v":{"v":0,"d":"0.0000 "}},{"$nulls":7},{"v":0,"d":"0.00"},{"$nulls":6},{"$f":"IF($AU$38<>\"\",\"zie hierboven\",IF(AJ178=\"fiets\",'km-vergoeding'!$D$3,0))","v":{"v":0,"d":"0.00"}},{"$nulls":7},{"v":0,"d":"0.00"},{"$nulls":12},{"v":0,"d":"0.00"},{"$nulls":5},{"v":0,"d":"0.00"},{"$nulls":5},"","",null,"","","",{"v":0,"d":"0.00"},null,""]
["","","",{"$nulls":51},{"$f":"IF($AU$38<>\"\",\"zie hierboven\",IF(AJ179=\"auto\",IF(AND((D179>'km-vergoeding'!$A$4),(D179<'km-vergoeding'!$A$5)),'km-vergoeding'!$D$4,'km-vergoeding'!$D$5),0))","v":{"v":0,"d":"0.0000 "}},{"$nulls":7},{"v":0,"d":"0.00"},{"$nulls":6},{"$f":"IF($AU$38<>\"\",\"zie hierboven\",IF(AJ179=\"fiets\",'km-vergoeding'!$D$3,0))","v":{"v":0,"d":"0.00"}},{"$nulls":7},{"v":0,"d":"0.00"},{"$nulls":12},{"v":0,"d":"0.00"},{"$nulls":5},{"v":0,"d":"0.00"},{"$nulls":5},"","",null,"","","",{"v":0,"d":"0.00"},null,""]
["","","",{"$nulls":51},{"$f":"IF($AU$38<>\"\",\"zie hierboven\",IF(AJ180=\"auto\",IF(AND((D180>'km-vergoeding'!$A$4),(D180<'km-vergoeding'!$A$5)),'km-vergoeding'!$D$4,'km-vergoeding'!$D$5),0))","v":{"v":0,"d":"0.0000 "}},{"$nulls":7},{"v":0,"d":"0.00"},{"$nulls":6},{"$f":"IF($AU$38<>\"\",\"zie hierboven\",IF(AJ180=\"fiets\",'km-vergoeding'!$D$3,0))","v":{"v":0,"d":"0.00"}},{"$nulls":7},{"v":0,"d":"0.00"},{"$nulls":12},{"v":0,"d":"0.00"},{"$nulls":5},{"v":0,"d":"0.00"},{"$nulls":5},"","",null,"","","",{"v":0,"d":"0.00"},null,""]
["","","",{"$nulls":51},{"$f":"IF($AU$38<>\"\",\"zie hierboven\",IF(AJ181=\"auto\",IF(AND((D181>'km-vergoeding'!$A$4),(D181<'km-vergoeding'!$A$5)),'km-vergoeding'!$D$4,'km-vergoeding'!$D$5),0))","v":{"v":0,"d":"0.0000 "}},{"$nulls":7},{"v":0,"d":"0.00"},{"$nulls":6},{"$f":"IF($AU$38<>\"\",\"zie hierboven\",IF(AJ181=\"fiets\",'km-vergoeding'!$D$3,0))","v":{"v":0,"d":"0.00"}},{"$nulls":7},{"v":0,"d":"0.00"},{"$nulls":12},{"v":0,"d":"0.00"},{"$nulls":5},{"v":0,"d":"0.00"},{"$nulls":5},"","",null,"","","",{"v":0,"d":"0.00"},null,""]
["","","",{"$nulls":51},{"$f":"IF($AU$38<>\"\",\"zie hierboven\",IF(AJ182=\"auto\",IF(AND((D182>'km-vergoeding'!$A$4),(D182<'km-vergoeding'!$A$5)),'km-vergoeding'!$D$4,'km-vergoeding'!$D$5),0))","v":{"v":0,"d":"0.0000 "}},{"$nulls":7},{"v":0,"d":"0.00"},{"$nulls":6},{"$f":"IF($AU$38<>\"\",\"zie hierboven\",IF(AJ182=\"fiets\",'km-vergoeding'!$D$3,0))","v":{"v":0,"d":"0.00"}},{"$nulls":7},{"v":0,"d":"0.00"},{"$nulls":12},{"v":0,"d":"0.00"},{"$nulls":5},{"v":0,"d":"0.00"},{"$nulls":5},"","",null,"","","",{"v":0,"d":"0.00"},null,""]
["","","",{"$nulls":51},{"$f":"IF($AU$38<>\"\",\"zie hierboven\",IF(AJ183=\"auto\",IF(AND((D183>'km-vergoeding'!$A$4),(D183<'km-vergoeding'!$A$5)),'km-vergoeding'!$D$4,'km-vergoeding'!$D$5),0))","v":{"v":0,"d":"0.0000 "}},{"$nulls":7},{"v":0,"d":"0.00"},{"$nulls":6},{"$f":"IF($AU$38<>\"\",\"zie hierboven\",IF(AJ183=\"fiets\",'km-vergoeding'!$D$3,0))","v":{"v":0,"d":"0.00"}},{"$nulls":7},{"v":0,"d":"0.00"},{"$nulls":12},{"v":0,"d":"0.00"},{"$nulls":5},{"v":0,"d":"0.00"},{"$nulls":5},"","",null,"","","",{"v":0,"d":"0.00"},null,""]
["","","",{"$nulls":51},{"$f":"IF($AU$38<>\"\",\"zie hierboven\",IF(AJ184=\"auto\",IF(AND((D184>'km-vergoeding'!$A$4),(D184<'km-vergoeding'!$A$5)),'km-vergoeding'!$D$4,'km-vergoeding'!$D$5),0))","v":{"v":0,"d":"0.0000 "}},{"$nulls":7},{"v":0,"d":"0.00"},{"$nulls":6},{"$f":"IF($AU$38<>\"\",\"zie hierboven\",IF(AJ184=\"fiets\",'km-vergoeding'!$D$3,0))","v":{"v":0,"d":"0.00"}},{"$nulls":7},{"v":0,"d":"0.00"},{"$nulls":12},{"v":0,"d":"0.00"},{"$nulls":5},{"v":0,"d":"0.00"},{"$nulls":5},"","",null,"","","",{"v":0,"d":"0.00"},null,""]
["","","",{"$nulls":51},{"$f":"IF($AU$38<>\"\",\"zie hierboven\",IF(AJ185=\"auto\",IF(AND((D185>'km-vergoeding'!$A$4),(D185<'km-vergoeding'!$A$5)),'km-vergoeding'!$D$4,'km-vergoeding'!$D$5),0))","v":{"v":0,"d":"0.0000 "}},{"$nulls":7},{"v":0,"d":"0.00"},{"$nulls":6},{"$f":"IF($AU$38<>\"\",\"zie hierboven\",IF(AJ185=\"fiets\",'km-vergoeding'!$D$3,0))","v":{"v":0,"d":"0.00"}},{"$nulls":7},{"v":0,"d":"0.00"},{"$nulls":12},{"v":0,"d":"0.00"},{"$nulls":5},{"v":0,"d":"0.00"},{"$nulls":5},"","",null,"","","",{"v":0,"d":"0.00"},null,""]
["","","",{"$nulls":51},{"$f":"IF($AU$38<>\"\",\"zie hierboven\",IF(AJ186=\"auto\",IF(AND((D186>'km-vergoeding'!$A$4),(D186<'km-vergoeding'!$A$5)),'km-vergoeding'!$D$4,'km-vergoeding'!$D$5),0))","v":{"v":0,"d":"0.0000 "}},{"$nulls":7},{"v":0,"d":"0.00"},{"$nulls":6},{"$f":"IF($AU$38<>\"\",\"zie hierboven\",IF(AJ186=\"fiets\",'km-vergoeding'!$D$3,0))","v":{"v":0,"d":"0.00"}},{"$nulls":7},{"v":0,"d":"0.00"},{"$nulls":12},{"v":0,"d":"0.00"},{"$nulls":5},{"v":0,"d":"0.00"},{"$nulls":5},"","",null,"","","",{"v":0,"d":"0.00"},null,""]
["","","",{"$nulls":51},{"$f":"IF($AU$38<>\"\",\"zie hierboven\",IF(AJ187=\"auto\",IF(AND((D187>'km-vergoeding'!$A$4),(D187<'km-vergoeding'!$A$5)),'km-vergoeding'!$D$4,'km-vergoeding'!$D$5),0))","v":{"v":0,"d":"0.0000 "}},{"$nulls":7},{"v":0,"d":"0.00"},{"$nulls":6},{"$f":"IF($AU$38<>\"\",\"zie hierboven\",IF(AJ187=\"fiets\",'km-vergoeding'!$D$3,0))","v":{"v":0,"d":"0.00"}},{"$nulls":7},{"v":0,"d":"0.00"},{"$nulls":12},{"v":0,"d":"0.00"},{"$nulls":5},{"v":0,"d":"0.00"},{"$nulls":5},"","",null,"","","",{"v":0,"d":"0.00"},null,""]
["","","",{"$nulls":51},{"$f":"IF($AU$38<>\"\",\"zie hierboven\",IF(AJ188=\"auto\",IF(AND((D188>'km-vergoeding'!$A$4),(D188<'km-vergoeding'!$A$5)),'km-vergoeding'!$D$4,'km-vergoeding'!$D$5),0))","v":{"v":0,"d":"0.0000 "}},{"$nulls":7},{"v":0,"d":"0.00"},{"$nulls":6},{"$f":"IF($AU$38<>\"\",\"zie hierboven\",IF(AJ188=\"fiets\",'km-vergoeding'!$D$3,0))","v":{"v":0,"d":"0.00"}},{"$nulls":7},{"v":0,"d":"0.00"},{"$nulls":12},{"v":0,"d":"0.00"},{"$nulls":5},{"v":0,"d":"0.00"},{"$nulls":5},"","",null,"","","",{"v":0,"d":"0.00"},null,""]
["","","",{"$nulls":51},{"$f":"IF($AU$38<>\"\",\"zie hierboven\",IF(AJ189=\"auto\",IF(AND((D189>'km-vergoeding'!$A$4),(D189<'km-vergoeding'!$A$5)),'km-vergoeding'!$D$4,'km-vergoeding'!$D$5),0))","v":{"v":0,"d":"0.0000 "}},{"$nulls":7},{"v":0,"d":"0.00"},{"$nulls":6},{"$f":"IF($AU$38<>\"\",\"zie hierboven\",IF(AJ189=\"fiets\",'km-vergoeding'!$D$3,0))","v":{"v":0,"d":"0.00"}},{"$nulls":7},{"v":0,"d":"0.00"},{"$nulls":12},{"v":0,"d":"0.00"},{"$nulls":5},{"v":0,"d":"0.00"},{"$nulls":5},"","",null,"","","",{"v":0,"d":"0.00"},null,""]
["","","",{"$nulls":51},{"$f":"IF($AU$38<>\"\",\"zie hierboven\",IF(AJ190=\"auto\",IF(AND((D190>'km-vergoeding'!$A$4),(D190<'km-vergoeding'!$A$5)),'km-vergoeding'!$D$4,'km-vergoeding'!$D$5),0))","v":{"v":0,"d":"0.0000 "}},{"$nulls":7},{"v":0,"d":"0.00"},{"$nulls":6},{"$f":"IF($AU$38<>\"\",\"zie hierboven\",IF(AJ190=\"fiets\",'km-vergoeding'!$D$3,0))","v":{"v":0,"d":"0.00"}},{"$nulls":7},{"v":0,"d":"0.00"},{"$nulls":12},{"v":0,"d":"0.00"},{"$nulls":5},{"v":0,"d":"0.00"},{"$nulls":5},"","",null,"","","",{"v":0,"d":"0.00"},null,""]
["","","",{"$nulls":51},{"$f":"IF($AU$38<>\"\",\"zie hierboven\",IF(AJ191=\"auto\",IF(AND((D191>'km-vergoeding'!$A$4),(D191<'km-vergoeding'!$A$5)),'km-vergoeding'!$D$4,'km-vergoeding'!$D$5),0))","v":{"v":0,"d":"0.0000 "}},{"$nulls":7},{"v":0,"d":"0.00"},{"$nulls":6},{"$f":"IF($AU$38<>\"\",\"zie hierboven\",IF(AJ191=\"fiets\",'km-vergoeding'!$D$3,0))","v":{"v":0,"d":"0.00"}},{"$nulls":7},{"v":0,"d":"0.00"},{"$nulls":12},{"v":0,"d":"0.00"},{"$nulls":5},{"v":0,"d":"0.00"},{"$nulls":5},"","",null,"","","",{"v":0,"d":"0.00"},null,""]
["","","",{"$nulls":51},{"$f":"IF($AU$38<>\"\",\"zie hierboven\",IF(AJ192=\"auto\",IF(AND((D192>'km-vergoeding'!$A$4),(D192<'km-vergoeding'!$A$5)),'km-vergoeding'!$D$4,'km-vergoeding'!$D$5),0))","v":{"v":0,"d":"0.0000 "}},{"$nulls":7},{"v":0,"d":"0.00"},{"$nulls":6},{"$f":"IF($AU$38<>\"\",\"zie hierboven\",IF(AJ192=\"fiets\",'km-vergoeding'!$D$3,0))","v":{"v":0,"d":"0.00"}},{"$nulls":7},{"v":0,"d":"0.00"},{"$nulls":12},{"v":0,"d":"0.00"},{"$nulls":5},{"v":0,"d":"0.00"},{"$nulls":5},"","",null,"","","",{"v":0,"d":"0.00"},null,""]
["","","",{"$nulls":51},{"$f":"IF($AU$38<>\"\",\"zie hierboven\",IF(AJ193=\"auto\",IF(AND((D193>'km-vergoeding'!$A$4),(D193<'km-vergoeding'!$A$5)),'km-vergoeding'!$D$4,'km-vergoeding'!$D$5),0))","v":{"v":0,"d":"0.0000 "}},{"$nulls":7},{"v":0,"d":"0.00"},{"$nulls":6},{"$f":"IF($AU$38<>\"\",\"zie hierboven\",IF(AJ193=\"fiets\",'km-vergoeding'!$D$3,0))","v":{"v":0,"d":"0.00"}},{"$nulls":7},{"v":0,"d":"0.00"},{"$nulls":12},{"v":0,"d":"0.00"},{"$nulls":5},{"v":0,"d":"0.00"},{"$nulls":5},"","",null,"","","",{"v":0,"d":"0.00"},null,""]
["","","",{"$nulls":51},{"$f":"IF($AU$38<>\"\",\"zie hierboven\",IF(AJ194=\"auto\",IF(AND((D194>'km-vergoeding'!$A$4),(D194<'km-vergoeding'!$A$5)),'km-vergoeding'!$D$4,'km-vergoeding'!$D$5),0))","v":{"v":0,"d":"0.0000 "}},{"$nulls":7},{"v":0,"d":"0.00"},{"$nulls":6},{"$f":"IF($AU$38<>\"\",\"zie hierboven\",IF(AJ194=\"fiets\",'km-vergoeding'!$D$3,0))","v":{"v":0,"d":"0.00"}},{"$nulls":7},{"v":0,"d":"0.00"},{"$nulls":12},{"v":0,"d":"0.00"},{"$nulls":5},{"v":0,"d":"0.00"},{"$nulls":5},"","",null,"","","",{"v":0,"d":"0.00"},null,""]
["","","",{"$nulls":51},{"$f":"IF($AU$38<>\"\",\"zie hierboven\",IF(AJ195=\"auto\",IF(AND((D195>'km-vergoeding'!$A$4),(D195<'km-vergoeding'!$A$5)),'km-vergoeding'!$D$4,'km-vergoeding'!$D$5),0))","v":{"v":0,"d":"0.0000 "}},{"$nulls":7},{"v":0,"d":"0.00"},{"$nulls":6},{"$f":"IF($AU$38<>\"\",\"zie hierboven\",IF(AJ195=\"fiets\",'km-vergoeding'!$D$3,0))","v":{"v":0,"d":"0.00"}},{"$nulls":7},{"v":0,"d":"0.00"},{"$nulls":12},{"v":0,"d":"0.00"},{"$nulls":5},{"v":0,"d":"0.00"},{"$nulls":5},"","",null,"","","",{"v":0,"d":"0.00"},null,""]
["","","",{"$nulls":51},{"$f":"IF($AU$38<>\"\",\"zie hierboven\",IF(AJ196=\"auto\",IF(AND((D196>'km-vergoeding'!$A$4),(D196<'km-vergoeding'!$A$5)),'km-vergoeding'!$D$4,'km-vergoeding'!$D$5),0))","v":{"v":0,"d":"0.0000 "}},{"$nulls":7},{"v":0,"d":"0.00"},{"$nulls":6},{"$f":"IF($AU$38<>\"\",\"zie hierboven\",IF(AJ196=\"fiets\",'km-vergoeding'!$D$3,0))","v":{"v":0,"d":"0.00"}},{"$nulls":7},{"v":0,"d":"0.00"},{"$nulls":12},{"v":0,"d":"0.00"},{"$nulls":5},{"v":0,"d":"0.00"},{"$nulls":5},"","",null,"","","",{"v":0,"d":"0.00"},null,""]
["","","",{"$nulls":51},{"$f":"IF($AU$38<>\"\",\"zie hierboven\",IF(AJ197=\"auto\",IF(AND((D197>'km-vergoeding'!$A$4),(D197<'km-vergoeding'!$A$5)),'km-vergoeding'!$D$4,'km-vergoeding'!$D$5),0))","v":{"v":0,"d":"0.0000 "}},{"$nulls":7},{"v":0,"d":"0.00"},{"$nulls":6},{"$f":"IF($AU$38<>\"\",\"zie hierboven\",IF(AJ197=\"fiets\",'km-vergoeding'!$D$3,0))","v":{"v":0,"d":"0.00"}},{"$nulls":7},{"v":0,"d":"0.00"},{"$nulls":12},{"v":0,"d":"0.00"},{"$nulls":5},{"v":0,"d":"0.00"},{"$nulls":5},"","",null,"","","",{"v":0,"d":"0.00"},null,""]
["","","",{"$nulls":51},{"$f":"IF($AU$38<>\"\",\"zie hierboven\",IF(AJ198=\"auto\",IF(AND((D198>'km-vergoeding'!$A$4),(D198<'km-vergoeding'!$A$5)),'km-vergoeding'!$D$4,'km-vergoeding'!$D$5),0))","v":{"v":0,"d":"0.0000 "}},{"$nulls":7},{"v":0,"d":"0.00"},{"$nulls":6},{"$f":"IF($AU$38<>\"\",\"zie hierboven\",IF(AJ198=\"fiets\",'km-vergoeding'!$D$3,0))","v":{"v":0,"d":"0.00"}},{"$nulls":7},{"v":0,"d":"0.00"},{"$nulls":12},{"v":0,"d":"0.00"},{"$nulls":5},{"v":0,"d":"0.00"},{"$nulls":5},"","",null,"","","",{"v":0,"d":"0.00"},null,""]
["","","",{"$nulls":51},{"$f":"IF($AU$38<>\"\",\"zie hierboven\",IF(AJ199=\"auto\",IF(AND((D199>'km-vergoeding'!$A$4),(D199<'km-vergoeding'!$A$5)),'km-vergoeding'!$D$4,'km-vergoeding'!$D$5),0))","v":{"v":0,"d":"0.0000 "}},{"$nulls":7},{"v":0,"d":"0.00"},{"$nulls":6},{"$f":"IF($AU$38<>\"\",\"zie hierboven\",IF(AJ199=\"fiets\",'km-vergoeding'!$D$3,0))","v":{"v":0,"d":"0.00"}},{"$nulls":7},{"v":0,"d":"0.00"},{"$nulls":12},{"v":0,"d":"0.00"},{"$nulls":5},{"v":0,"d":"0.00"},{"$nulls":5},"","",null,"","","",{"v":0,"d":"0.00"},null,""]
["","","",{"$nulls":51},{"$f":"IF($AU$38<>\"\",\"zie hierboven\",IF(AJ200=\"auto\",IF(AND((D200>'km-vergoeding'!$A$4),(D200<'km-vergoeding'!$A$5)),'km-vergoeding'!$D$4,'km-vergoeding'!$D$5),0))","v":{"v":0,"d":"0.0000 "}},{"$nulls":7},{"v":0,"d":"0.00"},{"$nulls":6},{"$f":"IF($AU$38<>\"\",\"zie hierboven\",IF(AJ200=\"fiets\",'km-vergoeding'!$D$3,0))","v":{"v":0,"d":"0.00"}},{"$nulls":7},{"v":0,"d":"0.00"},{"$nulls":12},{"v":0,"d":"0.00"},{"$nulls":5},{"v":0,"d":"0.00"},{"$nulls":5},"","",null,"","","",{"v":0,"d":"0.00"},null,""]
["","","",{"$nulls":51},{"$f":"IF($AU$38<>\"\",\"zie hierboven\",IF(AJ201=\"auto\",IF(AND((D201>'km-vergoeding'!$A$4),(D201<'km-vergoeding'!$A$5)),'km-vergoeding'!$D$4,'km-vergoeding'!$D$5),0))","v":{"v":0,"d":"0.0000 "}},{"$nulls":7},{"v":0,"d":"0.00"},{"$nulls":6},{"$f":"IF($AU$38<>\"\",\"zie hierboven\",IF(AJ201=\"fiets\",'km-vergoeding'!$D$3,0))","v":{"v":0,"d":"0.00"}},{"$nulls":7},{"v":0,"d":"0.00"},{"$nulls":12},{"v":0,"d":"0.00"},{"$nulls":5},{"v":0,"d":"0.00"},{"$nulls":5},"","",null,"","","",{"v":0,"d":"0.00"},null,""]
["","","",{"$nulls":51},{"$f":"IF($AU$38<>\"\",\"zie hierboven\",IF(AJ202=\"auto\",IF(AND((D202>'km-vergoeding'!$A$4),(D202<'km-vergoeding'!$A$5)),'km-vergoeding'!$D$4,'km-vergoeding'!$D$5),0))","v":{"v":0,"d":"0.0000 "}},{"$nulls":7},{"v":0,"d":"0.00"},{"$nulls":6},{"$f":"IF($AU$38<>\"\",\"zie hierboven\",IF(AJ202=\"fiets\",'km-vergoeding'!$D$3,0))","v":{"v":0,"d":"0.00"}},{"$nulls":7},{"v":0,"d":"0.00"},{"$nulls":12},{"v":0,"d":"0.00"},{"$nulls":5},{"v":0,"d":"0.00"},{"$nulls":5},"","",null,"","","",{"v":0,"d":"0.00"},null,""]
[{"$f":"IF(OR(AND(D203<>\"\",H203=\"\"),AND(H203<>\"\",R203=\"\"),AND(R203<>\"\",H203=\"\"),AND(R203<>\"\",X203=\"\"),AND(X203<>\"\",R203=\"\")),\"!\",\"\")","v":""},{"$f":"IF(OR(AND(ISBLANK(D203),OR(H203<>\"\",R203<>\"\",X203<>\"\",AJ203<>\"\",AR203<>\"\",AY203<>\"\",CG203<>\"\"))),\"!\",\"\")","v":""},{"$f":"IF(AND(CG203=0,AJ203<>\"openbaar vervoer\",OR(AND(OR(AJ203=\"auto\",AJ203=\"fiets\"),OR(AR203=\"\",AR203=0)),AND(AR203>0,AY203=\"\"),AND(AR203=\"\",AY203>0),AND(AR203>0,AJ203=\"\"))),\"!\",\"\")","v":""},{"$nulls":51},{"$f":"IF($AU$38<>\"\",\"zie hierboven\",IF(AJ203=\"auto\",IF(AND((D203>'km-vergoeding'!$A$4),(D203<'km-vergoeding'!$A$5)),'km-vergoeding'!$D$4,'km-vergoeding'!$D$5),0))","v":{"v":0,"d":"0.0000 "}},{"$nulls":7},{"v":0,"d":"0.00"},{"$nulls":6},{"$f":"IF($AU$38<>\"\",\"zie hierboven\",IF(AJ203=\"fiets\",'km-vergoeding'!$D$3,0))","v":{"v":0,"d":"0.00"}},{"$nulls":7},{"v":0,"d":"0.00"},{"$nulls":12},{"v":0,"d":"0.00"},{"$nulls":5},{"v":0,"d":"0.00"},{"$nulls":5},"","",null,"","","",{"v":0,"d":"0.00"},null,{"$f":"IF(AND(A203=\"\",B203=\"\",C203=\"\",CY203=\"\",CZ203=\"\",DB203=\"\",DC203=\"\",DD203=\"\"),\"\",\"Deze rij is nog onvolledig of bevat nog fouten! Zie foutmeldingen boven de tabel.\")","v":""}]
["","","",{"$nulls":51},{"$f":"IF($AU$38<>\"\",\"zie hierboven\",IF(AJ204=\"auto\",IF(AND((D204>'km-vergoeding'!$A$4),(D204<'km-vergoeding'!$A$5)),'km-vergoeding'!$D$4,'km-vergoeding'!$D$5),0))","v":{"v":0,"d":"0.0000 "}},{"$nulls":7},{"v":0,"d":"0.00"},{"$nulls":6},{"$f":"IF($AU$38<>\"\",\"zie hierboven\",IF(AJ204=\"fiets\",'km-vergoeding'!$D$3,0))","v":{"v":0,"d":"0.00"}},{"$nulls":7},{"v":0,"d":"0.00"},{"$nulls":12},{"v":0,"d":"0.00"},{"$nulls":5},{"$f":"IF(CM204=0,0,IF(CM205=0,DE204,0))","v":{"v":0,"d":"0.00"}},{"$nulls":5},{"$f":"IF(AND(OR((AJ204=\"fiets\"),(AJ204=\"auto\")),(CG204>0)),\"!\",\"\")","v":""},{"$f":"IF(OR(AND(D203<>\"\",D204=\"\",D205<>\"\"),AND(D203=\"\",D204=\"\",D205<>\"\")),\"!\",\"\")","v":""},null,{"$f":"IF(AND(AJ204=\"openbaar vervoer\",OR(AR204<>\"\",AY204<>\"\")),\"!\",\"\")","v":""},{"$f":"IF(AND(X204<>\"\",AND(AJ204=\"\",CM204=0)),\"!\",\"\")","v":""},{"$f":"IF(OR(AND(AJ204=\"openbaar vervoer\",CG204=0),AND(CG204>0,AJ204=\"\")),\"!\",\"\")","v":""},{"v":0,"d":"0.00"},null,""]
["","","",{"$nulls":51},{"$f":"IF($AU$38<>\"\",\"zie hierboven\",IF(AJ205=\"auto\",IF(AND((D205>'km-vergoeding'!$A$4),(D205<'km-vergoeding'!$A$5)),'km-vergoeding'!$D$4,'km-vergoeding'!$D$5),0))","v":{"v":0,"d":"0.0000 "}},{"$nulls":7},{"v":0,"d":"0.00"},{"$nulls":6},{"$f":"IF($AU$38<>\"\",\"zie hierboven\",IF(AJ205=\"fiets\",'km-vergoeding'!$D$3,0))","v":{"v":0,"d":"0.00"}},{"$nulls":7},{"v":0,"d":"0.00"},{"$nulls":12},{"v":0,"d":"0.00"},{"$nulls":5},{"v":0,"d":"0.00"},{"$nulls":5},"","",null,"","","",{"$f":"IF(CM205=0,DE204,DE204+CM205)","v":{"v":0,"d":"0.00"}},null,""]
["","","",{"$nulls":51},{"$f":"IF($AU$38<>\"\",\"zie hierboven\",IF(AJ206=\"auto\",IF(AND((D206>'km-vergoeding'!$A$4),(D206<'km-vergoeding'!$A$5)),'km-vergoeding'!$D$4,'km-vergoeding'!$D$5),0))","v":{"v":0,"d":"0.0000 "}},{"$nulls":7},{"$f":"IF(AJ206=\"auto\",ROUND(AR206*AY206*BC206,2),0)","v":{"v":0,"d":"0.00"}},{"$nulls":6},{"$f":"IF($AU$38<>\"\",\"zie hierboven\",IF(AJ206=\"fiets\",'km-vergoeding'!$D$3,0))","v":{"v":0,"d":"0.00"}},{"$nulls":7},{"$f":"IF(AJ206=\"fiets\",ROUND(AR206*AY206*BR206,2),0)","v":{"v":0,"d":"0.00"}},{"$nulls":12},{"$f":"IF(AND(OR((AJ206=\"fiets\"),(AJ206=\"auto\")),(CG206>0)),\"xxxx\",BK206+BZ206+CG206)","v":{"v":0,"d":"0.00"}},{"$nulls":5},{"v":0,"d":"0.00"},{"$nulls":5},"","",null,"","","",{"v":0,"d":"0.00"},null,""]
["","","",{"$nulls":51},{"$f":"IF($AU$38<>\"\",\"zie hierboven\",IF(AJ207=\"auto\",IF(AND((D207>'km-vergoeding'!$A$4),(D207<'km-vergoeding'!$A$5)),'km-vergoeding'!$D$4,'km-vergoeding'!$D$5),0))","v":{"v":0,"d":"0.0000 "}},{"$nulls":7},{"v":0,"d":"0.00"},{"$nulls":6},{"$f":"IF($AU$38<>\"\",\"zie hierboven\",IF(AJ207=\"fiets\",'km-vergoeding'!$D$3,0))","v":{"v":0,"d":"0.00"}},{"$nulls":7},{"v":0,"d":"0.00"},{"$nulls":12},{"v":0,"d":"0.00"},{"$nulls":5},{"v":0,"d":"0.00"},{"$nulls":5},"","",null,"","","",{"v":0,"d":"0.00"},null,""]
["","","",{"$nulls":51},{"$f":"IF($AU$38<>\"\",\"zie hierboven\",IF(AJ208=\"auto\",IF(AND((D208>'km-vergoeding'!$A$4),(D208<'km-vergoeding'!$A$5)),'km-vergoeding'!$D$4,'km-vergoeding'!$D$5),0))","v":{"v":0,"d":"0.0000 "}},{"$nulls":7},{"v":0,"d":"0.00"},{"$nulls":6},{"$f":"IF($AU$38<>\"\",\"zie hierboven\",IF(AJ208=\"fiets\",'km-vergoeding'!$D$3,0))","v":{"v":0,"d":"0.00"}},{"$nulls":7},{"v":0,"d":"0.00"},{"$nulls":12},{"v":0,"d":"0.00"},{"$nulls":5},{"v":0,"d":"0.00"},{"$nulls":5},"","",null,"","","",{"v":0,"d":"0.00"},null,""]
["","","",{"$nulls":51},{"$f":"IF($AU$38<>\"\",\"zie hierboven\",IF(AJ209=\"auto\",IF(AND((D209>'km-vergoeding'!$A$4),(D209<'km-vergoeding'!$A$5)),'km-vergoeding'!$D$4,'km-vergoeding'!$D$5),0))","v":{"v":0,"d":"0.0000 "}},{"$nulls":7},{"v":0,"d":"0.00"},{"$nulls":6},{"$f":"IF($AU$38<>\"\",\"zie hierboven\",IF(AJ209=\"fiets\",'km-vergoeding'!$D$3,0))","v":{"v":0,"d":"0.00"}},{"$nulls":7},{"v":0,"d":"0.00"},{"$nulls":12},{"v":0,"d":"0.00"},{"$nulls":5},{"v":0,"d":"0.00"},{"$nulls":5},"","",null,"","","",{"v":0,"d":"0.00"},null,""]
["","","",{"$nulls":51},{"$f":"IF($AU$38<>\"\",\"zie hierboven\",IF(AJ210=\"auto\",IF(AND((D210>'km-vergoeding'!$A$4),(D210<'km-vergoeding'!$A$5)),'km-vergoeding'!$D$4,'km-vergoeding'!$D$5),0))","v":{"v":0,"d":"0.0000 "}},{"$nulls":7},{"v":0,"d":"0.00"},{"$nulls":6},{"$f":"IF($AU$38<>\"\",\"zie hierboven\",IF(AJ210=\"fiets\",'km-vergoeding'!$D$3,0))","v":{"v":0,"d":"0.00"}},{"$nulls":7},{"v":0,"d":"0.00"},{"$nulls":12},{"v":0,"d":"0.00"},{"$nulls":5},{"v":0,"d":"0.00"},{"$nulls":5},"","",null,"","","",{"v":0,"d":"0.00"},null,""]
["","","",{"$nulls":51},{"$f":"IF($AU$38<>\"\",\"zie hierboven\",IF(AJ211=\"auto\",IF(AND((D211>'km-vergoeding'!$A$4),(D211<'km-vergoeding'!$A$5)),'km-vergoeding'!$D$4,'km-vergoeding'!$D$5),0))","v":{"v":0,"d":"0.0000 "}},{"$nulls":7},{"v":0,"d":"0.00"},{"$nulls":6},{"$f":"IF($AU$38<>\"\",\"zie hierboven\",IF(AJ211=\"fiets\",'km-vergoeding'!$D$3,0))","v":{"v":0,"d":"0.00"}},{"$nulls":7},{"v":0,"d":"0.00"},{"$nulls":12},{"v":0,"d":"0.00"},{"$nulls":5},{"v":0,"d":"0.00"},{"$nulls":5},"","",null,"","","",{"v":0,"d":"0.00"},null,""]
["","","",{"$nulls":51},{"$f":"IF($AU$38<>\"\",\"zie hierboven\",IF(AJ212=\"auto\",IF(AND((D212>'km-vergoeding'!$A$4),(D212<'km-vergoeding'!$A$5)),'km-vergoeding'!$D$4,'km-vergoeding'!$D$5),0))","v":{"v":0,"d":"0.0000 "}},{"$nulls":7},{"v":0,"d":"0.00"},{"$nulls":6},{"$f":"IF($AU$38<>\"\",\"zie hierboven\",IF(AJ212=\"fiets\",'km-vergoeding'!$D$3,0))","v":{"v":0,"d":"0.00"}},{"$nulls":7},{"v":0,"d":"0.00"},{"$nulls":12},{"v":0,"d":"0.00"},{"$nulls":5},{"v":0,"d":"0.00"},{"$nulls":5},"","",null,"","","",{"v":0,"d":"0.00"},null,""]
["","","",{"$nulls":51},{"$f":"IF($AU$38<>\"\",\"zie hierboven\",IF(AJ213=\"auto\",IF(AND((D213>'km-vergoeding'!$A$4),(D213<'km-vergoeding'!$A$5)),'km-vergoeding'!$D$4,'km-vergoeding'!$D$5),0))","v":{"v":0,"d":"0.0000 "}},{"$nulls":7},{"v":0,"d":"0.00"},{"$nulls":6},{"$f":"IF($AU$38<>\"\",\"zie hierboven\",IF(AJ213=\"fiets\",'km-vergoeding'!$D$3,0))","v":{"v":0,"d":"0.00"}},{"$nulls":7},{"v":0,"d":"0.00"},{"$nulls":12},{"v":0,"d":"0.00"},{"$nulls":5},{"v":0,"d":"0.00"},{"$nulls":5},"","",null,"","","",{"v":0,"d":"0.00"},null,""]
["","","",{"$nulls":51},{"$f":"IF($AU$38<>\"\",\"zie hierboven\",IF(AJ214=\"auto\",IF(AND((D214>'km-vergoeding'!$A$4),(D214<'km-vergoeding'!$A$5)),'km-vergoeding'!$D$4,'km-vergoeding'!$D$5),0))","v":{"v":0,"d":"0.0000 "}},{"$nulls":7},{"v":0,"d":"0.00"},{"$nulls":6},{"$f":"IF($AU$38<>\"\",\"zie hierboven\",IF(AJ214=\"fiets\",'km-vergoeding'!$D$3,0))","v":{"v":0,"d":"0.00"}},{"$nulls":7},{"v":0,"d":"0.00"},{"$nulls":12},{"v":0,"d":"0.00"},{"$nulls":5},{"v":0,"d":"0.00"},{"$nulls":5},"","",null,"","","",{"v":0,"d":"0.00"},null,""]
["","","",{"$nulls":51},{"$f":"IF($AU$38<>\"\",\"zie hierboven\",IF(AJ215=\"auto\",IF(AND((D215>'km-vergoeding'!$A$4),(D215<'km-vergoeding'!$A$5)),'km-vergoeding'!$D$4,'km-vergoeding'!$D$5),0))","v":{"v":0,"d":"0.0000 "}},{"$nulls":7},{"v":0,"d":"0.00"},{"$nulls":6},{"$f":"IF($AU$38<>\"\",\"zie hierboven\",IF(AJ215=\"fiets\",'km-vergoeding'!$D$3,0))","v":{"v":0,"d":"0.00"}},{"$nulls":7},{"v":0,"d":"0.00"},{"$nulls":12},{"v":0,"d":"0.00"},{"$nulls":5},{"v":0,"d":"0.00"},{"$nulls":5},"","",null,"","","",{"v":0,"d":"0.00"},null,""]
["","","",{"$nulls":51},{"$f":"IF($AU$38<>\"\",\"zie hierboven\",IF(AJ216=\"auto\",IF(AND((D216>'km-vergoeding'!$A$4),(D216<'km-vergoeding'!$A$5)),'km-vergoeding'!$D$4,'km-vergoeding'!$D$5),0))","v":{"v":0,"d":"0.0000 "}},{"$nulls":7},{"v":0,"d":"0.00"},{"$nulls":6},{"$f":"IF($AU$38<>\"\",\"zie hierboven\",IF(AJ216=\"fiets\",'km-vergoeding'!$D$3,0))","v":{"v":0,"d":"0.00"}},{"$nulls":7},{"v":0,"d":"0.00"},{"$nulls":12},{"v":0,"d":"0.00"},{"$nulls":5},{"v":0,"d":"0.00"},{"$nulls":5},"","",null,"","","",{"v":0,"d":"0.00"},null,""]
["","","",{"$nulls":51},{"$f":"IF($AU$38<>\"\",\"zie hierboven\",IF(AJ217=\"auto\",IF(AND((D217>'km-vergoeding'!$A$4),(D217<'km-vergoeding'!$A$5)),'km-vergoeding'!$D$4,'km-vergoeding'!$D$5),0))","v":{"v":0,"d":"0.0000 "}},{"$nulls":7},{"v":0,"d":"0.00"},{"$nulls":6},{"$f":"IF($AU$38<>\"\",\"zie hierboven\",IF(AJ217=\"fiets\",'km-vergoeding'!$D$3,0))","v":{"v":0,"d":"0.00"}},{"$nulls":7},{"v":0,"d":"0.00"},{"$nulls":12},{"v":0,"d":"0.00"},{"$nulls":5},{"v":0,"d":"0.00"},{"$nulls":5},"","",null,"","","",{"v":0,"d":"0.00"},null,""]
["","","",{"$nulls":51},{"$f":"IF($AU$38<>\"\",\"zie hierboven\",IF(AJ218=\"auto\",IF(AND((D218>'km-vergoeding'!$A$4),(D218<'km-vergoeding'!$A$5)),'km-vergoeding'!$D$4,'km-vergoeding'!$D$5),0))","v":{"v":0,"d":"0.0000 "}},{"$nulls":7},{"v":0,"d":"0.00"},{"$nulls":6},{"$f":"IF($AU$38<>\"\",\"zie hierboven\",IF(AJ218=\"fiets\",'km-vergoeding'!$D$3,0))","v":{"v":0,"d":"0.00"}},{"$nulls":7},{"v":0,"d":"0.00"},{"$nulls":12},{"v":0,"d":"0.00"},{"$nulls":5},{"v":0,"d":"0.00"},{"$nulls":5},"","",null,"","","",{"v":0,"d":"0.00"},null,""]
["","","",{"$nulls":51},{"$f":"IF($AU$38<>\"\",\"zie hierboven\",IF(AJ219=\"auto\",IF(AND((D219>'km-vergoeding'!$A$4),(D219<'km-vergoeding'!$A$5)),'km-vergoeding'!$D$4,'km-vergoeding'!$D$5),0))","v":{"v":0,"d":"0.0000 "}},{"$nulls":7},{"v":0,"d":"0.00"},{"$nulls":6},{"$f":"IF($AU$38<>\"\",\"zie hierboven\",IF(AJ219=\"fiets\",'km-vergoeding'!$D$3,0))","v":{"v":0,"d":"0.00"}},{"$nulls":7},{"v":0,"d":"0.00"},{"$nulls":12},{"v":0,"d":"0.00"},{"$nulls":5},{"v":0,"d":"0.00"},{"$nulls":5},"","",null,"","","",{"v":0,"d":"0.00"},null,""]
["","","",{"$nulls":51},{"$f":"IF($AU$38<>\"\",\"zie hierboven\",IF(AJ220=\"auto\",IF(AND((D220>'km-vergoeding'!$A$4),(D220<'km-vergoeding'!$A$5)),'km-vergoeding'!$D$4,'km-vergoeding'!$D$5),0))","v":{"v":0,"d":"0.0000 "}},{"$nulls":7},{"v":0,"d":"0.00"},{"$nulls":6},{"$f":"IF($AU$38<>\"\",\"zie hierboven\",IF(AJ220=\"fiets\",'km-vergoeding'!$D$3,0))","v":{"v":0,"d":"0.00"}},{"$nulls":7},{"v":0,"d":"0.00"},{"$nulls":12},{"v":0,"d":"0.00"},{"$nulls":5},{"v":0,"d":"0.00"},{"$nulls":5},"","",null,"","","",{"v":0,"d":"0.00"},null,""]
["","","",{"$nulls":51},{"$f":"IF($AU$38<>\"\",\"zie hierboven\",IF(AJ221=\"auto\",IF(AND((D221>'km-vergoeding'!$A$4),(D221<'km-vergoeding'!$A$5)),'km-vergoeding'!$D$4,'km-vergoeding'!$D$5),0))","v":{"v":0,"d":"0.0000 "}},{"$nulls":7},{"v":0,"d":"0.00"},{"$nulls":6},{"$f":"IF($AU$38<>\"\",\"zie hierboven\",IF(AJ221=\"fiets\",'km-vergoeding'!$D$3,0))","v":{"v":0,"d":"0.00"}},{"$nulls":7},{"v":0,"d":"0.00"},{"$nulls":12},{"v":0,"d":"0.00"},{"$nulls":5},{"v":0,"d":"0.00"},{"$nulls":5},"","",null,"","","",{"v":0,"d":"0.00"},null,""]
["","","",{"$nulls":51},{"$f":"IF($AU$38<>\"\",\"zie hierboven\",IF(AJ222=\"auto\",IF(AND((D222>'km-vergoeding'!$A$4),(D222<'km-vergoeding'!$A$5)),'km-vergoeding'!$D$4,'km-vergoeding'!$D$5),0))","v":{"v":0,"d":"0.0000 "}},{"$nulls":7},{"v":0,"d":"0.00"},{"$nulls":6},{"$f":"IF($AU$38<>\"\",\"zie hierboven\",IF(AJ222=\"fiets\",'km-vergoeding'!$D$3,0))","v":{"v":0,"d":"0.00"}},{"$nulls":7},{"v":0,"d":"0.00"},{"$nulls":12},{"v":0,"d":"0.00"},{"$nulls":5},{"v":0,"d":"0.00"},{"$nulls":5},"","",null,"","","",{"v":0,"d":"0.00"},null,""]
["","","",{"$nulls":51},{"$f":"IF($AU$38<>\"\",\"zie hierboven\",IF(AJ223=\"auto\",IF(AND((D223>'km-vergoeding'!$A$4),(D223<'km-vergoeding'!$A$5)),'km-vergoeding'!$D$4,'km-vergoeding'!$D$5),0))","v":{"v":0,"d":"0.0000 "}},{"$nulls":7},{"v":0,"d":"0.00"},{"$nulls":6},{"$f":"IF($AU$38<>\"\",\"zie hierboven\",IF(AJ223=\"fiets\",'km-vergoeding'!$D$3,0))","v":{"v":0,"d":"0.00"}},{"$nulls":7},{"v":0,"d":"0.00"},{"$nulls":12},{"v":0,"d":"0.00"},{"$nulls":5},{"v":0,"d":"0.00"},{"$nulls":5},"","",null,"","","",{"v":0,"d":"0.00"},null,""]
["","","",{"$nulls":51},{"$f":"IF($AU$38<>\"\",\"zie hierboven\",IF(AJ224=\"auto\",IF(AND((D224>'km-vergoeding'!$A$4),(D224<'km-vergoeding'!$A$5)),'km-vergoeding'!$D$4,'km-vergoeding'!$D$5),0))","v":{"v":0,"d":"0.0000 "}},{"$nulls":7},{"v":0,"d":"0.00"},{"$nulls":6},{"$f":"IF($AU$38<>\"\",\"zie hierboven\",IF(AJ224=\"fiets\",'km-vergoeding'!$D$3,0))","v":{"v":0,"d":"0.00"}},{"$nulls":7},{"v":0,"d":"0.00"},{"$nulls":12},{"v":0,"d":"0.00"},{"$nulls":5},{"v":0,"d":"0.00"},{"$nulls":5},"","",null,"","","",{"v":0,"d":"0.00"},null,""]
["","","",{"$nulls":51},{"$f":"IF($AU$38<>\"\",\"zie hierboven\",IF(AJ225=\"auto\",IF(AND((D225>'km-vergoeding'!$A$4),(D225<'km-vergoeding'!$A$5)),'km-vergoeding'!$D$4,'km-vergoeding'!$D$5),0))","v":{"v":0,"d":"0.0000 "}},{"$nulls":7},{"v":0,"d":"0.00"},{"$nulls":6},{"$f":"IF($AU$38<>\"\",\"zie hierboven\",IF(AJ225=\"fiets\",'km-vergoeding'!$D$3,0))","v":{"v":0,"d":"0.00"}},{"$nulls":7},{"v":0,"d":"0.00"},{"$nulls":12},{"v":0,"d":"0.00"},{"$nulls":5},{"v":0,"d":"0.00"},{"$nulls":5},"","",null,"","","",{"v":0,"d":"0.00"},null,""]
["","","",{"$nulls":51},{"$f":"IF($AU$38<>\"\",\"zie hierboven\",IF(AJ226=\"auto\",IF(AND((D226>'km-vergoeding'!$A$4),(D226<'km-vergoeding'!$A$5)),'km-vergoeding'!$D$4,'km-vergoeding'!$D$5),0))","v":{"v":0,"d":"0.0000 "}},{"$nulls":7},{"v":0,"d":"0.00"},{"$nulls":6},{"$f":"IF($AU$38<>\"\",\"zie hierboven\",IF(AJ226=\"fiets\",'km-vergoeding'!$D$3,0))","v":{"v":0,"d":"0.00"}},{"$nulls":7},{"v":0,"d":"0.00"},{"$nulls":12},{"v":0,"d":"0.00"},{"$nulls":5},{"v":0,"d":"0.00"},{"$nulls":5},"","",null,"","","",{"v":0,"d":"0.00"},null,""]
["","","",{"$nulls":51},{"$f":"IF($AU$38<>\"\",\"zie hierboven\",IF(AJ227=\"auto\",IF(AND((D227>'km-vergoeding'!$A$4),(D227<'km-vergoeding'!$A$5)),'km-vergoeding'!$D$4,'km-vergoeding'!$D$5),0))","v":{"v":0,"d":"0.0000 "}},{"$nulls":7},{"v":0,"d":"0.00"},{"$nulls":6},{"$f":"IF($AU$38<>\"\",\"zie hierboven\",IF(AJ227=\"fiets\",'km-vergoeding'!$D$3,0))","v":{"v":0,"d":"0.00"}},{"$nulls":7},{"v":0,"d":"0.00"},{"$nulls":12},{"v":0,"d":"0.00"},{"$nulls":5},{"v":0,"d":"0.00"},{"$nulls":5},"","",null,"","","",{"v":0,"d":"0.00"},null,""]
["","","",{"$nulls":51},{"$f":"IF($AU$38<>\"\",\"zie hierboven\",IF(AJ228=\"auto\",IF(AND((D228>'km-vergoeding'!$A$4),(D228<'km-vergoeding'!$A$5)),'km-vergoeding'!$D$4,'km-vergoeding'!$D$5),0))","v":{"v":0,"d":"0.0000 "}},{"$nulls":7},{"v":0,"d":"0.00"},{"$nulls":6},{"$f":"IF($AU$38<>\"\",\"zie hierboven\",IF(AJ228=\"fiets\",'km-vergoeding'!$D$3,0))","v":{"v":0,"d":"0.00"}},{"$nulls":7},{"v":0,"d":"0.00"},{"$nulls":12},{"v":0,"d":"0.00"},{"$nulls":5},{"v":0,"d":"0.00"},{"$nulls":5},"","",null,"","","",{"v":0,"d":"0.00"},null,""]
["","","",{"$nulls":51},{"$f":"IF($AU$38<>\"\",\"zie hierboven\",IF(AJ229=\"auto\",IF(AND((D229>'km-vergoeding'!$A$4),(D229<'km-vergoeding'!$A$5)),'km-vergoeding'!$D$4,'km-vergoeding'!$D$5),0))","v":{"v":0,"d":"0.0000 "}},{"$nulls":7},{"v":0,"d":"0.00"},{"$nulls":6},{"$f":"IF($AU$38<>\"\",\"zie hierboven\",IF(AJ229=\"fiets\",'km-vergoeding'!$D$3,0))","v":{"v":0,"d":"0.00"}},{"$nulls":7},{"v":0,"d":"0.00"},{"$nulls":12},{"v":0,"d":"0.00"},{"$nulls":5},{"v":0,"d":"0.00"},{"$nulls":5},"","",null,"","","",{"v":0,"d":"0.00"},null,""]
["","","",{"$nulls":51},{"$f":"IF($AU$38<>\"\",\"zie hierboven\",IF(AJ230=\"auto\",IF(AND((D230>'km-vergoeding'!$A$4),(D230<'km-vergoeding'!$A$5)),'km-vergoeding'!$D$4,'km-vergoeding'!$D$5),0))","v":{"v":0,"d":"0.0000 "}},{"$nulls":7},{"v":0,"d":"0.00"},{"$nulls":6},{"$f":"IF($AU$38<>\"\",\"zie hierboven\",IF(AJ230=\"fiets\",'km-vergoeding'!$D$3,0))","v":{"v":0,"d":"0.00"}},{"$nulls":7},{"v":0,"d":"0.00"},{"$nulls":12},{"v":0,"d":"0.00"},{"$nulls":5},{"v":0,"d":"0.00"},{"$nulls":5},"","",null,"","","",{"v":0,"d":"0.00"},null,""]
["","","",{"$nulls":51},{"$f":"IF($AU$38<>\"\",\"zie hierboven\",IF(AJ231=\"auto\",IF(AND((D231>'km-vergoeding'!$A$4),(D231<'km-vergoeding'!$A$5)),'km-vergoeding'!$D$4,'km-vergoeding'!$D$5),0))","v":{"v":0,"d":"0.0000 "}},{"$nulls":7},{"v":0,"d":"0.00"},{"$nulls":6},{"$f":"IF($AU$38<>\"\",\"zie hierboven\",IF(AJ231=\"fiets\",'km-vergoeding'!$D$3,0))","v":{"v":0,"d":"0.00"}},{"$nulls":7},{"v":0,"d":"0.00"},{"$nulls":12},{"v":0,"d":"0.00"},{"$nulls":5},{"v":0,"d":"0.00"},{"$nulls":5},"","",null,"","","",{"v":0,"d":"0.00"},null,""]
["","","",{"$nulls":51},{"$f":"IF($AU$38<>\"\",\"zie hierboven\",IF(AJ232=\"auto\",IF(AND((D232>'km-vergoeding'!$A$4),(D232<'km-vergoeding'!$A$5)),'km-vergoeding'!$D$4,'km-vergoeding'!$D$5),0))","v":{"v":0,"d":"0.0000 "}},{"$nulls":7},{"v":0,"d":"0.00"},{"$nulls":6},{"$f":"IF($AU$38<>\"\",\"zie hierboven\",IF(AJ232=\"fiets\",'km-vergoeding'!$D$3,0))","v":{"v":0,"d":"0.00"}},{"$nulls":7},{"v":0,"d":"0.00"},{"$nulls":12},{"v":0,"d":"0.00"},{"$nulls":5},{"v":0,"d":"0.00"},{"$nulls":5},"","",null,"","","",{"v":0,"d":"0.00"},null,""]
["","","",{"$nulls":51},{"$f":"IF($AU$38<>\"\",\"zie hierboven\",IF(AJ233=\"auto\",IF(AND((D233>'km-vergoeding'!$A$4),(D233<'km-vergoeding'!$A$5)),'km-vergoeding'!$D$4,'km-vergoeding'!$D$5),0))","v":{"v":0,"d":"0.0000 "}},{"$nulls":7},{"v":0,"d":"0.00"},{"$nulls":6},{"$f":"IF($AU$38<>\"\",\"zie hierboven\",IF(AJ233=\"fiets\",'km-vergoeding'!$D$3,0))","v":{"v":0,"d":"0.00"}},{"$nulls":7},{"v":0,"d":"0.00"},{"$nulls":12},{"v":0,"d":"0.00"},{"$nulls":5},{"v":0,"d":"0.00"},{"$nulls":5},"","",null,"","","",{"v":0,"d":"0.00"},null,""]
["","","",{"$nulls":51},{"$f":"IF($AU$38<>\"\",\"zie hierboven\",IF(AJ234=\"auto\",IF(AND((D234>'km-vergoeding'!$A$4),(D234<'km-vergoeding'!$A$5)),'km-vergoeding'!$D$4,'km-vergoeding'!$D$5),0))","v":{"v":0,"d":"0.0000 "}},{"$nulls":7},{"v":0,"d":"0.00"},{"$nulls":6},{"$f":"IF($AU$38<>\"\",\"zie hierboven\",IF(AJ234=\"fiets\",'km-vergoeding'!$D$3,0))","v":{"v":0,"d":"0.00"}},{"$nulls":7},{"v":0,"d":"0.00"},{"$nulls":12},{"v":0,"d":"0.00"},{"$nulls":5},{"v":0,"d":"0.00"},{"$nulls":5},"","",null,"","","",{"v":0,"d":"0.00"},null,""]
["","","",{"$nulls":51},{"$f":"IF($AU$38<>\"\",\"zie hierboven\",IF(AJ235=\"auto\",IF(AND((D235>'km-vergoeding'!$A$4),(D235<'km-vergoeding'!$A$5)),'km-vergoeding'!$D$4,'km-vergoeding'!$D$5),0))","v":{"v":0,"d":"0.0000 "}},{"$nulls":7},{"v":0,"d":"0.00"},{"$nulls":6},{"$f":"IF($AU$38<>\"\",\"zie hierboven\",IF(AJ235=\"fiets\",'km-vergoeding'!$D$3,0))","v":{"v":0,"d":"0.00"}},{"$nulls":7},{"v":0,"d":"0.00"},{"$nulls":12},{"v":0,"d":"0.00"},{"$nulls":5},{"v":0,"d":"0.00"},{"$nulls":5},"","",null,"","","",{"v":0,"d":"0.00"},null,""]
["","","",{"$nulls":51},{"$f":"IF($AU$38<>\"\",\"zie hierboven\",IF(AJ236=\"auto\",IF(AND((D236>'km-vergoeding'!$A$4),(D236<'km-vergoeding'!$A$5)),'km-vergoeding'!$D$4,'km-vergoeding'!$D$5),0))","v":{"v":0,"d":"0.0000 "}},{"$nulls":7},{"v":0,"d":"0.00"},{"$nulls":6},{"$f":"IF($AU$38<>\"\",\"zie hierboven\",IF(AJ236=\"fiets\",'km-vergoeding'!$D$3,0))","v":{"v":0,"d":"0.00"}},{"$nulls":7},{"v":0,"d":"0.00"},{"$nulls":12},{"v":0,"d":"0.00"},{"$nulls":5},{"v":0,"d":"0.00"},{"$nulls":5},"","",null,"","","",{"v":0,"d":"0.00"},null,""]
["","","",{"$nulls":51},{"$f":"IF($AU$38<>\"\",\"zie hierboven\",IF(AJ237=\"auto\",IF(AND((D237>'km-vergoeding'!$A$4),(D237<'km-vergoeding'!$A$5)),'km-vergoeding'!$D$4,'km-vergoeding'!$D$5),0))","v":{"v":0,"d":"0.0000 "}},{"$nulls":7},{"v":0,"d":"0.00"},{"$nulls":6},{"$f":"IF($AU$38<>\"\",\"zie hierboven\",IF(AJ237=\"fiets\",'km-vergoeding'!$D$3,0))","v":{"v":0,"d":"0.00"}},{"$nulls":7},{"v":0,"d":"0.00"},{"$nulls":12},{"v":0,"d":"0.00"},{"$nulls":5},{"v":0,"d":"0.00"},{"$nulls":5},"","",null,"","","",{"v":0,"d":"0.00"},null,""]
["","","",{"$nulls":51},{"$f":"IF($AU$38<>\"\",\"zie hierboven\",IF(AJ238=\"auto\",IF(AND((D238>'km-vergoeding'!$A$4),(D238<'km-vergoeding'!$A$5)),'km-vergoeding'!$D$4,'km-vergoeding'!$D$5),0))","v":{"v":0,"d":"0.0000 "}},{"$nulls":7},{"v":0,"d":"0.00"},{"$nulls":6},{"$f":"IF($AU$38<>\"\",\"zie hierboven\",IF(AJ238=\"fiets\",'km-vergoeding'!$D$3,0))","v":{"v":0,"d":"0.00"}},{"$nulls":7},{"v":0,"d":"0.00"},{"$nulls":12},{"v":0,"d":"0.00"},{"$nulls":5},{"v":0,"d":"0.00"},{"$nulls":5},"","",null,"","","",{"v":0,"d":"0.00"},null,""]
["","","",{"$nulls":51},{"$f":"IF($AU$38<>\"\",\"zie hierboven\",IF(AJ239=\"auto\",IF(AND((D239>'km-vergoeding'!$A$4),(D239<'km-vergoeding'!$A$5)),'km-vergoeding'!$D$4,'km-vergoeding'!$D$5),0))","v":{"v":0,"d":"0.0000 "}},{"$nulls":7},{"v":0,"d":"0.00"},{"$nulls":6},{"$f":"IF($AU$38<>\"\",\"zie hierboven\",IF(AJ239=\"fiets\",'km-vergoeding'!$D$3,0))","v":{"v":0,"d":"0.00"}},{"$nulls":7},{"v":0,"d":"0.00"},{"$nulls":12},{"v":0,"d":"0.00"},{"$nulls":5},{"v":0,"d":"0.00"},{"$nulls":5},"","",null,"","","",{"v":0,"d":"0.00"},null,""]
["","","",{"$nulls":51},{"$f":"IF($AU$38<>\"\",\"zie hierboven\",IF(AJ240=\"auto\",IF(AND((D240>'km-vergoeding'!$A$4),(D240<'km-vergoeding'!$A$5)),'km-vergoeding'!$D$4,'km-vergoeding'!$D$5),0))","v":{"v":0,"d":"0.0000 "}},{"$nulls":7},{"v":0,"d":"0.00"},{"$nulls":6},{"$f":"IF($AU$38<>\"\",\"zie hierboven\",IF(AJ240=\"fiets\",'km-vergoeding'!$D$3,0))","v":{"v":0,"d":"0.00"}},{"$nulls":7},{"v":0,"d":"0.00"},{"$nulls":12},{"v":0,"d":"0.00"},{"$nulls":5},{"v":0,"d":"0.00"},{"$nulls":5},"","",null,"","","",{"v":0,"d":"0.00"},null,""]
["","","",{"$nulls":51},{"$f":"IF($AU$38<>\"\",\"zie hierboven\",IF(AJ241=\"auto\",IF(AND((D241>'km-vergoeding'!$A$4),(D241<'km-vergoeding'!$A$5)),'km-vergoeding'!$D$4,'km-vergoeding'!$D$5),0))","v":{"v":0,"d":"0.0000 "}},{"$nulls":7},{"v":0,"d":"0.00"},{"$nulls":6},{"$f":"IF($AU$38<>\"\",\"zie hierboven\",IF(AJ241=\"fiets\",'km-vergoeding'!$D$3,0))","v":{"v":0,"d":"0.00"}},{"$nulls":7},{"v":0,"d":"0.00"},{"$nulls":12},{"v":0,"d":"0.00"},{"$nulls":5},{"v":0,"d":"0.00"},{"$nulls":5},"","",null,"","","",{"v":0,"d":"0.00"},null,""]
["","","",{"$nulls":51},{"$f":"IF($AU$38<>\"\",\"zie hierboven\",IF(AJ242=\"auto\",IF(AND((D242>'km-vergoeding'!$A$4),(D242<'km-vergoeding'!$A$5)),'km-vergoeding'!$D$4,'km-vergoeding'!$D$5),0))","v":{"v":0,"d":"0.0000 "}},{"$nulls":7},{"v":0,"d":"0.00"},{"$nulls":6},{"$f":"IF($AU$38<>\"\",\"zie hierboven\",IF(AJ242=\"fiets\",'km-vergoeding'!$D$3,0))","v":{"v":0,"d":"0.00"}},{"$nulls":7},{"v":0,"d":"0.00"},{"$nulls":12},{"v":0,"d":"0.00"},{"$nulls":5},{"v":0,"d":"0.00"},{"$nulls":5},"","",null,"","","",{"v":0,"d":"0.00"},null,""]
["","","",{"$nulls":51},{"$f":"IF($AU$38<>\"\",\"zie hierboven\",IF(AJ243=\"auto\",IF(AND((D243>'km-vergoeding'!$A$4),(D243<'km-vergoeding'!$A$5)),'km-vergoeding'!$D$4,'km-vergoeding'!$D$5),0))","v":{"v":0,"d":"0.0000 "}},{"$nulls":7},{"v":0,"d":"0.00"},{"$nulls":6},{"$f":"IF($AU$38<>\"\",\"zie hierboven\",IF(AJ243=\"fiets\",'km-vergoeding'!$D$3,0))","v":{"v":0,"d":"0.00"}},{"$nulls":7},{"v":0,"d":"0.00"},{"$nulls":12},{"v":0,"d":"0.00"},{"$nulls":5},{"v":0,"d":"0.00"},{"$nulls":5},"","",null,"","","",{"v":0,"d":"0.00"},null,""]
["","","",{"$nulls":51},{"$f":"IF($AU$38<>\"\",\"zie hierboven\",IF(AJ244=\"auto\",IF(AND((D244>'km-vergoeding'!$A$4),(D244<'km-vergoeding'!$A$5)),'km-vergoeding'!$D$4,'km-vergoeding'!$D$5),0))","v":{"v":0,"d":"0.0000 "}},{"$nulls":7},{"v":0,"d":"0.00"},{"$nulls":6},{"$f":"IF($AU$38<>\"\",\"zie hierboven\",IF(AJ244=\"fiets\",'km-vergoeding'!$D$3,0))","v":{"v":0,"d":"0.00"}},{"$nulls":7},{"v":0,"d":"0.00"},{"$nulls":12},{"v":0,"d":"0.00"},{"$nulls":5},{"v":0,"d":"0.00"},{"$nulls":5},"","",null,"","","",{"v":0,"d":"0.00"},null,""]
["","","",{"$nulls":51},{"$f":"IF($AU$38<>\"\",\"zie hierboven\",IF(AJ245=\"auto\",IF(AND((D245>'km-vergoeding'!$A$4),(D245<'km-vergoeding'!$A$5)),'km-vergoeding'!$D$4,'km-vergoeding'!$D$5),0))","v":{"v":0,"d":"0.0000 "}},{"$nulls":7},{"v":0,"d":"0.00"},{"$nulls":6},{"$f":"IF($AU$38<>\"\",\"zie hierboven\",IF(AJ245=\"fiets\",'km-vergoeding'!$D$3,0))","v":{"v":0,"d":"0.00"}},{"$nulls":7},{"v":0,"d":"0.00"},{"$nulls":12},{"v":0,"d":"0.00"},{"$nulls":5},{"v":0,"d":"0.00"},{"$nulls":5},"","",null,"","","",{"v":0,"d":"0.00"},null,""]
["","","",{"$nulls":51},{"$f":"IF($AU$38<>\"\",\"zie hierboven\",IF(AJ246=\"auto\",IF(AND((D246>'km-vergoeding'!$A$4),(D246<'km-vergoeding'!$A$5)),'km-vergoeding'!$D$4,'km-vergoeding'!$D$5),0))","v":{"v":0,"d":"0.0000 "}},{"$nulls":7},{"v":0,"d":"0.00"},{"$nulls":6},{"$f":"IF($AU$38<>\"\",\"zie hierboven\",IF(AJ246=\"fiets\",'km-vergoeding'!$D$3,0))","v":{"v":0,"d":"0.00"}},{"$nulls":7},{"v":0,"d":"0.00"},{"$nulls":12},{"v":0,"d":"0.00"},{"$nulls":5},{"v":0,"d":"0.00"},{"$nulls":5},"","",null,"","","",{"v":0,"d":"0.00"},null,""]
["","","",{"$nulls":51},{"$f":"IF($AU$38<>\"\",\"zie hierboven\",IF(AJ247=\"auto\",IF(AND((D247>'km-vergoeding'!$A$4),(D247<'km-vergoeding'!$A$5)),'km-vergoeding'!$D$4,'km-vergoeding'!$D$5),0))","v":{"v":0,"d":"0.0000 "}},{"$nulls":7},{"v":0,"d":"0.00"},{"$nulls":6},{"$f":"IF($AU$38<>\"\",\"zie hierboven\",IF(AJ247=\"fiets\",'km-vergoeding'!$D$3,0))","v":{"v":0,"d":"0.00"}},{"$nulls":7},{"v":0,"d":"0.00"},{"$nulls":12},{"v":0,"d":"0.00"},{"$nulls":5},{"v":0,"d":"0.00"},{"$nulls":5},"","",null,"","","",{"v":0,"d":"0.00"},null,""]
["","","",{"$nulls":51},{"$f":"IF($AU$38<>\"\",\"zie hierboven\",IF(AJ248=\"auto\",IF(AND((D248>'km-vergoeding'!$A$4),(D248<'km-vergoeding'!$A$5)),'km-vergoeding'!$D$4,'km-vergoeding'!$D$5),0))","v":{"v":0,"d":"0.0000 "}},{"$nulls":7},{"v":0,"d":"0.00"},{"$nulls":6},{"$f":"IF($AU$38<>\"\",\"zie hierboven\",IF(AJ248=\"fiets\",'km-vergoeding'!$D$3,0))","v":{"v":0,"d":"0.00"}},{"$nulls":7},{"v":0,"d":"0.00"},{"$nulls":12},{"v":0,"d":"0.00"},{"$nulls":5},{"v":0,"d":"0.00"},{"$nulls":5},"","",null,"","","",{"v":0,"d":"0.00"},null,""]
["","","",{"$nulls":51},{"$f":"IF($AU$38<>\"\",\"zie hierboven\",IF(AJ249=\"auto\",IF(AND((D249>'km-vergoeding'!$A$4),(D249<'km-vergoeding'!$A$5)),'km-vergoeding'!$D$4,'km-vergoeding'!$D$5),0))","v":{"v":0,"d":"0.0000 "}},{"$nulls":7},{"v":0,"d":"0.00"},{"$nulls":6},{"$f":"IF($AU$38<>\"\",\"zie hierboven\",IF(AJ249=\"fiets\",'km-vergoeding'!$D$3,0))","v":{"v":0,"d":"0.00"}},{"$nulls":7},{"v":0,"d":"0.00"},{"$nulls":12},{"v":0,"d":"0.00"},{"$nulls":5},{"v":0,"d":"0.00"},{"$nulls":5},"","",null,"","","",{"v":0,"d":"0.00"},null,""]
["","","",{"$nulls":51},{"$f":"IF($AU$38<>\"\",\"zie hierboven\",IF(AJ250=\"auto\",IF(AND((D250>'km-vergoeding'!$A$4),(D250<'km-vergoeding'!$A$5)),'km-vergoeding'!$D$4,'km-vergoeding'!$D$5),0))","v":{"v":0,"d":"0.0000 "}},{"$nulls":7},{"v":0,"d":"0.00"},{"$nulls":6},{"$f":"IF($AU$38<>\"\",\"zie hierboven\",IF(AJ250=\"fiets\",'km-vergoeding'!$D$3,0))","v":{"v":0,"d":"0.00"}},{"$nulls":7},{"v":0,"d":"0.00"},{"$nulls":12},{"v":0,"d":"0.00"},{"$nulls":5},{"v":0,"d":"0.00"},{"$nulls":5},"","",null,"","","",{"v":0,"d":"0.00"},null,""]
["","","",{"$nulls":51},{"$f":"IF($AU$38<>\"\",\"zie hierboven\",IF(AJ251=\"auto\",IF(AND((D251>'km-vergoeding'!$A$4),(D251<'km-vergoeding'!$A$5)),'km-vergoeding'!$D$4,'km-vergoeding'!$D$5),0))","v":{"v":0,"d":"0.0000 "}},{"$nulls":7},{"v":0,"d":"0.00"},{"$nulls":6},{"$f":"IF($AU$38<>\"\",\"zie hierboven\",IF(AJ251=\"fiets\",'km-vergoeding'!$D$3,0))","v":{"v":0,"d":"0.00"}},{"$nulls":7},{"v":0,"d":"0.00"},{"$nulls":12},{"v":0,"d":"0.00"},{"$nulls":5},{"v":0,"d":"0.00"},{"$nulls":5},"","",null,"","","",{"v":0,"d":"0.00"},null,""]
["","","",{"$nulls":51},{"$f":"IF($AU$38<>\"\",\"zie hierboven\",IF(AJ252=\"auto\",IF(AND((D252>'km-vergoeding'!$A$4),(D252<'km-vergoeding'!$A$5)),'km-vergoeding'!$D$4,'km-vergoeding'!$D$5),0))","v":{"v":0,"d":"0.0000 "}},{"$nulls":7},{"v":0,"d":"0.00"},{"$nulls":6},{"$f":"IF($AU$38<>\"\",\"zie hierboven\",IF(AJ252=\"fiets\",'km-vergoeding'!$D$3,0))","v":{"v":0,"d":"0.00"}},{"$nulls":7},{"v":0,"d":"0.00"},{"$nulls":12},{"v":0,"d":"0.00"},{"$nulls":5},{"v":0,"d":"0.00"},{"$nulls":5},"","",null,"","","",{"v":0,"d":"0.00"},null,""]
["","","",{"$nulls":51},{"$f":"IF($AU$38<>\"\",\"zie hierboven\",IF(AJ253=\"auto\",IF(AND((D253>'km-vergoeding'!$A$4),(D253<'km-vergoeding'!$A$5)),'km-vergoeding'!$D$4,'km-vergoeding'!$D$5),0))","v":{"v":0,"d":"0.0000 "}},{"$nulls":7},{"v":0,"d":"0.00"},{"$nulls":6},{"$f":"IF($AU$38<>\"\",\"zie hierboven\",IF(AJ253=\"fiets\",'km-vergoeding'!$D$3,0))","v":{"v":0,"d":"0.00"}},{"$nulls":7},{"v":0,"d":"0.00"},{"$nulls":12},{"v":0,"d":"0.00"},{"$nulls":5},{"v":0,"d":"0.00"},{"$nulls":5},"","",null,"","","",{"v":0,"d":"0.00"},null,""]
["","","",{"$nulls":51},{"$f":"IF($AU$38<>\"\",\"zie hierboven\",IF(AJ254=\"auto\",IF(AND((D254>'km-vergoeding'!$A$4),(D254<'km-vergoeding'!$A$5)),'km-vergoeding'!$D$4,'km-vergoeding'!$D$5),0))","v":{"v":0,"d":"0.0000 "}},{"$nulls":7},{"v":0,"d":"0.00"},{"$nulls":6},{"$f":"IF($AU$38<>\"\",\"zie hierboven\",IF(AJ254=\"fiets\",'km-vergoeding'!$D$3,0))","v":{"v":0,"d":"0.00"}},{"$nulls":7},{"v":0,"d":"0.00"},{"$nulls":12},{"v":0,"d":"0.00"},{"$nulls":5},{"v":0,"d":"0.00"},{"$nulls":5},"","",null,"","","",{"v":0,"d":"0.00"},null,""]
["","","",{"$nulls":51},{"$f":"IF($AU$38<>\"\",\"zie hierboven\",IF(AJ255=\"auto\",IF(AND((D255>'km-vergoeding'!$A$4),(D255<'km-vergoeding'!$A$5)),'km-vergoeding'!$D$4,'km-vergoeding'!$D$5),0))","v":{"v":0,"d":"0.0000 "}},{"$nulls":7},{"v":0,"d":"0.00"},{"$nulls":6},{"$f":"IF($AU$38<>\"\",\"zie hierboven\",IF(AJ255=\"fiets\",'km-vergoeding'!$D$3,0))","v":{"v":0,"d":"0.00"}},{"$nulls":7},{"v":0,"d":"0.00"},{"$nulls":12},{"v":0,"d":"0.00"},{"$nulls":5},{"v":0,"d":"0.00"},{"$nulls":5},"","",null,"","","",{"v":0,"d":"0.00"},null,""]
["","","",{"$nulls":51},{"$f":"IF($AU$38<>\"\",\"zie hierboven\",IF(AJ256=\"auto\",IF(AND((D256>'km-vergoeding'!$A$4),(D256<'km-vergoeding'!$A$5)),'km-vergoeding'!$D$4,'km-vergoeding'!$D$5),0))","v":{"v":0,"d":"0.0000 "}},{"$nulls":7},{"v":0,"d":"0.00"},{"$nulls":6},{"$f":"IF($AU$38<>\"\",\"zie hierboven\",IF(AJ256=\"fiets\",'km-vergoeding'!$D$3,0))","v":{"v":0,"d":"0.00"}},{"$nulls":7},{"v":0,"d":"0.00"},{"$nulls":12},{"v":0,"d":"0.00"},{"$nulls":5},{"v":0,"d":"0.00"},{"$nulls":5},"","",null,"","","",{"v":0,"d":"0.00"},null,""]
["","","",{"$nulls":51},{"$f":"IF($AU$38<>\"\",\"zie hierboven\",IF(AJ257=\"auto\",IF(AND((D257>'km-vergoeding'!$A$4),(D257<'km-vergoeding'!$A$5)),'km-vergoeding'!$D$4,'km-vergoeding'!$D$5),0))","v":{"v":0,"d":"0.0000 "}},{"$nulls":7},{"v":0,"d":"0.00"},{"$nulls":6},{"$f":"IF($AU$38<>\"\",\"zie hierboven\",IF(AJ257=\"fiets\",'km-vergoeding'!$D$3,0))","v":{"v":0,"d":"0.00"}},{"$nulls":7},{"v":0,"d":"0.00"},{"$nulls":12},{"v":0,"d":"0.00"},{"$nulls":5},{"v":0,"d":"0.00"},{"$nulls":5},"","",null,"","","",{"v":0,"d":"0.00"},null,""]
["","","",{"$nulls":51},{"$f":"IF($AU$38<>\"\",\"zie hierboven\",IF(AJ258=\"auto\",IF(AND((D258>'km-vergoeding'!$A$4),(D258<'km-vergoeding'!$A$5)),'km-vergoeding'!$D$4,'km-vergoeding'!$D$5),0))","v":{"v":0,"d":"0.0000 "}},{"$nulls":7},{"v":0,"d":"0.00"},{"$nulls":6},{"$f":"IF($AU$38<>\"\",\"zie hierboven\",IF(AJ258=\"fiets\",'km-vergoeding'!$D$3,0))","v":{"v":0,"d":"0.00"}},{"$nulls":7},{"v":0,"d":"0.00"},{"$nulls":12},{"v":0,"d":"0.00"},{"$nulls":5},{"v":0,"d":"0.00"},{"$nulls":5},"","",null,"","","",{"v":0,"d":"0.00"},null,""]
["","","",{"$nulls":51},{"$f":"IF($AU$38<>\"\",\"zie hierboven\",IF(AJ259=\"auto\",IF(AND((D259>'km-vergoeding'!$A$4),(D259<'km-vergoeding'!$A$5)),'km-vergoeding'!$D$4,'km-vergoeding'!$D$5),0))","v":{"v":0,"d":"0.0000 "}},{"$nulls":7},{"v":0,"d":"0.00"},{"$nulls":6},{"$f":"IF($AU$38<>\"\",\"zie hierboven\",IF(AJ259=\"fiets\",'km-vergoeding'!$D$3,0))","v":{"v":0,"d":"0.00"}},{"$nulls":7},{"v":0,"d":"0.00"},{"$nulls":12},{"v":0,"d":"0.00"},{"$nulls":5},{"v":0,"d":"0.00"},{"$nulls":5},"","",null,"","","",{"v":0,"d":"0.00"},null,""]
["","","",{"$nulls":51},{"$f":"IF($AU$38<>\"\",\"zie hierboven\",IF(AJ260=\"auto\",IF(AND((D260>'km-vergoeding'!$A$4),(D260<'km-vergoeding'!$A$5)),'km-vergoeding'!$D$4,'km-vergoeding'!$D$5),0))","v":{"v":0,"d":"0.0000 "}},{"$nulls":7},{"v":0,"d":"0.00"},{"$nulls":6},{"$f":"IF($AU$38<>\"\",\"zie hierboven\",IF(AJ260=\"fiets\",'km-vergoeding'!$D$3,0))","v":{"v":0,"d":"0.00"}},{"$nulls":7},{"v":0,"d":"0.00"},{"$nulls":12},{"v":0,"d":"0.00"},{"$nulls":5},{"v":0,"d":"0.00"},{"$nulls":5},"","",null,"","","",{"v":0,"d":"0.00"},null,""]
["","","",{"$nulls":51},{"$f":"IF($AU$38<>\"\",\"zie hierboven\",IF(AJ261=\"auto\",IF(AND((D261>'km-vergoeding'!$A$4),(D261<'km-vergoeding'!$A$5)),'km-vergoeding'!$D$4,'km-vergoeding'!$D$5),0))","v":{"v":0,"d":"0.0000 "}},{"$nulls":7},{"v":0,"d":"0.00"},{"$nulls":6},{"$f":"IF($AU$38<>\"\",\"zie hierboven\",IF(AJ261=\"fiets\",'km-vergoeding'!$D$3,0))","v":{"v":0,"d":"0.00"}},{"$nulls":7},{"v":0,"d":"0.00"},{"$nulls":12},{"v":0,"d":"0.00"},{"$nulls":5},{"v":0,"d":"0.00"},{"$nulls":5},"","",null,"","","",{"v":0,"d":"0.00"},null,""]
["","","",{"$nulls":51},{"$f":"IF($AU$38<>\"\",\"zie hierboven\",IF(AJ262=\"auto\",IF(AND((D262>'km-vergoeding'!$A$4),(D262<'km-vergoeding'!$A$5)),'km-vergoeding'!$D$4,'km-vergoeding'!$D$5),0))","v":{"v":0,"d":"0.0000 "}},{"$nulls":7},{"v":0,"d":"0.00"},{"$nulls":6},{"$f":"IF($AU$38<>\"\",\"zie hierboven\",IF(AJ262=\"fiets\",'km-vergoeding'!$D$3,0))","v":{"v":0,"d":"0.00"}},{"$nulls":7},{"v":0,"d":"0.00"},{"$nulls":12},{"v":0,"d":"0.00"},{"$nulls":5},{"v":0,"d":"0.00"},{"$nulls":5},"","",null,"","","",{"v":0,"d":"0.00"},null,""]
["","","",{"$nulls":51},{"$f":"IF($AU$38<>\"\",\"zie hierboven\",IF(AJ263=\"auto\",IF(AND((D263>'km-vergoeding'!$A$4),(D263<'km-vergoeding'!$A$5)),'km-vergoeding'!$D$4,'km-vergoeding'!$D$5),0))","v":{"v":0,"d":"0.0000 "}},{"$nulls":7},{"v":0,"d":"0.00"},{"$nulls":6},{"$f":"IF($AU$38<>\"\",\"zie hierboven\",IF(AJ263=\"fiets\",'km-vergoeding'!$D$3,0))","v":{"v":0,"d":"0.00"}},{"$nulls":7},{"v":0,"d":"0.00"},{"$nulls":12},{"v":0,"d":"0.00"},{"$nulls":5},{"v":0,"d":"0.00"},{"$nulls":5},"","",null,"","","",{"v":0,"d":"0.00"},null,""]
["","","",{"$nulls":51},{"$f":"IF($AU$38<>\"\",\"zie hierboven\",IF(AJ264=\"auto\",IF(AND((D264>'km-vergoeding'!$A$4),(D264<'km-vergoeding'!$A$5)),'km-vergoeding'!$D$4,'km-vergoeding'!$D$5),0))","v":{"v":0,"d":"0.0000 "}},{"$nulls":7},{"v":0,"d":"0.00"},{"$nulls":6},{"$f":"IF($AU$38<>\"\",\"zie hierboven\",IF(AJ264=\"fiets\",'km-vergoeding'!$D$3,0))","v":{"v":0,"d":"0.00"}},{"$nulls":7},{"v":0,"d":"0.00"},{"$nulls":12},{"v":0,"d":"0.00"},{"$nulls":5},{"v":0,"d":"0.00"},{"$nulls":5},"","",null,"","","",{"v":0,"d":"0.00"},null,""]
["","","",{"$nulls":51},{"$f":"IF($AU$38<>\"\",\"zie hierboven\",IF(AJ265=\"auto\",IF(AND((D265>'km-vergoeding'!$A$4),(D265<'km-vergoeding'!$A$5)),'km-vergoeding'!$D$4,'km-vergoeding'!$D$5),0))","v":{"v":0,"d":"0.0000 "}},{"$nulls":7},{"v":0,"d":"0.00"},{"$nulls":6},{"$f":"IF($AU$38<>\"\",\"zie hierboven\",IF(AJ265=\"fiets\",'km-vergoeding'!$D$3,0))","v":{"v":0,"d":"0.00"}},{"$nulls":7},{"v":0,"d":"0.00"},{"$nulls":12},{"v":0,"d":"0.00"},{"$nulls":5},{"v":0,"d":"0.00"},{"$nulls":5},"","",null,"","","",{"v":0,"d":"0.00"},null,""]
["","","",{"$nulls":51},{"$f":"IF($AU$38<>\"\",\"zie hierboven\",IF(AJ266=\"auto\",IF(AND((D266>'km-vergoeding'!$A$4),(D266<'km-vergoeding'!$A$5)),'km-vergoeding'!$D$4,'km-vergoeding'!$D$5),0))","v":{"v":0,"d":"0.0000 "}},{"$nulls":7},{"v":0,"d":"0.00"},{"$nulls":6},{"$f":"IF($AU$38<>\"\",\"zie hierboven\",IF(AJ266=\"fiets\",'km-vergoeding'!$D$3,0))","v":{"v":0,"d":"0.00"}},{"$nulls":7},{"v":0,"d":"0.00"},{"$nulls":12},{"v":0,"d":"0.00"},{"$nulls":5},{"v":0,"d":"0.00"},{"$nulls":5},"","",null,"","","",{"v":0,"d":"0.00"},null,""]
[{"$f":"IF(OR(AND(D267<>\"\",H267=\"\"),AND(H267<>\"\",R267=\"\"),AND(R267<>\"\",H267=\"\"),AND(R267<>\"\",X267=\"\"),AND(X267<>\"\",R267=\"\")),\"!\",\"\")","v":""},{"$f":"IF(OR(AND(ISBLANK(D267),OR(H267<>\"\",R267<>\"\",X267<>\"\",AJ267<>\"\",AR267<>\"\",AY267<>\"\",CG267<>\"\"))),\"!\",\"\")","v":""},{"$f":"IF(AND(CG267=0,AJ267<>\"openbaar vervoer\",OR(AND(OR(AJ267=\"auto\",AJ267=\"fiets\"),OR(AR267=\"\",AR267=0)),AND(AR267>0,AY267=\"\"),AND(AR267=\"\",AY267>0),AND(AR267>0,AJ267=\"\"))),\"!\",\"\")","v":""},{"$nulls":51},{"$f":"IF($AU$38<>\"\",\"zie hierboven\",IF(AJ267=\"auto\",IF(AND((D267>'km-vergoeding'!$A$4),(D267<'km-vergoeding'!$A$5)),'km-vergoeding'!$D$4,'km-vergoeding'!$D$5),0))","v":{"v":0,"d":"0.0000 "}},{"$nulls":7},{"v":0,"d":"0.00"},{"$nulls":6},{"$f":"IF($AU$38<>\"\",\"zie hierboven\",IF(AJ267=\"fiets\",'km-vergoeding'!$D$3,0))","v":{"v":0,"d":"0.00"}},{"$nulls":7},{"v":0,"d":"0.00"},{"$nulls":12},{"v":0,"d":"0.00"},{"$nulls":5},{"v":0,"d":"0.00"},{"$nulls":5},"","",null,"","","",{"v":0,"d":"0.00"},null,{"$f":"IF(AND(A267=\"\",B267=\"\",C267=\"\",CY267=\"\",CZ267=\"\",DB267=\"\",DC267=\"\",DD267=\"\"),\"\",\"Deze rij is nog onvolledig of bevat nog fouten! Zie foutmeldingen boven de tabel.\")","v":""}]
["","","",{"$nulls":51},{"$f":"IF($AU$38<>\"\",\"zie hierboven\",IF(AJ268=\"auto\",IF(AND((D268>'km-vergoeding'!$A$4),(D268<'km-vergoeding'!$A$5)),'km-vergoeding'!$D$4,'km-vergoeding'!$D$5),0))","v":{"v":0,"d":"0.0000 "}},{"$nulls":7},{"v":0,"d":"0.00"},{"$nulls":6},{"$f":"IF($AU$38<>\"\",\"zie hierboven\",IF(AJ268=\"fiets\",'km-vergoeding'!$D$3,0))","v":{"v":0,"d":"0.00"}},{"$nulls":7},{"v":0,"d":"0.00"},{"$nulls":12},{"v":0,"d":"0.00"},{"$nulls":5},{"$f":"IF(CM268=0,0,IF(CM269=0,DE268,0))","v":{"v":0,"d":"0.00"}},{"$nulls":5},{"$f":"IF(AND(OR((AJ268=\"fiets\"),(AJ268=\"auto\")),(CG268>0)),\"!\",\"\")","v":""},{"$f":"IF(OR(AND(D267<>\"\",D268=\"\",D269<>\"\"),AND(D267=\"\",D268=\"\",D269<>\"\")),\"!\",\"\")","v":""},null,{"$f":"IF(AND(AJ268=\"openbaar vervoer\",OR(AR268<>\"\",AY268<>\"\")),\"!\",\"\")","v":""},{"$f":"IF(AND(X268<>\"\",AND(AJ268=\"\",CM268=0)),\"!\",\"\")","v":""},{"$f":"IF(OR(AND(AJ268=\"openbaar vervoer\",CG268=0),AND(CG268>0,AJ268=\"\")),\"!\",\"\")","v":""},{"v":0,"d":"0.00"},null,""]
["","","",{"$nulls":51},{"$f":"IF($AU$38<>\"\",\"zie hierboven\",IF(AJ269=\"auto\",IF(AND((D269>'km-vergoeding'!$A$4),(D269<'km-vergoeding'!$A$5)),'km-vergoeding'!$D$4,'km-vergoeding'!$D$5),0))","v":{"v":0,"d":"0.0000 "}},{"$nulls":7},{"v":0,"d":"0.00"},{"$nulls":6},{"$f":"IF($AU$38<>\"\",\"zie hierboven\",IF(AJ269=\"fiets\",'km-vergoeding'!$D$3,0))","v":{"v":0,"d":"0.00"}},{"$nulls":7},{"v":0,"d":"0.00"},{"$nulls":12},{"v":0,"d":"0.00"},{"$nulls":5},{"v":0,"d":"0.00"},{"$nulls":5},"","",null,"","","",{"$f":"IF(CM269=0,DE268,DE268+CM269)","v":{"v":0,"d":"0.00"}},null,""]
["","","",{"$nulls":51},{"$f":"IF($AU$38<>\"\",\"zie hierboven\",IF(AJ270=\"auto\",IF(AND((D270>'km-vergoeding'!$A$4),(D270<'km-vergoeding'!$A$5)),'km-vergoeding'!$D$4,'km-vergoeding'!$D$5),0))","v":{"v":0,"d":"0.0000 "}},{"$nulls":7},{"$f":"IF(AJ270=\"auto\",ROUND(AR270*AY270*BC270,2),0)","v":{"v":0,"d":"0.00"}},{"$nulls":6},{"$f":"IF($AU$38<>\"\",\"zie hierboven\",IF(AJ270=\"fiets\",'km-vergoeding'!$D$3,0))","v":{"v":0,"d":"0.00"}},{"$nulls":7},{"$f":"IF(AJ270=\"fiets\",ROUND(AR270*AY270*BR270,2),0)","v":{"v":0,"d":"0.00"}},{"$nulls":12},{"$f":"IF(AND(OR((AJ270=\"fiets\"),(AJ270=\"auto\")),(CG270>0)),\"xxxx\",BK270+BZ270+CG270)","v":{"v":0,"d":"0.00"}},{"$nulls":5},{"v":0,"d":"0.00"},{"$nulls":5},"","",null,"","","",{"v":0,"d":"0.00"},null,""]
["","","",{"$nulls":51},{"$f":"IF($AU$38<>\"\",\"zie hierboven\",IF(AJ271=\"auto\",IF(AND((D271>'km-vergoeding'!$A$4),(D271<'km-vergoeding'!$A$5)),'km-vergoeding'!$D$4,'km-vergoeding'!$D$5),0))","v":{"v":0,"d":"0.0000 "}},{"$nulls":7},{"v":0,"d":"0.00"},{"$nulls":6},{"$f":"IF($AU$38<>\"\",\"zie hierboven\",IF(AJ271=\"fiets\",'km-vergoeding'!$D$3,0))","v":{"v":0,"d":"0.00"}},{"$nulls":7},{"v":0,"d":"0.00"},{"$nulls":12},{"v":0,"d":"0.00"},{"$nulls":5},{"v":0,"d":"0.00"},{"$nulls":5},"","",null,"","","",{"v":0,"d":"0.00"},null,""]
["","","",{"$nulls":51},{"$f":"IF($AU$38<>\"\",\"zie hierboven\",IF(AJ272=\"auto\",IF(AND((D272>'km-vergoeding'!$A$4),(D272<'km-vergoeding'!$A$5)),'km-vergoeding'!$D$4,'km-vergoeding'!$D$5),0))","v":{"v":0,"d":"0.0000 "}},{"$nulls":7},{"v":0,"d":"0.00"},{"$nulls":6},{"$f":"IF($AU$38<>\"\",\"zie hierboven\",IF(AJ272=\"fiets\",'km-vergoeding'!$D$3,0))","v":{"v":0,"d":"0.00"}},{"$nulls":7},{"v":0,"d":"0.00"},{"$nulls":12},{"v":0,"d":"0.00"},{"$nulls":5},{"v":0,"d":"0.00"},{"$nulls":5},"","",null,"","","",{"v":0,"d":"0.00"},null,""]
["","","",{"$nulls":51},{"$f":"IF($AU$38<>\"\",\"zie hierboven\",IF(AJ273=\"auto\",IF(AND((D273>'km-vergoeding'!$A$4),(D273<'km-vergoeding'!$A$5)),'km-vergoeding'!$D$4,'km-vergoeding'!$D$5),0))","v":{"v":0,"d":"0.0000 "}},{"$nulls":7},{"v":0,"d":"0.00"},{"$nulls":6},{"$f":"IF($AU$38<>\"\",\"zie hierboven\",IF(AJ273=\"fiets\",'km-vergoeding'!$D$3,0))","v":{"v":0,"d":"0.00"}},{"$nulls":7},{"v":0,"d":"0.00"},{"$nulls":12},{"v":0,"d":"0.00"},{"$nulls":5},{"v":0,"d":"0.00"},{"$nulls":5},"","",null,"","","",{"v":0,"d":"0.00"},null,""]
["","","",{"$nulls":51},{"$f":"IF($AU$38<>\"\",\"zie hierboven\",IF(AJ274=\"auto\",IF(AND((D274>'km-vergoeding'!$A$4),(D274<'km-vergoeding'!$A$5)),'km-vergoeding'!$D$4,'km-vergoeding'!$D$5),0))","v":{"v":0,"d":"0.0000 "}},{"$nulls":7},{"v":0,"d":"0.00"},{"$nulls":6},{"$f":"IF($AU$38<>\"\",\"zie hierboven\",IF(AJ274=\"fiets\",'km-vergoeding'!$D$3,0))","v":{"v":0,"d":"0.00"}},{"$nulls":7},{"v":0,"d":"0.00"},{"$nulls":12},{"v":0,"d":"0.00"},{"$nulls":5},{"v":0,"d":"0.00"},{"$nulls":5},"","",null,"","","",{"v":0,"d":"0.00"},null,""]
["","","",{"$nulls":51},{"$f":"IF($AU$38<>\"\",\"zie hierboven\",IF(AJ275=\"auto\",IF(AND((D275>'km-vergoeding'!$A$4),(D275<'km-vergoeding'!$A$5)),'km-vergoeding'!$D$4,'km-vergoeding'!$D$5),0))","v":{"v":0,"d":"0.0000 "}},{"$nulls":7},{"v":0,"d":"0.00"},{"$nulls":6},{"$f":"IF($AU$38<>\"\",\"zie hierboven\",IF(AJ275=\"fiets\",'km-vergoeding'!$D$3,0))","v":{"v":0,"d":"0.00"}},{"$nulls":7},{"v":0,"d":"0.00"},{"$nulls":12},{"v":0,"d":"0.00"},{"$nulls":5},{"v":0,"d":"0.00"},{"$nulls":5},"","",null,"","","",{"v":0,"d":"0.00"},null,""]
["","","",{"$nulls":51},{"$f":"IF($AU$38<>\"\",\"zie hierboven\",IF(AJ276=\"auto\",IF(AND((D276>'km-vergoeding'!$A$4),(D276<'km-vergoeding'!$A$5)),'km-vergoeding'!$D$4,'km-vergoeding'!$D$5),0))","v":{"v":0,"d":"0.0000 "}},{"$nulls":7},{"v":0,"d":"0.00"},{"$nulls":6},{"$f":"IF($AU$38<>\"\",\"zie hierboven\",IF(AJ276=\"fiets\",'km-vergoeding'!$D$3,0))","v":{"v":0,"d":"0.00"}},{"$nulls":7},{"v":0,"d":"0.00"},{"$nulls":12},{"v":0,"d":"0.00"},{"$nulls":5},{"v":0,"d":"0.00"},{"$nulls":5},"","",null,"","","",{"v":0,"d":"0.00"},null,""]
["","","",{"$nulls":51},{"$f":"IF($AU$38<>\"\",\"zie hierboven\",IF(AJ277=\"auto\",IF(AND((D277>'km-vergoeding'!$A$4),(D277<'km-vergoeding'!$A$5)),'km-vergoeding'!$D$4,'km-vergoeding'!$D$5),0))","v":{"v":0,"d":"0.0000 "}},{"$nulls":7},{"v":0,"d":"0.00"},{"$nulls":6},{"$f":"IF($AU$38<>\"\",\"zie hierboven\",IF(AJ277=\"fiets\",'km-vergoeding'!$D$3,0))","v":{"v":0,"d":"0.00"}},{"$nulls":7},{"v":0,"d":"0.00"},{"$nulls":12},{"v":0,"d":"0.00"},{"$nulls":5},{"v":0,"d":"0.00"},{"$nulls":5},"","",null,"","","",{"v":0,"d":"0.00"},null,""]
["","","",{"$nulls":51},{"$f":"IF($AU$38<>\"\",\"zie hierboven\",IF(AJ278=\"auto\",IF(AND((D278>'km-vergoeding'!$A$4),(D278<'km-vergoeding'!$A$5)),'km-vergoeding'!$D$4,'km-vergoeding'!$D$5),0))","v":{"v":0,"d":"0.0000 "}},{"$nulls":7},{"v":0,"d":"0.00"},{"$nulls":6},{"$f":"IF($AU$38<>\"\",\"zie hierboven\",IF(AJ278=\"fiets\",'km-vergoeding'!$D$3,0))","v":{"v":0,"d":"0.00"}},{"$nulls":7},{"v":0,"d":"0.00"},{"$nulls":12},{"v":0,"d":"0.00"},{"$nulls":5},{"v":0,"d":"0.00"},{"$nulls":5},"","",null,"","","",{"v":0,"d":"0.00"},null,""]
["","","",{"$nulls":51},{"$f":"IF($AU$38<>\"\",\"zie hierboven\",IF(AJ279=\"auto\",IF(AND((D279>'km-vergoeding'!$A$4),(D279<'km-vergoeding'!$A$5)),'km-vergoeding'!$D$4,'km-vergoeding'!$D$5),0))","v":{"v":0,"d":"0.0000 "}},{"$nulls":7},{"v":0,"d":"0.00"},{"$nulls":6},{"$f":"IF($AU$38<>\"\",\"zie hierboven\",IF(AJ279=\"fiets\",'km-vergoeding'!$D$3,0))","v":{"v":0,"d":"0.00"}},{"$nulls":7},{"v":0,"d":"0.00"},{"$nulls":12},{"v":0,"d":"0.00"},{"$nulls":5},{"v":0,"d":"0.00"},{"$nulls":5},"","",null,"","","",{"v":0,"d":"0.00"},null,""]
["","","",{"$nulls":51},{"$f":"IF($AU$38<>\"\",\"zie hierboven\",IF(AJ280=\"auto\",IF(AND((D280>'km-vergoeding'!$A$4),(D280<'km-vergoeding'!$A$5)),'km-vergoeding'!$D$4,'km-vergoeding'!$D$5),0))","v":{"v":0,"d":"0.0000 "}},{"$nulls":7},{"v":0,"d":"0.00"},{"$nulls":6},{"$f":"IF($AU$38<>\"\",\"zie hierboven\",IF(AJ280=\"fiets\",'km-vergoeding'!$D$3,0))","v":{"v":0,"d":"0.00"}},{"$nulls":7},{"v":0,"d":"0.00"},{"$nulls":12},{"v":0,"d":"0.00"},{"$nulls":5},{"v":0,"d":"0.00"},{"$nulls":5},"","",null,"","","",{"v":0,"d":"0.00"},null,""]
["","","",{"$nulls":51},{"$f":"IF($AU$38<>\"\",\"zie hierboven\",IF(AJ281=\"auto\",IF(AND((D281>'km-vergoeding'!$A$4),(D281<'km-vergoeding'!$A$5)),'km-vergoeding'!$D$4,'km-vergoeding'!$D$5),0))","v":{"v":0,"d":"0.0000 "}},{"$nulls":7},{"v":0,"d":"0.00"},{"$nulls":6},{"$f":"IF($AU$38<>\"\",\"zie hierboven\",IF(AJ281=\"fiets\",'km-vergoeding'!$D$3,0))","v":{"v":0,"d":"0.00"}},{"$nulls":7},{"v":0,"d":"0.00"},{"$nulls":12},{"v":0,"d":"0.00"},{"$nulls":5},{"v":0,"d":"0.00"},{"$nulls":5},"","",null,"","","",{"v":0,"d":"0.00"},null,""]
["","","",{"$nulls":51},{"$f":"IF($AU$38<>\"\",\"zie hierboven\",IF(AJ282=\"auto\",IF(AND((D282>'km-vergoeding'!$A$4),(D282<'km-vergoeding'!$A$5)),'km-vergoeding'!$D$4,'km-vergoeding'!$D$5),0))","v":{"v":0,"d":"0.0000 "}},{"$nulls":7},{"v":0,"d":"0.00"},{"$nulls":6},{"$f":"IF($AU$38<>\"\",\"zie hierboven\",IF(AJ282=\"fiets\",'km-vergoeding'!$D$3,0))","v":{"v":0,"d":"0.00"}},{"$nulls":7},{"v":0,"d":"0.00"},{"$nulls":12},{"v":0,"d":"0.00"},{"$nulls":5},{"v":0,"d":"0.00"},{"$nulls":5},"","",null,"","","",{"v":0,"d":"0.00"},null,""]
["","","",{"$nulls":51},{"$f":"IF($AU$38<>\"\",\"zie hierboven\",IF(AJ283=\"auto\",IF(AND((D283>'km-vergoeding'!$A$4),(D283<'km-vergoeding'!$A$5)),'km-vergoeding'!$D$4,'km-vergoeding'!$D$5),0))","v":{"v":0,"d":"0.0000 "}},{"$nulls":7},{"v":0,"d":"0.00"},{"$nulls":6},{"$f":"IF($AU$38<>\"\",\"zie hierboven\",IF(AJ283=\"fiets\",'km-vergoeding'!$D$3,0))","v":{"v":0,"d":"0.00"}},{"$nulls":7},{"v":0,"d":"0.00"},{"$nulls":12},{"v":0,"d":"0.00"},{"$nulls":5},{"v":0,"d":"0.00"},{"$nulls":5},"","",null,"","","",{"v":0,"d":"0.00"},null,""]
["","","",{"$nulls":51},{"$f":"IF($AU$38<>\"\",\"zie hierboven\",IF(AJ284=\"auto\",IF(AND((D284>'km-vergoeding'!$A$4),(D284<'km-vergoeding'!$A$5)),'km-vergoeding'!$D$4,'km-vergoeding'!$D$5),0))","v":{"v":0,"d":"0.0000 "}},{"$nulls":7},{"v":0,"d":"0.00"},{"$nulls":6},{"$f":"IF($AU$38<>\"\",\"zie hierboven\",IF(AJ284=\"fiets\",'km-vergoeding'!$D$3,0))","v":{"v":0,"d":"0.00"}},{"$nulls":7},{"v":0,"d":"0.00"},{"$nulls":12},{"v":0,"d":"0.00"},{"$nulls":5},{"v":0,"d":"0.00"},{"$nulls":5},"","",null,"","","",{"v":0,"d":"0.00"},null,""]
["","","",{"$nulls":51},{"$f":"IF($AU$38<>\"\",\"zie hierboven\",IF(AJ285=\"auto\",IF(AND((D285>'km-vergoeding'!$A$4),(D285<'km-vergoeding'!$A$5)),'km-vergoeding'!$D$4,'km-vergoeding'!$D$5),0))","v":{"v":0,"d":"0.0000 "}},{"$nulls":7},{"v":0,"d":"0.00"},{"$nulls":6},{"$f":"IF($AU$38<>\"\",\"zie hierboven\",IF(AJ285=\"fiets\",'km-vergoeding'!$D$3,0))","v":{"v":0,"d":"0.00"}},{"$nulls":7},{"v":0,"d":"0.00"},{"$nulls":12},{"v":0,"d":"0.00"},{"$nulls":5},{"v":0,"d":"0.00"},{"$nulls":5},"","",null,"","","",{"v":0,"d":"0.00"},null,""]
["","","",{"$nulls":51},{"$f":"IF($AU$38<>\"\",\"zie hierboven\",IF(AJ286=\"auto\",IF(AND((D286>'km-vergoeding'!$A$4),(D286<'km-vergoeding'!$A$5)),'km-vergoeding'!$D$4,'km-vergoeding'!$D$5),0))","v":{"v":0,"d":"0.0000 "}},{"$nulls":7},{"v":0,"d":"0.00"},{"$nulls":6},{"$f":"IF($AU$38<>\"\",\"zie hierboven\",IF(AJ286=\"fiets\",'km-vergoeding'!$D$3,0))","v":{"v":0,"d":"0.00"}},{"$nulls":7},{"v":0,"d":"0.00"},{"$nulls":12},{"v":0,"d":"0.00"},{"$nulls":5},{"v":0,"d":"0.00"},{"$nulls":5},"","",null,"","","",{"v":0,"d":"0.00"},null,""]
["","","",{"$nulls":51},{"$f":"IF($AU$38<>\"\",\"zie hierboven\",IF(AJ287=\"auto\",IF(AND((D287>'km-vergoeding'!$A$4),(D287<'km-vergoeding'!$A$5)),'km-vergoeding'!$D$4,'km-vergoeding'!$D$5),0))","v":{"v":0,"d":"0.0000 "}},{"$nulls":7},{"v":0,"d":"0.00"},{"$nulls":6},{"$f":"IF($AU$38<>\"\",\"zie hierboven\",IF(AJ287=\"fiets\",'km-vergoeding'!$D$3,0))","v":{"v":0,"d":"0.00"}},{"$nulls":7},{"v":0,"d":"0.00"},{"$nulls":12},{"v":0,"d":"0.00"},{"$nulls":5},{"v":0,"d":"0.00"},{"$nulls":5},"","",null,"","","",{"v":0,"d":"0.00"},null,""]
["","","",{"$nulls":51},{"$f":"IF($AU$38<>\"\",\"zie hierboven\",IF(AJ288=\"auto\",IF(AND((D288>'km-vergoeding'!$A$4),(D288<'km-vergoeding'!$A$5)),'km-vergoeding'!$D$4,'km-vergoeding'!$D$5),0))","v":{"v":0,"d":"0.0000 "}},{"$nulls":7},{"v":0,"d":"0.00"},{"$nulls":6},{"$f":"IF($AU$38<>\"\",\"zie hierboven\",IF(AJ288=\"fiets\",'km-vergoeding'!$D$3,0))","v":{"v":0,"d":"0.00"}},{"$nulls":7},{"v":0,"d":"0.00"},{"$nulls":12},{"v":0,"d":"0.00"},{"$nulls":5},{"v":0,"d":"0.00"},{"$nulls":5},"","",null,"","","",{"v":0,"d":"0.00"},null,""]
["","","",{"$nulls":51},{"$f":"IF($AU$38<>\"\",\"zie hierboven\",IF(AJ289=\"auto\",IF(AND((D289>'km-vergoeding'!$A$4),(D289<'km-vergoeding'!$A$5)),'km-vergoeding'!$D$4,'km-vergoeding'!$D$5),0))","v":{"v":0,"d":"0.0000 "}},{"$nulls":7},{"v":0,"d":"0.00"},{"$nulls":6},{"$f":"IF($AU$38<>\"\",\"zie hierboven\",IF(AJ289=\"fiets\",'km-vergoeding'!$D$3,0))","v":{"v":0,"d":"0.00"}},{"$nulls":7},{"v":0,"d":"0.00"},{"$nulls":12},{"v":0,"d":"0.00"},{"$nulls":5},{"v":0,"d":"0.00"},{"$nulls":5},"","",null,"","","",{"v":0,"d":"0.00"},null,""]
["","","",{"$nulls":51},{"$f":"IF($AU$38<>\"\",\"zie hierboven\",IF(AJ290=\"auto\",IF(AND((D290>'km-vergoeding'!$A$4),(D290<'km-vergoeding'!$A$5)),'km-vergoeding'!$D$4,'km-vergoeding'!$D$5),0))","v":{"v":0,"d":"0.0000 "}},{"$nulls":7},{"v":0,"d":"0.00"},{"$nulls":6},{"$f":"IF($AU$38<>\"\",\"zie hierboven\",IF(AJ290=\"fiets\",'km-vergoeding'!$D$3,0))","v":{"v":0,"d":"0.00"}},{"$nulls":7},{"v":0,"d":"0.00"},{"$nulls":12},{"v":0,"d":"0.00"},{"$nulls":5},{"v":0,"d":"0.00"},{"$nulls":5},"","",null,"","","",{"v":0,"d":"0.00"},null,""]
["","","",{"$nulls":51},{"$f":"IF($AU$38<>\"\",\"zie hierboven\",IF(AJ291=\"auto\",IF(AND((D291>'km-vergoeding'!$A$4),(D291<'km-vergoeding'!$A$5)),'km-vergoeding'!$D$4,'km-vergoeding'!$D$5),0))","v":{"v":0,"d":"0.0000 "}},{"$nulls":7},{"v":0,"d":"0.00"},{"$nulls":6},{"$f":"IF($AU$38<>\"\",\"zie hierboven\",IF(AJ291=\"fiets\",'km-vergoeding'!$D$3,0))","v":{"v":0,"d":"0.00"}},{"$nulls":7},{"v":0,"d":"0.00"},{"$nulls":12},{"v":0,"d":"0.00"},{"$nulls":5},{"v":0,"d":"0.00"},{"$nulls":5},"","",null,"","","",{"v":0,"d":"0.00"},null,""]
["","","",{"$nulls":51},{"$f":"IF($AU$38<>\"\",\"zie hierboven\",IF(AJ292=\"auto\",IF(AND((D292>'km-vergoeding'!$A$4),(D292<'km-vergoeding'!$A$5)),'km-vergoeding'!$D$4,'km-vergoeding'!$D$5),0))","v":{"v":0,"d":"0.0000 "}},{"$nulls":7},{"v":0,"d":"0.00"},{"$nulls":6},{"$f":"IF($AU$38<>\"\",\"zie hierboven\",IF(AJ292=\"fiets\",'km-vergoeding'!$D$3,0))","v":{"v":0,"d":"0.00"}},{"$nulls":7},{"v":0,"d":"0.00"},{"$nulls":12},{"v":0,"d":"0.00"},{"$nulls":5},{"v":0,"d":"0.00"},{"$nulls":5},"","",null,"","","",{"v":0,"d":"0.00"},null,""]
["","","",{"$nulls":51},{"$f":"IF($AU$38<>\"\",\"zie hierboven\",IF(AJ293=\"auto\",IF(AND((D293>'km-vergoeding'!$A$4),(D293<'km-vergoeding'!$A$5)),'km-vergoeding'!$D$4,'km-vergoeding'!$D$5),0))","v":{"v":0,"d":"0.0000 "}},{"$nulls":7},{"v":0,"d":"0.00"},{"$nulls":6},{"$f":"IF($AU$38<>\"\",\"zie hierboven\",IF(AJ293=\"fiets\",'km-vergoeding'!$D$3,0))","v":{"v":0,"d":"0.00"}},{"$nulls":7},{"v":0,"d":"0.00"},{"$nulls":12},{"v":0,"d":"0.00"},{"$nulls":5},{"v":0,"d":"0.00"},{"$nulls":5},"","",null,"","","",{"v":0,"d":"0.00"},null,""]
["","","",{"$nulls":51},{"$f":"IF($AU$38<>\"\",\"zie hierboven\",IF(AJ294=\"auto\",IF(AND((D294>'km-vergoeding'!$A$4),(D294<'km-vergoeding'!$A$5)),'km-vergoeding'!$D$4,'km-vergoeding'!$D$5),0))","v":{"v":0,"d":"0.0000 "}},{"$nulls":7},{"v":0,"d":"0.00"},{"$nulls":6},{"$f":"IF($AU$38<>\"\",\"zie hierboven\",IF(AJ294=\"fiets\",'km-vergoeding'!$D$3,0))","v":{"v":0,"d":"0.00"}},{"$nulls":7},{"v":0,"d":"0.00"},{"$nulls":12},{"v":0,"d":"0.00"},{"$nulls":5},{"v":0,"d":"0.00"},{"$nulls":5},"","",null,"","","",{"v":0,"d":"0.00"},null,""]
["","","",{"$nulls":51},{"$f":"IF($AU$38<>\"\",\"zie hierboven\",IF(AJ295=\"auto\",IF(AND((D295>'km-vergoeding'!$A$4),(D295<'km-vergoeding'!$A$5)),'km-vergoeding'!$D$4,'km-vergoeding'!$D$5),0))","v":{"v":0,"d":"0.0000 "}},{"$nulls":7},{"v":0,"d":"0.00"},{"$nulls":6},{"$f":"IF($AU$38<>\"\",\"zie hierboven\",IF(AJ295=\"fiets\",'km-vergoeding'!$D$3,0))","v":{"v":0,"d":"0.00"}},{"$nulls":7},{"v":0,"d":"0.00"},{"$nulls":12},{"v":0,"d":"0.00"},{"$nulls":5},{"v":0,"d":"0.00"},{"$nulls":5},"","",null,"","","",{"v":0,"d":"0.00"},null,""]
["","","",{"$nulls":51},{"$f":"IF($AU$38<>\"\",\"zie hierboven\",IF(AJ296=\"auto\",IF(AND((D296>'km-vergoeding'!$A$4),(D296<'km-vergoeding'!$A$5)),'km-vergoeding'!$D$4,'km-vergoeding'!$D$5),0))","v":{"v":0,"d":"0.0000 "}},{"$nulls":7},{"v":0,"d":"0.00"},{"$nulls":6},{"$f":"IF($AU$38<>\"\",\"zie hierboven\",IF(AJ296=\"fiets\",'km-vergoeding'!$D$3,0))","v":{"v":0,"d":"0.00"}},{"$nulls":7},{"v":0,"d":"0.00"},{"$nulls":12},{"v":0,"d":"0.00"},{"$nulls":5},{"v":0,"d":"0.00"},{"$nulls":5},"","",null,"","","",{"v":0,"d":"0.00"},null,""]
["","","",{"$nulls":51},{"$f":"IF($AU$38<>\"\",\"zie hierboven\",IF(AJ297=\"auto\",IF(AND((D297>'km-vergoeding'!$A$4),(D297<'km-vergoeding'!$A$5)),'km-vergoeding'!$D$4,'km-vergoeding'!$D$5),0))","v":{"v":0,"d":"0.0000 "}},{"$nulls":7},{"v":0,"d":"0.00"},{"$nulls":6},{"$f":"IF($AU$38<>\"\",\"zie hierboven\",IF(AJ297=\"fiets\",'km-vergoeding'!$D$3,0))","v":{"v":0,"d":"0.00"}},{"$nulls":7},{"v":0,"d":"0.00"},{"$nulls":12},{"v":0,"d":"0.00"},{"$nulls":5},{"v":0,"d":"0.00"},{"$nulls":5},"","",null,"","","",{"v":0,"d":"0.00"},null,""]
["","","",{"$nulls":51},{"$f":"IF($AU$38<>\"\",\"zie hierboven\",IF(AJ298=\"auto\",IF(AND((D298>'km-vergoeding'!$A$4),(D298<'km-vergoeding'!$A$5)),'km-vergoeding'!$D$4,'km-vergoeding'!$D$5),0))","v":{"v":0,"d":"0.0000 "}},{"$nulls":7},{"v":0,"d":"0.00"},{"$nulls":6},{"$f":"IF($AU$38<>\"\",\"zie hierboven\",IF(AJ298=\"fiets\",'km-vergoeding'!$D$3,0))","v":{"v":0,"d":"0.00"}},{"$nulls":7},{"v":0,"d":"0.00"},{"$nulls":12},{"v":0,"d":"0.00"},{"$nulls":5},{"v":0,"d":"0.00"},{"$nulls":5},"","",null,"","","",{"v":0,"d":"0.00"},null,""]
["","","",{"$nulls":51},{"$f":"IF($AU$38<>\"\",\"zie hierboven\",IF(AJ299=\"auto\",IF(AND((D299>'km-vergoeding'!$A$4),(D299<'km-vergoeding'!$A$5)),'km-vergoeding'!$D$4,'km-vergoeding'!$D$5),0))","v":{"v":0,"d":"0.0000 "}},{"$nulls":7},{"$f":"IF(AJ299=\"auto\",ROUND(AR299*AY299*BC299,2),0)","v":{"v":0,"d":"0.00"}},{"$nulls":6},{"$f":"IF($AU$38<>\"\",\"zie hierboven\",IF(AJ299=\"fiets\",'km-vergoeding'!$D$3,0))","v":{"v":0,"d":"0.00"}},{"$nulls":7},{"$f":"IF(AJ299=\"fiets\",ROUND(AR299*AY299*BR299,2),0)","v":{"v":0,"d":"0.00"}},{"$nulls":12},{"$f":"IF(AND(OR((AJ299=\"fiets\"),(AJ299=\"auto\")),(CG299>0)),\"xxxx\",BK299+BZ299+CG299)","v":{"v":0,"d":"0.00"}},{"$nulls":5},{"v":0,"d":"0.00"},{"$nulls":5},"","",null,"","","",{"v":0,"d":"0.00"},null,""]
["","","",{"$nulls":51},{"$f":"IF($AU$38<>\"\",\"zie hierboven\",IF(AJ300=\"auto\",IF(AND((D300>'km-vergoeding'!$A$4),(D300<'km-vergoeding'!$A$5)),'km-vergoeding'!$D$4,'km-vergoeding'!$D$5),0))","v":{"v":0,"d":"0.0000 "}},{"$nulls":7},{"v":0,"d":"0.00"},{"$nulls":6},{"$f":"IF($AU$38<>\"\",\"zie hierboven\",IF(AJ300=\"fiets\",'km-vergoeding'!$D$3,0))","v":{"v":0,"d":"0.00"}},{"$nulls":7},{"v":0,"d":"0.00"},{"$nulls":12},{"v":0,"d":"0.00"},{"$nulls":5},{"v":0,"d":"0.00"},{"$nulls":5},"","",null,"","","",{"v":0,"d":"0.00"},null,""]
["","","",{"$nulls":51},{"$f":"IF($AU$38<>\"\",\"zie hierboven\",IF(AJ301=\"auto\",IF(AND((D301>'km-vergoeding'!$A$4),(D301<'km-vergoeding'!$A$5)),'km-vergoeding'!$D$4,'km-vergoeding'!$D$5),0))","v":{"v":0,"d":"0.0000 "}},{"$nulls":7},{"v":0,"d":"0.00"},{"$nulls":6},{"$f":"IF($AU$38<>\"\",\"zie hierboven\",IF(AJ301=\"fiets\",'km-vergoeding'!$D$3,0))","v":{"v":0,"d":"0.00"}},{"$nulls":7},{"v":0,"d":"0.00"},{"$nulls":12},{"v":0,"d":"0.00"},{"$nulls":5},{"v":0,"d":"0.00"},{"$nulls":5},"","",null,"","","",{"v":0,"d":"0.00"},null,""]
["","","",{"$nulls":51},{"$f":"IF($AU$38<>\"\",\"zie hierboven\",IF(AJ302=\"auto\",IF(AND((D302>'km-vergoeding'!$A$4),(D302<'km-vergoeding'!$A$5)),'km-vergoeding'!$D$4,'km-vergoeding'!$D$5),0))","v":{"v":0,"d":"0.0000 "}},{"$nulls":7},{"v":0,"d":"0.00"},{"$nulls":6},{"$f":"IF($AU$38<>\"\",\"zie hierboven\",IF(AJ302=\"fiets\",'km-vergoeding'!$D$3,0))","v":{"v":0,"d":"0.00"}},{"$nulls":7},{"v":0,"d":"0.00"},{"$nulls":12},{"v":0,"d":"0.00"},{"$nulls":5},{"v":0,"d":"0.00"},{"$nulls":5},"","",null,"","","",{"v":0,"d":"0.00"},null,""]
["","","",{"$nulls":51},{"$f":"IF($AU$38<>\"\",\"zie hierboven\",IF(AJ303=\"auto\",IF(AND((D303>'km-vergoeding'!$A$4),(D303<'km-vergoeding'!$A$5)),'km-vergoeding'!$D$4,'km-vergoeding'!$D$5),0))","v":{"v":0,"d":"0.0000 "}},{"$nulls":7},{"v":0,"d":"0.00"},{"$nulls":6},{"$f":"IF($AU$38<>\"\",\"zie hierboven\",IF(AJ303=\"fiets\",'km-vergoeding'!$D$3,0))","v":{"v":0,"d":"0.00"}},{"$nulls":7},{"v":0,"d":"0.00"},{"$nulls":12},{"v":0,"d":"0.00"},{"$nulls":5},{"v":0,"d":"0.00"},{"$nulls":5},"","",null,"","","",{"v":0,"d":"0.00"},null,""]
["","","",{"$nulls":51},{"$f":"IF($AU$38<>\"\",\"zie hierboven\",IF(AJ304=\"auto\",IF(AND((D304>'km-vergoeding'!$A$4),(D304<'km-vergoeding'!$A$5)),'km-vergoeding'!$D$4,'km-vergoeding'!$D$5),0))","v":{"v":0,"d":"0.0000 "}},{"$nulls":7},{"v":0,"d":"0.00"},{"$nulls":6},{"$f":"IF($AU$38<>\"\",\"zie hierboven\",IF(AJ304=\"fiets\",'km-vergoeding'!$D$3,0))","v":{"v":0,"d":"0.00"}},{"$nulls":7},{"v":0,"d":"0.00"},{"$nulls":12},{"v":0,"d":"0.00"},{"$nulls":5},{"v":0,"d":"0.00"},{"$nulls":5},"","",null,"","","",{"v":0,"d":"0.00"},null,""]
["","","",{"$nulls":51},{"$f":"IF($AU$38<>\"\",\"zie hierboven\",IF(AJ305=\"auto\",IF(AND((D305>'km-vergoeding'!$A$4),(D305<'km-vergoeding'!$A$5)),'km-vergoeding'!$D$4,'km-vergoeding'!$D$5),0))","v":{"v":0,"d":"0.0000 "}},{"$nulls":7},{"v":0,"d":"0.00"},{"$nulls":6},{"$f":"IF($AU$38<>\"\",\"zie hierboven\",IF(AJ305=\"fiets\",'km-vergoeding'!$D$3,0))","v":{"v":0,"d":"0.00"}},{"$nulls":7},{"v":0,"d":"0.00"},{"$nulls":12},{"v":0,"d":"0.00"},{"$nulls":5},{"v":0,"d":"0.00"},{"$nulls":5},"","",null,"","","",{"v":0,"d":"0.00"},null,""]
["","","",{"$nulls":51},{"$f":"IF($AU$38<>\"\",\"zie hierboven\",IF(AJ306=\"auto\",IF(AND((D306>'km-vergoeding'!$A$4),(D306<'km-vergoeding'!$A$5)),'km-vergoeding'!$D$4,'km-vergoeding'!$D$5),0))","v":{"v":0,"d":"0.0000 "}},{"$nulls":7},{"v":0,"d":"0.00"},{"$nulls":6},{"$f":"IF($AU$38<>\"\",\"zie hierboven\",IF(AJ306=\"fiets\",'km-vergoeding'!$D$3,0))","v":{"v":0,"d":"0.00"}},{"$nulls":7},{"v":0,"d":"0.00"},{"$nulls":12},{"v":0,"d":"0.00"},{"$nulls":5},{"v":0,"d":"0.00"},{"$nulls":5},"","",null,"","","",{"v":0,"d":"0.00"},null,""]
["","","",{"$nulls":51},{"$f":"IF($AU$38<>\"\",\"zie hierboven\",IF(AJ307=\"auto\",IF(AND((D307>'km-vergoeding'!$A$4),(D307<'km-vergoeding'!$A$5)),'km-vergoeding'!$D$4,'km-vergoeding'!$D$5),0))","v":{"v":0,"d":"0.0000 "}},{"$nulls":7},{"v":0,"d":"0.00"},{"$nulls":6},{"$f":"IF($AU$38<>\"\",\"zie hierboven\",IF(AJ307=\"fiets\",'km-vergoeding'!$D$3,0))","v":{"v":0,"d":"0.00"}},{"$nulls":7},{"v":0,"d":"0.00"},{"$nulls":12},{"v":0,"d":"0.00"},{"$nulls":5},{"v":0,"d":"0.00"},{"$nulls":5},"","",null,"","","",{"v":0,"d":"0.00"},null,""]
["","","",{"$nulls":51},{"$f":"IF($AU$38<>\"\",\"zie hierboven\",IF(AJ308=\"auto\",IF(AND((D308>'km-vergoeding'!$A$4),(D308<'km-vergoeding'!$A$5)),'km-vergoeding'!$D$4,'km-vergoeding'!$D$5),0))","v":{"v":0,"d":"0.0000 "}},{"$nulls":7},{"v":0,"d":"0.00"},{"$nulls":6},{"$f":"IF($AU$38<>\"\",\"zie hierboven\",IF(AJ308=\"fiets\",'km-vergoeding'!$D$3,0))","v":{"v":0,"d":"0.00"}},{"$nulls":7},{"v":0,"d":"0.00"},{"$nulls":12},{"v":0,"d":"0.00"},{"$nulls":5},{"v":0,"d":"0.00"},{"$nulls":5},"","",null,"","","",{"v":0,"d":"0.00"},null,""]
["","","",{"$nulls":51},{"$f":"IF($AU$38<>\"\",\"zie hierboven\",IF(AJ309=\"auto\",IF(AND((D309>'km-vergoeding'!$A$4),(D309<'km-vergoeding'!$A$5)),'km-vergoeding'!$D$4,'km-vergoeding'!$D$5),0))","v":{"v":0,"d":"0.0000 "}},{"$nulls":7},{"v":0,"d":"0.00"},{"$nulls":6},{"$f":"IF($AU$38<>\"\",\"zie hierboven\",IF(AJ309=\"fiets\",'km-vergoeding'!$D$3,0))","v":{"v":0,"d":"0.00"}},{"$nulls":7},{"v":0,"d":"0.00"},{"$nulls":12},{"v":0,"d":"0.00"},{"$nulls":5},{"v":0,"d":"0.00"},{"$nulls":5},"","",null,"","","",{"v":0,"d":"0.00"},null,""]
["","","",{"$nulls":51},{"$f":"IF($AU$38<>\"\",\"zie hierboven\",IF(AJ310=\"auto\",IF(AND((D310>'km-vergoeding'!$A$4),(D310<'km-vergoeding'!$A$5)),'km-vergoeding'!$D$4,'km-vergoeding'!$D$5),0))","v":{"v":0,"d":"0.0000 "}},{"$nulls":7},{"v":0,"d":"0.00"},{"$nulls":6},{"$f":"IF($AU$38<>\"\",\"zie hierboven\",IF(AJ310=\"fiets\",'km-vergoeding'!$D$3,0))","v":{"v":0,"d":"0.00"}},{"$nulls":7},{"v":0,"d":"0.00"},{"$nulls":12},{"v":0,"d":"0.00"},{"$nulls":5},{"v":0,"d":"0.00"},{"$nulls":5},"","",null,"","","",{"v":0,"d":"0.00"},null,""]
["","","",{"$nulls":51},{"$f":"IF($AU$38<>\"\",\"zie hierboven\",IF(AJ311=\"auto\",IF(AND((D311>'km-vergoeding'!$A$4),(D311<'km-vergoeding'!$A$5)),'km-vergoeding'!$D$4,'km-vergoeding'!$D$5),0))","v":{"v":0,"d":"0.0000 "}},{"$nulls":7},{"v":0,"d":"0.00"},{"$nulls":6},{"$f":"IF($AU$38<>\"\",\"zie hierboven\",IF(AJ311=\"fiets\",'km-vergoeding'!$D$3,0))","v":{"v":0,"d":"0.00"}},{"$nulls":7},{"v":0,"d":"0.00"},{"$nulls":12},{"v":0,"d":"0.00"},{"$nulls":5},{"v":0,"d":"0.00"},{"$nulls":5},"","",null,"","","",{"v":0,"d":"0.00"},null,""]
["","","",{"$nulls":51},{"$f":"IF($AU$38<>\"\",\"zie hierboven\",IF(AJ312=\"auto\",IF(AND((D312>'km-vergoeding'!$A$4),(D312<'km-vergoeding'!$A$5)),'km-vergoeding'!$D$4,'km-vergoeding'!$D$5),0))","v":{"v":0,"d":"0.0000 "}},{"$nulls":7},{"v":0,"d":"0.00"},{"$nulls":6},{"$f":"IF($AU$38<>\"\",\"zie hierboven\",IF(AJ312=\"fiets\",'km-vergoeding'!$D$3,0))","v":{"v":0,"d":"0.00"}},{"$nulls":7},{"v":0,"d":"0.00"},{"$nulls":12},{"v":0,"d":"0.00"},{"$nulls":5},{"v":0,"d":"0.00"},{"$nulls":5},"","",null,"","","",{"v":0,"d":"0.00"},null,""]
["","","",{"$nulls":51},{"$f":"IF($AU$38<>\"\",\"zie hierboven\",IF(AJ313=\"auto\",IF(AND((D313>'km-vergoeding'!$A$4),(D313<'km-vergoeding'!$A$5)),'km-vergoeding'!$D$4,'km-vergoeding'!$D$5),0))","v":{"v":0,"d":"0.0000 "}},{"$nulls":7},{"v":0,"d":"0.00"},{"$nulls":6},{"$f":"IF($AU$38<>\"\",\"zie hierboven\",IF(AJ313=\"fiets\",'km-vergoeding'!$D$3,0))","v":{"v":0,"d":"0.00"}},{"$nulls":7},{"v":0,"d":"0.00"},{"$nulls":12},{"v":0,"d":"0.00"},{"$nulls":5},{"v":0,"d":"0.00"},{"$nulls":5},"","",null,"","","",{"v":0,"d":"0.00"},null,""]
["","","",{"$nulls":51},{"$f":"IF($AU$38<>\"\",\"zie hierboven\",IF(AJ314=\"auto\",IF(AND((D314>'km-vergoeding'!$A$4),(D314<'km-vergoeding'!$A$5)),'km-vergoeding'!$D$4,'km-vergoeding'!$D$5),0))","v":{"v":0,"d":"0.0000 "}},{"$nulls":7},{"v":0,"d":"0.00"},{"$nulls":6},{"$f":"IF($AU$38<>\"\",\"zie hierboven\",IF(AJ314=\"fiets\",'km-vergoeding'!$D$3,0))","v":{"v":0,"d":"0.00"}},{"$nulls":7},{"v":0,"d":"0.00"},{"$nulls":12},{"v":0,"d":"0.00"},{"$nulls":5},{"v":0,"d":"0.00"},{"$nulls":5},"","",null,"","","",{"v":0,"d":"0.00"},null,""]
["","","",{"$nulls":51},{"$f":"IF($AU$38<>\"\",\"zie hierboven\",IF(AJ315=\"auto\",IF(AND((D315>'km-vergoeding'!$A$4),(D315<'km-vergoeding'!$A$5)),'km-vergoeding'!$D$4,'km-vergoeding'!$D$5),0))","v":{"v":0,"d":"0.0000 "}},{"$nulls":7},{"v":0,"d":"0.00"},{"$nulls":6},{"$f":"IF($AU$38<>\"\",\"zie hierboven\",IF(AJ315=\"fiets\",'km-vergoeding'!$D$3,0))","v":{"v":0,"d":"0.00"}},{"$nulls":7},{"v":0,"d":"0.00"},{"$nulls":12},{"v":0,"d":"0.00"},{"$nulls":5},{"v":0,"d":"0.00"},{"$nulls":5},"","",null,"","","",{"v":0,"d":"0.00"},null,""]
["","","",{"$nulls":51},{"$f":"IF($AU$38<>\"\",\"zie hierboven\",IF(AJ316=\"auto\",IF(AND((D316>'km-vergoeding'!$A$4),(D316<'km-vergoeding'!$A$5)),'km-vergoeding'!$D$4,'km-vergoeding'!$D$5),0))","v":{"v":0,"d":"0.0000 "}},{"$nulls":7},{"v":0,"d":"0.00"},{"$nulls":6},{"$f":"IF($AU$38<>\"\",\"zie hierboven\",IF(AJ316=\"fiets\",'km-vergoeding'!$D$3,0))","v":{"v":0,"d":"0.00"}},{"$nulls":7},{"v":0,"d":"0.00"},{"$nulls":12},{"v":0,"d":"0.00"},{"$nulls":5},{"v":0,"d":"0.00"},{"$nulls":5},"","",null,"","","",{"v":0,"d":"0.00"},null,""]
["","","",{"$nulls":51},{"$f":"IF($AU$38<>\"\",\"zie hierboven\",IF(AJ317=\"auto\",IF(AND((D317>'km-vergoeding'!$A$4),(D317<'km-vergoeding'!$A$5)),'km-vergoeding'!$D$4,'km-vergoeding'!$D$5),0))","v":{"v":0,"d":"0.0000 "}},{"$nulls":7},{"v":0,"d":"0.00"},{"$nulls":6},{"$f":"IF($AU$38<>\"\",\"zie hierboven\",IF(AJ317=\"fiets\",'km-vergoeding'!$D$3,0))","v":{"v":0,"d":"0.00"}},{"$nulls":7},{"v":0,"d":"0.00"},{"$nulls":12},{"v":0,"d":"0.00"},{"$nulls":5},{"v":0,"d":"0.00"},{"$nulls":5},"","",null,"","","",{"v":0,"d":"0.00"},null,""]
["","","",{"$nulls":51},{"$f":"IF($AU$38<>\"\",\"zie hierboven\",IF(AJ318=\"auto\",IF(AND((D318>'km-vergoeding'!$A$4),(D318<'km-vergoeding'!$A$5)),'km-vergoeding'!$D$4,'km-vergoeding'!$D$5),0))","v":{"v":0,"d":"0.0000 "}},{"$nulls":7},{"v":0,"d":"0.00"},{"$nulls":6},{"$f":"IF($AU$38<>\"\",\"zie hierboven\",IF(AJ318=\"fiets\",'km-vergoeding'!$D$3,0))","v":{"v":0,"d":"0.00"}},{"$nulls":7},{"v":0,"d":"0.00"},{"$nulls":12},{"v":0,"d":"0.00"},{"$nulls":5},{"v":0,"d":"0.00"},{"$nulls":5},"","",null,"","","",{"v":0,"d":"0.00"},null,""]
["","","",{"$nulls":51},{"$f":"IF($AU$38<>\"\",\"zie hierboven\",IF(AJ319=\"auto\",IF(AND((D319>'km-vergoeding'!$A$4),(D319<'km-vergoeding'!$A$5)),'km-vergoeding'!$D$4,'km-vergoeding'!$D$5),0))","v":{"v":0,"d":"0.0000 "}},{"$nulls":7},{"v":0,"d":"0.00"},{"$nulls":6},{"$f":"IF($AU$38<>\"\",\"zie hierboven\",IF(AJ319=\"fiets\",'km-vergoeding'!$D$3,0))","v":{"v":0,"d":"0.00"}},{"$nulls":7},{"v":0,"d":"0.00"},{"$nulls":12},{"v":0,"d":"0.00"},{"$nulls":5},{"v":0,"d":"0.00"},{"$nulls":5},"","",null,"","","",{"v":0,"d":"0.00"},null,""]
["","","",{"$nulls":51},{"$f":"IF($AU$38<>\"\",\"zie hierboven\",IF(AJ320=\"auto\",IF(AND((D320>'km-vergoeding'!$A$4),(D320<'km-vergoeding'!$A$5)),'km-vergoeding'!$D$4,'km-vergoeding'!$D$5),0))","v":{"v":0,"d":"0.0000 "}},{"$nulls":7},{"v":0,"d":"0.00"},{"$nulls":6},{"$f":"IF($AU$38<>\"\",\"zie hierboven\",IF(AJ320=\"fiets\",'km-vergoeding'!$D$3,0))","v":{"v":0,"d":"0.00"}},{"$nulls":7},{"v":0,"d":"0.00"},{"$nulls":12},{"v":0,"d":"0.00"},{"$nulls":5},{"v":0,"d":"0.00"},{"$nulls":5},"","",null,"","","",{"v":0,"d":"0.00"},null,""]
["","","",{"$nulls":51},{"$f":"IF($AU$38<>\"\",\"zie hierboven\",IF(AJ321=\"auto\",IF(AND((D321>'km-vergoeding'!$A$4),(D321<'km-vergoeding'!$A$5)),'km-vergoeding'!$D$4,'km-vergoeding'!$D$5),0))","v":{"v":0,"d":"0.0000 "}},{"$nulls":7},{"v":0,"d":"0.00"},{"$nulls":6},{"$f":"IF($AU$38<>\"\",\"zie hierboven\",IF(AJ321=\"fiets\",'km-vergoeding'!$D$3,0))","v":{"v":0,"d":"0.00"}},{"$nulls":7},{"v":0,"d":"0.00"},{"$nulls":12},{"v":0,"d":"0.00"},{"$nulls":5},{"v":0,"d":"0.00"},{"$nulls":5},"","",null,"","","",{"v":0,"d":"0.00"},null,""]
["","","",{"$nulls":51},{"$f":"IF($AU$38<>\"\",\"zie hierboven\",IF(AJ322=\"auto\",IF(AND((D322>'km-vergoeding'!$A$4),(D322<'km-vergoeding'!$A$5)),'km-vergoeding'!$D$4,'km-vergoeding'!$D$5),0))","v":{"v":0,"d":"0.0000 "}},{"$nulls":7},{"v":0,"d":"0.00"},{"$nulls":6},{"$f":"IF($AU$38<>\"\",\"zie hierboven\",IF(AJ322=\"fiets\",'km-vergoeding'!$D$3,0))","v":{"v":0,"d":"0.00"}},{"$nulls":7},{"v":0,"d":"0.00"},{"$nulls":12},{"v":0,"d":"0.00"},{"$nulls":5},{"v":0,"d":"0.00"},{"$nulls":5},"","",null,"","","",{"v":0,"d":"0.00"},null,""]
["","","",{"$nulls":51},{"$f":"IF($AU$38<>\"\",\"zie hierboven\",IF(AJ323=\"auto\",IF(AND((D323>'km-vergoeding'!$A$4),(D323<'km-vergoeding'!$A$5)),'km-vergoeding'!$D$4,'km-vergoeding'!$D$5),0))","v":{"v":0,"d":"0.0000 "}},{"$nulls":7},{"$f":"IF(AJ323=\"auto\",ROUND(AR323*AY323*BC323,2),0)","v":{"v":0,"d":"0.00"}},{"$nulls":6},{"$f":"IF($AU$38<>\"\",\"zie hierboven\",IF(AJ323=\"fiets\",'km-vergoeding'!$D$3,0))","v":{"v":0,"d":"0.00"}},{"$nulls":7},{"$f":"IF(AJ323=\"fiets\",ROUND(AR323*AY323*BR323,2),0)","v":{"v":0,"d":"0.00"}},{"$nulls":12},{"$f":"IF(AND(OR((AJ323=\"fiets\"),(AJ323=\"auto\")),(CG323>0)),\"xxxx\",BK323+BZ323+CG323)","v":{"v":0,"d":"0.00"}},{"$nulls":5},{"v":0,"d":"0.00"},{"$nulls":5},"","",null,"","","",{"v":0,"d":"0.00"},null,""]
["","","",{"$nulls":51},{"$f":"IF($AU$38<>\"\",\"zie hierboven\",IF(AJ324=\"auto\",IF(AND((D324>'km-vergoeding'!$A$4),(D324<'km-vergoeding'!$A$5)),'km-vergoeding'!$D$4,'km-vergoeding'!$D$5),0))","v":{"v":0,"d":"0.0000 "}},{"$nulls":7},{"v":0,"d":"0.00"},{"$nulls":6},{"$f":"IF($AU$38<>\"\",\"zie hierboven\",IF(AJ324=\"fiets\",'km-vergoeding'!$D$3,0))","v":{"v":0,"d":"0.00"}},{"$nulls":7},{"v":0,"d":"0.00"},{"$nulls":12},{"v":0,"d":"0.00"},{"$nulls":5},{"v":0,"d":"0.00"},{"$nulls":5},"","",null,"","","",{"v":0,"d":"0.00"},null,""]
["","","",{"$nulls":51},{"$f":"IF($AU$38<>\"\",\"zie hierboven\",IF(AJ325=\"auto\",IF(AND((D325>'km-vergoeding'!$A$4),(D325<'km-vergoeding'!$A$5)),'km-vergoeding'!$D$4,'km-vergoeding'!$D$5),0))","v":{"v":0,"d":"0.0000 "}},{"$nulls":7},{"v":0,"d":"0.00"},{"$nulls":6},{"$f":"IF($AU$38<>\"\",\"zie hierboven\",IF(AJ325=\"fiets\",'km-vergoeding'!$D$3,0))","v":{"v":0,"d":"0.00"}},{"$nulls":7},{"v":0,"d":"0.00"},{"$nulls":12},{"v":0,"d":"0.00"},{"$nulls":5},{"v":0,"d":"0.00"},{"$nulls":5},"","",null,"","","",{"v":0,"d":"0.00"},null,""]
["","","",{"$nulls":51},{"$f":"IF($AU$38<>\"\",\"zie hierboven\",IF(AJ326=\"auto\",IF(AND((D326>'km-vergoeding'!$A$4),(D326<'km-vergoeding'!$A$5)),'km-vergoeding'!$D$4,'km-vergoeding'!$D$5),0))","v":{"v":0,"d":"0.0000 "}},{"$nulls":7},{"v":0,"d":"0.00"},{"$nulls":6},{"$f":"IF($AU$38<>\"\",\"zie hierboven\",IF(AJ326=\"fiets\",'km-vergoeding'!$D$3,0))","v":{"v":0,"d":"0.00"}},{"$nulls":7},{"v":0,"d":"0.00"},{"$nulls":12},{"v":0,"d":"0.00"},{"$nulls":5},{"v":0,"d":"0.00"},{"$nulls":5},"","",null,"","","",{"v":0,"d":"0.00"},null,""]
["","","",{"$nulls":51},{"$f":"IF($AU$38<>\"\",\"zie hierboven\",IF(AJ327=\"auto\",IF(AND((D327>'km-vergoeding'!$A$4),(D327<'km-vergoeding'!$A$5)),'km-vergoeding'!$D$4,'km-vergoeding'!$D$5),0))","v":{"v":0,"d":"0.0000 "}},{"$nulls":7},{"v":0,"d":"0.00"},{"$nulls":6},{"$f":"IF($AU$38<>\"\",\"zie hierboven\",IF(AJ327=\"fiets\",'km-vergoeding'!$D$3,0))","v":{"v":0,"d":"0.00"}},{"$nulls":7},{"v":0,"d":"0.00"},{"$nulls":12},{"v":0,"d":"0.00"},{"$nulls":5},{"v":0,"d":"0.00"},{"$nulls":5},"","",null,"","","",{"v":0,"d":"0.00"},null,""]
["","","",{"$nulls":51},{"$f":"IF($AU$38<>\"\",\"zie hierboven\",IF(AJ328=\"auto\",IF(AND((D328>'km-vergoeding'!$A$4),(D328<'km-vergoeding'!$A$5)),'km-vergoeding'!$D$4,'km-vergoeding'!$D$5),0))","v":{"v":0,"d":"0.0000 "}},{"$nulls":7},{"v":0,"d":"0.00"},{"$nulls":6},{"$f":"IF($AU$38<>\"\",\"zie hierboven\",IF(AJ328=\"fiets\",'km-vergoeding'!$D$3,0))","v":{"v":0,"d":"0.00"}},{"$nulls":7},{"v":0,"d":"0.00"},{"$nulls":12},{"v":0,"d":"0.00"},{"$nulls":5},{"v":0,"d":"0.00"},{"$nulls":5},"","",null,"","","",{"v":0,"d":"0.00"},null,""]
["","","",{"$nulls":51},{"$f":"IF($AU$38<>\"\",\"zie hierboven\",IF(AJ329=\"auto\",IF(AND((D329>'km-vergoeding'!$A$4),(D329<'km-vergoeding'!$A$5)),'km-vergoeding'!$D$4,'km-vergoeding'!$D$5),0))","v":{"v":0,"d":"0.0000 "}},{"$nulls":7},{"v":0,"d":"0.00"},{"$nulls":6},{"$f":"IF($AU$38<>\"\",\"zie hierboven\",IF(AJ329=\"fiets\",'km-vergoeding'!$D$3,0))","v":{"v":0,"d":"0.00"}},{"$nulls":7},{"v":0,"d":"0.00"},{"$nulls":12},{"v":0,"d":"0.00"},{"$nulls":5},{"v":0,"d":"0.00"},{"$nulls":5},"","",null,"","","",{"v":0,"d":"0.00"},null,""]
["","","",{"$nulls":51},{"$f":"IF($AU$38<>\"\",\"zie hierboven\",IF(AJ330=\"auto\",IF(AND((D330>'km-vergoeding'!$A$4),(D330<'km-vergoeding'!$A$5)),'km-vergoeding'!$D$4,'km-vergoeding'!$D$5),0))","v":{"v":0,"d":"0.0000 "}},{"$nulls":7},{"v":0,"d":"0.00"},{"$nulls":6},{"$f":"IF($AU$38<>\"\",\"zie hierboven\",IF(AJ330=\"fiets\",'km-vergoeding'!$D$3,0))","v":{"v":0,"d":"0.00"}},{"$nulls":7},{"v":0,"d":"0.00"},{"$nulls":12},{"v":0,"d":"0.00"},{"$nulls":5},{"v":0,"d":"0.00"},{"$nulls":5},"","",null,"","","",{"v":0,"d":"0.00"},null,""]
[{"$f":"IF(OR(AND(D331<>\"\",H331=\"\"),AND(H331<>\"\",R331=\"\"),AND(R331<>\"\",H331=\"\"),AND(R331<>\"\",X331=\"\"),AND(X331<>\"\",R331=\"\")),\"!\",\"\")","v":""},{"$f":"IF(OR(AND(ISBLANK(D331),OR(H331<>\"\",R331<>\"\",X331<>\"\",AJ331<>\"\",AR331<>\"\",AY331<>\"\",CG331<>\"\"))),\"!\",\"\")","v":""},{"$f":"IF(AND(CG331=0,AJ331<>\"openbaar vervoer\",OR(AND(OR(AJ331=\"auto\",AJ331=\"fiets\"),OR(AR331=\"\",AR331=0)),AND(AR331>0,AY331=\"\"),AND(AR331=\"\",AY331>0),AND(AR331>0,AJ331=\"\"))),\"!\",\"\")","v":""},{"$nulls":51},{"$f":"IF($AU$38<>\"\",\"zie hierboven\",IF(AJ331=\"auto\",IF(AND((D331>'km-vergoeding'!$A$4),(D331<'km-vergoeding'!$A$5)),'km-vergoeding'!$D$4,'km-vergoeding'!$D$5),0))","v":{"v":0,"d":"0.0000 "}},{"$nulls":7},{"v":0,"d":"0.00"},{"$nulls":6},{"$f":"IF($AU$38<>\"\",\"zie hierboven\",IF(AJ331=\"fiets\",'km-vergoeding'!$D$3,0))","v":{"v":0,"d":"0.00"}},{"$nulls":7},{"v":0,"d":"0.00"},{"$nulls":12},{"v":0,"d":"0.00"},{"$nulls":5},{"v":0,"d":"0.00"},{"$nulls":5},"","",null,"","","",{"v":0,"d":"0.00"},null,{"$f":"IF(AND(A331=\"\",B331=\"\",C331=\"\",CY331=\"\",CZ331=\"\",DB331=\"\",DC331=\"\",DD331=\"\"),\"\",\"Deze rij is nog onvolledig of bevat nog fouten! Zie foutmeldingen boven de tabel.\")","v":""}]
["","","",{"$nulls":51},{"$f":"IF($AU$38<>\"\",\"zie hierboven\",IF(AJ332=\"auto\",IF(AND((D332>'km-vergoeding'!$A$4),(D332<'km-vergoeding'!$A$5)),'km-vergoeding'!$D$4,'km-vergoeding'!$D$5),0))","v":{"v":0,"d":"0.0000 "}},{"$nulls":7},{"v":0,"d":"0.00"},{"$nulls":6},{"$f":"IF($AU$38<>\"\",\"zie hierboven\",IF(AJ332=\"fiets\",'km-vergoeding'!$D$3,0))","v":{"v":0,"d":"0.00"}},{"$nulls":7},{"v":0,"d":"0.00"},{"$nulls":12},{"v":0,"d":"0.00"},{"$nulls":5},{"$f":"IF(CM332=0,0,IF(CM333=0,DE332,0))","v":{"v":0,"d":"0.00"}},{"$nulls":5},{"$f":"IF(AND(OR((AJ332=\"fiets\"),(AJ332=\"auto\")),(CG332>0)),\"!\",\"\")","v":""},{"$f":"IF(OR(AND(D331<>\"\",D332=\"\",D333<>\"\"),AND(D331=\"\",D332=\"\",D333<>\"\")),\"!\",\"\")","v":""},null,{"$f":"IF(AND(AJ332=\"openbaar vervoer\",OR(AR332<>\"\",AY332<>\"\")),\"!\",\"\")","v":""},{"$f":"IF(AND(X332<>\"\",AND(AJ332=\"\",CM332=0)),\"!\",\"\")","v":""},{"$f":"IF(OR(AND(AJ332=\"openbaar vervoer\",CG332=0),AND(CG332>0,AJ332=\"\")),\"!\",\"\")","v":""},{"v":0,"d":"0.00"},null,""]
["","","",{"$nulls":51},{"$f":"IF($AU$38<>\"\",\"zie hierboven\",IF(AJ333=\"auto\",IF(AND((D333>'km-vergoeding'!$A$4),(D333<'km-vergoeding'!$A$5)),'km-vergoeding'!$D$4,'km-vergoeding'!$D$5),0))","v":{"v":0,"d":"0.0000 "}},{"$nulls":7},{"v":0,"d":"0.00"},{"$nulls":6},{"$f":"IF($AU$38<>\"\",\"zie hierboven\",IF(AJ333=\"fiets\",'km-vergoeding'!$D$3,0))","v":{"v":0,"d":"0.00"}},{"$nulls":7},{"v":0,"d":"0.00"},{"$nulls":12},{"v":0,"d":"0.00"},{"$nulls":5},{"v":0,"d":"0.00"},{"$nulls":5},"","",null,"","","",{"$f":"IF(CM333=0,DE332,DE332+CM333)","v":{"v":0,"d":"0.00"}},null,""]
["","","",{"$nulls":51},{"$f":"IF($AU$38<>\"\",\"zie hierboven\",IF(AJ334=\"auto\",IF(AND((D334>'km-vergoeding'!$A$4),(D334<'km-vergoeding'!$A$5)),'km-vergoeding'!$D$4,'km-vergoeding'!$D$5),0))","v":{"v":0,"d":"0.0000 "}},{"$nulls":7},{"v":0,"d":"0.00"},{"$nulls":6},{"$f":"IF($AU$38<>\"\",\"zie hierboven\",IF(AJ334=\"fiets\",'km-vergoeding'!$D$3,0))","v":{"v":0,"d":"0.00"}},{"$nulls":7},{"v":0,"d":"0.00"},{"$nulls":12},{"v":0,"d":"0.00"},{"$nulls":5},{"v":0,"d":"0.00"},{"$nulls":5},"","",null,"","","",{"v":0,"d":"0.00"},null,""]
["","","",{"$nulls":51},{"$f":"IF($AU$38<>\"\",\"zie hierboven\",IF(AJ335=\"auto\",IF(AND((D335>'km-vergoeding'!$A$4),(D335<'km-vergoeding'!$A$5)),'km-vergoeding'!$D$4,'km-vergoeding'!$D$5),0))","v":{"v":0,"d":"0.0000 "}},{"$nulls":7},{"v":0,"d":"0.00"},{"$nulls":6},{"$f":"IF($AU$38<>\"\",\"zie hierboven\",IF(AJ335=\"fiets\",'km-vergoeding'!$D$3,0))","v":{"v":0,"d":"0.00"}},{"$nulls":7},{"v":0,"d":"0.00"},{"$nulls":12},{"v":0,"d":"0.00"},{"$nulls":5},{"v":0,"d":"0.00"},{"$nulls":5},"","",null,"","","",{"v":0,"d":"0.00"},null,""]
["","","",{"$nulls":51},{"$f":"IF($AU$38<>\"\",\"zie hierboven\",IF(AJ336=\"auto\",IF(AND((D336>'km-vergoeding'!$A$4),(D336<'km-vergoeding'!$A$5)),'km-vergoeding'!$D$4,'km-vergoeding'!$D$5),0))","v":{"v":0,"d":"0.0000 "}},{"$nulls":7},{"v":0,"d":"0.00"},{"$nulls":6},{"$f":"IF($AU$38<>\"\",\"zie hierboven\",IF(AJ336=\"fiets\",'km-vergoeding'!$D$3,0))","v":{"v":0,"d":"0.00"}},{"$nulls":7},{"v":0,"d":"0.00"},{"$nulls":12},{"v":0,"d":"0.00"},{"$nulls":5},{"v":0,"d":"0.00"},{"$nulls":5},"","",null,"","","",{"v":0,"d":"0.00"},null,""]
["","","",{"$nulls":51},{"$f":"IF($AU$38<>\"\",\"zie hierboven\",IF(AJ337=\"auto\",IF(AND((D337>'km-vergoeding'!$A$4),(D337<'km-vergoeding'!$A$5)),'km-vergoeding'!$D$4,'km-vergoeding'!$D$5),0))","v":{"v":0,"d":"0.0000 "}},{"$nulls":7},{"v":0,"d":"0.00"},{"$nulls":6},{"$f":"IF($AU$38<>\"\",\"zie hierboven\",IF(AJ337=\"fiets\",'km-vergoeding'!$D$3,0))","v":{"v":0,"d":"0.00"}},{"$nulls":7},{"v":0,"d":"0.00"},{"$nulls":12},{"v":0,"d":"0.00"},{"$nulls":5},{"v":0,"d":"0.00"},{"$nulls":5},"","",null,"","","",{"v":0,"d":"0.00"},null,""]
["","","",{"$nulls":51},{"$f":"IF($AU$38<>\"\",\"zie hierboven\",IF(AJ338=\"auto\",IF(AND((D338>'km-vergoeding'!$A$4),(D338<'km-vergoeding'!$A$5)),'km-vergoeding'!$D$4,'km-vergoeding'!$D$5),0))","v":{"v":0,"d":"0.0000 "}},{"$nulls":7},{"v":0,"d":"0.00"},{"$nulls":6},{"$f":"IF($AU$38<>\"\",\"zie hierboven\",IF(AJ338=\"fiets\",'km-vergoeding'!$D$3,0))","v":{"v":0,"d":"0.00"}},{"$nulls":7},{"v":0,"d":"0.00"},{"$nulls":12},{"v":0,"d":"0.00"},{"$nulls":5},{"v":0,"d":"0.00"},{"$nulls":5},"","",null,"","","",{"v":0,"d":"0.00"},null,""]
["","","",{"$nulls":51},{"$f":"IF($AU$38<>\"\",\"zie hierboven\",IF(AJ339=\"auto\",IF(AND((D339>'km-vergoeding'!$A$4),(D339<'km-vergoeding'!$A$5)),'km-vergoeding'!$D$4,'km-vergoeding'!$D$5),0))","v":{"v":0,"d":"0.0000 "}},{"$nulls":7},{"v":0,"d":"0.00"},{"$nulls":6},{"$f":"IF($AU$38<>\"\",\"zie hierboven\",IF(AJ339=\"fiets\",'km-vergoeding'!$D$3,0))","v":{"v":0,"d":"0.00"}},{"$nulls":7},{"v":0,"d":"0.00"},{"$nulls":12},{"v":0,"d":"0.00"},{"$nulls":5},{"v":0,"d":"0.00"},{"$nulls":5},"","",null,"","","",{"v":0,"d":"0.00"},null,""]
["","","",{"$nulls":51},{"$f":"IF($AU$38<>\"\",\"zie hierboven\",IF(AJ340=\"auto\",IF(AND((D340>'km-vergoeding'!$A$4),(D340<'km-vergoeding'!$A$5)),'km-vergoeding'!$D$4,'km-vergoeding'!$D$5),0))","v":{"v":0,"d":"0.0000 "}},{"$nulls":7},{"v":0,"d":"0.00"},{"$nulls":6},{"$f":"IF($AU$38<>\"\",\"zie hierboven\",IF(AJ340=\"fiets\",'km-vergoeding'!$D$3,0))","v":{"v":0,"d":"0.00"}},{"$nulls":7},{"v":0,"d":"0.00"},{"$nulls":12},{"v":0,"d":"0.00"},{"$nulls":5},{"v":0,"d":"0.00"},{"$nulls":5},"","",null,"","","",{"v":0,"d":"0.00"},null,""]
["","","",{"$nulls":51},{"$f":"IF($AU$38<>\"\",\"zie hierboven\",IF(AJ341=\"auto\",IF(AND((D341>'km-vergoeding'!$A$4),(D341<'km-vergoeding'!$A$5)),'km-vergoeding'!$D$4,'km-vergoeding'!$D$5),0))","v":{"v":0,"d":"0.0000 "}},{"$nulls":7},{"v":0,"d":"0.00"},{"$nulls":6},{"$f":"IF($AU$38<>\"\",\"zie hierboven\",IF(AJ341=\"fiets\",'km-vergoeding'!$D$3,0))","v":{"v":0,"d":"0.00"}},{"$nulls":7},{"v":0,"d":"0.00"},{"$nulls":12},{"v":0,"d":"0.00"},{"$nulls":5},{"v":0,"d":"0.00"},{"$nulls":5},"","",null,"","","",{"v":0,"d":"0.00"},null,""]
["","","",{"$nulls":51},{"$f":"IF($AU$38<>\"\",\"zie hierboven\",IF(AJ342=\"auto\",IF(AND((D342>'km-vergoeding'!$A$4),(D342<'km-vergoeding'!$A$5)),'km-vergoeding'!$D$4,'km-vergoeding'!$D$5),0))","v":{"v":0,"d":"0.0000 "}},{"$nulls":7},{"v":0,"d":"0.00"},{"$nulls":6},{"$f":"IF($AU$38<>\"\",\"zie hierboven\",IF(AJ342=\"fiets\",'km-vergoeding'!$D$3,0))","v":{"v":0,"d":"0.00"}},{"$nulls":7},{"v":0,"d":"0.00"},{"$nulls":12},{"v":0,"d":"0.00"},{"$nulls":5},{"v":0,"d":"0.00"},{"$nulls":5},"","",null,"","","",{"v":0,"d":"0.00"},null,""]
["","","",{"$nulls":51},{"$f":"IF($AU$38<>\"\",\"zie hierboven\",IF(AJ343=\"auto\",IF(AND((D343>'km-vergoeding'!$A$4),(D343<'km-vergoeding'!$A$5)),'km-vergoeding'!$D$4,'km-vergoeding'!$D$5),0))","v":{"v":0,"d":"0.0000 "}},{"$nulls":7},{"v":0,"d":"0.00"},{"$nulls":6},{"$f":"IF($AU$38<>\"\",\"zie hierboven\",IF(AJ343=\"fiets\",'km-vergoeding'!$D$3,0))","v":{"v":0,"d":"0.00"}},{"$nulls":7},{"v":0,"d":"0.00"},{"$nulls":12},{"v":0,"d":"0.00"},{"$nulls":5},{"v":0,"d":"0.00"},{"$nulls":5},"","",null,"","","",{"v":0,"d":"0.00"},null,""]
["","","",{"$nulls":51},{"$f":"IF($AU$38<>\"\",\"zie hierboven\",IF(AJ344=\"auto\",IF(AND((D344>'km-vergoeding'!$A$4),(D344<'km-vergoeding'!$A$5)),'km-vergoeding'!$D$4,'km-vergoeding'!$D$5),0))","v":{"v":0,"d":"0.0000 "}},{"$nulls":7},{"v":0,"d":"0.00"},{"$nulls":6},{"$f":"IF($AU$38<>\"\",\"zie hierboven\",IF(AJ344=\"fiets\",'km-vergoeding'!$D$3,0))","v":{"v":0,"d":"0.00"}},{"$nulls":7},{"v":0,"d":"0.00"},{"$nulls":12},{"v":0,"d":"0.00"},{"$nulls":5},{"v":0,"d":"0.00"},{"$nulls":5},"","",null,"","","",{"v":0,"d":"0.00"},null,""]
["","","",{"$nulls":51},{"$f":"IF($AU$38<>\"\",\"zie hierboven\",IF(AJ345=\"auto\",IF(AND((D345>'km-vergoeding'!$A$4),(D345<'km-vergoeding'!$A$5)),'km-vergoeding'!$D$4,'km-vergoeding'!$D$5),0))","v":{"v":0,"d":"0.0000 "}},{"$nulls":7},{"v":0,"d":"0.00"},{"$nulls":6},{"$f":"IF($AU$38<>\"\",\"zie hierboven\",IF(AJ345=\"fiets\",'km-vergoeding'!$D$3,0))","v":{"v":0,"d":"0.00"}},{"$nulls":7},{"v":0,"d":"0.00"},{"$nulls":12},{"v":0,"d":"0.00"},{"$nulls":5},{"v":0,"d":"0.00"},{"$nulls":5},"","",null,"","","",{"v":0,"d":"0.00"},null,""]
["","","",{"$nulls":51},{"$f":"IF($AU$38<>\"\",\"zie hierboven\",IF(AJ346=\"auto\",IF(AND((D346>'km-vergoeding'!$A$4),(D346<'km-vergoeding'!$A$5)),'km-vergoeding'!$D$4,'km-vergoeding'!$D$5),0))","v":{"v":0,"d":"0.0000 "}},{"$nulls":7},{"v":0,"d":"0.00"},{"$nulls":6},{"$f":"IF($AU$38<>\"\",\"zie hierboven\",IF(AJ346=\"fiets\",'km-vergoeding'!$D$3,0))","v":{"v":0,"d":"0.00"}},{"$nulls":7},{"v":0,"d":"0.00"},{"$nulls":12},{"v":0,"d":"0.00"},{"$nulls":5},{"v":0,"d":"0.00"},{"$nulls":5},"","",null,"","","",{"v":0,"d":"0.00"},null,""]
["","","",{"$nulls":51},{"$f":"IF($AU$38<>\"\",\"zie hierboven\",IF(AJ347=\"auto\",IF(AND((D347>'km-vergoeding'!$A$4),(D347<'km-vergoeding'!$A$5)),'km-vergoeding'!$D$4,'km-vergoeding'!$D$5),0))","v":{"v":0,"d":"0.0000 "}},{"$nulls":7},{"v":0,"d":"0.00"},{"$nulls":6},{"$f":"IF($AU$38<>\"\",\"zie hierboven\",IF(AJ347=\"fiets\",'km-vergoeding'!$D$3,0))","v":{"v":0,"d":"0.00"}},{"$nulls":7},{"v":0,"d":"0.00"},{"$nulls":12},{"v":0,"d":"0.00"},{"$nulls":5},{"v":0,"d":"0.00"},{"$nulls":5},"","",null,"","","",{"v":0,"d":"0.00"},null,""]
["","","",{"$nulls":51},{"$f":"IF($AU$38<>\"\",\"zie hierboven\",IF(AJ348=\"auto\",IF(AND((D348>'km-vergoeding'!$A$4),(D348<'km-vergoeding'!$A$5)),'km-vergoeding'!$D$4,'km-vergoeding'!$D$5),0))","v":{"v":0,"d":"0.0000 "}},{"$nulls":7},{"v":0,"d":"0.00"},{"$nulls":6},{"$f":"IF($AU$38<>\"\",\"zie hierboven\",IF(AJ348=\"fiets\",'km-vergoeding'!$D$3,0))","v":{"v":0,"d":"0.00"}},{"$nulls":7},{"v":0,"d":"0.00"},{"$nulls":12},{"v":0,"d":"0.00"},{"$nulls":5},{"v":0,"d":"0.00"},{"$nulls":5},"","",null,"","","",{"v":0,"d":"0.00"},null,""]
["","","",{"$nulls":51},{"$f":"IF($AU$38<>\"\",\"zie hierboven\",IF(AJ349=\"auto\",IF(AND((D349>'km-vergoeding'!$A$4),(D349<'km-vergoeding'!$A$5)),'km-vergoeding'!$D$4,'km-vergoeding'!$D$5),0))","v":{"v":0,"d":"0.0000 "}},{"$nulls":7},{"v":0,"d":"0.00"},{"$nulls":6},{"$f":"IF($AU$38<>\"\",\"zie hierboven\",IF(AJ349=\"fiets\",'km-vergoeding'!$D$3,0))","v":{"v":0,"d":"0.00"}},{"$nulls":7},{"v":0,"d":"0.00"},{"$nulls":12},{"v":0,"d":"0.00"},{"$nulls":5},{"v":0,"d":"0.00"},{"$nulls":5},"","",null,"","","",{"v":0,"d":"0.00"},null,""]
["","","",{"$nulls":51},{"$f":"IF($AU$38<>\"\",\"zie hierboven\",IF(AJ350=\"auto\",IF(AND((D350>'km-vergoeding'!$A$4),(D350<'km-vergoeding'!$A$5)),'km-vergoeding'!$D$4,'km-vergoeding'!$D$5),0))","v":{"v":0,"d":"0.0000 "}},{"$nulls":7},{"v":0,"d":"0.00"},{"$nulls":6},{"$f":"IF($AU$38<>\"\",\"zie hierboven\",IF(AJ350=\"fiets\",'km-vergoeding'!$D$3,0))","v":{"v":0,"d":"0.00"}},{"$nulls":7},{"v":0,"d":"0.00"},{"$nulls":12},{"v":0,"d":"0.00"},{"$nulls":5},{"v":0,"d":"0.00"},{"$nulls":5},"","",null,"","","",{"v":0,"d":"0.00"},null,""]
["","","",{"$nulls":51},{"$f":"IF($AU$38<>\"\",\"zie hierboven\",IF(AJ351=\"auto\",IF(AND((D351>'km-vergoeding'!$A$4),(D351<'km-vergoeding'!$A$5)),'km-vergoeding'!$D$4,'km-vergoeding'!$D$5),0))","v":{"v":0,"d":"0.0000 "}},{"$nulls":7},{"v":0,"d":"0.00"},{"$nulls":6},{"$f":"IF($AU$38<>\"\",\"zie hierboven\",IF(AJ351=\"fiets\",'km-vergoeding'!$D$3,0))","v":{"v":0,"d":"0.00"}},{"$nulls":7},{"v":0,"d":"0.00"},{"$nulls":12},{"v":0,"d":"0.00"},{"$nulls":5},{"v":0,"d":"0.00"},{"$nulls":5},"","",null,"","","",{"v":0,"d":"0.00"},null,""]
["","","",{"$nulls":51},{"$f":"IF($AU$38<>\"\",\"zie hierboven\",IF(AJ352=\"auto\",IF(AND((D352>'km-vergoeding'!$A$4),(D352<'km-vergoeding'!$A$5)),'km-vergoeding'!$D$4,'km-vergoeding'!$D$5),0))","v":{"v":0,"d":"0.0000 "}},{"$nulls":7},{"v":0,"d":"0.00"},{"$nulls":6},{"$f":"IF($AU$38<>\"\",\"zie hierboven\",IF(AJ352=\"fiets\",'km-vergoeding'!$D$3,0))","v":{"v":0,"d":"0.00"}},{"$nulls":7},{"v":0,"d":"0.00"},{"$nulls":12},{"v":0,"d":"0.00"},{"$nulls":5},{"v":0,"d":"0.00"},{"$nulls":5},"","",null,"","","",{"v":0,"d":"0.00"},null,""]
["","","",{"$nulls":51},{"$f":"IF($AU$38<>\"\",\"zie hierboven\",IF(AJ353=\"auto\",IF(AND((D353>'km-vergoeding'!$A$4),(D353<'km-vergoeding'!$A$5)),'km-vergoeding'!$D$4,'km-vergoeding'!$D$5),0))","v":{"v":0,"d":"0.0000 "}},{"$nulls":7},{"$f":"IF(AJ353=\"auto\",ROUND(AR353*AY353*BC353,2),0)","v":{"v":0,"d":"0.00"}},{"$nulls":6},{"$f":"IF($AU$38<>\"\",\"zie hierboven\",IF(AJ353=\"fiets\",'km-vergoeding'!$D$3,0))","v":{"v":0,"d":"0.00"}},{"$nulls":7},{"$f":"IF(AJ353=\"fiets\",ROUND(AR353*AY353*BR353,2),0)","v":{"v":0,"d":"0.00"}},{"$nulls":12},{"$f":"IF(AND(OR((AJ353=\"fiets\"),(AJ353=\"auto\")),(CG353>0)),\"xxxx\",BK353+BZ353+CG353)","v":{"v":0,"d":"0.00"}},{"$nulls":5},{"v":0,"d":"0.00"},{"$nulls":5},"","",null,"","","",{"v":0,"d":"0.00"},null,""]
["","","",{"$nulls":51},{"$f":"IF($AU$38<>\"\",\"zie hierboven\",IF(AJ354=\"auto\",IF(AND((D354>'km-vergoeding'!$A$4),(D354<'km-vergoeding'!$A$5)),'km-vergoeding'!$D$4,'km-vergoeding'!$D$5),0))","v":{"v":0,"d":"0.0000 "}},{"$nulls":7},{"v":0,"d":"0.00"},{"$nulls":6},{"$f":"IF($AU$38<>\"\",\"zie hierboven\",IF(AJ354=\"fiets\",'km-vergoeding'!$D$3,0))","v":{"v":0,"d":"0.00"}},{"$nulls":7},{"v":0,"d":"0.00"},{"$nulls":12},{"v":0,"d":"0.00"},{"$nulls":5},{"v":0,"d":"0.00"},{"$nulls":5},"","",null,"","","",{"v":0,"d":"0.00"},null,""]
["","","",{"$nulls":51},{"$f":"IF($AU$38<>\"\",\"zie hierboven\",IF(AJ355=\"auto\",IF(AND((D355>'km-vergoeding'!$A$4),(D355<'km-vergoeding'!$A$5)),'km-vergoeding'!$D$4,'km-vergoeding'!$D$5),0))","v":{"v":0,"d":"0.0000 "}},{"$nulls":7},{"v":0,"d":"0.00"},{"$nulls":6},{"$f":"IF($AU$38<>\"\",\"zie hierboven\",IF(AJ355=\"fiets\",'km-vergoeding'!$D$3,0))","v":{"v":0,"d":"0.00"}},{"$nulls":7},{"v":0,"d":"0.00"},{"$nulls":12},{"v":0,"d":"0.00"},{"$nulls":5},{"v":0,"d":"0.00"},{"$nulls":5},"","",null,"","","",{"v":0,"d":"0.00"},null,""]
["","","",{"$nulls":51},{"$f":"IF($AU$38<>\"\",\"zie hierboven\",IF(AJ356=\"auto\",IF(AND((D356>'km-vergoeding'!$A$4),(D356<'km-vergoeding'!$A$5)),'km-vergoeding'!$D$4,'km-vergoeding'!$D$5),0))","v":{"v":0,"d":"0.0000 "}},{"$nulls":7},{"v":0,"d":"0.00"},{"$nulls":6},{"$f":"IF($AU$38<>\"\",\"zie hierboven\",IF(AJ356=\"fiets\",'km-vergoeding'!$D$3,0))","v":{"v":0,"d":"0.00"}},{"$nulls":7},{"v":0,"d":"0.00"},{"$nulls":12},{"v":0,"d":"0.00"},{"$nulls":5},{"v":0,"d":"0.00"},{"$nulls":5},"","",null,"","","",{"v":0,"d":"0.00"},null,""]
["","","",{"$nulls":51},{"$f":"IF($AU$38<>\"\",\"zie hierboven\",IF(AJ357=\"auto\",IF(AND((D357>'km-vergoeding'!$A$4),(D357<'km-vergoeding'!$A$5)),'km-vergoeding'!$D$4,'km-vergoeding'!$D$5),0))","v":{"v":0,"d":"0.0000 "}},{"$nulls":7},{"v":0,"d":"0.00"},{"$nulls":6},{"$f":"IF($AU$38<>\"\",\"zie hierboven\",IF(AJ357=\"fiets\",'km-vergoeding'!$D$3,0))","v":{"v":0,"d":"0.00"}},{"$nulls":7},{"v":0,"d":"0.00"},{"$nulls":12},{"v":0,"d":"0.00"},{"$nulls":5},{"v":0,"d":"0.00"},{"$nulls":5},"","",null,"","","",{"v":0,"d":"0.00"},null,""]
["","","",{"$nulls":51},{"$f":"IF($AU$38<>\"\",\"zie hierboven\",IF(AJ358=\"auto\",IF(AND((D358>'km-vergoeding'!$A$4),(D358<'km-vergoeding'!$A$5)),'km-vergoeding'!$D$4,'km-vergoeding'!$D$5),0))","v":{"v":0,"d":"0.0000 "}},{"$nulls":7},{"$f":"IF(AJ358=\"auto\",ROUND(AR358*AY358*BC358,2),0)","v":{"v":0,"d":"0.00"}},{"$nulls":6},{"$f":"IF($AU$38<>\"\",\"zie hierboven\",IF(AJ358=\"fiets\",'km-vergoeding'!$D$3,0))","v":{"v":0,"d":"0.00"}},{"$nulls":7},{"$f":"IF(AJ358=\"fiets\",ROUND(AR358*AY358*BR358,2),0)","v":{"v":0,"d":"0.00"}},{"$nulls":12},{"$f":"IF(AND(OR((AJ358=\"fiets\"),(AJ358=\"auto\")),(CG358>0)),\"xxxx\",BK358+BZ358+CG358)","v":{"v":0,"d":"0.00"}},{"$nulls":5},{"v":0,"d":"0.00"},{"$nulls":5},"","",null,"","","",{"v":0,"d":"0.00"},null,""]
["","","",{"$nulls":51},{"$f":"IF($AU$38<>\"\",\"zie hierboven\",IF(AJ359=\"auto\",IF(AND((D359>'km-vergoeding'!$A$4),(D359<'km-vergoeding'!$A$5)),'km-vergoeding'!$D$4,'km-vergoeding'!$D$5),0))","v":{"v":0,"d":"0.0000 "}},{"$nulls":7},{"v":0,"d":"0.00"},{"$nulls":6},{"$f":"IF($AU$38<>\"\",\"zie hierboven\",IF(AJ359=\"fiets\",'km-vergoeding'!$D$3,0))","v":{"v":0,"d":"0.00"}},{"$nulls":7},{"v":0,"d":"0.00"},{"$nulls":12},{"v":0,"d":"0.00"},{"$nulls":5},{"v":0,"d":"0.00"},{"$nulls":5},"","",null,"","","",{"v":0,"d":"0.00"},null,""]
["","","",{"$nulls":51},{"$f":"IF($AU$38<>\"\",\"zie hierboven\",IF(AJ360=\"auto\",IF(AND((D360>'km-vergoeding'!$A$4),(D360<'km-vergoeding'!$A$5)),'km-vergoeding'!$D$4,'km-vergoeding'!$D$5),0))","v":{"v":0,"d":"0.0000 "}},{"$nulls":7},{"v":0,"d":"0.00"},{"$nulls":6},{"$f":"IF($AU$38<>\"\",\"zie hierboven\",IF(AJ360=\"fiets\",'km-vergoeding'!$D$3,0))","v":{"v":0,"d":"0.00"}},{"$nulls":7},{"v":0,"d":"0.00"},{"$nulls":12},{"v":0,"d":"0.00"},{"$nulls":5},{"v":0,"d":"0.00"},{"$nulls":5},"","",null,"","","",{"v":0,"d":"0.00"},null,""]
["","","",{"$nulls":51},{"$f":"IF($AU$38<>\"\",\"zie hierboven\",IF(AJ361=\"auto\",IF(AND((D361>'km-vergoeding'!$A$4),(D361<'km-vergoeding'!$A$5)),'km-vergoeding'!$D$4,'km-vergoeding'!$D$5),0))","v":{"v":0,"d":"0.0000 "}},{"$nulls":7},{"v":0,"d":"0.00"},{"$nulls":6},{"$f":"IF($AU$38<>\"\",\"zie hierboven\",IF(AJ361=\"fiets\",'km-vergoeding'!$D$3,0))","v":{"v":0,"d":"0.00"}},{"$nulls":7},{"v":0,"d":"0.00"},{"$nulls":12},{"v":0,"d":"0.00"},{"$nulls":5},{"v":0,"d":"0.00"},{"$nulls":5},"","",null,"","","",{"v":0,"d":"0.00"},null,""]
["","","",{"$nulls":51},{"$f":"IF($AU$38<>\"\",\"zie hierboven\",IF(AJ362=\"auto\",IF(AND((D362>'km-vergoeding'!$A$4),(D362<'km-vergoeding'!$A$5)),'km-vergoeding'!$D$4,'km-vergoeding'!$D$5),0))","v":{"v":0,"d":"0.0000 "}},{"$nulls":7},{"v":0,"d":"0.00"},{"$nulls":6},{"$f":"IF($AU$38<>\"\",\"zie hierboven\",IF(AJ362=\"fiets\",'km-vergoeding'!$D$3,0))","v":{"v":0,"d":"0.00"}},{"$nulls":7},{"v":0,"d":"0.00"},{"$nulls":12},{"v":0,"d":"0.00"},{"$nulls":5},{"v":0,"d":"0.00"},{"$nulls":5},"","",null,"","","",{"v":0,"d":"0.00"},null,""]
["","","",{"$nulls":51},{"$f":"IF($AU$38<>\"\",\"zie hierboven\",IF(AJ363=\"auto\",IF(AND((D363>'km-vergoeding'!$A$4),(D363<'km-vergoeding'!$A$5)),'km-vergoeding'!$D$4,'km-vergoeding'!$D$5),0))","v":{"v":0,"d":"0.0000 "}},{"$nulls":7},{"v":0,"d":"0.00"},{"$nulls":6},{"$f":"IF($AU$38<>\"\",\"zie hierboven\",IF(AJ363=\"fiets\",'km-vergoeding'!$D$3,0))","v":{"v":0,"d":"0.00"}},{"$nulls":7},{"v":0,"d":"0.00"},{"$nulls":12},{"v":0,"d":"0.00"},{"$nulls":5},{"v":0,"d":"0.00"},{"$nulls":5},"","",null,"","","",{"v":0,"d":"0.00"},null,""]
["","","",{"$nulls":51},{"$f":"IF($AU$38<>\"\",\"zie hierboven\",IF(AJ364=\"auto\",IF(AND((D364>'km-vergoeding'!$A$4),(D364<'km-vergoeding'!$A$5)),'km-vergoeding'!$D$4,'km-vergoeding'!$D$5),0))","v":{"v":0,"d":"0.0000 "}},{"$nulls":7},{"v":0,"d":"0.00"},{"$nulls":6},{"$f":"IF($AU$38<>\"\",\"zie hierboven\",IF(AJ364=\"fiets\",'km-vergoeding'!$D$3,0))","v":{"v":0,"d":"0.00"}},{"$nulls":7},{"v":0,"d":"0.00"},{"$nulls":12},{"v":0,"d":"0.00"},{"$nulls":5},{"v":0,"d":"0.00"},{"$nulls":5},"","",null,"","","",{"v":0,"d":"0.00"},null,""]
["","","",{"$nulls":51},{"$f":"IF($AU$38<>\"\",\"zie hierboven\",IF(AJ365=\"auto\",IF(AND((D365>'km-vergoeding'!$A$4),(D365<'km-vergoeding'!$A$5)),'km-vergoeding'!$D$4,'km-vergoeding'!$D$5),0))","v":{"v":0,"d":"0.0000 "}},{"$nulls":7},{"v":0,"d":"0.00"},{"$nulls":6},{"$f":"IF($AU$38<>\"\",\"zie hierboven\",IF(AJ365=\"fiets\",'km-vergoeding'!$D$3,0))","v":{"v":0,"d":"0.00"}},{"$nulls":7},{"v":0,"d":"0.00"},{"$nulls":12},{"v":0,"d":"0.00"},{"$nulls":5},{"v":0,"d":"0.00"},{"$nulls":5},"","",null,"","","",{"v":0,"d":"0.00"},null,""]
["","","",{"$nulls":51},{"$f":"IF($AU$38<>\"\",\"zie hierboven\",IF(AJ366=\"auto\",IF(AND((D366>'km-vergoeding'!$A$4),(D366<'km-vergoeding'!$A$5)),'km-vergoeding'!$D$4,'km-vergoeding'!$D$5),0))","v":{"v":0,"d":"0.0000 "}},{"$nulls":7},{"v":0,"d":"0.00"},{"$nulls":6},{"$f":"IF($AU$38<>\"\",\"zie hierboven\",IF(AJ366=\"fiets\",'km-vergoeding'!$D$3,0))","v":{"v":0,"d":"0.00"}},{"$nulls":7},{"v":0,"d":"0.00"},{"$nulls":12},{"v":0,"d":"0.00"},{"$nulls":5},{"v":0,"d":"0.00"},{"$nulls":5},"","",null,"","","",{"v":0,"d":"0.00"},null,""]
["","","",{"$nulls":51},{"$f":"IF($AU$38<>\"\",\"zie hierboven\",IF(AJ367=\"auto\",IF(AND((D367>'km-vergoeding'!$A$4),(D367<'km-vergoeding'!$A$5)),'km-vergoeding'!$D$4,'km-vergoeding'!$D$5),0))","v":{"v":0,"d":"0.0000 "}},{"$nulls":7},{"v":0,"d":"0.00"},{"$nulls":6},{"$f":"IF($AU$38<>\"\",\"zie hierboven\",IF(AJ367=\"fiets\",'km-vergoeding'!$D$3,0))","v":{"v":0,"d":"0.00"}},{"$nulls":7},{"v":0,"d":"0.00"},{"$nulls":12},{"v":0,"d":"0.00"},{"$nulls":5},{"v":0,"d":"0.00"},{"$nulls":5},"","",null,"","","",{"v":0,"d":"0.00"},null,""]
["","","",{"$nulls":51},{"$f":"IF($AU$38<>\"\",\"zie hierboven\",IF(AJ368=\"auto\",IF(AND((D368>'km-vergoeding'!$A$4),(D368<'km-vergoeding'!$A$5)),'km-vergoeding'!$D$4,'km-vergoeding'!$D$5),0))","v":{"v":0,"d":"0.0000 "}},{"$nulls":7},{"v":0,"d":"0.00"},{"$nulls":6},{"$f":"IF($AU$38<>\"\",\"zie hierboven\",IF(AJ368=\"fiets\",'km-vergoeding'!$D$3,0))","v":{"v":0,"d":"0.00"}},{"$nulls":7},{"v":0,"d":"0.00"},{"$nulls":12},{"v":0,"d":"0.00"},{"$nulls":5},{"v":0,"d":"0.00"},{"$nulls":5},"","",null,"","","",{"v":0,"d":"0.00"},null,""]
["","","",{"$nulls":51},{"$f":"IF($AU$38<>\"\",\"zie hierboven\",IF(AJ369=\"auto\",IF(AND((D369>'km-vergoeding'!$A$4),(D369<'km-vergoeding'!$A$5)),'km-vergoeding'!$D$4,'km-vergoeding'!$D$5),0))","v":{"v":0,"d":"0.0000 "}},{"$nulls":7},{"v":0,"d":"0.00"},{"$nulls":6},{"$f":"IF($AU$38<>\"\",\"zie hierboven\",IF(AJ369=\"fiets\",'km-vergoeding'!$D$3,0))","v":{"v":0,"d":"0.00"}},{"$nulls":7},{"v":0,"d":"0.00"},{"$nulls":12},{"v":0,"d":"0.00"},{"$nulls":5},{"v":0,"d":"0.00"},{"$nulls":5},"","",null,"","","",{"v":0,"d":"0.00"},null,""]
["","","",{"$nulls":51},{"$f":"IF($AU$38<>\"\",\"zie hierboven\",IF(AJ370=\"auto\",IF(AND((D370>'km-vergoeding'!$A$4),(D370<'km-vergoeding'!$A$5)),'km-vergoeding'!$D$4,'km-vergoeding'!$D$5),0))","v":{"v":0,"d":"0.0000 "}},{"$nulls":7},{"v":0,"d":"0.00"},{"$nulls":6},{"$f":"IF($AU$38<>\"\",\"zie hierboven\",IF(AJ370=\"fiets\",'km-vergoeding'!$D$3,0))","v":{"v":0,"d":"0.00"}},{"$nulls":7},{"v":0,"d":"0.00"},{"$nulls":12},{"v":0,"d":"0.00"},{"$nulls":5},{"v":0,"d":"0.00"},{"$nulls":5},"","",null,"","","",{"v":0,"d":"0.00"},null,""]
["","","",{"$nulls":51},{"$f":"IF($AU$38<>\"\",\"zie hierboven\",IF(AJ371=\"auto\",IF(AND((D371>'km-vergoeding'!$A$4),(D371<'km-vergoeding'!$A$5)),'km-vergoeding'!$D$4,'km-vergoeding'!$D$5),0))","v":{"v":0,"d":"0.0000 "}},{"$nulls":7},{"v":0,"d":"0.00"},{"$nulls":6},{"$f":"IF($AU$38<>\"\",\"zie hierboven\",IF(AJ371=\"fiets\",'km-vergoeding'!$D$3,0))","v":{"v":0,"d":"0.00"}},{"$nulls":7},{"v":0,"d":"0.00"},{"$nulls":12},{"v":0,"d":"0.00"},{"$nulls":5},{"v":0,"d":"0.00"},{"$nulls":5},"","",null,"","","",{"v":0,"d":"0.00"},null,""]
["","","",{"$nulls":51},{"$f":"IF($AU$38<>\"\",\"zie hierboven\",IF(AJ372=\"auto\",IF(AND((D372>'km-vergoeding'!$A$4),(D372<'km-vergoeding'!$A$5)),'km-vergoeding'!$D$4,'km-vergoeding'!$D$5),0))","v":{"v":0,"d":"0.0000 "}},{"$nulls":7},{"v":0,"d":"0.00"},{"$nulls":6},{"$f":"IF($AU$38<>\"\",\"zie hierboven\",IF(AJ372=\"fiets\",'km-vergoeding'!$D$3,0))","v":{"v":0,"d":"0.00"}},{"$nulls":7},{"v":0,"d":"0.00"},{"$nulls":12},{"v":0,"d":"0.00"},{"$nulls":5},{"v":0,"d":"0.00"},{"$nulls":5},"","",null,"","","",{"v":0,"d":"0.00"},null,""]
["","","",{"$nulls":51},{"$f":"IF($AU$38<>\"\",\"zie hierboven\",IF(AJ373=\"auto\",IF(AND((D373>'km-vergoeding'!$A$4),(D373<'km-vergoeding'!$A$5)),'km-vergoeding'!$D$4,'km-vergoeding'!$D$5),0))","v":{"v":0,"d":"0.0000 "}},{"$nulls":7},{"v":0,"d":"0.00"},{"$nulls":6},{"$f":"IF($AU$38<>\"\",\"zie hierboven\",IF(AJ373=\"fiets\",'km-vergoeding'!$D$3,0))","v":{"v":0,"d":"0.00"}},{"$nulls":7},{"v":0,"d":"0.00"},{"$nulls":12},{"v":0,"d":"0.00"},{"$nulls":5},{"v":0,"d":"0.00"},{"$nulls":5},"",null,null,"","","",{"v":0,"d":"0.00"},null,""]
[{"$nulls":3},"totaal teruggevorderd bedrag",{"$nulls":92},{"$f":"SUM(CM74:CM373)","v":{"v":0,"d":"0.00"}}]
{"$rows_empty":15}
[{"$nulls":7}," "]

{"sheet":"Blad23","index":1,"n_rows":28,"n_cols":6,"rows_kept":28,"hidden":true}
["kalenderjaar 2022",{"$f":"D1","v":45000},"kalenderjaar 2023","2023-03-15",null,2022]
["kalenderjaar 2023",{"$f":"D2","v":45366},"kalenderjaar 2024","2024-03-15",null,{"$f":"F1+1","v":2023}]
["kalenderjaar 2024",{"$f":"D3","v":45731},"kalenderjaar 2025","2025-03-15",null,{"$f":"F2+1","v":2024}]
["kalenderjaar 2025",46096,"kalenderjaar 2026","2026-03-15",null,2025]
["kalenderjaar 2026",46461,"kalenderjaar 2027","2027-03-15",null,2026]
["kalenderjaar 2027",46827,"kalenderjaar 2028","2028-03-15",null,2027]
["kalenderjaar 2028",47192,"kalenderjaar 2029","2029-03-15",null,2028]
["kalenderjaar 2029",47557,"kalenderjaar 2030","2030-03-15",null,2029]
["kalenderjaar 2030",47922,"kalenderjaar 2031","2031-03-15",null,2030]
["kalenderjaar 2031",48288,"kalenderjaar 2032","2032-03-15",null,2031]
["kalenderjaar 2032",48653,"kalenderjaar 2033","2033-03-15",null,2032]
[]
[]
[]
["vul het huidig kalenderjaar in =>",null,"kalenderjaar 2023",null,null,{"$f":"VLOOKUP($C$15,$A$1:$F$11,6,FALSE)","v":2023}]
[]
[]
[]
["2023-01-01"]
["2023-02-01"]
["2023-03-01"]
["2023-04-01"]
["2023-05-01"]
["2023-06-01"]
["2023-09-01"]
["2023-10-01"]
["2023-11-01"]
["2023-12-01"]

{"sheet":"Blad1","index":2,"n_rows":0,"n_cols":0,"rows_kept":0}

{"sheet":"Blad2","index":3,"n_rows":0,"n_cols":0,"rows_kept":0}

{"sheet":"Blad3","index":4,"n_rows":0,"n_cols":0,"rows_kept":0}

{"sheet":"Blad4","index":5,"n_rows":0,"n_cols":0,"rows_kept":0}

{"sheet":"Blad5","index":6,"n_rows":0,"n_cols":0,"rows_kept":0}

{"sheet":"Blad6","index":7,"n_rows":0,"n_cols":0,"rows_kept":0}

{"sheet":"Blad7","index":8,"n_rows":0,"n_cols":0,"rows_kept":0}

{"sheet":"Blad8","index":9,"n_rows":0,"n_cols":0,"rows_kept":0}

{"sheet":"Blad9","index":10,"n_rows":0,"n_cols":0,"rows_kept":0}

{"sheet":"Blad10","index":11,"n_rows":0,"n_cols":0,"rows_kept":0}

{"sheet":"Blad11","index":12,"n_rows":0,"n_cols":0,"rows_kept":0}

{"sheet":"Blad12","index":13,"n_rows":0,"n_cols":0,"rows_kept":0}

{"sheet":"Blad13","index":14,"n_rows":0,"n_cols":0,"rows_kept":0}

{"sheet":"Blad14","index":15,"n_rows":0,"n_cols":0,"rows_kept":0}

{"sheet":"Blad15","index":16,"n_rows":0,"n_cols":0,"rows_kept":0}

{"sheet":"Blad16","index":17,"n_rows":0,"n_cols":0,"rows_kept":0}

{"sheet":"Blad17","index":18,"n_rows":0,"n_cols":0,"rows_kept":0}

{"sheet":"Blad18","index":19,"n_rows":0,"n_cols":0,"rows_kept":0}

{"sheet":"Blad19","index":20,"n_rows":0,"n_cols":0,"rows_kept":0}

{"sheet":"Blad20","index":21,"n_rows":0,"n_cols":0,"rows_kept":0}

{"sheet":"Blad21","index":22,"n_rows":0,"n_cols":0,"rows_kept":0}

{"sheet":"Blad22","index":23,"n_rows":0,"n_cols":0,"rows_kept":0}

{"sheet":"gegevensblad samenvatting vord.","index":24,"n_rows":2,"n_cols":7,"rows_kept":2}
["instellingsnummer","naam instelling","kalenderjaar","nieuwe terugvordering","correctie terugvordering","totaal terugvordering","formulier bevat nog foutmeldingen"]
[{"$f":"IF('Terugvordering reiskosten OAH'!T36=\"\",\"\",'Terugvordering reiskosten OAH'!T36)","v":""},{"$f":"IF('Terugvordering reiskosten OAH'!T38=\"\",\"\",'Terugvordering reiskosten OAH'!T38)","v":""},{"$f":"Blad23!$F$15","v":2023},{"$f":"IF('Terugvordering reiskosten OAH'!D52=\"\",\"\",'Terugvordering reiskosten OAH'!D52)","v":""},{"$f":"IF('Terugvordering reiskosten OAH'!D54=\"\",\"\",'Terugvordering reiskosten OAH'!D54)","v":""},{"$f":"IF('Terugvordering reiskosten OAH'!CS374=0,0,'Terugvordering reiskosten OAH'!CS374)","v":{"v":0,"d":"0.00"}},{"$f":"IF(AND('Terugvordering reiskosten OAH'!D62=\"\",'Terugvordering reiskosten OAH'!D63=\"\",'Terugvordering reiskosten OAH'!D64=\"\",'Terugvordering reiskosten OAH'!D65=\"\",'Terugvordering reiskosten OAH'!D66=\"\",'Terugvordering reiskosten OAH'!D67=\"\",'Terugvordering reiskosten OAH'!D68=\"\",'Terugvordering reiskosten OAH'!D69=\"\",'Terugvordering reiskosten OAH'!D70=\"\",'Terugvordering reiskosten OAH'!D71=\"\"),\"\",\"X\")","v":""}]

{"sheet":"gegevensblad detail terugvord.","index":25,"n_rows":301,"n_cols":16,"rows_kept":301}
["instellings-\nnummer","naam instelling","kalender-\njaar","periode","voor- en achternaam personeelslid","stamboeknummer","voor- en achternaam leerling","wijze van\nverplaatsing","afstand","aantal\ntrajecten","vergoeding/km \nverplaatsing auto","bedrag in euro \nverplaatsing auto","vergoeding/km \nverplaatsing fiets ","bedrag in euro \nverplaatsing fiets","vergoeding \nopenbaar vervoer","bedrag in euro\nper ingevulde rij"]
[{"$f":"IF('Terugvordering reiskosten OAH'!D74=\"\",\"\",IF('Terugvordering reiskosten OAH'!$T$36=\"\",\"\",'Terugvordering reiskosten OAH'!$T$36))","v":""},{"$f":"IF(A2=\"\",\"\",'Terugvordering reiskosten OAH'!$T$38)","v":""},{"$f":"IF(A2=\"\",\"\",'gegevensblad samenvatting vord.'!$C$2)","v":""},{"$f":"IF('Terugvordering reiskosten OAH'!D74=\"\",\"\",TEXT('Terugvordering reiskosten OAH'!D74,\"mm-jjjj\"))","v":""},{"$f":"IF('Terugvordering reiskosten OAH'!H74=\"\",\"\",'Terugvordering reiskosten OAH'!H74)","v":""},{"$f":"IF('Terugvordering reiskosten OAH'!R74=\"\",\"\",'Terugvordering reiskosten OAH'!R74)","v":""},{"$f":"IF('Terugvordering reiskosten OAH'!X74=\"\",\"\",'Terugvordering reiskosten OAH'!X74)","v":""},{"$f":"IF('Terugvordering reiskosten OAH'!AJ74=\"\",\"\",'Terugvordering reiskosten OAH'!AJ74)","v":""},{"$f":"IF('Terugvordering reiskosten OAH'!AR74=\"\",\"\",'Terugvordering reiskosten OAH'!AR74)","v":""},{"$f":"IF('Terugvordering reiskosten OAH'!AY74=\"\",\"\",'Terugvordering reiskosten OAH'!AY74)","v":""},{"$f":"IF('Terugvordering reiskosten OAH'!BC74=0,\"\",'Terugvordering reiskosten OAH'!BC74)","v":""},{"$f":"IF('Terugvordering reiskosten OAH'!BK74=0,\"\",'Terugvordering reiskosten OAH'!BK74)","v":""},{"$f":"IF('Terugvordering reiskosten OAH'!BR74=0,\"\",'Terugvordering reiskosten OAH'!BR74)","v":""},{"$f":"IF('Terugvordering reiskosten OAH'!BZ74=0,\"\",'Terugvordering reiskosten OAH'!BZ74)","v":""},{"$f":"IF('Terugvordering reiskosten OAH'!CG74=\"\",\"\",'Terugvordering reiskosten OAH'!CG74)","v":""},{"$f":"IF('Terugvordering reiskosten OAH'!CM74=0,\"\",'Terugvordering reiskosten OAH'!CM74)","v":""}]
[{"$f":"IF('Terugvordering reiskosten OAH'!D75=\"\",\"\",IF('Terugvordering reiskosten OAH'!$T$36=\"\",\"\",'Terugvordering reiskosten OAH'!$T$36))","v":""},{"$f":"IF(A3=\"\",\"\",'Terugvordering reiskosten OAH'!$T$38)","v":""},{"$f":"IF(A3=\"\",\"\",'gegevensblad samenvatting vord.'!$C$2)","v":""},{"$f":"IF('Terugvordering reiskosten OAH'!D75=\"\",\"\",TEXT('Terugvordering reiskosten OAH'!D75,\"mm-jjjj\"))","v":""},{"$f":"IF('Terugvordering reiskosten OAH'!H75=\"\",\"\",'Terugvordering reiskosten OAH'!H75)","v":""},{"$f":"IF('Terugvordering reiskosten OAH'!R75=\"\",\"\",'Terugvordering reiskosten OAH'!R75)","v":""},{"$f":"IF('Terugvordering reiskosten OAH'!X75=\"\",\"\",'Terugvordering reiskosten OAH'!X75)","v":""},{"$f":"IF('Terugvordering reiskosten OAH'!AJ75=\"\",\"\",'Terugvordering reiskosten OAH'!AJ75)","v":""},{"$f":"IF('Terugvordering reiskosten OAH'!AR75=\"\",\"\",'Terugvordering reiskosten OAH'!AR75)","v":""},{"$f":"IF('Terugvordering reiskosten OAH'!AY75=\"\",\"\",'Terugvordering reiskosten OAH'!AY75)","v":""},{"$f":"IF('Terugvordering reiskosten OAH'!BC75=0,\"\",'Terugvordering reiskosten OAH'!BC75)","v":""},{"$f":"IF('Terugvordering reiskosten OAH'!BK75=0,\"\",'Terugvordering reiskosten OAH'!BK75)","v":""},{"$f":"IF('Terugvordering reiskosten OAH'!BR75=0,\"\",'Terugvordering reiskosten OAH'!BR75)","v":""},{"$f":"IF('Terugvordering reiskosten OAH'!BZ75=0,\"\",'Terugvordering reiskosten OAH'!BZ75)","v":""},{"$f":"IF('Terugvordering reiskosten OAH'!CG75=\"\",\"\",'Terugvordering reiskosten OAH'!CG75)","v":""},{"$f":"IF('Terugvordering reiskosten OAH'!CM75=0,\"\",'Terugvordering reiskosten OAH'!CM75)","v":""}]
[{"$f":"IF('Terugvordering reiskosten OAH'!D76=\"\",\"\",IF('Terugvordering reiskosten OAH'!$T$36=\"\",\"\",'Terugvordering reiskosten OAH'!$T$36))","v":""},{"$f":"IF(A4=\"\",\"\",'Terugvordering reiskosten OAH'!$T$38)","v":""},{"$f":"IF(A4=\"\",\"\",'gegevensblad samenvatting vord.'!$C$2)","v":""},{"$f":"IF('Terugvordering reiskosten OAH'!D76=\"\",\"\",TEXT('Terugvordering reiskosten OAH'!D76,\"mm-jjjj\"))","v":""},{"$f":"IF('Terugvordering reiskosten OAH'!H76=\"\",\"\",'Terugvordering reiskosten OAH'!H76)","v":""},{"$f":"IF('Terugvordering reiskosten OAH'!R76=\"\",\"\",'Terugvordering reiskosten OAH'!R76)","v":""},{"$f":"IF('Terugvordering reiskosten OAH'!X76=\"\",\"\",'Terugvordering reiskosten OAH'!X76)","v":""},{"$f":"IF('Terugvordering reiskosten OAH'!AJ76=\"\",\"\",'Terugvordering reiskosten OAH'!AJ76)","v":""},{"$f":"IF('Terugvordering reiskosten OAH'!AR76=\"\",\"\",'Terugvordering reiskosten OAH'!AR76)","v":""},{"$f":"IF('Terugvordering reiskosten OAH'!AY76=\"\",\"\",'Terugvordering reiskosten OAH'!AY76)","v":""},{"$f":"IF('Terugvordering reiskosten OAH'!BC76=0,\"\",'Terugvordering reiskosten OAH'!BC76)","v":""},{"$f":"IF('Terugvordering reiskosten OAH'!BK76=0,\"\",'Terugvordering reiskosten OAH'!BK76)","v":""},{"$f":"IF('Terugvordering reiskosten OAH'!BR76=0,\"\",'Terugvordering reiskosten OAH'!BR76)","v":""},{"$f":"IF('Terugvordering reiskosten OAH'!BZ76=0,\"\",'Terugvordering reiskosten OAH'!BZ76)","v":""},{"$f":"IF('Terugvordering reiskosten OAH'!CG76=\"\",\"\",'Terugvordering reiskosten OAH'!CG76)","v":""},{"$f":"IF('Terugvordering reiskosten OAH'!CM76=0,\"\",'Terugvordering reiskosten OAH'!CM76)","v":""}]
[{"$f":"IF('Terugvordering reiskosten OAH'!D77=\"\",\"\",IF('Terugvordering reiskosten OAH'!$T$36=\"\",\"\",'Terugvordering reiskosten OAH'!$T$36))","v":""},{"$f":"IF(A5=\"\",\"\",'Terugvordering reiskosten OAH'!$T$38)","v":""},{"$f":"IF(A5=\"\",\"\",'gegevensblad samenvatting vord.'!$C$2)","v":""},{"$f":"IF('Terugvordering reiskosten OAH'!D77=\"\",\"\",TEXT('Terugvordering reiskosten OAH'!D77,\"mm-jjjj\"))","v":""},{"$f":"IF('Terugvordering reiskosten OAH'!H77=\"\",\"\",'Terugvordering reiskosten OAH'!H77)","v":""},{"$f":"IF('Terugvordering reiskosten OAH'!R77=\"\",\"\",'Terugvordering reiskosten OAH'!R77)","v":""},{"$f":"IF('Terugvordering reiskosten OAH'!X77=\"\",\"\",'Terugvordering reiskosten OAH'!X77)","v":""},{"$f":"IF('Terugvordering reiskosten OAH'!AJ77=\"\",\"\",'Terugvordering reiskosten OAH'!AJ77)","v":""},{"$f":"IF('Terugvordering reiskosten OAH'!AR77=\"\",\"\",'Terugvordering reiskosten OAH'!AR77)","v":""},{"$f":"IF('Terugvordering reiskosten OAH'!AY77=\"\",\"\",'Terugvordering reiskosten OAH'!AY77)","v":""},{"$f":"IF('Terugvordering reiskosten OAH'!BC77=0,\"\",'Terugvordering reiskosten OAH'!BC77)","v":""},{"$f":"IF('Terugvordering reiskosten OAH'!BK77=0,\"\",'Terugvordering reiskosten OAH'!BK77)","v":""},{"$f":"IF('Terugvordering reiskosten OAH'!BR77=0,\"\",'Terugvordering reiskosten OAH'!BR77)","v":""},{"$f":"IF('Terugvordering reiskosten OAH'!BZ77=0,\"\",'Terugvordering reiskosten OAH'!BZ77)","v":""},{"$f":"IF('Terugvordering reiskosten OAH'!CG77=\"\",\"\",'Terugvordering reiskosten OAH'!CG77)","v":""},{"$f":"IF('Terugvordering reiskosten OAH'!CM77=0,\"\",'Terugvordering reiskosten OAH'!CM77)","v":""}]
[{"$f":"IF('Terugvordering reiskosten OAH'!D78=\"\",\"\",IF('Terugvordering reiskosten OAH'!$T$36=\"\",\"\",'Terugvordering reiskosten OAH'!$T$36))","v":""},{"$f":"IF(A6=\"\",\"\",'Terugvordering reiskosten OAH'!$T$38)","v":""},{"$f":"IF(A6=\"\",\"\",'gegevensblad samenvatting vord.'!$C$2)","v":""},{"$f":"IF('Terugvordering reiskosten OAH'!D78=\"\",\"\",TEXT('Terugvordering reiskosten OAH'!D78,\"mm-jjjj\"))","v":""},{"$f":"IF('Terugvordering reiskosten OAH'!H78=\"\",\"\",'Terugvordering reiskosten OAH'!H78)","v":""},{"$f":"IF('Terugvordering reiskosten OAH'!R78=\"\",\"\",'Terugvordering reiskosten OAH'!R78)","v":""},{"$f":"IF('Terugvordering reiskosten OAH'!X78=\"\",\"\",'Terugvordering reiskosten OAH'!X78)","v":""},{"$f":"IF('Terugvordering reiskosten OAH'!AJ78=\"\",\"\",'Terugvordering reiskosten OAH'!AJ78)","v":""},{"$f":"IF('Terugvordering reiskosten OAH'!AR78=\"\",\"\",'Terugvordering reiskosten OAH'!AR78)","v":""},{"$f":"IF('Terugvordering reiskosten OAH'!AY78=\"\",\"\",'Terugvordering reiskosten OAH'!AY78)","v":""},{"$f":"IF('Terugvordering reiskosten OAH'!BC78=0,\"\",'Terugvordering reiskosten OAH'!BC78)","v":""},{"$f":"IF('Terugvordering reiskosten OAH'!BK78=0,\"\",'Terugvordering reiskosten OAH'!BK78)","v":""},{"$f":"IF('Terugvordering reiskosten OAH'!BR78=0,\"\",'Terugvordering reiskosten OAH'!BR78)","v":""},{"$f":"IF('Terugvordering reiskosten OAH'!BZ78=0,\"\",'Terugvordering reiskosten OAH'!BZ78)","v":""},{"$f":"IF('Terugvordering reiskosten OAH'!CG78=\"\",\"\",'Terugvordering reiskosten OAH'!CG78)","v":""},{"$f":"IF('Terugvordering reiskosten OAH'!CM78=0,\"\",'Terugvordering reiskosten OAH'!CM78)","v":""}]
[{"$f":"IF('Terugvordering reiskosten OAH'!D79=\"\",\"\",IF('Terugvordering reiskosten OAH'!$T$36=\"\",\"\",'Terugvordering reiskosten OAH'!$T$36))","v":""},{"$f":"IF(A7=\"\",\"\",'Terugvordering reiskosten OAH'!$T$38)","v":""},{"$f":"IF(A7=\"\",\"\",'gegevensblad samenvatting vord.'!$C$2)","v":""},{"$f":"IF('Terugvordering reiskosten OAH'!D79=\"\",\"\",TEXT('Terugvordering reiskosten OAH'!D79,\"mm-jjjj\"))","v":""},{"$f":"IF('Terugvordering reiskosten OAH'!H79=\"\",\"\",'Terugvordering reiskosten OAH'!H79)","v":""},{"$f":"IF('Terugvordering reiskosten OAH'!R79=\"\",\"\",'Terugvordering reiskosten OAH'!R79)","v":""},{"$f":"IF('Terugvordering reiskosten OAH'!X79=\"\",\"\",'Terugvordering reiskosten OAH'!X79)","v":""},{"$f":"IF('Terugvordering reiskosten OAH'!AJ79=\"\",\"\",'Terugvordering reiskosten OAH'!AJ79)","v":""},{"$f":"IF('Terugvordering reiskosten OAH'!AR79=\"\",\"\",'Terugvordering reiskosten OAH'!AR79)","v":""},{"$f":"IF('Terugvordering reiskosten OAH'!AY79=\"\",\"\",'Terugvordering reiskosten OAH'!AY79)","v":""},{"$f":"IF('Terugvordering reiskosten OAH'!BC79=0,\"\",'Terugvordering reiskosten OAH'!BC79)","v":""},{"$f":"IF('Terugvordering reiskosten OAH'!BK79=0,\"\",'Terugvordering reiskosten OAH'!BK79)","v":""},{"$f":"IF('Terugvordering reiskosten OAH'!BR79=0,\"\",'Terugvordering reiskosten OAH'!BR79)","v":""},{"$f":"IF('Terugvordering reiskosten OAH'!BZ79=0,\"\",'Terugvordering reiskosten OAH'!BZ79)","v":""},{"$f":"IF('Terugvordering reiskosten OAH'!CG79=\"\",\"\",'Terugvordering reiskosten OAH'!CG79)","v":""},{"$f":"IF('Terugvordering reiskosten OAH'!CM79=0,\"\",'Terugvordering reiskosten OAH'!CM79)","v":""}]
[{"$f":"IF('Terugvordering reiskosten OAH'!D80=\"\",\"\",IF('Terugvordering reiskosten OAH'!$T$36=\"\",\"\",'Terugvordering reiskosten OAH'!$T$36))","v":""},{"$f":"IF(A8=\"\",\"\",'Terugvordering reiskosten OAH'!$T$38)","v":""},{"$f":"IF(A8=\"\",\"\",'gegevensblad samenvatting vord.'!$C$2)","v":""},{"$f":"IF('Terugvordering reiskosten OAH'!D80=\"\",\"\",TEXT('Terugvordering reiskosten OAH'!D80,\"mm-jjjj\"))","v":""},{"$f":"IF('Terugvordering reiskosten OAH'!H80=\"\",\"\",'Terugvordering reiskosten OAH'!H80)","v":""},{"$f":"IF('Terugvordering reiskosten OAH'!R80=\"\",\"\",'Terugvordering reiskosten OAH'!R80)","v":""},{"$f":"IF('Terugvordering reiskosten OAH'!X80=\"\",\"\",'Terugvordering reiskosten OAH'!X80)","v":""},{"$f":"IF('Terugvordering reiskosten OAH'!AJ80=\"\",\"\",'Terugvordering reiskosten OAH'!AJ80)","v":""},{"$f":"IF('Terugvordering reiskosten OAH'!AR80=\"\",\"\",'Terugvordering reiskosten OAH'!AR80)","v":""},{"$f":"IF('Terugvordering reiskosten OAH'!AY80=\"\",\"\",'Terugvordering reiskosten OAH'!AY80)","v":""},{"$f":"IF('Terugvordering reiskosten OAH'!BC80=0,\"\",'Terugvordering reiskosten OAH'!BC80)","v":""},{"$f":"IF('Terugvordering reiskosten OAH'!BK80=0,\"\",'Terugvordering reiskosten OAH'!BK80)","v":""},{"$f":"IF('Terugvordering reiskosten OAH'!BR80=0,\"\",'Terugvordering reiskosten OAH'!BR80)","v":""},{"$f":"IF('Terugvordering reiskosten OAH'!BZ80=0,\"\",'Terugvordering reiskosten OAH'!BZ80)","v":""},{"$f":"IF('Terugvordering reiskosten OAH'!CG80=\"\",\"\",'Terugvordering reiskosten OAH'!CG80)","v":""},{"$f":"IF('Terugvordering reiskosten OAH'!CM80=0,\"\",'Terugvordering reiskosten OAH'!CM80)","v":""}]
[{"$f":"IF('Terugvordering reiskosten OAH'!D81=\"\",\"\",IF('Terugvordering reiskosten OAH'!$T$36=\"\",\"\",'Terugvordering reiskosten OAH'!$T$36))","v":""},{"$f":"IF(A9=\"\",\"\",'Terugvordering reiskosten OAH'!$T$38)","v":""},{"$f":"IF(A9=\"\",\"\",'gegevensblad samenvatting vord.'!$C$2)","v":""},{"$f":"IF('Terugvordering reiskosten OAH'!D81=\"\",\"\",TEXT('Terugvordering reiskosten OAH'!D81,\"mm-jjjj\"))","v":""},{"$f":"IF('Terugvordering reiskosten OAH'!H81=\"\",\"\",'Terugvordering reiskosten OAH'!H81)","v":""},{"$f":"IF('Terugvordering reiskosten OAH'!R81=\"\",\"\",'Terugvordering reiskosten OAH'!R81)","v":""},{"$f":"IF('Terugvordering reiskosten OAH'!X81=\"\",\"\",'Terugvordering reiskosten OAH'!X81)","v":""},{"$f":"IF('Terugvordering reiskosten OAH'!AJ81=\"\",\"\",'Terugvordering reiskosten OAH'!AJ81)","v":""},{"$f":"IF('Terugvordering reiskosten OAH'!AR81=\"\",\"\",'Terugvordering reiskosten OAH'!AR81)","v":""},{"$f":"IF('Terugvordering reiskosten OAH'!AY81=\"\",\"\",'Terugvordering reiskosten OAH'!AY81)","v":""},{"$f":"IF('Terugvordering reiskosten OAH'!BC81=0,\"\",'Terugvordering reiskosten OAH'!BC81)","v":""},{"$f":"IF('Terugvordering reiskosten OAH'!BK81=0,\"\",'Terugvordering reiskosten OAH'!BK81)","v":""},{"$f":"IF('Terugvordering reiskosten OAH'!BR81=0,\"\",'Terugvordering reiskosten OAH'!BR81)","v":""},{"$f":"IF('Terugvordering reiskosten OAH'!BZ81=0,\"\",'Terugvordering reiskosten OAH'!BZ81)","v":""},{"$f":"IF('Terugvordering reiskosten OAH'!CG81=\"\",\"\",'Terugvordering reiskosten OAH'!CG81)","v":""},{"$f":"IF('Terugvordering reiskosten OAH'!CM81=0,\"\",'Terugvordering reiskosten OAH'!CM81)","v":""}]
[{"$f":"IF('Terugvordering reiskosten OAH'!D82=\"\",\"\",IF('Terugvordering reiskosten OAH'!$T$36=\"\",\"\",'Terugvordering reiskosten OAH'!$T$36))","v":""},{"$f":"IF(A10=\"\",\"\",'Terugvordering reiskosten OAH'!$T$38)","v":""},{"$f":"IF(A10=\"\",\"\",'gegevensblad samenvatting vord.'!$C$2)","v":""},{"$f":"IF('Terugvordering reiskosten OAH'!D82=\"\",\"\",TEXT('Terugvordering reiskosten OAH'!D82,\"mm-jjjj\"))","v":""},{"$f":"IF('Terugvordering reiskosten OAH'!H82=\"\",\"\",'Terugvordering reiskosten OAH'!H82)","v":""},{"$f":"IF('Terugvordering reiskosten OAH'!R82=\"\",\"\",'Terugvordering reiskosten OAH'!R82)","v":""},{"$f":"IF('Terugvordering reiskosten OAH'!X82=\"\",\"\",'Terugvordering reiskosten OAH'!X82)","v":""},{"$f":"IF('Terugvordering reiskosten OAH'!AJ82=\"\",\"\",'Terugvordering reiskosten OAH'!AJ82)","v":""},{"$f":"IF('Terugvordering reiskosten OAH'!AR82=\"\",\"\",'Terugvordering reiskosten OAH'!AR82)","v":""},{"$f":"IF('Terugvordering reiskosten OAH'!AY82=\"\",\"\",'Terugvordering reiskosten OAH'!AY82)","v":""},{"$f":"IF('Terugvordering reiskosten OAH'!BC82=0,\"\",'Terugvordering reiskosten OAH'!BC82)","v":""},{"$f":"IF('Terugvordering reiskosten OAH'!BK82=0,\"\",'Terugvordering reiskosten OAH'!BK82)","v":""},{"$f":"IF('Terugvordering reiskosten OAH'!BR82=0,\"\",'Terugvordering reiskosten OAH'!BR82)","v":""},{"$f":"IF('Terugvordering reiskosten OAH'!BZ82=0,\"\",'Terugvordering reiskosten OAH'!BZ82)","v":""},{"$f":"IF('Terugvordering reiskosten OAH'!CG82=\"\",\"\",'Terugvordering reiskosten OAH'!CG82)","v":""},{"$f":"IF('Terugvordering reiskosten OAH'!CM82=0,\"\",'Terugvordering reiskosten OAH'!CM82)","v":""}]
[{"$f":"IF('Terugvordering reiskosten OAH'!D83=\"\",\"\",IF('Terugvordering reiskosten OAH'!$T$36=\"\",\"\",'Terugvordering reiskosten OAH'!$T$36))","v":""},{"$f":"IF(A11=\"\",\"\",'Terugvordering reiskosten OAH'!$T$38)","v":""},{"$f":"IF(A11=\"\",\"\",'gegevensblad samenvatting vord.'!$C$2)","v":""},{"$f":"IF('Terugvordering reiskosten OAH'!D83=\"\",\"\",TEXT('Terugvordering reiskosten OAH'!D83,\"mm-jjjj\"))","v":""},{"$f":"IF('Terugvordering reiskosten OAH'!H83=\"\",\"\",'Terugvordering reiskosten OAH'!H83)","v":""},{"$f":"IF('Terugvordering reiskosten OAH'!R83=\"\",\"\",'Terugvordering reiskosten OAH'!R83)","v":""},{"$f":"IF('Terugvordering reiskosten OAH'!X83=\"\",\"\",'Terugvordering reiskosten OAH'!X83)","v":""},{"$f":"IF('Terugvordering reiskosten OAH'!AJ83=\"\",\"\",'Terugvordering reiskosten OAH'!AJ83)","v":""},{"$f":"IF('Terugvordering reiskosten OAH'!AR83=\"\",\"\",'Terugvordering reiskosten OAH'!AR83)","v":""},{"$f":"IF('Terugvordering reiskosten OAH'!AY83=\"\",\"\",'Terugvordering reiskosten OAH'!AY83)","v":""},{"$f":"IF('Terugvordering reiskosten OAH'!BC83=0,\"\",'Terugvordering reiskosten OAH'!BC83)","v":""},{"$f":"IF('Terugvordering reiskosten OAH'!BK83=0,\"\",'Terugvordering reiskosten OAH'!BK83)","v":""},{"$f":"IF('Terugvordering reiskosten OAH'!BR83=0,\"\",'Terugvordering reiskosten OAH'!BR83)","v":""},{"$f":"IF('Terugvordering reiskosten OAH'!BZ83=0,\"\",'Terugvordering reiskosten OAH'!BZ83)","v":""},{"$f":"IF('Terugvordering reiskosten OAH'!CG83=\"\",\"\",'Terugvordering reiskosten OAH'!CG83)","v":""},{"$f":"IF('Terugvordering reiskosten OAH'!CM83=0,\"\",'Terugvordering reiskosten OAH'!CM83)","v":""}]
[{"$f":"IF('Terugvordering reiskosten OAH'!D84=\"\",\"\",IF('Terugvordering reiskosten OAH'!$T$36=\"\",\"\",'Terugvordering reiskosten OAH'!$T$36))","v":""},{"$f":"IF(A12=\"\",\"\",'Terugvordering reiskosten OAH'!$T$38)","v":""},{"$f":"IF(A12=\"\",\"\",'gegevensblad samenvatting vord.'!$C$2)","v":""},{"$f":"IF('Terugvordering reiskosten OAH'!D84=\"\",\"\",TEXT('Terugvordering reiskosten OAH'!D84,\"mm-jjjj\"))","v":""},{"$f":"IF('Terugvordering reiskosten OAH'!H84=\"\",\"\",'Terugvordering reiskosten OAH'!H84)","v":""},{"$f":"IF('Terugvordering reiskosten OAH'!R84=\"\",\"\",'Terugvordering reiskosten OAH'!R84)","v":""},{"$f":"IF('Terugvordering reiskosten OAH'!X84=\"\",\"\",'Terugvordering reiskosten OAH'!X84)","v":""},{"$f":"IF('Terugvordering reiskosten OAH'!AJ84=\"\",\"\",'Terugvordering reiskosten OAH'!AJ84)","v":""},{"$f":"IF('Terugvordering reiskosten OAH'!AR84=\"\",\"\",'Terugvordering reiskosten OAH'!AR84)","v":""},{"$f":"IF('Terugvordering reiskosten OAH'!AY84=\"\",\"\",'Terugvordering reiskosten OAH'!AY84)","v":""},{"$f":"IF('Terugvordering reiskosten OAH'!BC84=0,\"\",'Terugvordering reiskosten OAH'!BC84)","v":""},{"$f":"IF('Terugvordering reiskosten OAH'!BK84=0,\"\",'Terugvordering reiskosten OAH'!BK84)","v":""},{"$f":"IF('Terugvordering reiskosten OAH'!BR84=0,\"\",'Terugvordering reiskosten OAH'!BR84)","v":""},{"$f":"IF('Terugvordering reiskosten OAH'!BZ84=0,\"\",'Terugvordering reiskosten OAH'!BZ84)","v":""},{"$f":"IF('Terugvordering reiskosten OAH'!CG84=\"\",\"\",'Terugvordering reiskosten OAH'!CG84)","v":""},{"$f":"IF('Terugvordering reiskosten OAH'!CM84=0,\"\",'Terugvordering reiskosten OAH'!CM84)","v":""}]
[{"$f":"IF('Terugvordering reiskosten OAH'!D85=\"\",\"\",IF('Terugvordering reiskosten OAH'!$T$36=\"\",\"\",'Terugvordering reiskosten OAH'!$T$36))","v":""},{"$f":"IF(A13=\"\",\"\",'Terugvordering reiskosten OAH'!$T$38)","v":""},{"$f":"IF(A13=\"\",\"\",'gegevensblad samenvatting vord.'!$C$2)","v":""},{"$f":"IF('Terugvordering reiskosten OAH'!D85=\"\",\"\",TEXT('Terugvordering reiskosten OAH'!D85,\"mm-jjjj\"))","v":""},{"$f":"IF('Terugvordering reiskosten OAH'!H85=\"\",\"\",'Terugvordering reiskosten OAH'!H85)","v":""},{"$f":"IF('Terugvordering reiskosten OAH'!R85=\"\",\"\",'Terugvordering reiskosten OAH'!R85)","v":""},{"$f":"IF('Terugvordering reiskosten OAH'!X85=\"\",\"\",'Terugvordering reiskosten OAH'!X85)","v":""},{"$f":"IF('Terugvordering reiskosten OAH'!AJ85=\"\",\"\",'Terugvordering reiskosten OAH'!AJ85)","v":""},{"$f":"IF('Terugvordering reiskosten OAH'!AR85=\"\",\"\",'Terugvordering reiskosten OAH'!AR85)","v":""},{"$f":"IF('Terugvordering reiskosten OAH'!AY85=\"\",\"\",'Terugvordering reiskosten OAH'!AY85)","v":""},{"$f":"IF('Terugvordering reiskosten OAH'!BC85=0,\"\",'Terugvordering reiskosten OAH'!BC85)","v":""},{"$f":"IF('Terugvordering reiskosten OAH'!BK85=0,\"\",'Terugvordering reiskosten OAH'!BK85)","v":""},{"$f":"IF('Terugvordering reiskosten OAH'!BR85=0,\"\",'Terugvordering reiskosten OAH'!BR85)","v":""},{"$f":"IF('Terugvordering reiskosten OAH'!BZ85=0,\"\",'Terugvordering reiskosten OAH'!BZ85)","v":""},{"$f":"IF('Terugvordering reiskosten OAH'!CG85=\"\",\"\",'Terugvordering reiskosten OAH'!CG85)","v":""},{"$f":"IF('Terugvordering reiskosten OAH'!CM85=0,\"\",'Terugvordering reiskosten OAH'!CM85)","v":""}]
[{"$f":"IF('Terugvordering reiskosten OAH'!D86=\"\",\"\",IF('Terugvordering reiskosten OAH'!$T$36=\"\",\"\",'Terugvordering reiskosten OAH'!$T$36))","v":""},{"$f":"IF(A14=\"\",\"\",'Terugvordering reiskosten OAH'!$T$38)","v":""},{"$f":"IF(A14=\"\",\"\",'gegevensblad samenvatting vord.'!$C$2)","v":""},{"$f":"IF('Terugvordering reiskosten OAH'!D86=\"\",\"\",TEXT('Terugvordering reiskosten OAH'!D86,\"mm-jjjj\"))","v":""},{"$f":"IF('Terugvordering reiskosten OAH'!H86=\"\",\"\",'Terugvordering reiskosten OAH'!H86)","v":""},{"$f":"IF('Terugvordering reiskosten OAH'!R86=\"\",\"\",'Terugvordering reiskosten OAH'!R86)","v":""},{"$f":"IF('Terugvordering reiskosten OAH'!X86=\"\",\"\",'Terugvordering reiskosten OAH'!X86)","v":""},{"$f":"IF('Terugvordering reiskosten OAH'!AJ86=\"\",\"\",'Terugvordering reiskosten OAH'!AJ86)","v":""},{"$f":"IF('Terugvordering reiskosten OAH'!AR86=\"\",\"\",'Terugvordering reiskosten OAH'!AR86)","v":""},{"$f":"IF('Terugvordering reiskosten OAH'!AY86=\"\",\"\",'Terugvordering reiskosten OAH'!AY86)","v":""},{"$f":"IF('Terugvordering reiskosten OAH'!BC86=0,\"\",'Terugvordering reiskosten OAH'!BC86)","v":""},{"$f":"IF('Terugvordering reiskosten OAH'!BK86=0,\"\",'Terugvordering reiskosten OAH'!BK86)","v":""},{"$f":"IF('Terugvordering reiskosten OAH'!BR86=0,\"\",'Terugvordering reiskosten OAH'!BR86)","v":""},{"$f":"IF('Terugvordering reiskosten OAH'!BZ86=0,\"\",'Terugvordering reiskosten OAH'!BZ86)","v":""},{"$f":"IF('Terugvordering reiskosten OAH'!CG86=\"\",\"\",'Terugvordering reiskosten OAH'!CG86)","v":""},{"$f":"IF('Terugvordering reiskosten OAH'!CM86=0,\"\",'Terugvordering reiskosten OAH'!CM86)","v":""}]
[{"$f":"IF('Terugvordering reiskosten OAH'!D87=\"\",\"\",IF('Terugvordering reiskosten OAH'!$T$36=\"\",\"\",'Terugvordering reiskosten OAH'!$T$36))","v":""},{"$f":"IF(A15=\"\",\"\",'Terugvordering reiskosten OAH'!$T$38)","v":""},{"$f":"IF(A15=\"\",\"\",'gegevensblad samenvatting vord.'!$C$2)","v":""},{"$f":"IF('Terugvordering reiskosten OAH'!D87=\"\",\"\",TEXT('Terugvordering reiskosten OAH'!D87,\"mm-jjjj\"))","v":""},{"$f":"IF('Terugvordering reiskosten OAH'!H87=\"\",\"\",'Terugvordering reiskosten OAH'!H87)","v":""},{"$f":"IF('Terugvordering reiskosten OAH'!R87=\"\",\"\",'Terugvordering reiskosten OAH'!R87)","v":""},{"$f":"IF('Terugvordering reiskosten OAH'!X87=\"\",\"\",'Terugvordering reiskosten OAH'!X87)","v":""},{"$f":"IF('Terugvordering reiskosten OAH'!AJ87=\"\",\"\",'Terugvordering reiskosten OAH'!AJ87)","v":""},{"$f":"IF('Terugvordering reiskosten OAH'!AR87=\"\",\"\",'Terugvordering reiskosten OAH'!AR87)","v":""},{"$f":"IF('Terugvordering reiskosten OAH'!AY87=\"\",\"\",'Terugvordering reiskosten OAH'!AY87)","v":""},{"$f":"IF('Terugvordering reiskosten OAH'!BC87=0,\"\",'Terugvordering reiskosten OAH'!BC87)","v":""},{"$f":"IF('Terugvordering reiskosten OAH'!BK87=0,\"\",'Terugvordering reiskosten OAH'!BK87)","v":""},{"$f":"IF('Terugvordering reiskosten OAH'!BR87=0,\"\",'Terugvordering reiskosten OAH'!BR87)","v":""},{"$f":"IF('Terugvordering reiskosten OAH'!BZ87=0,\"\",'Terugvordering reiskosten OAH'!BZ87)","v":""},{"$f":"IF('Terugvordering reiskosten OAH'!CG87=\"\",\"\",'Terugvordering reiskosten OAH'!CG87)","v":""},{"$f":"IF('Terugvordering reiskosten OAH'!CM87=0,\"\",'Terugvordering reiskosten OAH'!CM87)","v":""}]
[{"$f":"IF('Terugvordering reiskosten OAH'!D88=\"\",\"\",IF('Terugvordering reiskosten OAH'!$T$36=\"\",\"\",'Terugvordering reiskosten OAH'!$T$36))","v":""},{"$f":"IF(A16=\"\",\"\",'Terugvordering reiskosten OAH'!$T$38)","v":""},{"$f":"IF(A16=\"\",\"\",'gegevensblad samenvatting vord.'!$C$2)","v":""},{"$f":"IF('Terugvordering reiskosten OAH'!D88=\"\",\"\",TEXT('Terugvordering reiskosten OAH'!D88,\"mm-jjjj\"))","v":""},{"$f":"IF('Terugvordering reiskosten OAH'!H88=\"\",\"\",'Terugvordering reiskosten OAH'!H88)","v":""},{"$f":"IF('Terugvordering reiskosten OAH'!R88=\"\",\"\",'Terugvordering reiskosten OAH'!R88)","v":""},{"$f":"IF('Terugvordering reiskosten OAH'!X88=\"\",\"\",'Terugvordering reiskosten OAH'!X88)","v":""},{"$f":"IF('Terugvordering reiskosten OAH'!AJ88=\"\",\"\",'Terugvordering reiskosten OAH'!AJ88)","v":""},{"$f":"IF('Terugvordering reiskosten OAH'!AR88=\"\",\"\",'Terugvordering reiskosten OAH'!AR88)","v":""},{"$f":"IF('Terugvordering reiskosten OAH'!AY88=\"\",\"\",'Terugvordering reiskosten OAH'!AY88)","v":""},{"$f":"IF('Terugvordering reiskosten OAH'!BC88=0,\"\",'Terugvordering reiskosten OAH'!BC88)","v":""},{"$f":"IF('Terugvordering reiskosten OAH'!BK88=0,\"\",'Terugvordering reiskosten OAH'!BK88)","v":""},{"$f":"IF('Terugvordering reiskosten OAH'!BR88=0,\"\",'Terugvordering reiskosten OAH'!BR88)","v":""},{"$f":"IF('Terugvordering reiskosten OAH'!BZ88=0,\"\",'Terugvordering reiskosten OAH'!BZ88)","v":""},{"$f":"IF('Terugvordering reiskosten OAH'!CG88=\"\",\"\",'Terugvordering reiskosten OAH'!CG88)","v":""},{"$f":"IF('Terugvordering reiskosten OAH'!CM88=0,\"\",'Terugvordering reiskosten OAH'!CM88)","v":""}]
[{"$f":"IF('Terugvordering reiskosten OAH'!D89=\"\",\"\",IF('Terugvordering reiskosten OAH'!$T$36=\"\",\"\",'Terugvordering reiskosten OAH'!$T$36))","v":""},{"$f":"IF(A17=\"\",\"\",'Terugvordering reiskosten OAH'!$T$38)","v":""},{"$f":"IF(A17=\"\",\"\",'gegevensblad samenvatting vord.'!$C$2)","v":""},{"$f":"IF('Terugvordering reiskosten OAH'!D89=\"\",\"\",TEXT('Terugvordering reiskosten OAH'!D89,\"mm-jjjj\"))","v":""},{"$f":"IF('Terugvordering reiskosten OAH'!H89=\"\",\"\",'Terugvordering reiskosten OAH'!H89)","v":""},{"$f":"IF('Terugvordering reiskosten OAH'!R89=\"\",\"\",'Terugvordering reiskosten OAH'!R89)","v":""},{"$f":"IF('Terugvordering reiskosten OAH'!X89=\"\",\"\",'Terugvordering reiskosten OAH'!X89)","v":""},{"$f":"IF('Terugvordering reiskosten OAH'!AJ89=\"\",\"\",'Terugvordering reiskosten OAH'!AJ89)","v":""},{"$f":"IF('Terugvordering reiskosten OAH'!AR89=\"\",\"\",'Terugvordering reiskosten OAH'!AR89)","v":""},{"$f":"IF('Terugvordering reiskosten OAH'!AY89=\"\",\"\",'Terugvordering reiskosten OAH'!AY89)","v":""},{"$f":"IF('Terugvordering reiskosten OAH'!BC89=0,\"\",'Terugvordering reiskosten OAH'!BC89)","v":""},{"$f":"IF('Terugvordering reiskosten OAH'!BK89=0,\"\",'Terugvordering reiskosten OAH'!BK89)","v":""},{"$f":"IF('Terugvordering reiskosten OAH'!BR89=0,\"\",'Terugvordering reiskosten OAH'!BR89)","v":""},{"$f":"IF('Terugvordering reiskosten OAH'!BZ89=0,\"\",'Terugvordering reiskosten OAH'!BZ89)","v":""},{"$f":"IF('Terugvordering reiskosten OAH'!CG89=\"\",\"\",'Terugvordering reiskosten OAH'!CG89)","v":""},{"$f":"IF('Terugvordering reiskosten OAH'!CM89=0,\"\",'Terugvordering reiskosten OAH'!CM89)","v":""}]
[{"$f":"IF('Terugvordering reiskosten OAH'!D90=\"\",\"\",IF('Terugvordering reiskosten OAH'!$T$36=\"\",\"\",'Terugvordering reiskosten OAH'!$T$36))","v":""},{"$f":"IF(A18=\"\",\"\",'Terugvordering reiskosten OAH'!$T$38)","v":""},{"$f":"IF(A18=\"\",\"\",'gegevensblad samenvatting vord.'!$C$2)","v":""},{"$f":"IF('Terugvordering reiskosten OAH'!D90=\"\",\"\",TEXT('Terugvordering reiskosten OAH'!D90,\"mm-jjjj\"))","v":""},{"$f":"IF('Terugvordering reiskosten OAH'!H90=\"\",\"\",'Terugvordering reiskosten OAH'!H90)","v":""},{"$f":"IF('Terugvordering reiskosten OAH'!R90=\"\",\"\",'Terugvordering reiskosten OAH'!R90)","v":""},{"$f":"IF('Terugvordering reiskosten OAH'!X90=\"\",\"\",'Terugvordering reiskosten OAH'!X90)","v":""},{"$f":"IF('Terugvordering reiskosten OAH'!AJ90=\"\",\"\",'Terugvordering reiskosten OAH'!AJ90)","v":""},{"$f":"IF('Terugvordering reiskosten OAH'!AR90=\"\",\"\",'Terugvordering reiskosten OAH'!AR90)","v":""},{"$f":"IF('Terugvordering reiskosten OAH'!AY90=\"\",\"\",'Terugvordering reiskosten OAH'!AY90)","v":""},{"$f":"IF('Terugvordering reiskosten OAH'!BC90=0,\"\",'Terugvordering reiskosten OAH'!BC90)","v":""},{"$f":"IF('Terugvordering reiskosten OAH'!BK90=0,\"\",'Terugvordering reiskosten OAH'!BK90)","v":""},{"$f":"IF('Terugvordering reiskosten OAH'!BR90=0,\"\",'Terugvordering reiskosten OAH'!BR90)","v":""},{"$f":"IF('Terugvordering reiskosten OAH'!BZ90=0,\"\",'Terugvordering reiskosten OAH'!BZ90)","v":""},{"$f":"IF('Terugvordering reiskosten OAH'!CG90=\"\",\"\",'Terugvordering reiskosten OAH'!CG90)","v":""},{"$f":"IF('Terugvordering reiskosten OAH'!CM90=0,\"\",'Terugvordering reiskosten OAH'!CM90)","v":""}]
[{"$f":"IF('Terugvordering reiskosten OAH'!D91=\"\",\"\",IF('Terugvordering reiskosten OAH'!$T$36=\"\",\"\",'Terugvordering reiskosten OAH'!$T$36))","v":""},{"$f":"IF(A19=\"\",\"\",'Terugvordering reiskosten OAH'!$T$38)","v":""},{"$f":"IF(A19=\"\",\"\",'gegevensblad samenvatting vord.'!$C$2)","v":""},{"$f":"IF('Terugvordering reiskosten OAH'!D91=\"\",\"\",TEXT('Terugvordering reiskosten OAH'!D91,\"mm-jjjj\"))","v":""},{"$f":"IF('Terugvordering reiskosten OAH'!H91=\"\",\"\",'Terugvordering reiskosten OAH'!H91)","v":""},{"$f":"IF('Terugvordering reiskosten OAH'!R91=\"\",\"\",'Terugvordering reiskosten OAH'!R91)","v":""},{"$f":"IF('Terugvordering reiskosten OAH'!X91=\"\",\"\",'Terugvordering reiskosten OAH'!X91)","v":""},{"$f":"IF('Terugvordering reiskosten OAH'!AJ91=\"\",\"\",'Terugvordering reiskosten OAH'!AJ91)","v":""},{"$f":"IF('Terugvordering reiskosten OAH'!AR91=\"\",\"\",'Terugvordering reiskosten OAH'!AR91)","v":""},{"$f":"IF('Terugvordering reiskosten OAH'!AY91=\"\",\"\",'Terugvordering reiskosten OAH'!AY91)","v":""},{"$f":"IF('Terugvordering reiskosten OAH'!BC91=0,\"\",'Terugvordering reiskosten OAH'!BC91)","v":""},{"$f":"IF('Terugvordering reiskosten OAH'!BK91=0,\"\",'Terugvordering reiskosten OAH'!BK91)","v":""},{"$f":"IF('Terugvordering reiskosten OAH'!BR91=0,\"\",'Terugvordering reiskosten OAH'!BR91)","v":""},{"$f":"IF('Terugvordering reiskosten OAH'!BZ91=0,\"\",'Terugvordering reiskosten OAH'!BZ91)","v":""},{"$f":"IF('Terugvordering reiskosten OAH'!CG91=\"\",\"\",'Terugvordering reiskosten OAH'!CG91)","v":""},{"$f":"IF('Terugvordering reiskosten OAH'!CM91=0,\"\",'Terugvordering reiskosten OAH'!CM91)","v":""}]
[{"$f":"IF('Terugvordering reiskosten OAH'!D92=\"\",\"\",IF('Terugvordering reiskosten OAH'!$T$36=\"\",\"\",'Terugvordering reiskosten OAH'!$T$36))","v":""},{"$f":"IF(A20=\"\",\"\",'Terugvordering reiskosten OAH'!$T$38)","v":""},{"$f":"IF(A20=\"\",\"\",'gegevensblad samenvatting vord.'!$C$2)","v":""},{"$f":"IF('Terugvordering reiskosten OAH'!D92=\"\",\"\",TEXT('Terugvordering reiskosten OAH'!D92,\"mm-jjjj\"))","v":""},{"$f":"IF('Terugvordering reiskosten OAH'!H92=\"\",\"\",'Terugvordering reiskosten OAH'!H92)","v":""},{"$f":"IF('Terugvordering reiskosten OAH'!R92=\"\",\"\",'Terugvordering reiskosten OAH'!R92)","v":""},{"$f":"IF('Terugvordering reiskosten OAH'!X92=\"\",\"\",'Terugvordering reiskosten OAH'!X92)","v":""},{"$f":"IF('Terugvordering reiskosten OAH'!AJ92=\"\",\"\",'Terugvordering reiskosten OAH'!AJ92)","v":""},{"$f":"IF('Terugvordering reiskosten OAH'!AR92=\"\",\"\",'Terugvordering reiskosten OAH'!AR92)","v":""},{"$f":"IF('Terugvordering reiskosten OAH'!AY92=\"\",\"\",'Terugvordering reiskosten OAH'!AY92)","v":""},{"$f":"IF('Terugvordering reiskosten OAH'!BC92=0,\"\",'Terugvordering reiskosten OAH'!BC92)","v":""},{"$f":"IF('Terugvordering reiskosten OAH'!BK92=0,\"\",'Terugvordering reiskosten OAH'!BK92)","v":""},{"$f":"IF('Terugvordering reiskosten OAH'!BR92=0,\"\",'Terugvordering reiskosten OAH'!BR92)","v":""},{"$f":"IF('Terugvordering reiskosten OAH'!BZ92=0,\"\",'Terugvordering reiskosten OAH'!BZ92)","v":""},{"$f":"IF('Terugvordering reiskosten OAH'!CG92=\"\",\"\",'Terugvordering reiskosten OAH'!CG92)","v":""},{"$f":"IF('Terugvordering reiskosten OAH'!CM92=0,\"\",'Terugvordering reiskosten OAH'!CM92)","v":""}]
[{"$f":"IF('Terugvordering reiskosten OAH'!D93=\"\",\"\",IF('Terugvordering reiskosten OAH'!$T$36=\"\",\"\",'Terugvordering reiskosten OAH'!$T$36))","v":""},{"$f":"IF(A21=\"\",\"\",'Terugvordering reiskosten OAH'!$T$38)","v":""},{"$f":"IF(A21=\"\",\"\",'gegevensblad samenvatting vord.'!$C$2)","v":""},{"$f":"IF('Terugvordering reiskosten OAH'!D93=\"\",\"\",TEXT('Terugvordering reiskosten OAH'!D93,\"mm-jjjj\"))","v":""},{"$f":"IF('Terugvordering reiskosten OAH'!H93=\"\",\"\",'Terugvordering reiskosten OAH'!H93)","v":""},{"$f":"IF('Terugvordering reiskosten OAH'!R93=\"\",\"\",'Terugvordering reiskosten OAH'!R93)","v":""},{"$f":"IF('Terugvordering reiskosten OAH'!X93=\"\",\"\",'Terugvordering reiskosten OAH'!X93)","v":""},{"$f":"IF('Terugvordering reiskosten OAH'!AJ93=\"\",\"\",'Terugvordering reiskosten OAH'!AJ93)","v":""},{"$f":"IF('Terugvordering reiskosten OAH'!AR93=\"\",\"\",'Terugvordering reiskosten OAH'!AR93)","v":""},{"$f":"IF('Terugvordering reiskosten OAH'!AY93=\"\",\"\",'Terugvordering reiskosten OAH'!AY93)","v":""},{"$f":"IF('Terugvordering reiskosten OAH'!BC93=0,\"\",'Terugvordering reiskosten OAH'!BC93)","v":""},{"$f":"IF('Terugvordering reiskosten OAH'!BK93=0,\"\",'Terugvordering reiskosten OAH'!BK93)","v":""},{"$f":"IF('Terugvordering reiskosten OAH'!BR93=0,\"\",'Terugvordering reiskosten OAH'!BR93)","v":""},{"$f":"IF('Terugvordering reiskosten OAH'!BZ93=0,\"\",'Terugvordering reiskosten OAH'!BZ93)","v":""},{"$f":"IF('Terugvordering reiskosten OAH'!CG93=\"\",\"\",'Terugvordering reiskosten OAH'!CG93)","v":""},{"$f":"IF('Terugvordering reiskosten OAH'!CM93=0,\"\",'Terugvordering reiskosten OAH'!CM93)","v":""}]
[{"$f":"IF('Terugvordering reiskosten OAH'!D94=\"\",\"\",IF('Terugvordering reiskosten OAH'!$T$36=\"\",\"\",'Terugvordering reiskosten OAH'!$T$36))","v":""},{"$f":"IF(A22=\"\",\"\",'Terugvordering reiskosten OAH'!$T$38)","v":""},{"$f":"IF(A22=\"\",\"\",'gegevensblad samenvatting vord.'!$C$2)","v":""},{"$f":"IF('Terugvordering reiskosten OAH'!D94=\"\",\"\",TEXT('Terugvordering reiskosten OAH'!D94,\"mm-jjjj\"))","v":""},{"$f":"IF('Terugvordering reiskosten OAH'!H94=\"\",\"\",'Terugvordering reiskosten OAH'!H94)","v":""},{"$f":"IF('Terugvordering reiskosten OAH'!R94=\"\",\"\",'Terugvordering reiskosten OAH'!R94)","v":""},{"$f":"IF('Terugvordering reiskosten OAH'!X94=\"\",\"\",'Terugvordering reiskosten OAH'!X94)","v":""},{"$f":"IF('Terugvordering reiskosten OAH'!AJ94=\"\",\"\",'Terugvordering reiskosten OAH'!AJ94)","v":""},{"$f":"IF('Terugvordering reiskosten OAH'!AR94=\"\",\"\",'Terugvordering reiskosten OAH'!AR94)","v":""},{"$f":"IF('Terugvordering reiskosten OAH'!AY94=\"\",\"\",'Terugvordering reiskosten OAH'!AY94)","v":""},{"$f":"IF('Terugvordering reiskosten OAH'!BC94=0,\"\",'Terugvordering reiskosten OAH'!BC94)","v":""},{"$f":"IF('Terugvordering reiskosten OAH'!BK94=0,\"\",'Terugvordering reiskosten OAH'!BK94)","v":""},{"$f":"IF('Terugvordering reiskosten OAH'!BR94=0,\"\",'Terugvordering reiskosten OAH'!BR94)","v":""},{"$f":"IF('Terugvordering reiskosten OAH'!BZ94=0,\"\",'Terugvordering reiskosten OAH'!BZ94)","v":""},{"$f":"IF('Terugvordering reiskosten OAH'!CG94=\"\",\"\",'Terugvordering reiskosten OAH'!CG94)","v":""},{"$f":"IF('Terugvordering reiskosten OAH'!CM94=0,\"\",'Terugvordering reiskosten OAH'!CM94)","v":""}]
[{"$f":"IF('Terugvordering reiskosten OAH'!D95=\"\",\"\",IF('Terugvordering reiskosten OAH'!$T$36=\"\",\"\",'Terugvordering reiskosten OAH'!$T$36))","v":""},{"$f":"IF(A23=\"\",\"\",'Terugvordering reiskosten OAH'!$T$38)","v":""},{"$f":"IF(A23=\"\",\"\",'gegevensblad samenvatting vord.'!$C$2)","v":""},{"$f":"IF('Terugvordering reiskosten OAH'!D95=\"\",\"\",TEXT('Terugvordering reiskosten OAH'!D95,\"mm-jjjj\"))","v":""},{"$f":"IF('Terugvordering reiskosten OAH'!H95=\"\",\"\",'Terugvordering reiskosten OAH'!H95)","v":""},{"$f":"IF('Terugvordering reiskosten OAH'!R95=\"\",\"\",'Terugvordering reiskosten OAH'!R95)","v":""},{"$f":"IF('Terugvordering reiskosten OAH'!X95=\"\",\"\",'Terugvordering reiskosten OAH'!X95)","v":""},{"$f":"IF('Terugvordering reiskosten OAH'!AJ95=\"\",\"\",'Terugvordering reiskosten OAH'!AJ95)","v":""},{"$f":"IF('Terugvordering reiskosten OAH'!AR95=\"\",\"\",'Terugvordering reiskosten OAH'!AR95)","v":""},{"$f":"IF('Terugvordering reiskosten OAH'!AY95=\"\",\"\",'Terugvordering reiskosten OAH'!AY95)","v":""},{"$f":"IF('Terugvordering reiskosten OAH'!BC95=0,\"\",'Terugvordering reiskosten OAH'!BC95)","v":""},{"$f":"IF('Terugvordering reiskosten OAH'!BK95=0,\"\",'Terugvordering reiskosten OAH'!BK95)","v":""},{"$f":"IF('Terugvordering reiskosten OAH'!BR95=0,\"\",'Terugvordering reiskosten OAH'!BR95)","v":""},{"$f":"IF('Terugvordering reiskosten OAH'!BZ95=0,\"\",'Terugvordering reiskosten OAH'!BZ95)","v":""},{"$f":"IF('Terugvordering reiskosten OAH'!CG95=\"\",\"\",'Terugvordering reiskosten OAH'!CG95)","v":""},{"$f":"IF('Terugvordering reiskosten OAH'!CM95=0,\"\",'Terugvordering reiskosten OAH'!CM95)","v":""}]
[{"$f":"IF('Terugvordering reiskosten OAH'!D96=\"\",\"\",IF('Terugvordering reiskosten OAH'!$T$36=\"\",\"\",'Terugvordering reiskosten OAH'!$T$36))","v":""},{"$f":"IF(A24=\"\",\"\",'Terugvordering reiskosten OAH'!$T$38)","v":""},{"$f":"IF(A24=\"\",\"\",'gegevensblad samenvatting vord.'!$C$2)","v":""},{"$f":"IF('Terugvordering reiskosten OAH'!D96=\"\",\"\",TEXT('Terugvordering reiskosten OAH'!D96,\"mm-jjjj\"))","v":""},{"$f":"IF('Terugvordering reiskosten OAH'!H96=\"\",\"\",'Terugvordering reiskosten OAH'!H96)","v":""},{"$f":"IF('Terugvordering reiskosten OAH'!R96=\"\",\"\",'Terugvordering reiskosten OAH'!R96)","v":""},{"$f":"IF('Terugvordering reiskosten OAH'!X96=\"\",\"\",'Terugvordering reiskosten OAH'!X96)","v":""},{"$f":"IF('Terugvordering reiskosten OAH'!AJ96=\"\",\"\",'Terugvordering reiskosten OAH'!AJ96)","v":""},{"$f":"IF('Terugvordering reiskosten OAH'!AR96=\"\",\"\",'Terugvordering reiskosten OAH'!AR96)","v":""},{"$f":"IF('Terugvordering reiskosten OAH'!AY96=\"\",\"\",'Terugvordering reiskosten OAH'!AY96)","v":""},{"$f":"IF('Terugvordering reiskosten OAH'!BC96=0,\"\",'Terugvordering reiskosten OAH'!BC96)","v":""},{"$f":"IF('Terugvordering reiskosten OAH'!BK96=0,\"\",'Terugvordering reiskosten OAH'!BK96)","v":""},{"$f":"IF('Terugvordering reiskosten OAH'!BR96=0,\"\",'Terugvordering reiskosten OAH'!BR96)","v":""},{"$f":"IF('Terugvordering reiskosten OAH'!BZ96=0,\"\",'Terugvordering reiskosten OAH'!BZ96)","v":""},{"$f":"IF('Terugvordering reiskosten OAH'!CG96=\"\",\"\",'Terugvordering reiskosten OAH'!CG96)","v":""},{"$f":"IF('Terugvordering reiskosten OAH'!CM96=0,\"\",'Terugvordering reiskosten OAH'!CM96)","v":""}]
[{"$f":"IF('Terugvordering reiskosten OAH'!D97=\"\",\"\",IF('Terugvordering reiskosten OAH'!$T$36=\"\",\"\",'Terugvordering reiskosten OAH'!$T$36))","v":""},{"$f":"IF(A25=\"\",\"\",'Terugvordering reiskosten OAH'!$T$38)","v":""},{"$f":"IF(A25=\"\",\"\",'gegevensblad samenvatting vord.'!$C$2)","v":""},{"$f":"IF('Terugvordering reiskosten OAH'!D97=\"\",\"\",TEXT('Terugvordering reiskosten OAH'!D97,\"mm-jjjj\"))","v":""},{"$f":"IF('Terugvordering reiskosten OAH'!H97=\"\",\"\",'Terugvordering reiskosten OAH'!H97)","v":""},{"$f":"IF('Terugvordering reiskosten OAH'!R97=\"\",\"\",'Terugvordering reiskosten OAH'!R97)","v":""},{"$f":"IF('Terugvordering reiskosten OAH'!X97=\"\",\"\",'Terugvordering reiskosten OAH'!X97)","v":""},{"$f":"IF('Terugvordering reiskosten OAH'!AJ97=\"\",\"\",'Terugvordering reiskosten OAH'!AJ97)","v":""},{"$f":"IF('Terugvordering reiskosten OAH'!AR97=\"\",\"\",'Terugvordering reiskosten OAH'!AR97)","v":""},{"$f":"IF('Terugvordering reiskosten OAH'!AY97=\"\",\"\",'Terugvordering reiskosten OAH'!AY97)","v":""},{"$f":"IF('Terugvordering reiskosten OAH'!BC97=0,\"\",'Terugvordering reiskosten OAH'!BC97)","v":""},{"$f":"IF('Terugvordering reiskosten OAH'!BK97=0,\"\",'Terugvordering reiskosten OAH'!BK97)","v":""},{"$f":"IF('Terugvordering reiskosten OAH'!BR97=0,\"\",'Terugvordering reiskosten OAH'!BR97)","v":""},{"$f":"IF('Terugvordering reiskosten OAH'!BZ97=0,\"\",'Terugvordering reiskosten OAH'!BZ97)","v":""},{"$f":"IF('Terugvordering reiskosten OAH'!CG97=\"\",\"\",'Terugvordering reiskosten OAH'!CG97)","v":""},{"$f":"IF('Terugvordering reiskosten OAH'!CM97=0,\"\",'Terugvordering reiskosten OAH'!CM97)","v":""}]
[{"$f":"IF('Terugvordering reiskosten OAH'!D98=\"\",\"\",IF('Terugvordering reiskosten OAH'!$T$36=\"\",\"\",'Terugvordering reiskosten OAH'!$T$36))","v":""},{"$f":"IF(A26=\"\",\"\",'Terugvordering reiskosten OAH'!$T$38)","v":""},{"$f":"IF(A26=\"\",\"\",'gegevensblad samenvatting vord.'!$C$2)","v":""},{"$f":"IF('Terugvordering reiskosten OAH'!D98=\"\",\"\",TEXT('Terugvordering reiskosten OAH'!D98,\"mm-jjjj\"))","v":""},{"$f":"IF('Terugvordering reiskosten OAH'!H98=\"\",\"\",'Terugvordering reiskosten OAH'!H98)","v":""},{"$f":"IF('Terugvordering reiskosten OAH'!R98=\"\",\"\",'Terugvordering reiskosten OAH'!R98)","v":""},{"$f":"IF('Terugvordering reiskosten OAH'!X98=\"\",\"\",'Terugvordering reiskosten OAH'!X98)","v":""},{"$f":"IF('Terugvordering reiskosten OAH'!AJ98=\"\",\"\",'Terugvordering reiskosten OAH'!AJ98)","v":""},{"$f":"IF('Terugvordering reiskosten OAH'!AR98=\"\",\"\",'Terugvordering reiskosten OAH'!AR98)","v":""},{"$f":"IF('Terugvordering reiskosten OAH'!AY98=\"\",\"\",'Terugvordering reiskosten OAH'!AY98)","v":""},{"$f":"IF('Terugvordering reiskosten OAH'!BC98=0,\"\",'Terugvordering reiskosten OAH'!BC98)","v":""},{"$f":"IF('Terugvordering reiskosten OAH'!BK98=0,\"\",'Terugvordering reiskosten OAH'!BK98)","v":""},{"$f":"IF('Terugvordering reiskosten OAH'!BR98=0,\"\",'Terugvordering reiskosten OAH'!BR98)","v":""},{"$f":"IF('Terugvordering reiskosten OAH'!BZ98=0,\"\",'Terugvordering reiskosten OAH'!BZ98)","v":""},{"$f":"IF('Terugvordering reiskosten OAH'!CG98=\"\",\"\",'Terugvordering reiskosten OAH'!CG98)","v":""},{"$f":"IF('Terugvordering reiskosten OAH'!CM98=0,\"\",'Terugvordering reiskosten OAH'!CM98)","v":""}]
[{"$f":"IF('Terugvordering reiskosten OAH'!D99=\"\",\"\",IF('Terugvordering reiskosten OAH'!$T$36=\"\",\"\",'Terugvordering reiskosten OAH'!$T$36))","v":""},{"$f":"IF(A27=\"\",\"\",'Terugvordering reiskosten OAH'!$T$38)","v":""},{"$f":"IF(A27=\"\",\"\",'gegevensblad samenvatting vord.'!$C$2)","v":""},{"$f":"IF('Terugvordering reiskosten OAH'!D99=\"\",\"\",TEXT('Terugvordering reiskosten OAH'!D99,\"mm-jjjj\"))","v":""},{"$f":"IF('Terugvordering reiskosten OAH'!H99=\"\",\"\",'Terugvordering reiskosten OAH'!H99)","v":""},{"$f":"IF('Terugvordering reiskosten OAH'!R99=\"\",\"\",'Terugvordering reiskosten OAH'!R99)","v":""},{"$f":"IF('Terugvordering reiskosten OAH'!X99=\"\",\"\",'Terugvordering reiskosten OAH'!X99)","v":""},{"$f":"IF('Terugvordering reiskosten OAH'!AJ99=\"\",\"\",'Terugvordering reiskosten OAH'!AJ99)","v":""},{"$f":"IF('Terugvordering reiskosten OAH'!AR99=\"\",\"\",'Terugvordering reiskosten OAH'!AR99)","v":""},{"$f":"IF('Terugvordering reiskosten OAH'!AY99=\"\",\"\",'Terugvordering reiskosten OAH'!AY99)","v":""},{"$f":"IF('Terugvordering reiskosten OAH'!BC99=0,\"\",'Terugvordering reiskosten OAH'!BC99)","v":""},{"$f":"IF('Terugvordering reiskosten OAH'!BK99=0,\"\",'Terugvordering reiskosten OAH'!BK99)","v":""},{"$f":"IF('Terugvordering reiskosten OAH'!BR99=0,\"\",'Terugvordering reiskosten OAH'!BR99)","v":""},{"$f":"IF('Terugvordering reiskosten OAH'!BZ99=0,\"\",'Terugvordering reiskosten OAH'!BZ99)","v":""},{"$f":"IF('Terugvordering reiskosten OAH'!CG99=\"\",\"\",'Terugvordering reiskosten OAH'!CG99)","v":""},{"$f":"IF('Terugvordering reiskosten OAH'!CM99=0,\"\",'Terugvordering reiskosten OAH'!CM99)","v":""}]
[{"$f":"IF('Terugvordering reiskosten OAH'!D100=\"\",\"\",IF('Terugvordering reiskosten OAH'!$T$36=\"\",\"\",'Terugvordering reiskosten OAH'!$T$36))","v":""},{"$f":"IF(A28=\"\",\"\",'Terugvordering reiskosten OAH'!$T$38)","v":""},{"$f":"IF(A28=\"\",\"\",'gegevensblad samenvatting vord.'!$C$2)","v":""},{"$f":"IF('Terugvordering reiskosten OAH'!D100=\"\",\"\",TEXT('Terugvordering reiskosten OAH'!D100,\"mm-jjjj\"))","v":""},{"$f":"IF('Terugvordering reiskosten OAH'!H100=\"\",\"\",'Terugvordering reiskosten OAH'!H100)","v":""},{"$f":"IF('Terugvordering reiskosten OAH'!R100=\"\",\"\",'Terugvordering reiskosten OAH'!R100)","v":""},{"$f":"IF('Terugvordering reiskosten OAH'!X100=\"\",\"\",'Terugvordering reiskosten OAH'!X100)","v":""},{"$f":"IF('Terugvordering reiskosten OAH'!AJ100=\"\",\"\",'Terugvordering reiskosten OAH'!AJ100)","v":""},{"$f":"IF('Terugvordering reiskosten OAH'!AR100=\"\",\"\",'Terugvordering reiskosten OAH'!AR100)","v":""},{"$f":"IF('Terugvordering reiskosten OAH'!AY100=\"\",\"\",'Terugvordering reiskosten OAH'!AY100)","v":""},{"$f":"IF('Terugvordering reiskosten OAH'!BC100=0,\"\",'Terugvordering reiskosten OAH'!BC100)","v":""},{"$f":"IF('Terugvordering reiskosten OAH'!BK100=0,\"\",'Terugvordering reiskosten OAH'!BK100)","v":""},{"$f":"IF('Terugvordering reiskosten OAH'!BR100=0,\"\",'Terugvordering reiskosten OAH'!BR100)","v":""},{"$f":"IF('Terugvordering reiskosten OAH'!BZ100=0,\"\",'Terugvordering reiskosten OAH'!BZ100)","v":""},{"$f":"IF('Terugvordering reiskosten OAH'!CG100=\"\",\"\",'Terugvordering reiskosten OAH'!CG100)","v":""},{"$f":"IF('Terugvordering reiskosten OAH'!CM100=0,\"\",'Terugvordering reiskosten OAH'!CM100)","v":""}]
[{"$f":"IF('Terugvordering reiskosten OAH'!D101=\"\",\"\",IF('Terugvordering reiskosten OAH'!$T$36=\"\",\"\",'Terugvordering reiskosten OAH'!$T$36))","v":""},{"$f":"IF(A29=\"\",\"\",'Terugvordering reiskosten OAH'!$T$38)","v":""},{"$f":"IF(A29=\"\",\"\",'gegevensblad samenvatting vord.'!$C$2)","v":""},{"$f":"IF('Terugvordering reiskosten OAH'!D101=\"\",\"\",TEXT('Terugvordering reiskosten OAH'!D101,\"mm-jjjj\"))","v":""},{"$f":"IF('Terugvordering reiskosten OAH'!H101=\"\",\"\",'Terugvordering reiskosten OAH'!H101)","v":""},{"$f":"IF('Terugvordering reiskosten OAH'!R101=\"\",\"\",'Terugvordering reiskosten OAH'!R101)","v":""},{"$f":"IF('Terugvordering reiskosten OAH'!X101=\"\",\"\",'Terugvordering reiskosten OAH'!X101)","v":""},{"$f":"IF('Terugvordering reiskosten OAH'!AJ101=\"\",\"\",'Terugvordering reiskosten OAH'!AJ101)","v":""},{"$f":"IF('Terugvordering reiskosten OAH'!AR101=\"\",\"\",'Terugvordering reiskosten OAH'!AR101)","v":""},{"$f":"IF('Terugvordering reiskosten OAH'!AY101=\"\",\"\",'Terugvordering reiskosten OAH'!AY101)","v":""},{"$f":"IF('Terugvordering reiskosten OAH'!BC101=0,\"\",'Terugvordering reiskosten OAH'!BC101)","v":""},{"$f":"IF('Terugvordering reiskosten OAH'!BK101=0,\"\",'Terugvordering reiskosten OAH'!BK101)","v":""},{"$f":"IF('Terugvordering reiskosten OAH'!BR101=0,\"\",'Terugvordering reiskosten OAH'!BR101)","v":""},{"$f":"IF('Terugvordering reiskosten OAH'!BZ101=0,\"\",'Terugvordering reiskosten OAH'!BZ101)","v":""},{"$f":"IF('Terugvordering reiskosten OAH'!CG101=\"\",\"\",'Terugvordering reiskosten OAH'!CG101)","v":""},{"$f":"IF('Terugvordering reiskosten OAH'!CM101=0,\"\",'Terugvordering reiskosten OAH'!CM101)","v":""}]
[{"$f":"IF('Terugvordering reiskosten OAH'!D102=\"\",\"\",IF('Terugvordering reiskosten OAH'!$T$36=\"\",\"\",'Terugvordering reiskosten OAH'!$T$36))","v":""},{"$f":"IF(A30=\"\",\"\",'Terugvordering reiskosten OAH'!$T$38)","v":""},{"$f":"IF(A30=\"\",\"\",'gegevensblad samenvatting vord.'!$C$2)","v":""},{"$f":"IF('Terugvordering reiskosten OAH'!D102=\"\",\"\",TEXT('Terugvordering reiskosten OAH'!D102,\"mm-jjjj\"))","v":""},{"$f":"IF('Terugvordering reiskosten OAH'!H102=\"\",\"\",'Terugvordering reiskosten OAH'!H102)","v":""},{"$f":"IF('Terugvordering reiskosten OAH'!R102=\"\",\"\",'Terugvordering reiskosten OAH'!R102)","v":""},{"$f":"IF('Terugvordering reiskosten OAH'!X102=\"\",\"\",'Terugvordering reiskosten OAH'!X102)","v":""},{"$f":"IF('Terugvordering reiskosten OAH'!AJ102=\"\",\"\",'Terugvordering reiskosten OAH'!AJ102)","v":""},{"$f":"IF('Terugvordering reiskosten OAH'!AR102=\"\",\"\",'Terugvordering reiskosten OAH'!AR102)","v":""},{"$f":"IF('Terugvordering reiskosten OAH'!AY102=\"\",\"\",'Terugvordering reiskosten OAH'!AY102)","v":""},{"$f":"IF('Terugvordering reiskosten OAH'!BC102=0,\"\",'Terugvordering reiskosten OAH'!BC102)","v":""},{"$f":"IF('Terugvordering reiskosten OAH'!BK102=0,\"\",'Terugvordering reiskosten OAH'!BK102)","v":""},{"$f":"IF('Terugvordering reiskosten OAH'!BR102=0,\"\",'Terugvordering reiskosten OAH'!BR102)","v":""},{"$f":"IF('Terugvordering reiskosten OAH'!BZ102=0,\"\",'Terugvordering reiskosten OAH'!BZ102)","v":""},{"$f":"IF('Terugvordering reiskosten OAH'!CG102=\"\",\"\",'Terugvordering reiskosten OAH'!CG102)","v":""},{"$f":"IF('Terugvordering reiskosten OAH'!CM102=0,\"\",'Terugvordering reiskosten OAH'!CM102)","v":""}]
[{"$f":"IF('Terugvordering reiskosten OAH'!D103=\"\",\"\",IF('Terugvordering reiskosten OAH'!$T$36=\"\",\"\",'Terugvordering reiskosten OAH'!$T$36))","v":""},{"$f":"IF(A31=\"\",\"\",'Terugvordering reiskosten OAH'!$T$38)","v":""},{"$f":"IF(A31=\"\",\"\",'gegevensblad samenvatting vord.'!$C$2)","v":""},{"$f":"IF('Terugvordering reiskosten OAH'!D103=\"\",\"\",TEXT('Terugvordering reiskosten OAH'!D103,\"mm-jjjj\"))","v":""},{"$f":"IF('Terugvordering reiskosten OAH'!H103=\"\",\"\",'Terugvordering reiskosten OAH'!H103)","v":""},{"$f":"IF('Terugvordering reiskosten OAH'!R103=\"\",\"\",'Terugvordering reiskosten OAH'!R103)","v":""},{"$f":"IF('Terugvordering reiskosten OAH'!X103=\"\",\"\",'Terugvordering reiskosten OAH'!X103)","v":""},{"$f":"IF('Terugvordering reiskosten OAH'!AJ103=\"\",\"\",'Terugvordering reiskosten OAH'!AJ103)","v":""},{"$f":"IF('Terugvordering reiskosten OAH'!AR103=\"\",\"\",'Terugvordering reiskosten OAH'!AR103)","v":""},{"$f":"IF('Terugvordering reiskosten OAH'!AY103=\"\",\"\",'Terugvordering reiskosten OAH'!AY103)","v":""},{"$f":"IF('Terugvordering reiskosten OAH'!BC103=0,\"\",'Terugvordering reiskosten OAH'!BC103)","v":""},{"$f":"IF('Terugvordering reiskosten OAH'!BK103=0,\"\",'Terugvordering reiskosten OAH'!BK103)","v":""},{"$f":"IF('Terugvordering reiskosten OAH'!BR103=0,\"\",'Terugvordering reiskosten OAH'!BR103)","v":""},{"$f":"IF('Terugvordering reiskosten OAH'!BZ103=0,\"\",'Terugvordering reiskosten OAH'!BZ103)","v":""},{"$f":"IF('Terugvordering reiskosten OAH'!CG103=\"\",\"\",'Terugvordering reiskosten OAH'!CG103)","v":""},{"$f":"IF('Terugvordering reiskosten OAH'!CM103=0,\"\",'Terugvordering reiskosten OAH'!CM103)","v":""}]
[{"$f":"IF('Terugvordering reiskosten OAH'!D104=\"\",\"\",IF('Terugvordering reiskosten OAH'!$T$36=\"\",\"\",'Terugvordering reiskosten OAH'!$T$36))","v":""},{"$f":"IF(A32=\"\",\"\",'Terugvordering reiskosten OAH'!$T$38)","v":""},{"$f":"IF(A32=\"\",\"\",'gegevensblad samenvatting vord.'!$C$2)","v":""},{"$f":"IF('Terugvordering reiskosten OAH'!D104=\"\",\"\",TEXT('Terugvordering reiskosten OAH'!D104,\"mm-jjjj\"))","v":""},{"$f":"IF('Terugvordering reiskosten OAH'!H104=\"\",\"\",'Terugvordering reiskosten OAH'!H104)","v":""},{"$f":"IF('Terugvordering reiskosten OAH'!R104=\"\",\"\",'Terugvordering reiskosten OAH'!R104)","v":""},{"$f":"IF('Terugvordering reiskosten OAH'!X104=\"\",\"\",'Terugvordering reiskosten OAH'!X104)","v":""},{"$f":"IF('Terugvordering reiskosten OAH'!AJ104=\"\",\"\",'Terugvordering reiskosten OAH'!AJ104)","v":""},{"$f":"IF('Terugvordering reiskosten OAH'!AR104=\"\",\"\",'Terugvordering reiskosten OAH'!AR104)","v":""},{"$f":"IF('Terugvordering reiskosten OAH'!AY104=\"\",\"\",'Terugvordering reiskosten OAH'!AY104)","v":""},{"$f":"IF('Terugvordering reiskosten OAH'!BC104=0,\"\",'Terugvordering reiskosten OAH'!BC104)","v":""},{"$f":"IF('Terugvordering reiskosten OAH'!BK104=0,\"\",'Terugvordering reiskosten OAH'!BK104)","v":""},{"$f":"IF('Terugvordering reiskosten OAH'!BR104=0,\"\",'Terugvordering reiskosten OAH'!BR104)","v":""},{"$f":"IF('Terugvordering reiskosten OAH'!BZ104=0,\"\",'Terugvordering reiskosten OAH'!BZ104)","v":""},{"$f":"IF('Terugvordering reiskosten OAH'!CG104=\"\",\"\",'Terugvordering reiskosten OAH'!CG104)","v":""},{"$f":"IF('Terugvordering reiskosten OAH'!CM104=0,\"\",'Terugvordering reiskosten OAH'!CM104)","v":""}]
[{"$f":"IF('Terugvordering reiskosten OAH'!D105=\"\",\"\",IF('Terugvordering reiskosten OAH'!$T$36=\"\",\"\",'Terugvordering reiskosten OAH'!$T$36))","v":""},{"$f":"IF(A33=\"\",\"\",'Terugvordering reiskosten OAH'!$T$38)","v":""},{"$f":"IF(A33=\"\",\"\",'gegevensblad samenvatting vord.'!$C$2)","v":""},{"$f":"IF('Terugvordering reiskosten OAH'!D105=\"\",\"\",TEXT('Terugvordering reiskosten OAH'!D105,\"mm-jjjj\"))","v":""},{"$f":"IF('Terugvordering reiskosten OAH'!H105=\"\",\"\",'Terugvordering reiskosten OAH'!H105)","v":""},{"$f":"IF('Terugvordering reiskosten OAH'!R105=\"\",\"\",'Terugvordering reiskosten OAH'!R105)","v":""},{"$f":"IF('Terugvordering reiskosten OAH'!X105=\"\",\"\",'Terugvordering reiskosten OAH'!X105)","v":""},{"$f":"IF('Terugvordering reiskosten OAH'!AJ105=\"\",\"\",'Terugvordering reiskosten OAH'!AJ105)","v":""},{"$f":"IF('Terugvordering reiskosten OAH'!AR105=\"\",\"\",'Terugvordering reiskosten OAH'!AR105)","v":""},{"$f":"IF('Terugvordering reiskosten OAH'!AY105=\"\",\"\",'Terugvordering reiskosten OAH'!AY105)","v":""},{"$f":"IF('Terugvordering reiskosten OAH'!BC105=0,\"\",'Terugvordering reiskosten OAH'!BC105)","v":""},{"$f":"IF('Terugvordering reiskosten OAH'!BK105=0,\"\",'Terugvordering reiskosten OAH'!BK105)","v":""},{"$f":"IF('Terugvordering reiskosten OAH'!BR105=0,\"\",'Terugvordering reiskosten OAH'!BR105)","v":""},{"$f":"IF('Terugvordering reiskosten OAH'!BZ105=0,\"\",'Terugvordering reiskosten OAH'!BZ105)","v":""},{"$f":"IF('Terugvordering reiskosten OAH'!CG105=\"\",\"\",'Terugvordering reiskosten OAH'!CG105)","v":""},{"$f":"IF('Terugvordering reiskosten OAH'!CM105=0,\"\",'Terugvordering reiskosten OAH'!CM105)","v":""}]
[{"$f":"IF('Terugvordering reiskosten OAH'!D106=\"\",\"\",IF('Terugvordering reiskosten OAH'!$T$36=\"\",\"\",'Terugvordering reiskosten OAH'!$T$36))","v":""},{"$f":"IF(A34=\"\",\"\",'Terugvordering reiskosten OAH'!$T$38)","v":""},{"$f":"IF(A34=\"\",\"\",'gegevensblad samenvatting vord.'!$C$2)","v":""},{"$f":"IF('Terugvordering reiskosten OAH'!D106=\"\",\"\",TEXT('Terugvordering reiskosten OAH'!D106,\"mm-jjjj\"))","v":""},{"$f":"IF('Terugvordering reiskosten OAH'!H106=\"\",\"\",'Terugvordering reiskosten OAH'!H106)","v":""},{"$f":"IF('Terugvordering reiskosten OAH'!R106=\"\",\"\",'Terugvordering reiskosten OAH'!R106)","v":""},{"$f":"IF('Terugvordering reiskosten OAH'!X106=\"\",\"\",'Terugvordering reiskosten OAH'!X106)","v":""},{"$f":"IF('Terugvordering reiskosten OAH'!AJ106=\"\",\"\",'Terugvordering reiskosten OAH'!AJ106)","v":""},{"$f":"IF('Terugvordering reiskosten OAH'!AR106=\"\",\"\",'Terugvordering reiskosten OAH'!AR106)","v":""},{"$f":"IF('Terugvordering reiskosten OAH'!AY106=\"\",\"\",'Terugvordering reiskosten OAH'!AY106)","v":""},{"$f":"IF('Terugvordering reiskosten OAH'!BC106=0,\"\",'Terugvordering reiskosten OAH'!BC106)","v":""},{"$f":"IF('Terugvordering reiskosten OAH'!BK106=0,\"\",'Terugvordering reiskosten OAH'!BK106)","v":""},{"$f":"IF('Terugvordering reiskosten OAH'!BR106=0,\"\",'Terugvordering reiskosten OAH'!BR106)","v":""},{"$f":"IF('Terugvordering reiskosten OAH'!BZ106=0,\"\",'Terugvordering reiskosten OAH'!BZ106)","v":""},{"$f":"IF('Terugvordering reiskosten OAH'!CG106=\"\",\"\",'Terugvordering reiskosten OAH'!CG106)","v":""},{"$f":"IF('Terugvordering reiskosten OAH'!CM106=0,\"\",'Terugvordering reiskosten OAH'!CM106)","v":""}]
[{"$f":"IF('Terugvordering reiskosten OAH'!D107=\"\",\"\",IF('Terugvordering reiskosten OAH'!$T$36=\"\",\"\",'Terugvordering reiskosten OAH'!$T$36))","v":""},{"$f":"IF(A35=\"\",\"\",'Terugvordering reiskosten OAH'!$T$38)","v":""},{"$f":"IF(A35=\"\",\"\",'gegevensblad samenvatting vord.'!$C$2)","v":""},{"$f":"IF('Terugvordering reiskosten OAH'!D107=\"\",\"\",TEXT('Terugvordering reiskosten OAH'!D107,\"mm-jjjj\"))","v":""},{"$f":"IF('Terugvordering reiskosten OAH'!H107=\"\",\"\",'Terugvordering reiskosten OAH'!H107)","v":""},{"$f":"IF('Terugvordering reiskosten OAH'!R107=\"\",\"\",'Terugvordering reiskosten OAH'!R107)","v":""},{"$f":"IF('Terugvordering reiskosten OAH'!X107=\"\",\"\",'Terugvordering reiskosten OAH'!X107)","v":""},{"$f":"IF('Terugvordering reiskosten OAH'!AJ107=\"\",\"\",'Terugvordering reiskosten OAH'!AJ107)","v":""},{"$f":"IF('Terugvordering reiskosten OAH'!AR107=\"\",\"\",'Terugvordering reiskosten OAH'!AR107)","v":""},{"$f":"IF('Terugvordering reiskosten OAH'!AY107=\"\",\"\",'Terugvordering reiskosten OAH'!AY107)","v":""},{"$f":"IF('Terugvordering reiskosten OAH'!BC107=0,\"\",'Terugvordering reiskosten OAH'!BC107)","v":""},{"$f":"IF('Terugvordering reiskosten OAH'!BK107=0,\"\",'Terugvordering reiskosten OAH'!BK107)","v":""},{"$f":"IF('Terugvordering reiskosten OAH'!BR107=0,\"\",'Terugvordering reiskosten OAH'!BR107)","v":""},{"$f":"IF('Terugvordering reiskosten OAH'!BZ107=0,\"\",'Terugvordering reiskosten OAH'!BZ107)","v":""},{"$f":"IF('Terugvordering reiskosten OAH'!CG107=\"\",\"\",'Terugvordering reiskosten OAH'!CG107)","v":""},{"$f":"IF('Terugvordering reiskosten OAH'!CM107=0,\"\",'Terugvordering reiskosten OAH'!CM107)","v":""}]
[{"$f":"IF('Terugvordering reiskosten OAH'!D108=\"\",\"\",IF('Terugvordering reiskosten OAH'!$T$36=\"\",\"\",'Terugvordering reiskosten OAH'!$T$36))","v":""},{"$f":"IF(A36=\"\",\"\",'Terugvordering reiskosten OAH'!$T$38)","v":""},{"$f":"IF(A36=\"\",\"\",'gegevensblad samenvatting vord.'!$C$2)","v":""},{"$f":"IF('Terugvordering reiskosten OAH'!D108=\"\",\"\",TEXT('Terugvordering reiskosten OAH'!D108,\"mm-jjjj\"))","v":""},{"$f":"IF('Terugvordering reiskosten OAH'!H108=\"\",\"\",'Terugvordering reiskosten OAH'!H108)","v":""},{"$f":"IF('Terugvordering reiskosten OAH'!R108=\"\",\"\",'Terugvordering reiskosten OAH'!R108)","v":""},{"$f":"IF('Terugvordering reiskosten OAH'!X108=\"\",\"\",'Terugvordering reiskosten OAH'!X108)","v":""},{"$f":"IF('Terugvordering reiskosten OAH'!AJ108=\"\",\"\",'Terugvordering reiskosten OAH'!AJ108)","v":""},{"$f":"IF('Terugvordering reiskosten OAH'!AR108=\"\",\"\",'Terugvordering reiskosten OAH'!AR108)","v":""},{"$f":"IF('Terugvordering reiskosten OAH'!AY108=\"\",\"\",'Terugvordering reiskosten OAH'!AY108)","v":""},{"$f":"IF('Terugvordering reiskosten OAH'!BC108=0,\"\",'Terugvordering reiskosten OAH'!BC108)","v":""},{"$f":"IF('Terugvordering reiskosten OAH'!BK108=0,\"\",'Terugvordering reiskosten OAH'!BK108)","v":""},{"$f":"IF('Terugvordering reiskosten OAH'!BR108=0,\"\",'Terugvordering reiskosten OAH'!BR108)","v":""},{"$f":"IF('Terugvordering reiskosten OAH'!BZ108=0,\"\",'Terugvordering reiskosten OAH'!BZ108)","v":""},{"$f":"IF('Terugvordering reiskosten OAH'!CG108=\"\",\"\",'Terugvordering reiskosten OAH'!CG108)","v":""},{"$f":"IF('Terugvordering reiskosten OAH'!CM108=0,\"\",'Terugvordering reiskosten OAH'!CM108)","v":""}]
[{"$f":"IF('Terugvordering reiskosten OAH'!D109=\"\",\"\",IF('Terugvordering reiskosten OAH'!$T$36=\"\",\"\",'Terugvordering reiskosten OAH'!$T$36))","v":""},{"$f":"IF(A37=\"\",\"\",'Terugvordering reiskosten OAH'!$T$38)","v":""},{"$f":"IF(A37=\"\",\"\",'gegevensblad samenvatting vord.'!$C$2)","v":""},{"$f":"IF('Terugvordering reiskosten OAH'!D109=\"\",\"\",TEXT('Terugvordering reiskosten OAH'!D109,\"mm-jjjj\"))","v":""},{"$f":"IF('Terugvordering reiskosten OAH'!H109=\"\",\"\",'Terugvordering reiskosten OAH'!H109)","v":""},{"$f":"IF('Terugvordering reiskosten OAH'!R109=\"\",\"\",'Terugvordering reiskosten OAH'!R109)","v":""},{"$f":"IF('Terugvordering reiskosten OAH'!X109=\"\",\"\",'Terugvordering reiskosten OAH'!X109)","v":""},{"$f":"IF('Terugvordering reiskosten OAH'!AJ109=\"\",\"\",'Terugvordering reiskosten OAH'!AJ109)","v":""},{"$f":"IF('Terugvordering reiskosten OAH'!AR109=\"\",\"\",'Terugvordering reiskosten OAH'!AR109)","v":""},{"$f":"IF('Terugvordering reiskosten OAH'!AY109=\"\",\"\",'Terugvordering reiskosten OAH'!AY109)","v":""},{"$f":"IF('Terugvordering reiskosten OAH'!BC109=0,\"\",'Terugvordering reiskosten OAH'!BC109)","v":""},{"$f":"IF('Terugvordering reiskosten OAH'!BK109=0,\"\",'Terugvordering reiskosten OAH'!BK109)","v":""},{"$f":"IF('Terugvordering reiskosten OAH'!BR109=0,\"\",'Terugvordering reiskosten OAH'!BR109)","v":""},{"$f":"IF('Terugvordering reiskosten OAH'!BZ109=0,\"\",'Terugvordering reiskosten OAH'!BZ109)","v":""},{"$f":"IF('Terugvordering reiskosten OAH'!CG109=\"\",\"\",'Terugvordering reiskosten OAH'!CG109)","v":""},{"$f":"IF('Terugvordering reiskosten OAH'!CM109=0,\"\",'Terugvordering reiskosten OAH'!CM109)","v":""}]
[{"$f":"IF('Terugvordering reiskosten OAH'!D110=\"\",\"\",IF('Terugvordering reiskosten OAH'!$T$36=\"\",\"\",'Terugvordering reiskosten OAH'!$T$36))","v":""},{"$f":"IF(A38=\"\",\"\",'Terugvordering reiskosten OAH'!$T$38)","v":""},{"$f":"IF(A38=\"\",\"\",'gegevensblad samenvatting vord.'!$C$2)","v":""},{"$f":"IF('Terugvordering reiskosten OAH'!D110=\"\",\"\",TEXT('Terugvordering reiskosten OAH'!D110,\"mm-jjjj\"))","v":""},{"$f":"IF('Terugvordering reiskosten OAH'!H110=\"\",\"\",'Terugvordering reiskosten OAH'!H110)","v":""},{"$f":"IF('Terugvordering reiskosten OAH'!R110=\"\",\"\",'Terugvordering reiskosten OAH'!R110)","v":""},{"$f":"IF('Terugvordering reiskosten OAH'!X110=\"\",\"\",'Terugvordering reiskosten OAH'!X110)","v":""},{"$f":"IF('Terugvordering reiskosten OAH'!AJ110=\"\",\"\",'Terugvordering reiskosten OAH'!AJ110)","v":""},{"$f":"IF('Terugvordering reiskosten OAH'!AR110=\"\",\"\",'Terugvordering reiskosten OAH'!AR110)","v":""},{"$f":"IF('Terugvordering reiskosten OAH'!AY110=\"\",\"\",'Terugvordering reiskosten OAH'!AY110)","v":""},{"$f":"IF('Terugvordering reiskosten OAH'!BC110=0,\"\",'Terugvordering reiskosten OAH'!BC110)","v":""},{"$f":"IF('Terugvordering reiskosten OAH'!BK110=0,\"\",'Terugvordering reiskosten OAH'!BK110)","v":""},{"$f":"IF('Terugvordering reiskosten OAH'!BR110=0,\"\",'Terugvordering reiskosten OAH'!BR110)","v":""},{"$f":"IF('Terugvordering reiskosten OAH'!BZ110=0,\"\",'Terugvordering reiskosten OAH'!BZ110)","v":""},{"$f":"IF('Terugvordering reiskosten OAH'!CG110=\"\",\"\",'Terugvordering reiskosten OAH'!CG110)","v":""},{"$f":"IF('Terugvordering reiskosten OAH'!CM110=0,\"\",'Terugvordering reiskosten OAH'!CM110)","v":""}]
[{"$f":"IF('Terugvordering reiskosten OAH'!D111=\"\",\"\",IF('Terugvordering reiskosten OAH'!$T$36=\"\",\"\",'Terugvordering reiskosten OAH'!$T$36))","v":""},{"$f":"IF(A39=\"\",\"\",'Terugvordering reiskosten OAH'!$T$38)","v":""},{"$f":"IF(A39=\"\",\"\",'gegevensblad samenvatting vord.'!$C$2)","v":""},{"$f":"IF('Terugvordering reiskosten OAH'!D111=\"\",\"\",TEXT('Terugvordering reiskosten OAH'!D111,\"mm-jjjj\"))","v":""},{"$f":"IF('Terugvordering reiskosten OAH'!H111=\"\",\"\",'Terugvordering reiskosten OAH'!H111)","v":""},{"$f":"IF('Terugvordering reiskosten OAH'!R111=\"\",\"\",'Terugvordering reiskosten OAH'!R111)","v":""},{"$f":"IF('Terugvordering reiskosten OAH'!X111=\"\",\"\",'Terugvordering reiskosten OAH'!X111)","v":""},{"$f":"IF('Terugvordering reiskosten OAH'!AJ111=\"\",\"\",'Terugvordering reiskosten OAH'!AJ111)","v":""},{"$f":"IF('Terugvordering reiskosten OAH'!AR111=\"\",\"\",'Terugvordering reiskosten OAH'!AR111)","v":""},{"$f":"IF('Terugvordering reiskosten OAH'!AY111=\"\",\"\",'Terugvordering reiskosten OAH'!AY111)","v":""},{"$f":"IF('Terugvordering reiskosten OAH'!BC111=0,\"\",'Terugvordering reiskosten OAH'!BC111)","v":""},{"$f":"IF('Terugvordering reiskosten OAH'!BK111=0,\"\",'Terugvordering reiskosten OAH'!BK111)","v":""},{"$f":"IF('Terugvordering reiskosten OAH'!BR111=0,\"\",'Terugvordering reiskosten OAH'!BR111)","v":""},{"$f":"IF('Terugvordering reiskosten OAH'!BZ111=0,\"\",'Terugvordering reiskosten OAH'!BZ111)","v":""},{"$f":"IF('Terugvordering reiskosten OAH'!CG111=\"\",\"\",'Terugvordering reiskosten OAH'!CG111)","v":""},{"$f":"IF('Terugvordering reiskosten OAH'!CM111=0,\"\",'Terugvordering reiskosten OAH'!CM111)","v":""}]
[{"$f":"IF('Terugvordering reiskosten OAH'!D112=\"\",\"\",IF('Terugvordering reiskosten OAH'!$T$36=\"\",\"\",'Terugvordering reiskosten OAH'!$T$36))","v":""},{"$f":"IF(A40=\"\",\"\",'Terugvordering reiskosten OAH'!$T$38)","v":""},{"$f":"IF(A40=\"\",\"\",'gegevensblad samenvatting vord.'!$C$2)","v":""},{"$f":"IF('Terugvordering reiskosten OAH'!D112=\"\",\"\",TEXT('Terugvordering reiskosten OAH'!D112,\"mm-jjjj\"))","v":""},{"$f":"IF('Terugvordering reiskosten OAH'!H112=\"\",\"\",'Terugvordering reiskosten OAH'!H112)","v":""},{"$f":"IF('Terugvordering reiskosten OAH'!R112=\"\",\"\",'Terugvordering reiskosten OAH'!R112)","v":""},{"$f":"IF('Terugvordering reiskosten OAH'!X112=\"\",\"\",'Terugvordering reiskosten OAH'!X112)","v":""},{"$f":"IF('Terugvordering reiskosten OAH'!AJ112=\"\",\"\",'Terugvordering reiskosten OAH'!AJ112)","v":""},{"$f":"IF('Terugvordering reiskosten OAH'!AR112=\"\",\"\",'Terugvordering reiskosten OAH'!AR112)","v":""},{"$f":"IF('Terugvordering reiskosten OAH'!AY112=\"\",\"\",'Terugvordering reiskosten OAH'!AY112)","v":""},{"$f":"IF('Terugvordering reiskosten OAH'!BC112=0,\"\",'Terugvordering reiskosten OAH'!BC112)","v":""},{"$f":"IF('Terugvordering reiskosten OAH'!BK112=0,\"\",'Terugvordering reiskosten OAH'!BK112)","v":""},{"$f":"IF('Terugvordering reiskosten OAH'!BR112=0,\"\",'Terugvordering reiskosten OAH'!BR112)","v":""},{"$f":"IF('Terugvordering reiskosten OAH'!BZ112=0,\"\",'Terugvordering reiskosten OAH'!BZ112)","v":""},{"$f":"IF('Terugvordering reiskosten OAH'!CG112=\"\",\"\",'Terugvordering reiskosten OAH'!CG112)","v":""},{"$f":"IF('Terugvordering reiskosten OAH'!CM112=0,\"\",'Terugvordering reiskosten OAH'!CM112)","v":""}]
[{"$f":"IF('Terugvordering reiskosten OAH'!D113=\"\",\"\",IF('Terugvordering reiskosten OAH'!$T$36=\"\",\"\",'Terugvordering reiskosten OAH'!$T$36))","v":""},{"$f":"IF(A41=\"\",\"\",'Terugvordering reiskosten OAH'!$T$38)","v":""},{"$f":"IF(A41=\"\",\"\",'gegevensblad samenvatting vord.'!$C$2)","v":""},{"$f":"IF('Terugvordering reiskosten OAH'!D113=\"\",\"\",TEXT('Terugvordering reiskosten OAH'!D113,\"mm-jjjj\"))","v":""},{"$f":"IF('Terugvordering reiskosten OAH'!H113=\"\",\"\",'Terugvordering reiskosten OAH'!H113)","v":""},{"$f":"IF('Terugvordering reiskosten OAH'!R113=\"\",\"\",'Terugvordering reiskosten OAH'!R113)","v":""},{"$f":"IF('Terugvordering reiskosten OAH'!X113=\"\",\"\",'Terugvordering reiskosten OAH'!X113)","v":""},{"$f":"IF('Terugvordering reiskosten OAH'!AJ113=\"\",\"\",'Terugvordering reiskosten OAH'!AJ113)","v":""},{"$f":"IF('Terugvordering reiskosten OAH'!AR113=\"\",\"\",'Terugvordering reiskosten OAH'!AR113)","v":""},{"$f":"IF('Terugvordering reiskosten OAH'!AY113=\"\",\"\",'Terugvordering reiskosten OAH'!AY113)","v":""},{"$f":"IF('Terugvordering reiskosten OAH'!BC113=0,\"\",'Terugvordering reiskosten OAH'!BC113)","v":""},{"$f":"IF('Terugvordering reiskosten OAH'!BK113=0,\"\",'Terugvordering reiskosten OAH'!BK113)","v":""},{"$f":"IF('Terugvordering reiskosten OAH'!BR113=0,\"\",'Terugvordering reiskosten OAH'!BR113)","v":""},{"$f":"IF('Terugvordering reiskosten OAH'!BZ113=0,\"\",'Terugvordering reiskosten OAH'!BZ113)","v":""},{"$f":"IF('Terugvordering reiskosten OAH'!CG113=\"\",\"\",'Terugvordering reiskosten OAH'!CG113)","v":""},{"$f":"IF('Terugvordering reiskosten OAH'!CM113=0,\"\",'Terugvordering reiskosten OAH'!CM113)","v":""}]
[{"$f":"IF('Terugvordering reiskosten OAH'!D114=\"\",\"\",IF('Terugvordering reiskosten OAH'!$T$36=\"\",\"\",'Terugvordering reiskosten OAH'!$T$36))","v":""},{"$f":"IF(A42=\"\",\"\",'Terugvordering reiskosten OAH'!$T$38)","v":""},{"$f":"IF(A42=\"\",\"\",'gegevensblad samenvatting vord.'!$C$2)","v":""},{"$f":"IF('Terugvordering reiskosten OAH'!D114=\"\",\"\",TEXT('Terugvordering reiskosten OAH'!D114,\"mm-jjjj\"))","v":""},{"$f":"IF('Terugvordering reiskosten OAH'!H114=\"\",\"\",'Terugvordering reiskosten OAH'!H114)","v":""},{"$f":"IF('Terugvordering reiskosten OAH'!R114=\"\",\"\",'Terugvordering reiskosten OAH'!R114)","v":""},{"$f":"IF('Terugvordering reiskosten OAH'!X114=\"\",\"\",'Terugvordering reiskosten OAH'!X114)","v":""},{"$f":"IF('Terugvordering reiskosten OAH'!AJ114=\"\",\"\",'Terugvordering reiskosten OAH'!AJ114)","v":""},{"$f":"IF('Terugvordering reiskosten OAH'!AR114=\"\",\"\",'Terugvordering reiskosten OAH'!AR114)","v":""},{"$f":"IF('Terugvordering reiskosten OAH'!AY114=\"\",\"\",'Terugvordering reiskosten OAH'!AY114)","v":""},{"$f":"IF('Terugvordering reiskosten OAH'!BC114=0,\"\",'Terugvordering reiskosten OAH'!BC114)","v":""},{"$f":"IF('Terugvordering reiskosten OAH'!BK114=0,\"\",'Terugvordering reiskosten OAH'!BK114)","v":""},{"$f":"IF('Terugvordering reiskosten OAH'!BR114=0,\"\",'Terugvordering reiskosten OAH'!BR114)","v":""},{"$f":"IF('Terugvordering reiskosten OAH'!BZ114=0,\"\",'Terugvordering reiskosten OAH'!BZ114)","v":""},{"$f":"IF('Terugvordering reiskosten OAH'!CG114=\"\",\"\",'Terugvordering reiskosten OAH'!CG114)","v":""},{"$f":"IF('Terugvordering reiskosten OAH'!CM114=0,\"\",'Terugvordering reiskosten OAH'!CM114)","v":""}]
[{"$f":"IF('Terugvordering reiskosten OAH'!D115=\"\",\"\",IF('Terugvordering reiskosten OAH'!$T$36=\"\",\"\",'Terugvordering reiskosten OAH'!$T$36))","v":""},{"$f":"IF(A43=\"\",\"\",'Terugvordering reiskosten OAH'!$T$38)","v":""},{"$f":"IF(A43=\"\",\"\",'gegevensblad samenvatting vord.'!$C$2)","v":""},{"$f":"IF('Terugvordering reiskosten OAH'!D115=\"\",\"\",TEXT('Terugvordering reiskosten OAH'!D115,\"mm-jjjj\"))","v":""},{"$f":"IF('Terugvordering reiskosten OAH'!H115=\"\",\"\",'Terugvordering reiskosten OAH'!H115)","v":""},{"$f":"IF('Terugvordering reiskosten OAH'!R115=\"\",\"\",'Terugvordering reiskosten OAH'!R115)","v":""},{"$f":"IF('Terugvordering reiskosten OAH'!X115=\"\",\"\",'Terugvordering reiskosten OAH'!X115)","v":""},{"$f":"IF('Terugvordering reiskosten OAH'!AJ115=\"\",\"\",'Terugvordering reiskosten OAH'!AJ115)","v":""},{"$f":"IF('Terugvordering reiskosten OAH'!AR115=\"\",\"\",'Terugvordering reiskosten OAH'!AR115)","v":""},{"$f":"IF('Terugvordering reiskosten OAH'!AY115=\"\",\"\",'Terugvordering reiskosten OAH'!AY115)","v":""},{"$f":"IF('Terugvordering reiskosten OAH'!BC115=0,\"\",'Terugvordering reiskosten OAH'!BC115)","v":""},{"$f":"IF('Terugvordering reiskosten OAH'!BK115=0,\"\",'Terugvordering reiskosten OAH'!BK115)","v":""},{"$f":"IF('Terugvordering reiskosten OAH'!BR115=0,\"\",'Terugvordering reiskosten OAH'!BR115)","v":""},{"$f":"IF('Terugvordering reiskosten OAH'!BZ115=0,\"\",'Terugvordering reiskosten OAH'!BZ115)","v":""},{"$f":"IF('Terugvordering reiskosten OAH'!CG115=\"\",\"\",'Terugvordering reiskosten OAH'!CG115)","v":""},{"$f":"IF('Terugvordering reiskosten OAH'!CM115=0,\"\",'Terugvordering reiskosten OAH'!CM115)","v":""}]
[{"$f":"IF('Terugvordering reiskosten OAH'!D116=\"\",\"\",IF('Terugvordering reiskosten OAH'!$T$36=\"\",\"\",'Terugvordering reiskosten OAH'!$T$36))","v":""},{"$f":"IF(A44=\"\",\"\",'Terugvordering reiskosten OAH'!$T$38)","v":""},{"$f":"IF(A44=\"\",\"\",'gegevensblad samenvatting vord.'!$C$2)","v":""},{"$f":"IF('Terugvordering reiskosten OAH'!D116=\"\",\"\",TEXT('Terugvordering reiskosten OAH'!D116,\"mm-jjjj\"))","v":""},{"$f":"IF('Terugvordering reiskosten OAH'!H116=\"\",\"\",'Terugvordering reiskosten OAH'!H116)","v":""},{"$f":"IF('Terugvordering reiskosten OAH'!R116=\"\",\"\",'Terugvordering reiskosten OAH'!R116)","v":""},{"$f":"IF('Terugvordering reiskosten OAH'!X116=\"\",\"\",'Terugvordering reiskosten OAH'!X116)","v":""},{"$f":"IF('Terugvordering reiskosten OAH'!AJ116=\"\",\"\",'Terugvordering reiskosten OAH'!AJ116)","v":""},{"$f":"IF('Terugvordering reiskosten OAH'!AR116=\"\",\"\",'Terugvordering reiskosten OAH'!AR116)","v":""},{"$f":"IF('Terugvordering reiskosten OAH'!AY116=\"\",\"\",'Terugvordering reiskosten OAH'!AY116)","v":""},{"$f":"IF('Terugvordering reiskosten OAH'!BC116=0,\"\",'Terugvordering reiskosten OAH'!BC116)","v":""},{"$f":"IF('Terugvordering reiskosten OAH'!BK116=0,\"\",'Terugvordering reiskosten OAH'!BK116)","v":""},{"$f":"IF('Terugvordering reiskosten OAH'!BR116=0,\"\",'Terugvordering reiskosten OAH'!BR116)","v":""},{"$f":"IF('Terugvordering reiskosten OAH'!BZ116=0,\"\",'Terugvordering reiskosten OAH'!BZ116)","v":""},{"$f":"IF('Terugvordering reiskosten OAH'!CG116=\"\",\"\",'Terugvordering reiskosten OAH'!CG116)","v":""},{"$f":"IF('Terugvordering reiskosten OAH'!CM116=0,\"\",'Terugvordering reiskosten OAH'!CM116)","v":""}]
[{"$f":"IF('Terugvordering reiskosten OAH'!D117=\"\",\"\",IF('Terugvordering reiskosten OAH'!$T$36=\"\",\"\",'Terugvordering reiskosten OAH'!$T$36))","v":""},{"$f":"IF(A45=\"\",\"\",'Terugvordering reiskosten OAH'!$T$38)","v":""},{"$f":"IF(A45=\"\",\"\",'gegevensblad samenvatting vord.'!$C$2)","v":""},{"$f":"IF('Terugvordering reiskosten OAH'!D117=\"\",\"\",TEXT('Terugvordering reiskosten OAH'!D117,\"mm-jjjj\"))","v":""},{"$f":"IF('Terugvordering reiskosten OAH'!H117=\"\",\"\",'Terugvordering reiskosten OAH'!H117)","v":""},{"$f":"IF('Terugvordering reiskosten OAH'!R117=\"\",\"\",'Terugvordering reiskosten OAH'!R117)","v":""},{"$f":"IF('Terugvordering reiskosten OAH'!X117=\"\",\"\",'Terugvordering reiskosten OAH'!X117)","v":""},{"$f":"IF('Terugvordering reiskosten OAH'!AJ117=\"\",\"\",'Terugvordering reiskosten OAH'!AJ117)","v":""},{"$f":"IF('Terugvordering reiskosten OAH'!AR117=\"\",\"\",'Terugvordering reiskosten OAH'!AR117)","v":""},{"$f":"IF('Terugvordering reiskosten OAH'!AY117=\"\",\"\",'Terugvordering reiskosten OAH'!AY117)","v":""},{"$f":"IF('Terugvordering reiskosten OAH'!BC117=0,\"\",'Terugvordering reiskosten OAH'!BC117)","v":""},{"$f":"IF('Terugvordering reiskosten OAH'!BK117=0,\"\",'Terugvordering reiskosten OAH'!BK117)","v":""},{"$f":"IF('Terugvordering reiskosten OAH'!BR117=0,\"\",'Terugvordering reiskosten OAH'!BR117)","v":""},{"$f":"IF('Terugvordering reiskosten OAH'!BZ117=0,\"\",'Terugvordering reiskosten OAH'!BZ117)","v":""},{"$f":"IF('Terugvordering reiskosten OAH'!CG117=\"\",\"\",'Terugvordering reiskosten OAH'!CG117)","v":""},{"$f":"IF('Terugvordering reiskosten OAH'!CM117=0,\"\",'Terugvordering reiskosten OAH'!CM117)","v":""}]
[{"$f":"IF('Terugvordering reiskosten OAH'!D118=\"\",\"\",IF('Terugvordering reiskosten OAH'!$T$36=\"\",\"\",'Terugvordering reiskosten OAH'!$T$36))","v":""},{"$f":"IF(A46=\"\",\"\",'Terugvordering reiskosten OAH'!$T$38)","v":""},{"$f":"IF(A46=\"\",\"\",'gegevensblad samenvatting vord.'!$C$2)","v":""},{"$f":"IF('Terugvordering reiskosten OAH'!D118=\"\",\"\",TEXT('Terugvordering reiskosten OAH'!D118,\"mm-jjjj\"))","v":""},{"$f":"IF('Terugvordering reiskosten OAH'!H118=\"\",\"\",'Terugvordering reiskosten OAH'!H118)","v":""},{"$f":"IF('Terugvordering reiskosten OAH'!R118=\"\",\"\",'Terugvordering reiskosten OAH'!R118)","v":""},{"$f":"IF('Terugvordering reiskosten OAH'!X118=\"\",\"\",'Terugvordering reiskosten OAH'!X118)","v":""},{"$f":"IF('Terugvordering reiskosten OAH'!AJ118=\"\",\"\",'Terugvordering reiskosten OAH'!AJ118)","v":""},{"$f":"IF('Terugvordering reiskosten OAH'!AR118=\"\",\"\",'Terugvordering reiskosten OAH'!AR118)","v":""},{"$f":"IF('Terugvordering reiskosten OAH'!AY118=\"\",\"\",'Terugvordering reiskosten OAH'!AY118)","v":""},{"$f":"IF('Terugvordering reiskosten OAH'!BC118=0,\"\",'Terugvordering reiskosten OAH'!BC118)","v":""},{"$f":"IF('Terugvordering reiskosten OAH'!BK118=0,\"\",'Terugvordering reiskosten OAH'!BK118)","v":""},{"$f":"IF('Terugvordering reiskosten OAH'!BR118=0,\"\",'Terugvordering reiskosten OAH'!BR118)","v":""},{"$f":"IF('Terugvordering reiskosten OAH'!BZ118=0,\"\",'Terugvordering reiskosten OAH'!BZ118)","v":""},{"$f":"IF('Terugvordering reiskosten OAH'!CG118=\"\",\"\",'Terugvordering reiskosten OAH'!CG118)","v":""},{"$f":"IF('Terugvordering reiskosten OAH'!CM118=0,\"\",'Terugvordering reiskosten OAH'!CM118)","v":""}]
[{"$f":"IF('Terugvordering reiskosten OAH'!D119=\"\",\"\",IF('Terugvordering reiskosten OAH'!$T$36=\"\",\"\",'Terugvordering reiskosten OAH'!$T$36))","v":""},{"$f":"IF(A47=\"\",\"\",'Terugvordering reiskosten OAH'!$T$38)","v":""},{"$f":"IF(A47=\"\",\"\",'gegevensblad samenvatting vord.'!$C$2)","v":""},{"$f":"IF('Terugvordering reiskosten OAH'!D119=\"\",\"\",TEXT('Terugvordering reiskosten OAH'!D119,\"mm-jjjj\"))","v":""},{"$f":"IF('Terugvordering reiskosten OAH'!H119=\"\",\"\",'Terugvordering reiskosten OAH'!H119)","v":""},{"$f":"IF('Terugvordering reiskosten OAH'!R119=\"\",\"\",'Terugvordering reiskosten OAH'!R119)","v":""},{"$f":"IF('Terugvordering reiskosten OAH'!X119=\"\",\"\",'Terugvordering reiskosten OAH'!X119)","v":""},{"$f":"IF('Terugvordering reiskosten OAH'!AJ119=\"\",\"\",'Terugvordering reiskosten OAH'!AJ119)","v":""},{"$f":"IF('Terugvordering reiskosten OAH'!AR119=\"\",\"\",'Terugvordering reiskosten OAH'!AR119)","v":""},{"$f":"IF('Terugvordering reiskosten OAH'!AY119=\"\",\"\",'Terugvordering reiskosten OAH'!AY119)","v":""},{"$f":"IF('Terugvordering reiskosten OAH'!BC119=0,\"\",'Terugvordering reiskosten OAH'!BC119)","v":""},{"$f":"IF('Terugvordering reiskosten OAH'!BK119=0,\"\",'Terugvordering reiskosten OAH'!BK119)","v":""},{"$f":"IF('Terugvordering reiskosten OAH'!BR119=0,\"\",'Terugvordering reiskosten OAH'!BR119)","v":""},{"$f":"IF('Terugvordering reiskosten OAH'!BZ119=0,\"\",'Terugvordering reiskosten OAH'!BZ119)","v":""},{"$f":"IF('Terugvordering reiskosten OAH'!CG119=\"\",\"\",'Terugvordering reiskosten OAH'!CG119)","v":""},{"$f":"IF('Terugvordering reiskosten OAH'!CM119=0,\"\",'Terugvordering reiskosten OAH'!CM119)","v":""}]
[{"$f":"IF('Terugvordering reiskosten OAH'!D120=\"\",\"\",IF('Terugvordering reiskosten OAH'!$T$36=\"\",\"\",'Terugvordering reiskosten OAH'!$T$36))","v":""},{"$f":"IF(A48=\"\",\"\",'Terugvordering reiskosten OAH'!$T$38)","v":""},{"$f":"IF(A48=\"\",\"\",'gegevensblad samenvatting vord.'!$C$2)","v":""},{"$f":"IF('Terugvordering reiskosten OAH'!D120=\"\",\"\",TEXT('Terugvordering reiskosten OAH'!D120,\"mm-jjjj\"))","v":""},{"$f":"IF('Terugvordering reiskosten OAH'!H120=\"\",\"\",'Terugvordering reiskosten OAH'!H120)","v":""},{"$f":"IF('Terugvordering reiskosten OAH'!R120=\"\",\"\",'Terugvordering reiskosten OAH'!R120)","v":""},{"$f":"IF('Terugvordering reiskosten OAH'!X120=\"\",\"\",'Terugvordering reiskosten OAH'!X120)","v":""},{"$f":"IF('Terugvordering reiskosten OAH'!AJ120=\"\",\"\",'Terugvordering reiskosten OAH'!AJ120)","v":""},{"$f":"IF('Terugvordering reiskosten OAH'!AR120=\"\",\"\",'Terugvordering reiskosten OAH'!AR120)","v":""},{"$f":"IF('Terugvordering reiskosten OAH'!AY120=\"\",\"\",'Terugvordering reiskosten OAH'!AY120)","v":""},{"$f":"IF('Terugvordering reiskosten OAH'!BC120=0,\"\",'Terugvordering reiskosten OAH'!BC120)","v":""},{"$f":"IF('Terugvordering reiskosten OAH'!BK120=0,\"\",'Terugvordering reiskosten OAH'!BK120)","v":""},{"$f":"IF('Terugvordering reiskosten OAH'!BR120=0,\"\",'Terugvordering reiskosten OAH'!BR120)","v":""},{"$f":"IF('Terugvordering reiskosten OAH'!BZ120=0,\"\",'Terugvordering reiskosten OAH'!BZ120)","v":""},{"$f":"IF('Terugvordering reiskosten OAH'!CG120=\"\",\"\",'Terugvordering reiskosten OAH'!CG120)","v":""},{"$f":"IF('Terugvordering reiskosten OAH'!CM120=0,\"\",'Terugvordering reiskosten OAH'!CM120)","v":""}]
[{"$f":"IF('Terugvordering reiskosten OAH'!D121=\"\",\"\",IF('Terugvordering reiskosten OAH'!$T$36=\"\",\"\",'Terugvordering reiskosten OAH'!$T$36))","v":""},{"$f":"IF(A49=\"\",\"\",'Terugvordering reiskosten OAH'!$T$38)","v":""},{"$f":"IF(A49=\"\",\"\",'gegevensblad samenvatting vord.'!$C$2)","v":""},{"$f":"IF('Terugvordering reiskosten OAH'!D121=\"\",\"\",TEXT('Terugvordering reiskosten OAH'!D121,\"mm-jjjj\"))","v":""},{"$f":"IF('Terugvordering reiskosten OAH'!H121=\"\",\"\",'Terugvordering reiskosten OAH'!H121)","v":""},{"$f":"IF('Terugvordering reiskosten OAH'!R121=\"\",\"\",'Terugvordering reiskosten OAH'!R121)","v":""},{"$f":"IF('Terugvordering reiskosten OAH'!X121=\"\",\"\",'Terugvordering reiskosten OAH'!X121)","v":""},{"$f":"IF('Terugvordering reiskosten OAH'!AJ121=\"\",\"\",'Terugvordering reiskosten OAH'!AJ121)","v":""},{"$f":"IF('Terugvordering reiskosten OAH'!AR121=\"\",\"\",'Terugvordering reiskosten OAH'!AR121)","v":""},{"$f":"IF('Terugvordering reiskosten OAH'!AY121=\"\",\"\",'Terugvordering reiskosten OAH'!AY121)","v":""},{"$f":"IF('Terugvordering reiskosten OAH'!BC121=0,\"\",'Terugvordering reiskosten OAH'!BC121)","v":""},{"$f":"IF('Terugvordering reiskosten OAH'!BK121=0,\"\",'Terugvordering reiskosten OAH'!BK121)","v":""},{"$f":"IF('Terugvordering reiskosten OAH'!BR121=0,\"\",'Terugvordering reiskosten OAH'!BR121)","v":""},{"$f":"IF('Terugvordering reiskosten OAH'!BZ121=0,\"\",'Terugvordering reiskosten OAH'!BZ121)","v":""},{"$f":"IF('Terugvordering reiskosten OAH'!CG121=\"\",\"\",'Terugvordering reiskosten OAH'!CG121)","v":""},{"$f":"IF('Terugvordering reiskosten OAH'!CM121=0,\"\",'Terugvordering reiskosten OAH'!CM121)","v":""}]
[{"$f":"IF('Terugvordering reiskosten OAH'!D122=\"\",\"\",IF('Terugvordering reiskosten OAH'!$T$36=\"\",\"\",'Terugvordering reiskosten OAH'!$T$36))","v":""},{"$f":"IF(A50=\"\",\"\",'Terugvordering reiskosten OAH'!$T$38)","v":""},{"$f":"IF(A50=\"\",\"\",'gegevensblad samenvatting vord.'!$C$2)","v":""},{"$f":"IF('Terugvordering reiskosten OAH'!D122=\"\",\"\",TEXT('Terugvordering reiskosten OAH'!D122,\"mm-jjjj\"))","v":""},{"$f":"IF('Terugvordering reiskosten OAH'!H122=\"\",\"\",'Terugvordering reiskosten OAH'!H122)","v":""},{"$f":"IF('Terugvordering reiskosten OAH'!R122=\"\",\"\",'Terugvordering reiskosten OAH'!R122)","v":""},{"$f":"IF('Terugvordering reiskosten OAH'!X122=\"\",\"\",'Terugvordering reiskosten OAH'!X122)","v":""},{"$f":"IF('Terugvordering reiskosten OAH'!AJ122=\"\",\"\",'Terugvordering reiskosten OAH'!AJ122)","v":""},{"$f":"IF('Terugvordering reiskosten OAH'!AR122=\"\",\"\",'Terugvordering reiskosten OAH'!AR122)","v":""},{"$f":"IF('Terugvordering reiskosten OAH'!AY122=\"\",\"\",'Terugvordering reiskosten OAH'!AY122)","v":""},{"$f":"IF('Terugvordering reiskosten OAH'!BC122=0,\"\",'Terugvordering reiskosten OAH'!BC122)","v":""},{"$f":"IF('Terugvordering reiskosten OAH'!BK122=0,\"\",'Terugvordering reiskosten OAH'!BK122)","v":""},{"$f":"IF('Terugvordering reiskosten OAH'!BR122=0,\"\",'Terugvordering reiskosten OAH'!BR122)","v":""},{"$f":"IF('Terugvordering reiskosten OAH'!BZ122=0,\"\",'Terugvordering reiskosten OAH'!BZ122)","v":""},{"$f":"IF('Terugvordering reiskosten OAH'!CG122=\"\",\"\",'Terugvordering reiskosten OAH'!CG122)","v":""},{"$f":"IF('Terugvordering reiskosten OAH'!CM122=0,\"\",'Terugvordering reiskosten OAH'!CM122)","v":""}]
[{"$f":"IF('Terugvordering reiskosten OAH'!D123=\"\",\"\",IF('Terugvordering reiskosten OAH'!$T$36=\"\",\"\",'Terugvordering reiskosten OAH'!$T$36))","v":""},{"$f":"IF(A51=\"\",\"\",'Terugvordering reiskosten OAH'!$T$38)","v":""},{"$f":"IF(A51=\"\",\"\",'gegevensblad samenvatting vord.'!$C$2)","v":""},{"$f":"IF('Terugvordering reiskosten OAH'!D123=\"\",\"\",TEXT('Terugvordering reiskosten OAH'!D123,\"mm-jjjj\"))","v":""},{"$f":"IF('Terugvordering reiskosten OAH'!H123=\"\",\"\",'Terugvordering reiskosten OAH'!H123)","v":""},{"$f":"IF('Terugvordering reiskosten OAH'!R123=\"\",\"\",'Terugvordering reiskosten OAH'!R123)","v":""},{"$f":"IF('Terugvordering reiskosten OAH'!X123=\"\",\"\",'Terugvordering reiskosten OAH'!X123)","v":""},{"$f":"IF('Terugvordering reiskosten OAH'!AJ123=\"\",\"\",'Terugvordering reiskosten OAH'!AJ123)","v":""},{"$f":"IF('Terugvordering reiskosten OAH'!AR123=\"\",\"\",'Terugvordering reiskosten OAH'!AR123)","v":""},{"$f":"IF('Terugvordering reiskosten OAH'!AY123=\"\",\"\",'Terugvordering reiskosten OAH'!AY123)","v":""},{"$f":"IF('Terugvordering reiskosten OAH'!BC123=0,\"\",'Terugvordering reiskosten OAH'!BC123)","v":""},{"$f":"IF('Terugvordering reiskosten OAH'!BK123=0,\"\",'Terugvordering reiskosten OAH'!BK123)","v":""},{"$f":"IF('Terugvordering reiskosten OAH'!BR123=0,\"\",'Terugvordering reiskosten OAH'!BR123)","v":""},{"$f":"IF('Terugvordering reiskosten OAH'!BZ123=0,\"\",'Terugvordering reiskosten OAH'!BZ123)","v":""},{"$f":"IF('Terugvordering reiskosten OAH'!CG123=\"\",\"\",'Terugvordering reiskosten OAH'!CG123)","v":""},{"$f":"IF('Terugvordering reiskosten OAH'!CM123=0,\"\",'Terugvordering reiskosten OAH'!CM123)","v":""}]
[{"$f":"IF('Terugvordering reiskosten OAH'!D124=\"\",\"\",IF('Terugvordering reiskosten OAH'!$T$36=\"\",\"\",'Terugvordering reiskosten OAH'!$T$36))","v":""},{"$f":"IF(A52=\"\",\"\",'Terugvordering reiskosten OAH'!$T$38)","v":""},{"$f":"IF(A52=\"\",\"\",'gegevensblad samenvatting vord.'!$C$2)","v":""},{"$f":"IF('Terugvordering reiskosten OAH'!D124=\"\",\"\",TEXT('Terugvordering reiskosten OAH'!D124,\"mm-jjjj\"))","v":""},{"$f":"IF('Terugvordering reiskosten OAH'!H124=\"\",\"\",'Terugvordering reiskosten OAH'!H124)","v":""},{"$f":"IF('Terugvordering reiskosten OAH'!R124=\"\",\"\",'Terugvordering reiskosten OAH'!R124)","v":""},{"$f":"IF('Terugvordering reiskosten OAH'!X124=\"\",\"\",'Terugvordering reiskosten OAH'!X124)","v":""},{"$f":"IF('Terugvordering reiskosten OAH'!AJ124=\"\",\"\",'Terugvordering reiskosten OAH'!AJ124)","v":""},{"$f":"IF('Terugvordering reiskosten OAH'!AR124=\"\",\"\",'Terugvordering reiskosten OAH'!AR124)","v":""},{"$f":"IF('Terugvordering reiskosten OAH'!AY124=\"\",\"\",'Terugvordering reiskosten OAH'!AY124)","v":""},{"$f":"IF('Terugvordering reiskosten OAH'!BC124=0,\"\",'Terugvordering reiskosten OAH'!BC124)","v":""},{"$f":"IF('Terugvordering reiskosten OAH'!BK124=0,\"\",'Terugvordering reiskosten OAH'!BK124)","v":""},{"$f":"IF('Terugvordering reiskosten OAH'!BR124=0,\"\",'Terugvordering reiskosten OAH'!BR124)","v":""},{"$f":"IF('Terugvordering reiskosten OAH'!BZ124=0,\"\",'Terugvordering reiskosten OAH'!BZ124)","v":""},{"$f":"IF('Terugvordering reiskosten OAH'!CG124=\"\",\"\",'Terugvordering reiskosten OAH'!CG124)","v":""},{"$f":"IF('Terugvordering reiskosten OAH'!CM124=0,\"\",'Terugvordering reiskosten OAH'!CM124)","v":""}]
[{"$f":"IF('Terugvordering reiskosten OAH'!D125=\"\",\"\",IF('Terugvordering reiskosten OAH'!$T$36=\"\",\"\",'Terugvordering reiskosten OAH'!$T$36))","v":""},{"$f":"IF(A53=\"\",\"\",'Terugvordering reiskosten OAH'!$T$38)","v":""},{"$f":"IF(A53=\"\",\"\",'gegevensblad samenvatting vord.'!$C$2)","v":""},{"$f":"IF('Terugvordering reiskosten OAH'!D125=\"\",\"\",TEXT('Terugvordering reiskosten OAH'!D125,\"mm-jjjj\"))","v":""},{"$f":"IF('Terugvordering reiskosten OAH'!H125=\"\",\"\",'Terugvordering reiskosten OAH'!H125)","v":""},{"$f":"IF('Terugvordering reiskosten OAH'!R125=\"\",\"\",'Terugvordering reiskosten OAH'!R125)","v":""},{"$f":"IF('Terugvordering reiskosten OAH'!X125=\"\",\"\",'Terugvordering reiskosten OAH'!X125)","v":""},{"$f":"IF('Terugvordering reiskosten OAH'!AJ125=\"\",\"\",'Terugvordering reiskosten OAH'!AJ125)","v":""},{"$f":"IF('Terugvordering reiskosten OAH'!AR125=\"\",\"\",'Terugvordering reiskosten OAH'!AR125)","v":""},{"$f":"IF('Terugvordering reiskosten OAH'!AY125=\"\",\"\",'Terugvordering reiskosten OAH'!AY125)","v":""},{"$f":"IF('Terugvordering reiskosten OAH'!BC125=0,\"\",'Terugvordering reiskosten OAH'!BC125)","v":""},{"$f":"IF('Terugvordering reiskosten OAH'!BK125=0,\"\",'Terugvordering reiskosten OAH'!BK125)","v":""},{"$f":"IF('Terugvordering reiskosten OAH'!BR125=0,\"\",'Terugvordering reiskosten OAH'!BR125)","v":""},{"$f":"IF('Terugvordering reiskosten OAH'!BZ125=0,\"\",'Terugvordering reiskosten OAH'!BZ125)","v":""},{"$f":"IF('Terugvordering reiskosten OAH'!CG125=\"\",\"\",'Terugvordering reiskosten OAH'!CG125)","v":""},{"$f":"IF('Terugvordering reiskosten OAH'!CM125=0,\"\",'Terugvordering reiskosten OAH'!CM125)","v":""}]
[{"$f":"IF('Terugvordering reiskosten OAH'!D126=\"\",\"\",IF('Terugvordering reiskosten OAH'!$T$36=\"\",\"\",'Terugvordering reiskosten OAH'!$T$36))","v":""},{"$f":"IF(A54=\"\",\"\",'Terugvordering reiskosten OAH'!$T$38)","v":""},{"$f":"IF(A54=\"\",\"\",'gegevensblad samenvatting vord.'!$C$2)","v":""},{"$f":"IF('Terugvordering reiskosten OAH'!D126=\"\",\"\",TEXT('Terugvordering reiskosten OAH'!D126,\"mm-jjjj\"))","v":""},{"$f":"IF('Terugvordering reiskosten OAH'!H126=\"\",\"\",'Terugvordering reiskosten OAH'!H126)","v":""},{"$f":"IF('Terugvordering reiskosten OAH'!R126=\"\",\"\",'Terugvordering reiskosten OAH'!R126)","v":""},{"$f":"IF('Terugvordering reiskosten OAH'!X126=\"\",\"\",'Terugvordering reiskosten OAH'!X126)","v":""},{"$f":"IF('Terugvordering reiskosten OAH'!AJ126=\"\",\"\",'Terugvordering reiskosten OAH'!AJ126)","v":""},{"$f":"IF('Terugvordering reiskosten OAH'!AR126=\"\",\"\",'Terugvordering reiskosten OAH'!AR126)","v":""},{"$f":"IF('Terugvordering reiskosten OAH'!AY126=\"\",\"\",'Terugvordering reiskosten OAH'!AY126)","v":""},{"$f":"IF('Terugvordering reiskosten OAH'!BC126=0,\"\",'Terugvordering reiskosten OAH'!BC126)","v":""},{"$f":"IF('Terugvordering reiskosten OAH'!BK126=0,\"\",'Terugvordering reiskosten OAH'!BK126)","v":""},{"$f":"IF('Terugvordering reiskosten OAH'!BR126=0,\"\",'Terugvordering reiskosten OAH'!BR126)","v":""},{"$f":"IF('Terugvordering reiskosten OAH'!BZ126=0,\"\",'Terugvordering reiskosten OAH'!BZ126)","v":""},{"$f":"IF('Terugvordering reiskosten OAH'!CG126=\"\",\"\",'Terugvordering reiskosten OAH'!CG126)","v":""},{"$f":"IF('Terugvordering reiskosten OAH'!CM126=0,\"\",'Terugvordering reiskosten OAH'!CM126)","v":""}]
[{"$f":"IF('Terugvordering reiskosten OAH'!D127=\"\",\"\",IF('Terugvordering reiskosten OAH'!$T$36=\"\",\"\",'Terugvordering reiskosten OAH'!$T$36))","v":""},{"$f":"IF(A55=\"\",\"\",'Terugvordering reiskosten OAH'!$T$38)","v":""},{"$f":"IF(A55=\"\",\"\",'gegevensblad samenvatting vord.'!$C$2)","v":""},{"$f":"IF('Terugvordering reiskosten OAH'!D127=\"\",\"\",TEXT('Terugvordering reiskosten OAH'!D127,\"mm-jjjj\"))","v":""},{"$f":"IF('Terugvordering reiskosten OAH'!H127=\"\",\"\",'Terugvordering reiskosten OAH'!H127)","v":""},{"$f":"IF('Terugvordering reiskosten OAH'!R127=\"\",\"\",'Terugvordering reiskosten OAH'!R127)","v":""},{"$f":"IF('Terugvordering reiskosten OAH'!X127=\"\",\"\",'Terugvordering reiskosten OAH'!X127)","v":""},{"$f":"IF('Terugvordering reiskosten OAH'!AJ127=\"\",\"\",'Terugvordering reiskosten OAH'!AJ127)","v":""},{"$f":"IF('Terugvordering reiskosten OAH'!AR127=\"\",\"\",'Terugvordering reiskosten OAH'!AR127)","v":""},{"$f":"IF('Terugvordering reiskosten OAH'!AY127=\"\",\"\",'Terugvordering reiskosten OAH'!AY127)","v":""},{"$f":"IF('Terugvordering reiskosten OAH'!BC127=0,\"\",'Terugvordering reiskosten OAH'!BC127)","v":""},{"$f":"IF('Terugvordering reiskosten OAH'!BK127=0,\"\",'Terugvordering reiskosten OAH'!BK127)","v":""},{"$f":"IF('Terugvordering reiskosten OAH'!BR127=0,\"\",'Terugvordering reiskosten OAH'!BR127)","v":""},{"$f":"IF('Terugvordering reiskosten OAH'!BZ127=0,\"\",'Terugvordering reiskosten OAH'!BZ127)","v":""},{"$f":"IF('Terugvordering reiskosten OAH'!CG127=\"\",\"\",'Terugvordering reiskosten OAH'!CG127)","v":""},{"$f":"IF('Terugvordering reiskosten OAH'!CM127=0,\"\",'Terugvordering reiskosten OAH'!CM127)","v":""}]
[{"$f":"IF('Terugvordering reiskosten OAH'!D128=\"\",\"\",IF('Terugvordering reiskosten OAH'!$T$36=\"\",\"\",'Terugvordering reiskosten OAH'!$T$36))","v":""},{"$f":"IF(A56=\"\",\"\",'Terugvordering reiskosten OAH'!$T$38)","v":""},{"$f":"IF(A56=\"\",\"\",'gegevensblad samenvatting vord.'!$C$2)","v":""},{"$f":"IF('Terugvordering reiskosten OAH'!D128=\"\",\"\",TEXT('Terugvordering reiskosten OAH'!D128,\"mm-jjjj\"))","v":""},{"$f":"IF('Terugvordering reiskosten OAH'!H128=\"\",\"\",'Terugvordering reiskosten OAH'!H128)","v":""},{"$f":"IF('Terugvordering reiskosten OAH'!R128=\"\",\"\",'Terugvordering reiskosten OAH'!R128)","v":""},{"$f":"IF('Terugvordering reiskosten OAH'!X128=\"\",\"\",'Terugvordering reiskosten OAH'!X128)","v":""},{"$f":"IF('Terugvordering reiskosten OAH'!AJ128=\"\",\"\",'Terugvordering reiskosten OAH'!AJ128)","v":""},{"$f":"IF('Terugvordering reiskosten OAH'!AR128=\"\",\"\",'Terugvordering reiskosten OAH'!AR128)","v":""},{"$f":"IF('Terugvordering reiskosten OAH'!AY128=\"\",\"\",'Terugvordering reiskosten OAH'!AY128)","v":""},{"$f":"IF('Terugvordering reiskosten OAH'!BC128=0,\"\",'Terugvordering reiskosten OAH'!BC128)","v":""},{"$f":"IF('Terugvordering reiskosten OAH'!BK128=0,\"\",'Terugvordering reiskosten OAH'!BK128)","v":""},{"$f":"IF('Terugvordering reiskosten OAH'!BR128=0,\"\",'Terugvordering reiskosten OAH'!BR128)","v":""},{"$f":"IF('Terugvordering reiskosten OAH'!BZ128=0,\"\",'Terugvordering reiskosten OAH'!BZ128)","v":""},{"$f":"IF('Terugvordering reiskosten OAH'!CG128=\"\",\"\",'Terugvordering reiskosten OAH'!CG128)","v":""},{"$f":"IF('Terugvordering reiskosten OAH'!CM128=0,\"\",'Terugvordering reiskosten OAH'!CM128)","v":""}]
[{"$f":"IF('Terugvordering reiskosten OAH'!D129=\"\",\"\",IF('Terugvordering reiskosten OAH'!$T$36=\"\",\"\",'Terugvordering reiskosten OAH'!$T$36))","v":""},{"$f":"IF(A57=\"\",\"\",'Terugvordering reiskosten OAH'!$T$38)","v":""},{"$f":"IF(A57=\"\",\"\",'gegevensblad samenvatting vord.'!$C$2)","v":""},{"$f":"IF('Terugvordering reiskosten OAH'!D129=\"\",\"\",TEXT('Terugvordering reiskosten OAH'!D129,\"mm-jjjj\"))","v":""},{"$f":"IF('Terugvordering reiskosten OAH'!H129=\"\",\"\",'Terugvordering reiskosten OAH'!H129)","v":""},{"$f":"IF('Terugvordering reiskosten OAH'!R129=\"\",\"\",'Terugvordering reiskosten OAH'!R129)","v":""},{"$f":"IF('Terugvordering reiskosten OAH'!X129=\"\",\"\",'Terugvordering reiskosten OAH'!X129)","v":""},{"$f":"IF('Terugvordering reiskosten OAH'!AJ129=\"\",\"\",'Terugvordering reiskosten OAH'!AJ129)","v":""},{"$f":"IF('Terugvordering reiskosten OAH'!AR129=\"\",\"\",'Terugvordering reiskosten OAH'!AR129)","v":""},{"$f":"IF('Terugvordering reiskosten OAH'!AY129=\"\",\"\",'Terugvordering reiskosten OAH'!AY129)","v":""},{"$f":"IF('Terugvordering reiskosten OAH'!BC129=0,\"\",'Terugvordering reiskosten OAH'!BC129)","v":""},{"$f":"IF('Terugvordering reiskosten OAH'!BK129=0,\"\",'Terugvordering reiskosten OAH'!BK129)","v":""},{"$f":"IF('Terugvordering reiskosten OAH'!BR129=0,\"\",'Terugvordering reiskosten OAH'!BR129)","v":""},{"$f":"IF('Terugvordering reiskosten OAH'!BZ129=0,\"\",'Terugvordering reiskosten OAH'!BZ129)","v":""},{"$f":"IF('Terugvordering reiskosten OAH'!CG129=\"\",\"\",'Terugvordering reiskosten OAH'!CG129)","v":""},{"$f":"IF('Terugvordering reiskosten OAH'!CM129=0,\"\",'Terugvordering reiskosten OAH'!CM129)","v":""}]
[{"$f":"IF('Terugvordering reiskosten OAH'!D130=\"\",\"\",IF('Terugvordering reiskosten OAH'!$T$36=\"\",\"\",'Terugvordering reiskosten OAH'!$T$36))","v":""},{"$f":"IF(A58=\"\",\"\",'Terugvordering reiskosten OAH'!$T$38)","v":""},{"$f":"IF(A58=\"\",\"\",'gegevensblad samenvatting vord.'!$C$2)","v":""},{"$f":"IF('Terugvordering reiskosten OAH'!D130=\"\",\"\",TEXT('Terugvordering reiskosten OAH'!D130,\"mm-jjjj\"))","v":""},{"$f":"IF('Terugvordering reiskosten OAH'!H130=\"\",\"\",'Terugvordering reiskosten OAH'!H130)","v":""},{"$f":"IF('Terugvordering reiskosten OAH'!R130=\"\",\"\",'Terugvordering reiskosten OAH'!R130)","v":""},{"$f":"IF('Terugvordering reiskosten OAH'!X130=\"\",\"\",'Terugvordering reiskosten OAH'!X130)","v":""},{"$f":"IF('Terugvordering reiskosten OAH'!AJ130=\"\",\"\",'Terugvordering reiskosten OAH'!AJ130)","v":""},{"$f":"IF('Terugvordering reiskosten OAH'!AR130=\"\",\"\",'Terugvordering reiskosten OAH'!AR130)","v":""},{"$f":"IF('Terugvordering reiskosten OAH'!AY130=\"\",\"\",'Terugvordering reiskosten OAH'!AY130)","v":""},{"$f":"IF('Terugvordering reiskosten OAH'!BC130=0,\"\",'Terugvordering reiskosten OAH'!BC130)","v":""},{"$f":"IF('Terugvordering reiskosten OAH'!BK130=0,\"\",'Terugvordering reiskosten OAH'!BK130)","v":""},{"$f":"IF('Terugvordering reiskosten OAH'!BR130=0,\"\",'Terugvordering reiskosten OAH'!BR130)","v":""},{"$f":"IF('Terugvordering reiskosten OAH'!BZ130=0,\"\",'Terugvordering reiskosten OAH'!BZ130)","v":""},{"$f":"IF('Terugvordering reiskosten OAH'!CG130=\"\",\"\",'Terugvordering reiskosten OAH'!CG130)","v":""},{"$f":"IF('Terugvordering reiskosten OAH'!CM130=0,\"\",'Terugvordering reiskosten OAH'!CM130)","v":""}]
[{"$f":"IF('Terugvordering reiskosten OAH'!D131=\"\",\"\",IF('Terugvordering reiskosten OAH'!$T$36=\"\",\"\",'Terugvordering reiskosten OAH'!$T$36))","v":""},{"$f":"IF(A59=\"\",\"\",'Terugvordering reiskosten OAH'!$T$38)","v":""},{"$f":"IF(A59=\"\",\"\",'gegevensblad samenvatting vord.'!$C$2)","v":""},{"$f":"IF('Terugvordering reiskosten OAH'!D131=\"\",\"\",TEXT('Terugvordering reiskosten OAH'!D131,\"mm-jjjj\"))","v":""},{"$f":"IF('Terugvordering reiskosten OAH'!H131=\"\",\"\",'Terugvordering reiskosten OAH'!H131)","v":""},{"$f":"IF('Terugvordering reiskosten OAH'!R131=\"\",\"\",'Terugvordering reiskosten OAH'!R131)","v":""},{"$f":"IF('Terugvordering reiskosten OAH'!X131=\"\",\"\",'Terugvordering reiskosten OAH'!X131)","v":""},{"$f":"IF('Terugvordering reiskosten OAH'!AJ131=\"\",\"\",'Terugvordering reiskosten OAH'!AJ131)","v":""},{"$f":"IF('Terugvordering reiskosten OAH'!AR131=\"\",\"\",'Terugvordering reiskosten OAH'!AR131)","v":""},{"$f":"IF('Terugvordering reiskosten OAH'!AY131=\"\",\"\",'Terugvordering reiskosten OAH'!AY131)","v":""},{"$f":"IF('Terugvordering reiskosten OAH'!BC131=0,\"\",'Terugvordering reiskosten OAH'!BC131)","v":""},{"$f":"IF('Terugvordering reiskosten OAH'!BK131=0,\"\",'Terugvordering reiskosten OAH'!BK131)","v":""},{"$f":"IF('Terugvordering reiskosten OAH'!BR131=0,\"\",'Terugvordering reiskosten OAH'!BR131)","v":""},{"$f":"IF('Terugvordering reiskosten OAH'!BZ131=0,\"\",'Terugvordering reiskosten OAH'!BZ131)","v":""},{"$f":"IF('Terugvordering reiskosten OAH'!CG131=\"\",\"\",'Terugvordering reiskosten OAH'!CG131)","v":""},{"$f":"IF('Terugvordering reiskosten OAH'!CM131=0,\"\",'Terugvordering reiskosten OAH'!CM131)","v":""}]
[{"$f":"IF('Terugvordering reiskosten OAH'!D132=\"\",\"\",IF('Terugvordering reiskosten OAH'!$T$36=\"\",\"\",'Terugvordering reiskosten OAH'!$T$36))","v":""},{"$f":"IF(A60=\"\",\"\",'Terugvordering reiskosten OAH'!$T$38)","v":""},{"$f":"IF(A60=\"\",\"\",'gegevensblad samenvatting vord.'!$C$2)","v":""},{"$f":"IF('Terugvordering reiskosten OAH'!D132=\"\",\"\",TEXT('Terugvordering reiskosten OAH'!D132,\"mm-jjjj\"))","v":""},{"$f":"IF('Terugvordering reiskosten OAH'!H132=\"\",\"\",'Terugvordering reiskosten OAH'!H132)","v":""},{"$f":"IF('Terugvordering reiskosten OAH'!R132=\"\",\"\",'Terugvordering reiskosten OAH'!R132)","v":""},{"$f":"IF('Terugvordering reiskosten OAH'!X132=\"\",\"\",'Terugvordering reiskosten OAH'!X132)","v":""},{"$f":"IF('Terugvordering reiskosten OAH'!AJ132=\"\",\"\",'Terugvordering reiskosten OAH'!AJ132)","v":""},{"$f":"IF('Terugvordering reiskosten OAH'!AR132=\"\",\"\",'Terugvordering reiskosten OAH'!AR132)","v":""},{"$f":"IF('Terugvordering reiskosten OAH'!AY132=\"\",\"\",'Terugvordering reiskosten OAH'!AY132)","v":""},{"$f":"IF('Terugvordering reiskosten OAH'!BC132=0,\"\",'Terugvordering reiskosten OAH'!BC132)","v":""},{"$f":"IF('Terugvordering reiskosten OAH'!BK132=0,\"\",'Terugvordering reiskosten OAH'!BK132)","v":""},{"$f":"IF('Terugvordering reiskosten OAH'!BR132=0,\"\",'Terugvordering reiskosten OAH'!BR132)","v":""},{"$f":"IF('Terugvordering reiskosten OAH'!BZ132=0,\"\",'Terugvordering reiskosten OAH'!BZ132)","v":""},{"$f":"IF('Terugvordering reiskosten OAH'!CG132=\"\",\"\",'Terugvordering reiskosten OAH'!CG132)","v":""},{"$f":"IF('Terugvordering reiskosten OAH'!CM132=0,\"\",'Terugvordering reiskosten OAH'!CM132)","v":""}]
[{"$f":"IF('Terugvordering reiskosten OAH'!D133=\"\",\"\",IF('Terugvordering reiskosten OAH'!$T$36=\"\",\"\",'Terugvordering reiskosten OAH'!$T$36))","v":""},{"$f":"IF(A61=\"\",\"\",'Terugvordering reiskosten OAH'!$T$38)","v":""},{"$f":"IF(A61=\"\",\"\",'gegevensblad samenvatting vord.'!$C$2)","v":""},{"$f":"IF('Terugvordering reiskosten OAH'!D133=\"\",\"\",TEXT('Terugvordering reiskosten OAH'!D133,\"mm-jjjj\"))","v":""},{"$f":"IF('Terugvordering reiskosten OAH'!H133=\"\",\"\",'Terugvordering reiskosten OAH'!H133)","v":""},{"$f":"IF('Terugvordering reiskosten OAH'!R133=\"\",\"\",'Terugvordering reiskosten OAH'!R133)","v":""},{"$f":"IF('Terugvordering reiskosten OAH'!X133=\"\",\"\",'Terugvordering reiskosten OAH'!X133)","v":""},{"$f":"IF('Terugvordering reiskosten OAH'!AJ133=\"\",\"\",'Terugvordering reiskosten OAH'!AJ133)","v":""},{"$f":"IF('Terugvordering reiskosten OAH'!AR133=\"\",\"\",'Terugvordering reiskosten OAH'!AR133)","v":""},{"$f":"IF('Terugvordering reiskosten OAH'!AY133=\"\",\"\",'Terugvordering reiskosten OAH'!AY133)","v":""},{"$f":"IF('Terugvordering reiskosten OAH'!BC133=0,\"\",'Terugvordering reiskosten OAH'!BC133)","v":""},{"$f":"IF('Terugvordering reiskosten OAH'!BK133=0,\"\",'Terugvordering reiskosten OAH'!BK133)","v":""},{"$f":"IF('Terugvordering reiskosten OAH'!BR133=0,\"\",'Terugvordering reiskosten OAH'!BR133)","v":""},{"$f":"IF('Terugvordering reiskosten OAH'!BZ133=0,\"\",'Terugvordering reiskosten OAH'!BZ133)","v":""},{"$f":"IF('Terugvordering reiskosten OAH'!CG133=\"\",\"\",'Terugvordering reiskosten OAH'!CG133)","v":""},{"$f":"IF('Terugvordering reiskosten OAH'!CM133=0,\"\",'Terugvordering reiskosten OAH'!CM133)","v":""}]
[{"$f":"IF('Terugvordering reiskosten OAH'!D134=\"\",\"\",IF('Terugvordering reiskosten OAH'!$T$36=\"\",\"\",'Terugvordering reiskosten OAH'!$T$36))","v":""},{"$f":"IF(A62=\"\",\"\",'Terugvordering reiskosten OAH'!$T$38)","v":""},{"$f":"IF(A62=\"\",\"\",'gegevensblad samenvatting vord.'!$C$2)","v":""},{"$f":"IF('Terugvordering reiskosten OAH'!D134=\"\",\"\",TEXT('Terugvordering reiskosten OAH'!D134,\"mm-jjjj\"))","v":""},{"$f":"IF('Terugvordering reiskosten OAH'!H134=\"\",\"\",'Terugvordering reiskosten OAH'!H134)","v":""},{"$f":"IF('Terugvordering reiskosten OAH'!R134=\"\",\"\",'Terugvordering reiskosten OAH'!R134)","v":""},{"$f":"IF('Terugvordering reiskosten OAH'!X134=\"\",\"\",'Terugvordering reiskosten OAH'!X134)","v":""},{"$f":"IF('Terugvordering reiskosten OAH'!AJ134=\"\",\"\",'Terugvordering reiskosten OAH'!AJ134)","v":""},{"$f":"IF('Terugvordering reiskosten OAH'!AR134=\"\",\"\",'Terugvordering reiskosten OAH'!AR134)","v":""},{"$f":"IF('Terugvordering reiskosten OAH'!AY134=\"\",\"\",'Terugvordering reiskosten OAH'!AY134)","v":""},{"$f":"IF('Terugvordering reiskosten OAH'!BC134=0,\"\",'Terugvordering reiskosten OAH'!BC134)","v":""},{"$f":"IF('Terugvordering reiskosten OAH'!BK134=0,\"\",'Terugvordering reiskosten OAH'!BK134)","v":""},{"$f":"IF('Terugvordering reiskosten OAH'!BR134=0,\"\",'Terugvordering reiskosten OAH'!BR134)","v":""},{"$f":"IF('Terugvordering reiskosten OAH'!BZ134=0,\"\",'Terugvordering reiskosten OAH'!BZ134)","v":""},{"$f":"IF('Terugvordering reiskosten OAH'!CG134=\"\",\"\",'Terugvordering reiskosten OAH'!CG134)","v":""},{"$f":"IF('Terugvordering reiskosten OAH'!CM134=0,\"\",'Terugvordering reiskosten OAH'!CM134)","v":""}]
[{"$f":"IF('Terugvordering reiskosten OAH'!D135=\"\",\"\",IF('Terugvordering reiskosten OAH'!$T$36=\"\",\"\",'Terugvordering reiskosten OAH'!$T$36))","v":""},{"$f":"IF(A63=\"\",\"\",'Terugvordering reiskosten OAH'!$T$38)","v":""},{"$f":"IF(A63=\"\",\"\",'gegevensblad samenvatting vord.'!$C$2)","v":""},{"$f":"IF('Terugvordering reiskosten OAH'!D135=\"\",\"\",TEXT('Terugvordering reiskosten OAH'!D135,\"mm-jjjj\"))","v":""},{"$f":"IF('Terugvordering reiskosten OAH'!H135=\"\",\"\",'Terugvordering reiskosten OAH'!H135)","v":""},{"$f":"IF('Terugvordering reiskosten OAH'!R135=\"\",\"\",'Terugvordering reiskosten OAH'!R135)","v":""},{"$f":"IF('Terugvordering reiskosten OAH'!X135=\"\",\"\",'Terugvordering reiskosten OAH'!X135)","v":""},{"$f":"IF('Terugvordering reiskosten OAH'!AJ135=\"\",\"\",'Terugvordering reiskosten OAH'!AJ135)","v":""},{"$f":"IF('Terugvordering reiskosten OAH'!AR135=\"\",\"\",'Terugvordering reiskosten OAH'!AR135)","v":""},{"$f":"IF('Terugvordering reiskosten OAH'!AY135=\"\",\"\",'Terugvordering reiskosten OAH'!AY135)","v":""},{"$f":"IF('Terugvordering reiskosten OAH'!BC135=0,\"\",'Terugvordering reiskosten OAH'!BC135)","v":""},{"$f":"IF('Terugvordering reiskosten OAH'!BK135=0,\"\",'Terugvordering reiskosten OAH'!BK135)","v":""},{"$f":"IF('Terugvordering reiskosten OAH'!BR135=0,\"\",'Terugvordering reiskosten OAH'!BR135)","v":""},{"$f":"IF('Terugvordering reiskosten OAH'!BZ135=0,\"\",'Terugvordering reiskosten OAH'!BZ135)","v":""},{"$f":"IF('Terugvordering reiskosten OAH'!CG135=\"\",\"\",'Terugvordering reiskosten OAH'!CG135)","v":""},{"$f":"IF('Terugvordering reiskosten OAH'!CM135=0,\"\",'Terugvordering reiskosten OAH'!CM135)","v":""}]
[{"$f":"IF('Terugvordering reiskosten OAH'!D136=\"\",\"\",IF('Terugvordering reiskosten OAH'!$T$36=\"\",\"\",'Terugvordering reiskosten OAH'!$T$36))","v":""},{"$f":"IF(A64=\"\",\"\",'Terugvordering reiskosten OAH'!$T$38)","v":""},{"$f":"IF(A64=\"\",\"\",'gegevensblad samenvatting vord.'!$C$2)","v":""},{"$f":"IF('Terugvordering reiskosten OAH'!D136=\"\",\"\",TEXT('Terugvordering reiskosten OAH'!D136,\"mm-jjjj\"))","v":""},{"$f":"IF('Terugvordering reiskosten OAH'!H136=\"\",\"\",'Terugvordering reiskosten OAH'!H136)","v":""},{"$f":"IF('Terugvordering reiskosten OAH'!R136=\"\",\"\",'Terugvordering reiskosten OAH'!R136)","v":""},{"$f":"IF('Terugvordering reiskosten OAH'!X136=\"\",\"\",'Terugvordering reiskosten OAH'!X136)","v":""},{"$f":"IF('Terugvordering reiskosten OAH'!AJ136=\"\",\"\",'Terugvordering reiskosten OAH'!AJ136)","v":""},{"$f":"IF('Terugvordering reiskosten OAH'!AR136=\"\",\"\",'Terugvordering reiskosten OAH'!AR136)","v":""},{"$f":"IF('Terugvordering reiskosten OAH'!AY136=\"\",\"\",'Terugvordering reiskosten OAH'!AY136)","v":""},{"$f":"IF('Terugvordering reiskosten OAH'!BC136=0,\"\",'Terugvordering reiskosten OAH'!BC136)","v":""},{"$f":"IF('Terugvordering reiskosten OAH'!BK136=0,\"\",'Terugvordering reiskosten OAH'!BK136)","v":""},{"$f":"IF('Terugvordering reiskosten OAH'!BR136=0,\"\",'Terugvordering reiskosten OAH'!BR136)","v":""},{"$f":"IF('Terugvordering reiskosten OAH'!BZ136=0,\"\",'Terugvordering reiskosten OAH'!BZ136)","v":""},{"$f":"IF('Terugvordering reiskosten OAH'!CG136=\"\",\"\",'Terugvordering reiskosten OAH'!CG136)","v":""},{"$f":"IF('Terugvordering reiskosten OAH'!CM136=0,\"\",'Terugvordering reiskosten OAH'!CM136)","v":""}]
[{"$f":"IF('Terugvordering reiskosten OAH'!D137=\"\",\"\",IF('Terugvordering reiskosten OAH'!$T$36=\"\",\"\",'Terugvordering reiskosten OAH'!$T$36))","v":""},{"$f":"IF(A65=\"\",\"\",'Terugvordering reiskosten OAH'!$T$38)","v":""},{"$f":"IF(A65=\"\",\"\",'gegevensblad samenvatting vord.'!$C$2)","v":""},{"$f":"IF('Terugvordering reiskosten OAH'!D137=\"\",\"\",TEXT('Terugvordering reiskosten OAH'!D137,\"mm-jjjj\"))","v":""},{"$f":"IF('Terugvordering reiskosten OAH'!H137=\"\",\"\",'Terugvordering reiskosten OAH'!H137)","v":""},{"$f":"IF('Terugvordering reiskosten OAH'!R137=\"\",\"\",'Terugvordering reiskosten OAH'!R137)","v":""},{"$f":"IF('Terugvordering reiskosten OAH'!X137=\"\",\"\",'Terugvordering reiskosten OAH'!X137)","v":""},{"$f":"IF('Terugvordering reiskosten OAH'!AJ137=\"\",\"\",'Terugvordering reiskosten OAH'!AJ137)","v":""},{"$f":"IF('Terugvordering reiskosten OAH'!AR137=\"\",\"\",'Terugvordering reiskosten OAH'!AR137)","v":""},{"$f":"IF('Terugvordering reiskosten OAH'!AY137=\"\",\"\",'Terugvordering reiskosten OAH'!AY137)","v":""},{"$f":"IF('Terugvordering reiskosten OAH'!BC137=0,\"\",'Terugvordering reiskosten OAH'!BC137)","v":""},{"$f":"IF('Terugvordering reiskosten OAH'!BK137=0,\"\",'Terugvordering reiskosten OAH'!BK137)","v":""},{"$f":"IF('Terugvordering reiskosten OAH'!BR137=0,\"\",'Terugvordering reiskosten OAH'!BR137)","v":""},{"$f":"IF('Terugvordering reiskosten OAH'!BZ137=0,\"\",'Terugvordering reiskosten OAH'!BZ137)","v":""},{"$f":"IF('Terugvordering reiskosten OAH'!CG137=\"\",\"\",'Terugvordering reiskosten OAH'!CG137)","v":""},{"$f":"IF('Terugvordering reiskosten OAH'!CM137=0,\"\",'Terugvordering reiskosten OAH'!CM137)","v":""}]
[{"$f":"IF('Terugvordering reiskosten OAH'!D138=\"\",\"\",IF('Terugvordering reiskosten OAH'!$T$36=\"\",\"\",'Terugvordering reiskosten OAH'!$T$36))","v":""},{"$f":"IF(A66=\"\",\"\",'Terugvordering reiskosten OAH'!$T$38)","v":""},{"$f":"IF(A66=\"\",\"\",'gegevensblad samenvatting vord.'!$C$2)","v":""},{"$f":"IF('Terugvordering reiskosten OAH'!D138=\"\",\"\",TEXT('Terugvordering reiskosten OAH'!D138,\"mm-jjjj\"))","v":""},{"$f":"IF('Terugvordering reiskosten OAH'!H138=\"\",\"\",'Terugvordering reiskosten OAH'!H138)","v":""},{"$f":"IF('Terugvordering reiskosten OAH'!R138=\"\",\"\",'Terugvordering reiskosten OAH'!R138)","v":""},{"$f":"IF('Terugvordering reiskosten OAH'!X138=\"\",\"\",'Terugvordering reiskosten OAH'!X138)","v":""},{"$f":"IF('Terugvordering reiskosten OAH'!AJ138=\"\",\"\",'Terugvordering reiskosten OAH'!AJ138)","v":""},{"$f":"IF('Terugvordering reiskosten OAH'!AR138=\"\",\"\",'Terugvordering reiskosten OAH'!AR138)","v":""},{"$f":"IF('Terugvordering reiskosten OAH'!AY138=\"\",\"\",'Terugvordering reiskosten OAH'!AY138)","v":""},{"$f":"IF('Terugvordering reiskosten OAH'!BC138=0,\"\",'Terugvordering reiskosten OAH'!BC138)","v":""},{"$f":"IF('Terugvordering reiskosten OAH'!BK138=0,\"\",'Terugvordering reiskosten OAH'!BK138)","v":""},{"$f":"IF('Terugvordering reiskosten OAH'!BR138=0,\"\",'Terugvordering reiskosten OAH'!BR138)","v":""},{"$f":"IF('Terugvordering reiskosten OAH'!BZ138=0,\"\",'Terugvordering reiskosten OAH'!BZ138)","v":""},{"$f":"IF('Terugvordering reiskosten OAH'!CG138=\"\",\"\",'Terugvordering reiskosten OAH'!CG138)","v":""},{"$f":"IF('Terugvordering reiskosten OAH'!CM138=0,\"\",'Terugvordering reiskosten OAH'!CM138)","v":""}]
[{"$f":"IF('Terugvordering reiskosten OAH'!D139=\"\",\"\",IF('Terugvordering reiskosten OAH'!$T$36=\"\",\"\",'Terugvordering reiskosten OAH'!$T$36))","v":""},{"$f":"IF(A67=\"\",\"\",'Terugvordering reiskosten OAH'!$T$38)","v":""},{"$f":"IF(A67=\"\",\"\",'gegevensblad samenvatting vord.'!$C$2)","v":""},{"$f":"IF('Terugvordering reiskosten OAH'!D139=\"\",\"\",TEXT('Terugvordering reiskosten OAH'!D139,\"mm-jjjj\"))","v":""},{"$f":"IF('Terugvordering reiskosten OAH'!H139=\"\",\"\",'Terugvordering reiskosten OAH'!H139)","v":""},{"$f":"IF('Terugvordering reiskosten OAH'!R139=\"\",\"\",'Terugvordering reiskosten OAH'!R139)","v":""},{"$f":"IF('Terugvordering reiskosten OAH'!X139=\"\",\"\",'Terugvordering reiskosten OAH'!X139)","v":""},{"$f":"IF('Terugvordering reiskosten OAH'!AJ139=\"\",\"\",'Terugvordering reiskosten OAH'!AJ139)","v":""},{"$f":"IF('Terugvordering reiskosten OAH'!AR139=\"\",\"\",'Terugvordering reiskosten OAH'!AR139)","v":""},{"$f":"IF('Terugvordering reiskosten OAH'!AY139=\"\",\"\",'Terugvordering reiskosten OAH'!AY139)","v":""},{"$f":"IF('Terugvordering reiskosten OAH'!BC139=0,\"\",'Terugvordering reiskosten OAH'!BC139)","v":""},{"$f":"IF('Terugvordering reiskosten OAH'!BK139=0,\"\",'Terugvordering reiskosten OAH'!BK139)","v":""},{"$f":"IF('Terugvordering reiskosten OAH'!BR139=0,\"\",'Terugvordering reiskosten OAH'!BR139)","v":""},{"$f":"IF('Terugvordering reiskosten OAH'!BZ139=0,\"\",'Terugvordering reiskosten OAH'!BZ139)","v":""},{"$f":"IF('Terugvordering reiskosten OAH'!CG139=\"\",\"\",'Terugvordering reiskosten OAH'!CG139)","v":""},{"$f":"IF('Terugvordering reiskosten OAH'!CM139=0,\"\",'Terugvordering reiskosten OAH'!CM139)","v":""}]
[{"$f":"IF('Terugvordering reiskosten OAH'!D140=\"\",\"\",IF('Terugvordering reiskosten OAH'!$T$36=\"\",\"\",'Terugvordering reiskosten OAH'!$T$36))","v":""},{"$f":"IF(A68=\"\",\"\",'Terugvordering reiskosten OAH'!$T$38)","v":""},{"$f":"IF(A68=\"\",\"\",'gegevensblad samenvatting vord.'!$C$2)","v":""},{"$f":"IF('Terugvordering reiskosten OAH'!D140=\"\",\"\",TEXT('Terugvordering reiskosten OAH'!D140,\"mm-jjjj\"))","v":""},{"$f":"IF('Terugvordering reiskosten OAH'!H140=\"\",\"\",'Terugvordering reiskosten OAH'!H140)","v":""},{"$f":"IF('Terugvordering reiskosten OAH'!R140=\"\",\"\",'Terugvordering reiskosten OAH'!R140)","v":""},{"$f":"IF('Terugvordering reiskosten OAH'!X140=\"\",\"\",'Terugvordering reiskosten OAH'!X140)","v":""},{"$f":"IF('Terugvordering reiskosten OAH'!AJ140=\"\",\"\",'Terugvordering reiskosten OAH'!AJ140)","v":""},{"$f":"IF('Terugvordering reiskosten OAH'!AR140=\"\",\"\",'Terugvordering reiskosten OAH'!AR140)","v":""},{"$f":"IF('Terugvordering reiskosten OAH'!AY140=\"\",\"\",'Terugvordering reiskosten OAH'!AY140)","v":""},{"$f":"IF('Terugvordering reiskosten OAH'!BC140=0,\"\",'Terugvordering reiskosten OAH'!BC140)","v":""},{"$f":"IF('Terugvordering reiskosten OAH'!BK140=0,\"\",'Terugvordering reiskosten OAH'!BK140)","v":""},{"$f":"IF('Terugvordering reiskosten OAH'!BR140=0,\"\",'Terugvordering reiskosten OAH'!BR140)","v":""},{"$f":"IF('Terugvordering reiskosten OAH'!BZ140=0,\"\",'Terugvordering reiskosten OAH'!BZ140)","v":""},{"$f":"IF('Terugvordering reiskosten OAH'!CG140=\"\",\"\",'Terugvordering reiskosten OAH'!CG140)","v":""},{"$f":"IF('Terugvordering reiskosten OAH'!CM140=0,\"\",'Terugvordering reiskosten OAH'!CM140)","v":""}]
[{"$f":"IF('Terugvordering reiskosten OAH'!D141=\"\",\"\",IF('Terugvordering reiskosten OAH'!$T$36=\"\",\"\",'Terugvordering reiskosten OAH'!$T$36))","v":""},{"$f":"IF(A69=\"\",\"\",'Terugvordering reiskosten OAH'!$T$38)","v":""},{"$f":"IF(A69=\"\",\"\",'gegevensblad samenvatting vord.'!$C$2)","v":""},{"$f":"IF('Terugvordering reiskosten OAH'!D141=\"\",\"\",TEXT('Terugvordering reiskosten OAH'!D141,\"mm-jjjj\"))","v":""},{"$f":"IF('Terugvordering reiskosten OAH'!H141=\"\",\"\",'Terugvordering reiskosten OAH'!H141)","v":""},{"$f":"IF('Terugvordering reiskosten OAH'!R141=\"\",\"\",'Terugvordering reiskosten OAH'!R141)","v":""},{"$f":"IF('Terugvordering reiskosten OAH'!X141=\"\",\"\",'Terugvordering reiskosten OAH'!X141)","v":""},{"$f":"IF('Terugvordering reiskosten OAH'!AJ141=\"\",\"\",'Terugvordering reiskosten OAH'!AJ141)","v":""},{"$f":"IF('Terugvordering reiskosten OAH'!AR141=\"\",\"\",'Terugvordering reiskosten OAH'!AR141)","v":""},{"$f":"IF('Terugvordering reiskosten OAH'!AY141=\"\",\"\",'Terugvordering reiskosten OAH'!AY141)","v":""},{"$f":"IF('Terugvordering reiskosten OAH'!BC141=0,\"\",'Terugvordering reiskosten OAH'!BC141)","v":""},{"$f":"IF('Terugvordering reiskosten OAH'!BK141=0,\"\",'Terugvordering reiskosten OAH'!BK141)","v":""},{"$f":"IF('Terugvordering reiskosten OAH'!BR141=0,\"\",'Terugvordering reiskosten OAH'!BR141)","v":""},{"$f":"IF('Terugvordering reiskosten OAH'!BZ141=0,\"\",'Terugvordering reiskosten OAH'!BZ141)","v":""},{"$f":"IF('Terugvordering reiskosten OAH'!CG141=\"\",\"\",'Terugvordering reiskosten OAH'!CG141)","v":""},{"$f":"IF('Terugvordering reiskosten OAH'!CM141=0,\"\",'Terugvordering reiskosten OAH'!CM141)","v":""}]
[{"$f":"IF('Terugvordering reiskosten OAH'!D142=\"\",\"\",IF('Terugvordering reiskosten OAH'!$T$36=\"\",\"\",'Terugvordering reiskosten OAH'!$T$36))","v":""},{"$f":"IF(A70=\"\",\"\",'Terugvordering reiskosten OAH'!$T$38)","v":""},{"$f":"IF(A70=\"\",\"\",'gegevensblad samenvatting vord.'!$C$2)","v":""},{"$f":"IF('Terugvordering reiskosten OAH'!D142=\"\",\"\",TEXT('Terugvordering reiskosten OAH'!D142,\"mm-jjjj\"))","v":""},{"$f":"IF('Terugvordering reiskosten OAH'!H142=\"\",\"\",'Terugvordering reiskosten OAH'!H142)","v":""},{"$f":"IF('Terugvordering reiskosten OAH'!R142=\"\",\"\",'Terugvordering reiskosten OAH'!R142)","v":""},{"$f":"IF('Terugvordering reiskosten OAH'!X142=\"\",\"\",'Terugvordering reiskosten OAH'!X142)","v":""},{"$f":"IF('Terugvordering reiskosten OAH'!AJ142=\"\",\"\",'Terugvordering reiskosten OAH'!AJ142)","v":""},{"$f":"IF('Terugvordering reiskosten OAH'!AR142=\"\",\"\",'Terugvordering reiskosten OAH'!AR142)","v":""},{"$f":"IF('Terugvordering reiskosten OAH'!AY142=\"\",\"\",'Terugvordering reiskosten OAH'!AY142)","v":""},{"$f":"IF('Terugvordering reiskosten OAH'!BC142=0,\"\",'Terugvordering reiskosten OAH'!BC142)","v":""},{"$f":"IF('Terugvordering reiskosten OAH'!BK142=0,\"\",'Terugvordering reiskosten OAH'!BK142)","v":""},{"$f":"IF('Terugvordering reiskosten OAH'!BR142=0,\"\",'Terugvordering reiskosten OAH'!BR142)","v":""},{"$f":"IF('Terugvordering reiskosten OAH'!BZ142=0,\"\",'Terugvordering reiskosten OAH'!BZ142)","v":""},{"$f":"IF('Terugvordering reiskosten OAH'!CG142=\"\",\"\",'Terugvordering reiskosten OAH'!CG142)","v":""},{"$f":"IF('Terugvordering reiskosten OAH'!CM142=0,\"\",'Terugvordering reiskosten OAH'!CM142)","v":""}]
[{"$f":"IF('Terugvordering reiskosten OAH'!D143=\"\",\"\",IF('Terugvordering reiskosten OAH'!$T$36=\"\",\"\",'Terugvordering reiskosten OAH'!$T$36))","v":""},{"$f":"IF(A71=\"\",\"\",'Terugvordering reiskosten OAH'!$T$38)","v":""},{"$f":"IF(A71=\"\",\"\",'gegevensblad samenvatting vord.'!$C$2)","v":""},{"$f":"IF('Terugvordering reiskosten OAH'!D143=\"\",\"\",TEXT('Terugvordering reiskosten OAH'!D143,\"mm-jjjj\"))","v":""},{"$f":"IF('Terugvordering reiskosten OAH'!H143=\"\",\"\",'Terugvordering reiskosten OAH'!H143)","v":""},{"$f":"IF('Terugvordering reiskosten OAH'!R143=\"\",\"\",'Terugvordering reiskosten OAH'!R143)","v":""},{"$f":"IF('Terugvordering reiskosten OAH'!X143=\"\",\"\",'Terugvordering reiskosten OAH'!X143)","v":""},{"$f":"IF('Terugvordering reiskosten OAH'!AJ143=\"\",\"\",'Terugvordering reiskosten OAH'!AJ143)","v":""},{"$f":"IF('Terugvordering reiskosten OAH'!AR143=\"\",\"\",'Terugvordering reiskosten OAH'!AR143)","v":""},{"$f":"IF('Terugvordering reiskosten OAH'!AY143=\"\",\"\",'Terugvordering reiskosten OAH'!AY143)","v":""},{"$f":"IF('Terugvordering reiskosten OAH'!BC143=0,\"\",'Terugvordering reiskosten OAH'!BC143)","v":""},{"$f":"IF('Terugvordering reiskosten OAH'!BK143=0,\"\",'Terugvordering reiskosten OAH'!BK143)","v":""},{"$f":"IF('Terugvordering reiskosten OAH'!BR143=0,\"\",'Terugvordering reiskosten OAH'!BR143)","v":""},{"$f":"IF('Terugvordering reiskosten OAH'!BZ143=0,\"\",'Terugvordering reiskosten OAH'!BZ143)","v":""},{"$f":"IF('Terugvordering reiskosten OAH'!CG143=\"\",\"\",'Terugvordering reiskosten OAH'!CG143)","v":""},{"$f":"IF('Terugvordering reiskosten OAH'!CM143=0,\"\",'Terugvordering reiskosten OAH'!CM143)","v":""}]
[{"$f":"IF('Terugvordering reiskosten OAH'!D144=\"\",\"\",IF('Terugvordering reiskosten OAH'!$T$36=\"\",\"\",'Terugvordering reiskosten OAH'!$T$36))","v":""},{"$f":"IF(A72=\"\",\"\",'Terugvordering reiskosten OAH'!$T$38)","v":""},{"$f":"IF(A72=\"\",\"\",'gegevensblad samenvatting vord.'!$C$2)","v":""},{"$f":"IF('Terugvordering reiskosten OAH'!D144=\"\",\"\",TEXT('Terugvordering reiskosten OAH'!D144,\"mm-jjjj\"))","v":""},{"$f":"IF('Terugvordering reiskosten OAH'!H144=\"\",\"\",'Terugvordering reiskosten OAH'!H144)","v":""},{"$f":"IF('Terugvordering reiskosten OAH'!R144=\"\",\"\",'Terugvordering reiskosten OAH'!R144)","v":""},{"$f":"IF('Terugvordering reiskosten OAH'!X144=\"\",\"\",'Terugvordering reiskosten OAH'!X144)","v":""},{"$f":"IF('Terugvordering reiskosten OAH'!AJ144=\"\",\"\",'Terugvordering reiskosten OAH'!AJ144)","v":""},{"$f":"IF('Terugvordering reiskosten OAH'!AR144=\"\",\"\",'Terugvordering reiskosten OAH'!AR144)","v":""},{"$f":"IF('Terugvordering reiskosten OAH'!AY144=\"\",\"\",'Terugvordering reiskosten OAH'!AY144)","v":""},{"$f":"IF('Terugvordering reiskosten OAH'!BC144=0,\"\",'Terugvordering reiskosten OAH'!BC144)","v":""},{"$f":"IF('Terugvordering reiskosten OAH'!BK144=0,\"\",'Terugvordering reiskosten OAH'!BK144)","v":""},{"$f":"IF('Terugvordering reiskosten OAH'!BR144=0,\"\",'Terugvordering reiskosten OAH'!BR144)","v":""},{"$f":"IF('Terugvordering reiskosten OAH'!BZ144=0,\"\",'Terugvordering reiskosten OAH'!BZ144)","v":""},{"$f":"IF('Terugvordering reiskosten OAH'!CG144=\"\",\"\",'Terugvordering reiskosten OAH'!CG144)","v":""},{"$f":"IF('Terugvordering reiskosten OAH'!CM144=0,\"\",'Terugvordering reiskosten OAH'!CM144)","v":""}]
[{"$f":"IF('Terugvordering reiskosten OAH'!D145=\"\",\"\",IF('Terugvordering reiskosten OAH'!$T$36=\"\",\"\",'Terugvordering reiskosten OAH'!$T$36))","v":""},{"$f":"IF(A73=\"\",\"\",'Terugvordering reiskosten OAH'!$T$38)","v":""},{"$f":"IF(A73=\"\",\"\",'gegevensblad samenvatting vord.'!$C$2)","v":""},{"$f":"IF('Terugvordering reiskosten OAH'!D145=\"\",\"\",TEXT('Terugvordering reiskosten OAH'!D145,\"mm-jjjj\"))","v":""},{"$f":"IF('Terugvordering reiskosten OAH'!H145=\"\",\"\",'Terugvordering reiskosten OAH'!H145)","v":""},{"$f":"IF('Terugvordering reiskosten OAH'!R145=\"\",\"\",'Terugvordering reiskosten OAH'!R145)","v":""},{"$f":"IF('Terugvordering reiskosten OAH'!X145=\"\",\"\",'Terugvordering reiskosten OAH'!X145)","v":""},{"$f":"IF('Terugvordering reiskosten OAH'!AJ145=\"\",\"\",'Terugvordering reiskosten OAH'!AJ145)","v":""},{"$f":"IF('Terugvordering reiskosten OAH'!AR145=\"\",\"\",'Terugvordering reiskosten OAH'!AR145)","v":""},{"$f":"IF('Terugvordering reiskosten OAH'!AY145=\"\",\"\",'Terugvordering reiskosten OAH'!AY145)","v":""},{"$f":"IF('Terugvordering reiskosten OAH'!BC145=0,\"\",'Terugvordering reiskosten OAH'!BC145)","v":""},{"$f":"IF('Terugvordering reiskosten OAH'!BK145=0,\"\",'Terugvordering reiskosten OAH'!BK145)","v":""},{"$f":"IF('Terugvordering reiskosten OAH'!BR145=0,\"\",'Terugvordering reiskosten OAH'!BR145)","v":""},{"$f":"IF('Terugvordering reiskosten OAH'!BZ145=0,\"\",'Terugvordering reiskosten OAH'!BZ145)","v":""},{"$f":"IF('Terugvordering reiskosten OAH'!CG145=\"\",\"\",'Terugvordering reiskosten OAH'!CG145)","v":""},{"$f":"IF('Terugvordering reiskosten OAH'!CM145=0,\"\",'Terugvordering reiskosten OAH'!CM145)","v":""}]
[{"$f":"IF('Terugvordering reiskosten OAH'!D146=\"\",\"\",IF('Terugvordering reiskosten OAH'!$T$36=\"\",\"\",'Terugvordering reiskosten OAH'!$T$36))","v":""},{"$f":"IF(A74=\"\",\"\",'Terugvordering reiskosten OAH'!$T$38)","v":""},{"$f":"IF(A74=\"\",\"\",'gegevensblad samenvatting vord.'!$C$2)","v":""},{"$f":"IF('Terugvordering reiskosten OAH'!D146=\"\",\"\",TEXT('Terugvordering reiskosten OAH'!D146,\"mm-jjjj\"))","v":""},{"$f":"IF('Terugvordering reiskosten OAH'!H146=\"\",\"\",'Terugvordering reiskosten OAH'!H146)","v":""},{"$f":"IF('Terugvordering reiskosten OAH'!R146=\"\",\"\",'Terugvordering reiskosten OAH'!R146)","v":""},{"$f":"IF('Terugvordering reiskosten OAH'!X146=\"\",\"\",'Terugvordering reiskosten OAH'!X146)","v":""},{"$f":"IF('Terugvordering reiskosten OAH'!AJ146=\"\",\"\",'Terugvordering reiskosten OAH'!AJ146)","v":""},{"$f":"IF('Terugvordering reiskosten OAH'!AR146=\"\",\"\",'Terugvordering reiskosten OAH'!AR146)","v":""},{"$f":"IF('Terugvordering reiskosten OAH'!AY146=\"\",\"\",'Terugvordering reiskosten OAH'!AY146)","v":""},{"$f":"IF('Terugvordering reiskosten OAH'!BC146=0,\"\",'Terugvordering reiskosten OAH'!BC146)","v":""},{"$f":"IF('Terugvordering reiskosten OAH'!BK146=0,\"\",'Terugvordering reiskosten OAH'!BK146)","v":""},{"$f":"IF('Terugvordering reiskosten OAH'!BR146=0,\"\",'Terugvordering reiskosten OAH'!BR146)","v":""},{"$f":"IF('Terugvordering reiskosten OAH'!BZ146=0,\"\",'Terugvordering reiskosten OAH'!BZ146)","v":""},{"$f":"IF('Terugvordering reiskosten OAH'!CG146=\"\",\"\",'Terugvordering reiskosten OAH'!CG146)","v":""},{"$f":"IF('Terugvordering reiskosten OAH'!CM146=0,\"\",'Terugvordering reiskosten OAH'!CM146)","v":""}]
[{"$f":"IF('Terugvordering reiskosten OAH'!D147=\"\",\"\",IF('Terugvordering reiskosten OAH'!$T$36=\"\",\"\",'Terugvordering reiskosten OAH'!$T$36))","v":""},{"$f":"IF(A75=\"\",\"\",'Terugvordering reiskosten OAH'!$T$38)","v":""},{"$f":"IF(A75=\"\",\"\",'gegevensblad samenvatting vord.'!$C$2)","v":""},{"$f":"IF('Terugvordering reiskosten OAH'!D147=\"\",\"\",TEXT('Terugvordering reiskosten OAH'!D147,\"mm-jjjj\"))","v":""},{"$f":"IF('Terugvordering reiskosten OAH'!H147=\"\",\"\",'Terugvordering reiskosten OAH'!H147)","v":""},{"$f":"IF('Terugvordering reiskosten OAH'!R147=\"\",\"\",'Terugvordering reiskosten OAH'!R147)","v":""},{"$f":"IF('Terugvordering reiskosten OAH'!X147=\"\",\"\",'Terugvordering reiskosten OAH'!X147)","v":""},{"$f":"IF('Terugvordering reiskosten OAH'!AJ147=\"\",\"\",'Terugvordering reiskosten OAH'!AJ147)","v":""},{"$f":"IF('Terugvordering reiskosten OAH'!AR147=\"\",\"\",'Terugvordering reiskosten OAH'!AR147)","v":""},{"$f":"IF('Terugvordering reiskosten OAH'!AY147=\"\",\"\",'Terugvordering reiskosten OAH'!AY147)","v":""},{"$f":"IF('Terugvordering reiskosten OAH'!BC147=0,\"\",'Terugvordering reiskosten OAH'!BC147)","v":""},{"$f":"IF('Terugvordering reiskosten OAH'!BK147=0,\"\",'Terugvordering reiskosten OAH'!BK147)","v":""},{"$f":"IF('Terugvordering reiskosten OAH'!BR147=0,\"\",'Terugvordering reiskosten OAH'!BR147)","v":""},{"$f":"IF('Terugvordering reiskosten OAH'!BZ147=0,\"\",'Terugvordering reiskosten OAH'!BZ147)","v":""},{"$f":"IF('Terugvordering reiskosten OAH'!CG147=\"\",\"\",'Terugvordering reiskosten OAH'!CG147)","v":""},{"$f":"IF('Terugvordering reiskosten OAH'!CM147=0,\"\",'Terugvordering reiskosten OAH'!CM147)","v":""}]
[{"$f":"IF('Terugvordering reiskosten OAH'!D148=\"\",\"\",IF('Terugvordering reiskosten OAH'!$T$36=\"\",\"\",'Terugvordering reiskosten OAH'!$T$36))","v":""},{"$f":"IF(A76=\"\",\"\",'Terugvordering reiskosten OAH'!$T$38)","v":""},{"$f":"IF(A76=\"\",\"\",'gegevensblad samenvatting vord.'!$C$2)","v":""},{"$f":"IF('Terugvordering reiskosten OAH'!D148=\"\",\"\",TEXT('Terugvordering reiskosten OAH'!D148,\"mm-jjjj\"))","v":""},{"$f":"IF('Terugvordering reiskosten OAH'!H148=\"\",\"\",'Terugvordering reiskosten OAH'!H148)","v":""},{"$f":"IF('Terugvordering reiskosten OAH'!R148=\"\",\"\",'Terugvordering reiskosten OAH'!R148)","v":""},{"$f":"IF('Terugvordering reiskosten OAH'!X148=\"\",\"\",'Terugvordering reiskosten OAH'!X148)","v":""},{"$f":"IF('Terugvordering reiskosten OAH'!AJ148=\"\",\"\",'Terugvordering reiskosten OAH'!AJ148)","v":""},{"$f":"IF('Terugvordering reiskosten OAH'!AR148=\"\",\"\",'Terugvordering reiskosten OAH'!AR148)","v":""},{"$f":"IF('Terugvordering reiskosten OAH'!AY148=\"\",\"\",'Terugvordering reiskosten OAH'!AY148)","v":""},{"$f":"IF('Terugvordering reiskosten OAH'!BC148=0,\"\",'Terugvordering reiskosten OAH'!BC148)","v":""},{"$f":"IF('Terugvordering reiskosten OAH'!BK148=0,\"\",'Terugvordering reiskosten OAH'!BK148)","v":""},{"$f":"IF('Terugvordering reiskosten OAH'!BR148=0,\"\",'Terugvordering reiskosten OAH'!BR148)","v":""},{"$f":"IF('Terugvordering reiskosten OAH'!BZ148=0,\"\",'Terugvordering reiskosten OAH'!BZ148)","v":""},{"$f":"IF('Terugvordering reiskosten OAH'!CG148=\"\",\"\",'Terugvordering reiskosten OAH'!CG148)","v":""},{"$f":"IF('Terugvordering reiskosten OAH'!CM148=0,\"\",'Terugvordering reiskosten OAH'!CM148)","v":""}]
[{"$f":"IF('Terugvordering reiskosten OAH'!D149=\"\",\"\",IF('Terugvordering reiskosten OAH'!$T$36=\"\",\"\",'Terugvordering reiskosten OAH'!$T$36))","v":""},{"$f":"IF(A77=\"\",\"\",'Terugvordering reiskosten OAH'!$T$38)","v":""},{"$f":"IF(A77=\"\",\"\",'gegevensblad samenvatting vord.'!$C$2)","v":""},{"$f":"IF('Terugvordering reiskosten OAH'!D149=\"\",\"\",TEXT('Terugvordering reiskosten OAH'!D149,\"mm-jjjj\"))","v":""},{"$f":"IF('Terugvordering reiskosten OAH'!H149=\"\",\"\",'Terugvordering reiskosten OAH'!H149)","v":""},{"$f":"IF('Terugvordering reiskosten OAH'!R149=\"\",\"\",'Terugvordering reiskosten OAH'!R149)","v":""},{"$f":"IF('Terugvordering reiskosten OAH'!X149=\"\",\"\",'Terugvordering reiskosten OAH'!X149)","v":""},{"$f":"IF('Terugvordering reiskosten OAH'!AJ149=\"\",\"\",'Terugvordering reiskosten OAH'!AJ149)","v":""},{"$f":"IF('Terugvordering reiskosten OAH'!AR149=\"\",\"\",'Terugvordering reiskosten OAH'!AR149)","v":""},{"$f":"IF('Terugvordering reiskosten OAH'!AY149=\"\",\"\",'Terugvordering reiskosten OAH'!AY149)","v":""},{"$f":"IF('Terugvordering reiskosten OAH'!BC149=0,\"\",'Terugvordering reiskosten OAH'!BC149)","v":""},{"$f":"IF('Terugvordering reiskosten OAH'!BK149=0,\"\",'Terugvordering reiskosten OAH'!BK149)","v":""},{"$f":"IF('Terugvordering reiskosten OAH'!BR149=0,\"\",'Terugvordering reiskosten OAH'!BR149)","v":""},{"$f":"IF('Terugvordering reiskosten OAH'!BZ149=0,\"\",'Terugvordering reiskosten OAH'!BZ149)","v":""},{"$f":"IF('Terugvordering reiskosten OAH'!CG149=\"\",\"\",'Terugvordering reiskosten OAH'!CG149)","v":""},{"$f":"IF('Terugvordering reiskosten OAH'!CM149=0,\"\",'Terugvordering reiskosten OAH'!CM149)","v":""}]
[{"$f":"IF('Terugvordering reiskosten OAH'!D150=\"\",\"\",IF('Terugvordering reiskosten OAH'!$T$36=\"\",\"\",'Terugvordering reiskosten OAH'!$T$36))","v":""},{"$f":"IF(A78=\"\",\"\",'Terugvordering reiskosten OAH'!$T$38)","v":""},{"$f":"IF(A78=\"\",\"\",'gegevensblad samenvatting vord.'!$C$2)","v":""},{"$f":"IF('Terugvordering reiskosten OAH'!D150=\"\",\"\",TEXT('Terugvordering reiskosten OAH'!D150,\"mm-jjjj\"))","v":""},{"$f":"IF('Terugvordering reiskosten OAH'!H150=\"\",\"\",'Terugvordering reiskosten OAH'!H150)","v":""},{"$f":"IF('Terugvordering reiskosten OAH'!R150=\"\",\"\",'Terugvordering reiskosten OAH'!R150)","v":""},{"$f":"IF('Terugvordering reiskosten OAH'!X150=\"\",\"\",'Terugvordering reiskosten OAH'!X150)","v":""},{"$f":"IF('Terugvordering reiskosten OAH'!AJ150=\"\",\"\",'Terugvordering reiskosten OAH'!AJ150)","v":""},{"$f":"IF('Terugvordering reiskosten OAH'!AR150=\"\",\"\",'Terugvordering reiskosten OAH'!AR150)","v":""},{"$f":"IF('Terugvordering reiskosten OAH'!AY150=\"\",\"\",'Terugvordering reiskosten OAH'!AY150)","v":""},{"$f":"IF('Terugvordering reiskosten OAH'!BC150=0,\"\",'Terugvordering reiskosten OAH'!BC150)","v":""},{"$f":"IF('Terugvordering reiskosten OAH'!BK150=0,\"\",'Terugvordering reiskosten OAH'!BK150)","v":""},{"$f":"IF('Terugvordering reiskosten OAH'!BR150=0,\"\",'Terugvordering reiskosten OAH'!BR150)","v":""},{"$f":"IF('Terugvordering reiskosten OAH'!BZ150=0,\"\",'Terugvordering reiskosten OAH'!BZ150)","v":""},{"$f":"IF('Terugvordering reiskosten OAH'!CG150=\"\",\"\",'Terugvordering reiskosten OAH'!CG150)","v":""},{"$f":"IF('Terugvordering reiskosten OAH'!CM150=0,\"\",'Terugvordering reiskosten OAH'!CM150)","v":""}]
[{"$f":"IF('Terugvordering reiskosten OAH'!D151=\"\",\"\",IF('Terugvordering reiskosten OAH'!$T$36=\"\",\"\",'Terugvordering reiskosten OAH'!$T$36))","v":""},{"$f":"IF(A79=\"\",\"\",'Terugvordering reiskosten OAH'!$T$38)","v":""},{"$f":"IF(A79=\"\",\"\",'gegevensblad samenvatting vord.'!$C$2)","v":""},{"$f":"IF('Terugvordering reiskosten OAH'!D151=\"\",\"\",TEXT('Terugvordering reiskosten OAH'!D151,\"mm-jjjj\"))","v":""},{"$f":"IF('Terugvordering reiskosten OAH'!H151=\"\",\"\",'Terugvordering reiskosten OAH'!H151)","v":""},{"$f":"IF('Terugvordering reiskosten OAH'!R151=\"\",\"\",'Terugvordering reiskosten OAH'!R151)","v":""},{"$f":"IF('Terugvordering reiskosten OAH'!X151=\"\",\"\",'Terugvordering reiskosten OAH'!X151)","v":""},{"$f":"IF('Terugvordering reiskosten OAH'!AJ151=\"\",\"\",'Terugvordering reiskosten OAH'!AJ151)","v":""},{"$f":"IF('Terugvordering reiskosten OAH'!AR151=\"\",\"\",'Terugvordering reiskosten OAH'!AR151)","v":""},{"$f":"IF('Terugvordering reiskosten OAH'!AY151=\"\",\"\",'Terugvordering reiskosten OAH'!AY151)","v":""},{"$f":"IF('Terugvordering reiskosten OAH'!BC151=0,\"\",'Terugvordering reiskosten OAH'!BC151)","v":""},{"$f":"IF('Terugvordering reiskosten OAH'!BK151=0,\"\",'Terugvordering reiskosten OAH'!BK151)","v":""},{"$f":"IF('Terugvordering reiskosten OAH'!BR151=0,\"\",'Terugvordering reiskosten OAH'!BR151)","v":""},{"$f":"IF('Terugvordering reiskosten OAH'!BZ151=0,\"\",'Terugvordering reiskosten OAH'!BZ151)","v":""},{"$f":"IF('Terugvordering reiskosten OAH'!CG151=\"\",\"\",'Terugvordering reiskosten OAH'!CG151)","v":""},{"$f":"IF('Terugvordering reiskosten OAH'!CM151=0,\"\",'Terugvordering reiskosten OAH'!CM151)","v":""}]
[{"$f":"IF('Terugvordering reiskosten OAH'!D152=\"\",\"\",IF('Terugvordering reiskosten OAH'!$T$36=\"\",\"\",'Terugvordering reiskosten OAH'!$T$36))","v":""},{"$f":"IF(A80=\"\",\"\",'Terugvordering reiskosten OAH'!$T$38)","v":""},{"$f":"IF(A80=\"\",\"\",'gegevensblad samenvatting vord.'!$C$2)","v":""},{"$f":"IF('Terugvordering reiskosten OAH'!D152=\"\",\"\",TEXT('Terugvordering reiskosten OAH'!D152,\"mm-jjjj\"))","v":""},{"$f":"IF('Terugvordering reiskosten OAH'!H152=\"\",\"\",'Terugvordering reiskosten OAH'!H152)","v":""},{"$f":"IF('Terugvordering reiskosten OAH'!R152=\"\",\"\",'Terugvordering reiskosten OAH'!R152)","v":""},{"$f":"IF('Terugvordering reiskosten OAH'!X152=\"\",\"\",'Terugvordering reiskosten OAH'!X152)","v":""},{"$f":"IF('Terugvordering reiskosten OAH'!AJ152=\"\",\"\",'Terugvordering reiskosten OAH'!AJ152)","v":""},{"$f":"IF('Terugvordering reiskosten OAH'!AR152=\"\",\"\",'Terugvordering reiskosten OAH'!AR152)","v":""},{"$f":"IF('Terugvordering reiskosten OAH'!AY152=\"\",\"\",'Terugvordering reiskosten OAH'!AY152)","v":""},{"$f":"IF('Terugvordering reiskosten OAH'!BC152=0,\"\",'Terugvordering reiskosten OAH'!BC152)","v":""},{"$f":"IF('Terugvordering reiskosten OAH'!BK152=0,\"\",'Terugvordering reiskosten OAH'!BK152)","v":""},{"$f":"IF('Terugvordering reiskosten OAH'!BR152=0,\"\",'Terugvordering reiskosten OAH'!BR152)","v":""},{"$f":"IF('Terugvordering reiskosten OAH'!BZ152=0,\"\",'Terugvordering reiskosten OAH'!BZ152)","v":""},{"$f":"IF('Terugvordering reiskosten OAH'!CG152=\"\",\"\",'Terugvordering reiskosten OAH'!CG152)","v":""},{"$f":"IF('Terugvordering reiskosten OAH'!CM152=0,\"\",'Terugvordering reiskosten OAH'!CM152)","v":""}]
[{"$f":"IF('Terugvordering reiskosten OAH'!D153=\"\",\"\",IF('Terugvordering reiskosten OAH'!$T$36=\"\",\"\",'Terugvordering reiskosten OAH'!$T$36))","v":""},{"$f":"IF(A81=\"\",\"\",'Terugvordering reiskosten OAH'!$T$38)","v":""},{"$f":"IF(A81=\"\",\"\",'gegevensblad samenvatting vord.'!$C$2)","v":""},{"$f":"IF('Terugvordering reiskosten OAH'!D153=\"\",\"\",TEXT('Terugvordering reiskosten OAH'!D153,\"mm-jjjj\"))","v":""},{"$f":"IF('Terugvordering reiskosten OAH'!H153=\"\",\"\",'Terugvordering reiskosten OAH'!H153)","v":""},{"$f":"IF('Terugvordering reiskosten OAH'!R153=\"\",\"\",'Terugvordering reiskosten OAH'!R153)","v":""},{"$f":"IF('Terugvordering reiskosten OAH'!X153=\"\",\"\",'Terugvordering reiskosten OAH'!X153)","v":""},{"$f":"IF('Terugvordering reiskosten OAH'!AJ153=\"\",\"\",'Terugvordering reiskosten OAH'!AJ153)","v":""},{"$f":"IF('Terugvordering reiskosten OAH'!AR153=\"\",\"\",'Terugvordering reiskosten OAH'!AR153)","v":""},{"$f":"IF('Terugvordering reiskosten OAH'!AY153=\"\",\"\",'Terugvordering reiskosten OAH'!AY153)","v":""},{"$f":"IF('Terugvordering reiskosten OAH'!BC153=0,\"\",'Terugvordering reiskosten OAH'!BC153)","v":""},{"$f":"IF('Terugvordering reiskosten OAH'!BK153=0,\"\",'Terugvordering reiskosten OAH'!BK153)","v":""},{"$f":"IF('Terugvordering reiskosten OAH'!BR153=0,\"\",'Terugvordering reiskosten OAH'!BR153)","v":""},{"$f":"IF('Terugvordering reiskosten OAH'!BZ153=0,\"\",'Terugvordering reiskosten OAH'!BZ153)","v":""},{"$f":"IF('Terugvordering reiskosten OAH'!CG153=\"\",\"\",'Terugvordering reiskosten OAH'!CG153)","v":""},{"$f":"IF('Terugvordering reiskosten OAH'!CM153=0,\"\",'Terugvordering reiskosten OAH'!CM153)","v":""}]
[{"$f":"IF('Terugvordering reiskosten OAH'!D154=\"\",\"\",IF('Terugvordering reiskosten OAH'!$T$36=\"\",\"\",'Terugvordering reiskosten OAH'!$T$36))","v":""},{"$f":"IF(A82=\"\",\"\",'Terugvordering reiskosten OAH'!$T$38)","v":""},{"$f":"IF(A82=\"\",\"\",'gegevensblad samenvatting vord.'!$C$2)","v":""},{"$f":"IF('Terugvordering reiskosten OAH'!D154=\"\",\"\",TEXT('Terugvordering reiskosten OAH'!D154,\"mm-jjjj\"))","v":""},{"$f":"IF('Terugvordering reiskosten OAH'!H154=\"\",\"\",'Terugvordering reiskosten OAH'!H154)","v":""},{"$f":"IF('Terugvordering reiskosten OAH'!R154=\"\",\"\",'Terugvordering reiskosten OAH'!R154)","v":""},{"$f":"IF('Terugvordering reiskosten OAH'!X154=\"\",\"\",'Terugvordering reiskosten OAH'!X154)","v":""},{"$f":"IF('Terugvordering reiskosten OAH'!AJ154=\"\",\"\",'Terugvordering reiskosten OAH'!AJ154)","v":""},{"$f":"IF('Terugvordering reiskosten OAH'!AR154=\"\",\"\",'Terugvordering reiskosten OAH'!AR154)","v":""},{"$f":"IF('Terugvordering reiskosten OAH'!AY154=\"\",\"\",'Terugvordering reiskosten OAH'!AY154)","v":""},{"$f":"IF('Terugvordering reiskosten OAH'!BC154=0,\"\",'Terugvordering reiskosten OAH'!BC154)","v":""},{"$f":"IF('Terugvordering reiskosten OAH'!BK154=0,\"\",'Terugvordering reiskosten OAH'!BK154)","v":""},{"$f":"IF('Terugvordering reiskosten OAH'!BR154=0,\"\",'Terugvordering reiskosten OAH'!BR154)","v":""},{"$f":"IF('Terugvordering reiskosten OAH'!BZ154=0,\"\",'Terugvordering reiskosten OAH'!BZ154)","v":""},{"$f":"IF('Terugvordering reiskosten OAH'!CG154=\"\",\"\",'Terugvordering reiskosten OAH'!CG154)","v":""},{"$f":"IF('Terugvordering reiskosten OAH'!CM154=0,\"\",'Terugvordering reiskosten OAH'!CM154)","v":""}]
[{"$f":"IF('Terugvordering reiskosten OAH'!D155=\"\",\"\",IF('Terugvordering reiskosten OAH'!$T$36=\"\",\"\",'Terugvordering reiskosten OAH'!$T$36))","v":""},{"$f":"IF(A83=\"\",\"\",'Terugvordering reiskosten OAH'!$T$38)","v":""},{"$f":"IF(A83=\"\",\"\",'gegevensblad samenvatting vord.'!$C$2)","v":""},{"$f":"IF('Terugvordering reiskosten OAH'!D155=\"\",\"\",TEXT('Terugvordering reiskosten OAH'!D155,\"mm-jjjj\"))","v":""},{"$f":"IF('Terugvordering reiskosten OAH'!H155=\"\",\"\",'Terugvordering reiskosten OAH'!H155)","v":""},{"$f":"IF('Terugvordering reiskosten OAH'!R155=\"\",\"\",'Terugvordering reiskosten OAH'!R155)","v":""},{"$f":"IF('Terugvordering reiskosten OAH'!X155=\"\",\"\",'Terugvordering reiskosten OAH'!X155)","v":""},{"$f":"IF('Terugvordering reiskosten OAH'!AJ155=\"\",\"\",'Terugvordering reiskosten OAH'!AJ155)","v":""},{"$f":"IF('Terugvordering reiskosten OAH'!AR155=\"\",\"\",'Terugvordering reiskosten OAH'!AR155)","v":""},{"$f":"IF('Terugvordering reiskosten OAH'!AY155=\"\",\"\",'Terugvordering reiskosten OAH'!AY155)","v":""},{"$f":"IF('Terugvordering reiskosten OAH'!BC155=0,\"\",'Terugvordering reiskosten OAH'!BC155)","v":""},{"$f":"IF('Terugvordering reiskosten OAH'!BK155=0,\"\",'Terugvordering reiskosten OAH'!BK155)","v":""},{"$f":"IF('Terugvordering reiskosten OAH'!BR155=0,\"\",'Terugvordering reiskosten OAH'!BR155)","v":""},{"$f":"IF('Terugvordering reiskosten OAH'!BZ155=0,\"\",'Terugvordering reiskosten OAH'!BZ155)","v":""},{"$f":"IF('Terugvordering reiskosten OAH'!CG155=\"\",\"\",'Terugvordering reiskosten OAH'!CG155)","v":""},{"$f":"IF('Terugvordering reiskosten OAH'!CM155=0,\"\",'Terugvordering reiskosten OAH'!CM155)","v":""}]
[{"$f":"IF('Terugvordering reiskosten OAH'!D156=\"\",\"\",IF('Terugvordering reiskosten OAH'!$T$36=\"\",\"\",'Terugvordering reiskosten OAH'!$T$36))","v":""},{"$f":"IF(A84=\"\",\"\",'Terugvordering reiskosten OAH'!$T$38)","v":""},{"$f":"IF(A84=\"\",\"\",'gegevensblad samenvatting vord.'!$C$2)","v":""},{"$f":"IF('Terugvordering reiskosten OAH'!D156=\"\",\"\",TEXT('Terugvordering reiskosten OAH'!D156,\"mm-jjjj\"))","v":""},{"$f":"IF('Terugvordering reiskosten OAH'!H156=\"\",\"\",'Terugvordering reiskosten OAH'!H156)","v":""},{"$f":"IF('Terugvordering reiskosten OAH'!R156=\"\",\"\",'Terugvordering reiskosten OAH'!R156)","v":""},{"$f":"IF('Terugvordering reiskosten OAH'!X156=\"\",\"\",'Terugvordering reiskosten OAH'!X156)","v":""},{"$f":"IF('Terugvordering reiskosten OAH'!AJ156=\"\",\"\",'Terugvordering reiskosten OAH'!AJ156)","v":""},{"$f":"IF('Terugvordering reiskosten OAH'!AR156=\"\",\"\",'Terugvordering reiskosten OAH'!AR156)","v":""},{"$f":"IF('Terugvordering reiskosten OAH'!AY156=\"\",\"\",'Terugvordering reiskosten OAH'!AY156)","v":""},{"$f":"IF('Terugvordering reiskosten OAH'!BC156=0,\"\",'Terugvordering reiskosten OAH'!BC156)","v":""},{"$f":"IF('Terugvordering reiskosten OAH'!BK156=0,\"\",'Terugvordering reiskosten OAH'!BK156)","v":""},{"$f":"IF('Terugvordering reiskosten OAH'!BR156=0,\"\",'Terugvordering reiskosten OAH'!BR156)","v":""},{"$f":"IF('Terugvordering reiskosten OAH'!BZ156=0,\"\",'Terugvordering reiskosten OAH'!BZ156)","v":""},{"$f":"IF('Terugvordering reiskosten OAH'!CG156=\"\",\"\",'Terugvordering reiskosten OAH'!CG156)","v":""},{"$f":"IF('Terugvordering reiskosten OAH'!CM156=0,\"\",'Terugvordering reiskosten OAH'!CM156)","v":""}]
[{"$f":"IF('Terugvordering reiskosten OAH'!D157=\"\",\"\",IF('Terugvordering reiskosten OAH'!$T$36=\"\",\"\",'Terugvordering reiskosten OAH'!$T$36))","v":""},{"$f":"IF(A85=\"\",\"\",'Terugvordering reiskosten OAH'!$T$38)","v":""},{"$f":"IF(A85=\"\",\"\",'gegevensblad samenvatting vord.'!$C$2)","v":""},{"$f":"IF('Terugvordering reiskosten OAH'!D157=\"\",\"\",TEXT('Terugvordering reiskosten OAH'!D157,\"mm-jjjj\"))","v":""},{"$f":"IF('Terugvordering reiskosten OAH'!H157=\"\",\"\",'Terugvordering reiskosten OAH'!H157)","v":""},{"$f":"IF('Terugvordering reiskosten OAH'!R157=\"\",\"\",'Terugvordering reiskosten OAH'!R157)","v":""},{"$f":"IF('Terugvordering reiskosten OAH'!X157=\"\",\"\",'Terugvordering reiskosten OAH'!X157)","v":""},{"$f":"IF('Terugvordering reiskosten OAH'!AJ157=\"\",\"\",'Terugvordering reiskosten OAH'!AJ157)","v":""},{"$f":"IF('Terugvordering reiskosten OAH'!AR157=\"\",\"\",'Terugvordering reiskosten OAH'!AR157)","v":""},{"$f":"IF('Terugvordering reiskosten OAH'!AY157=\"\",\"\",'Terugvordering reiskosten OAH'!AY157)","v":""},{"$f":"IF('Terugvordering reiskosten OAH'!BC157=0,\"\",'Terugvordering reiskosten OAH'!BC157)","v":""},{"$f":"IF('Terugvordering reiskosten OAH'!BK157=0,\"\",'Terugvordering reiskosten OAH'!BK157)","v":""},{"$f":"IF('Terugvordering reiskosten OAH'!BR157=0,\"\",'Terugvordering reiskosten OAH'!BR157)","v":""},{"$f":"IF('Terugvordering reiskosten OAH'!BZ157=0,\"\",'Terugvordering reiskosten OAH'!BZ157)","v":""},{"$f":"IF('Terugvordering reiskosten OAH'!CG157=\"\",\"\",'Terugvordering reiskosten OAH'!CG157)","v":""},{"$f":"IF('Terugvordering reiskosten OAH'!CM157=0,\"\",'Terugvordering reiskosten OAH'!CM157)","v":""}]
[{"$f":"IF('Terugvordering reiskosten OAH'!D158=\"\",\"\",IF('Terugvordering reiskosten OAH'!$T$36=\"\",\"\",'Terugvordering reiskosten OAH'!$T$36))","v":""},{"$f":"IF(A86=\"\",\"\",'Terugvordering reiskosten OAH'!$T$38)","v":""},{"$f":"IF(A86=\"\",\"\",'gegevensblad samenvatting vord.'!$C$2)","v":""},{"$f":"IF('Terugvordering reiskosten OAH'!D158=\"\",\"\",TEXT('Terugvordering reiskosten OAH'!D158,\"mm-jjjj\"))","v":""},{"$f":"IF('Terugvordering reiskosten OAH'!H158=\"\",\"\",'Terugvordering reiskosten OAH'!H158)","v":""},{"$f":"IF('Terugvordering reiskosten OAH'!R158=\"\",\"\",'Terugvordering reiskosten OAH'!R158)","v":""},{"$f":"IF('Terugvordering reiskosten OAH'!X158=\"\",\"\",'Terugvordering reiskosten OAH'!X158)","v":""},{"$f":"IF('Terugvordering reiskosten OAH'!AJ158=\"\",\"\",'Terugvordering reiskosten OAH'!AJ158)","v":""},{"$f":"IF('Terugvordering reiskosten OAH'!AR158=\"\",\"\",'Terugvordering reiskosten OAH'!AR158)","v":""},{"$f":"IF('Terugvordering reiskosten OAH'!AY158=\"\",\"\",'Terugvordering reiskosten OAH'!AY158)","v":""},{"$f":"IF('Terugvordering reiskosten OAH'!BC158=0,\"\",'Terugvordering reiskosten OAH'!BC158)","v":""},{"$f":"IF('Terugvordering reiskosten OAH'!BK158=0,\"\",'Terugvordering reiskosten OAH'!BK158)","v":""},{"$f":"IF('Terugvordering reiskosten OAH'!BR158=0,\"\",'Terugvordering reiskosten OAH'!BR158)","v":""},{"$f":"IF('Terugvordering reiskosten OAH'!BZ158=0,\"\",'Terugvordering reiskosten OAH'!BZ158)","v":""},{"$f":"IF('Terugvordering reiskosten OAH'!CG158=\"\",\"\",'Terugvordering reiskosten OAH'!CG158)","v":""},{"$f":"IF('Terugvordering reiskosten OAH'!CM158=0,\"\",'Terugvordering reiskosten OAH'!CM158)","v":""}]
[{"$f":"IF('Terugvordering reiskosten OAH'!D159=\"\",\"\",IF('Terugvordering reiskosten OAH'!$T$36=\"\",\"\",'Terugvordering reiskosten OAH'!$T$36))","v":""},{"$f":"IF(A87=\"\",\"\",'Terugvordering reiskosten OAH'!$T$38)","v":""},{"$f":"IF(A87=\"\",\"\",'gegevensblad samenvatting vord.'!$C$2)","v":""},{"$f":"IF('Terugvordering reiskosten OAH'!D159=\"\",\"\",TEXT('Terugvordering reiskosten OAH'!D159,\"mm-jjjj\"))","v":""},{"$f":"IF('Terugvordering reiskosten OAH'!H159=\"\",\"\",'Terugvordering reiskosten OAH'!H159)","v":""},{"$f":"IF('Terugvordering reiskosten OAH'!R159=\"\",\"\",'Terugvordering reiskosten OAH'!R159)","v":""},{"$f":"IF('Terugvordering reiskosten OAH'!X159=\"\",\"\",'Terugvordering reiskosten OAH'!X159)","v":""},{"$f":"IF('Terugvordering reiskosten OAH'!AJ159=\"\",\"\",'Terugvordering reiskosten OAH'!AJ159)","v":""},{"$f":"IF('Terugvordering reiskosten OAH'!AR159=\"\",\"\",'Terugvordering reiskosten OAH'!AR159)","v":""},{"$f":"IF('Terugvordering reiskosten OAH'!AY159=\"\",\"\",'Terugvordering reiskosten OAH'!AY159)","v":""},{"$f":"IF('Terugvordering reiskosten OAH'!BC159=0,\"\",'Terugvordering reiskosten OAH'!BC159)","v":""},{"$f":"IF('Terugvordering reiskosten OAH'!BK159=0,\"\",'Terugvordering reiskosten OAH'!BK159)","v":""},{"$f":"IF('Terugvordering reiskosten OAH'!BR159=0,\"\",'Terugvordering reiskosten OAH'!BR159)","v":""},{"$f":"IF('Terugvordering reiskosten OAH'!BZ159=0,\"\",'Terugvordering reiskosten OAH'!BZ159)","v":""},{"$f":"IF('Terugvordering reiskosten OAH'!CG159=\"\",\"\",'Terugvordering reiskosten OAH'!CG159)","v":""},{"$f":"IF('Terugvordering reiskosten OAH'!CM159=0,\"\",'Terugvordering reiskosten OAH'!CM159)","v":""}]
[{"$f":"IF('Terugvordering reiskosten OAH'!D160=\"\",\"\",IF('Terugvordering reiskosten OAH'!$T$36=\"\",\"\",'Terugvordering reiskosten OAH'!$T$36))","v":""},{"$f":"IF(A88=\"\",\"\",'Terugvordering reiskosten OAH'!$T$38)","v":""},{"$f":"IF(A88=\"\",\"\",'gegevensblad samenvatting vord.'!$C$2)","v":""},{"$f":"IF('Terugvordering reiskosten OAH'!D160=\"\",\"\",TEXT('Terugvordering reiskosten OAH'!D160,\"mm-jjjj\"))","v":""},{"$f":"IF('Terugvordering reiskosten OAH'!H160=\"\",\"\",'Terugvordering reiskosten OAH'!H160)","v":""},{"$f":"IF('Terugvordering reiskosten OAH'!R160=\"\",\"\",'Terugvordering reiskosten OAH'!R160)","v":""},{"$f":"IF('Terugvordering reiskosten OAH'!X160=\"\",\"\",'Terugvordering reiskosten OAH'!X160)","v":""},{"$f":"IF('Terugvordering reiskosten OAH'!AJ160=\"\",\"\",'Terugvordering reiskosten OAH'!AJ160)","v":""},{"$f":"IF('Terugvordering reiskosten OAH'!AR160=\"\",\"\",'Terugvordering reiskosten OAH'!AR160)","v":""},{"$f":"IF('Terugvordering reiskosten OAH'!AY160=\"\",\"\",'Terugvordering reiskosten OAH'!AY160)","v":""},{"$f":"IF('Terugvordering reiskosten OAH'!BC160=0,\"\",'Terugvordering reiskosten OAH'!BC160)","v":""},{"$f":"IF('Terugvordering reiskosten OAH'!BK160=0,\"\",'Terugvordering reiskosten OAH'!BK160)","v":""},{"$f":"IF('Terugvordering reiskosten OAH'!BR160=0,\"\",'Terugvordering reiskosten OAH'!BR160)","v":""},{"$f":"IF('Terugvordering reiskosten OAH'!BZ160=0,\"\",'Terugvordering reiskosten OAH'!BZ160)","v":""},{"$f":"IF('Terugvordering reiskosten OAH'!CG160=\"\",\"\",'Terugvordering reiskosten OAH'!CG160)","v":""},{"$f":"IF('Terugvordering reiskosten OAH'!CM160=0,\"\",'Terugvordering reiskosten OAH'!CM160)","v":""}]
[{"$f":"IF('Terugvordering reiskosten OAH'!D161=\"\",\"\",IF('Terugvordering reiskosten OAH'!$T$36=\"\",\"\",'Terugvordering reiskosten OAH'!$T$36))","v":""},{"$f":"IF(A89=\"\",\"\",'Terugvordering reiskosten OAH'!$T$38)","v":""},{"$f":"IF(A89=\"\",\"\",'gegevensblad samenvatting vord.'!$C$2)","v":""},{"$f":"IF('Terugvordering reiskosten OAH'!D161=\"\",\"\",TEXT('Terugvordering reiskosten OAH'!D161,\"mm-jjjj\"))","v":""},{"$f":"IF('Terugvordering reiskosten OAH'!H161=\"\",\"\",'Terugvordering reiskosten OAH'!H161)","v":""},{"$f":"IF('Terugvordering reiskosten OAH'!R161=\"\",\"\",'Terugvordering reiskosten OAH'!R161)","v":""},{"$f":"IF('Terugvordering reiskosten OAH'!X161=\"\",\"\",'Terugvordering reiskosten OAH'!X161)","v":""},{"$f":"IF('Terugvordering reiskosten OAH'!AJ161=\"\",\"\",'Terugvordering reiskosten OAH'!AJ161)","v":""},{"$f":"IF('Terugvordering reiskosten OAH'!AR161=\"\",\"\",'Terugvordering reiskosten OAH'!AR161)","v":""},{"$f":"IF('Terugvordering reiskosten OAH'!AY161=\"\",\"\",'Terugvordering reiskosten OAH'!AY161)","v":""},{"$f":"IF('Terugvordering reiskosten OAH'!BC161=0,\"\",'Terugvordering reiskosten OAH'!BC161)","v":""},{"$f":"IF('Terugvordering reiskosten OAH'!BK161=0,\"\",'Terugvordering reiskosten OAH'!BK161)","v":""},{"$f":"IF('Terugvordering reiskosten OAH'!BR161=0,\"\",'Terugvordering reiskosten OAH'!BR161)","v":""},{"$f":"IF('Terugvordering reiskosten OAH'!BZ161=0,\"\",'Terugvordering reiskosten OAH'!BZ161)","v":""},{"$f":"IF('Terugvordering reiskosten OAH'!CG161=\"\",\"\",'Terugvordering reiskosten OAH'!CG161)","v":""},{"$f":"IF('Terugvordering reiskosten OAH'!CM161=0,\"\",'Terugvordering reiskosten OAH'!CM161)","v":""}]
[{"$f":"IF('Terugvordering reiskosten OAH'!D162=\"\",\"\",IF('Terugvordering reiskosten OAH'!$T$36=\"\",\"\",'Terugvordering reiskosten OAH'!$T$36))","v":""},{"$f":"IF(A90=\"\",\"\",'Terugvordering reiskosten OAH'!$T$38)","v":""},{"$f":"IF(A90=\"\",\"\",'gegevensblad samenvatting vord.'!$C$2)","v":""},{"$f":"IF('Terugvordering reiskosten OAH'!D162=\"\",\"\",TEXT('Terugvordering reiskosten OAH'!D162,\"mm-jjjj\"))","v":""},{"$f":"IF('Terugvordering reiskosten OAH'!H162=\"\",\"\",'Terugvordering reiskosten OAH'!H162)","v":""},{"$f":"IF('Terugvordering reiskosten OAH'!R162=\"\",\"\",'Terugvordering reiskosten OAH'!R162)","v":""},{"$f":"IF('Terugvordering reiskosten OAH'!X162=\"\",\"\",'Terugvordering reiskosten OAH'!X162)","v":""},{"$f":"IF('Terugvordering reiskosten OAH'!AJ162=\"\",\"\",'Terugvordering reiskosten OAH'!AJ162)","v":""},{"$f":"IF('Terugvordering reiskosten OAH'!AR162=\"\",\"\",'Terugvordering reiskosten OAH'!AR162)","v":""},{"$f":"IF('Terugvordering reiskosten OAH'!AY162=\"\",\"\",'Terugvordering reiskosten OAH'!AY162)","v":""},{"$f":"IF('Terugvordering reiskosten OAH'!BC162=0,\"\",'Terugvordering reiskosten OAH'!BC162)","v":""},{"$f":"IF('Terugvordering reiskosten OAH'!BK162=0,\"\",'Terugvordering reiskosten OAH'!BK162)","v":""},{"$f":"IF('Terugvordering reiskosten OAH'!BR162=0,\"\",'Terugvordering reiskosten OAH'!BR162)","v":""},{"$f":"IF('Terugvordering reiskosten OAH'!BZ162=0,\"\",'Terugvordering reiskosten OAH'!BZ162)","v":""},{"$f":"IF('Terugvordering reiskosten OAH'!CG162=\"\",\"\",'Terugvordering reiskosten OAH'!CG162)","v":""},{"$f":"IF('Terugvordering reiskosten OAH'!CM162=0,\"\",'Terugvordering reiskosten OAH'!CM162)","v":""}]
[{"$f":"IF('Terugvordering reiskosten OAH'!D163=\"\",\"\",IF('Terugvordering reiskosten OAH'!$T$36=\"\",\"\",'Terugvordering reiskosten OAH'!$T$36))","v":""},{"$f":"IF(A91=\"\",\"\",'Terugvordering reiskosten OAH'!$T$38)","v":""},{"$f":"IF(A91=\"\",\"\",'gegevensblad samenvatting vord.'!$C$2)","v":""},{"$f":"IF('Terugvordering reiskosten OAH'!D163=\"\",\"\",TEXT('Terugvordering reiskosten OAH'!D163,\"mm-jjjj\"))","v":""},{"$f":"IF('Terugvordering reiskosten OAH'!H163=\"\",\"\",'Terugvordering reiskosten OAH'!H163)","v":""},{"$f":"IF('Terugvordering reiskosten OAH'!R163=\"\",\"\",'Terugvordering reiskosten OAH'!R163)","v":""},{"$f":"IF('Terugvordering reiskosten OAH'!X163=\"\",\"\",'Terugvordering reiskosten OAH'!X163)","v":""},{"$f":"IF('Terugvordering reiskosten OAH'!AJ163=\"\",\"\",'Terugvordering reiskosten OAH'!AJ163)","v":""},{"$f":"IF('Terugvordering reiskosten OAH'!AR163=\"\",\"\",'Terugvordering reiskosten OAH'!AR163)","v":""},{"$f":"IF('Terugvordering reiskosten OAH'!AY163=\"\",\"\",'Terugvordering reiskosten OAH'!AY163)","v":""},{"$f":"IF('Terugvordering reiskosten OAH'!BC163=0,\"\",'Terugvordering reiskosten OAH'!BC163)","v":""},{"$f":"IF('Terugvordering reiskosten OAH'!BK163=0,\"\",'Terugvordering reiskosten OAH'!BK163)","v":""},{"$f":"IF('Terugvordering reiskosten OAH'!BR163=0,\"\",'Terugvordering reiskosten OAH'!BR163)","v":""},{"$f":"IF('Terugvordering reiskosten OAH'!BZ163=0,\"\",'Terugvordering reiskosten OAH'!BZ163)","v":""},{"$f":"IF('Terugvordering reiskosten OAH'!CG163=\"\",\"\",'Terugvordering reiskosten OAH'!CG163)","v":""},{"$f":"IF('Terugvordering reiskosten OAH'!CM163=0,\"\",'Terugvordering reiskosten OAH'!CM163)","v":""}]
[{"$f":"IF('Terugvordering reiskosten OAH'!D164=\"\",\"\",IF('Terugvordering reiskosten OAH'!$T$36=\"\",\"\",'Terugvordering reiskosten OAH'!$T$36))","v":""},{"$f":"IF(A92=\"\",\"\",'Terugvordering reiskosten OAH'!$T$38)","v":""},{"$f":"IF(A92=\"\",\"\",'gegevensblad samenvatting vord.'!$C$2)","v":""},{"$f":"IF('Terugvordering reiskosten OAH'!D164=\"\",\"\",TEXT('Terugvordering reiskosten OAH'!D164,\"mm-jjjj\"))","v":""},{"$f":"IF('Terugvordering reiskosten OAH'!H164=\"\",\"\",'Terugvordering reiskosten OAH'!H164)","v":""},{"$f":"IF('Terugvordering reiskosten OAH'!R164=\"\",\"\",'Terugvordering reiskosten OAH'!R164)","v":""},{"$f":"IF('Terugvordering reiskosten OAH'!X164=\"\",\"\",'Terugvordering reiskosten OAH'!X164)","v":""},{"$f":"IF('Terugvordering reiskosten OAH'!AJ164=\"\",\"\",'Terugvordering reiskosten OAH'!AJ164)","v":""},{"$f":"IF('Terugvordering reiskosten OAH'!AR164=\"\",\"\",'Terugvordering reiskosten OAH'!AR164)","v":""},{"$f":"IF('Terugvordering reiskosten OAH'!AY164=\"\",\"\",'Terugvordering reiskosten OAH'!AY164)","v":""},{"$f":"IF('Terugvordering reiskosten OAH'!BC164=0,\"\",'Terugvordering reiskosten OAH'!BC164)","v":""},{"$f":"IF('Terugvordering reiskosten OAH'!BK164=0,\"\",'Terugvordering reiskosten OAH'!BK164)","v":""},{"$f":"IF('Terugvordering reiskosten OAH'!BR164=0,\"\",'Terugvordering reiskosten OAH'!BR164)","v":""},{"$f":"IF('Terugvordering reiskosten OAH'!BZ164=0,\"\",'Terugvordering reiskosten OAH'!BZ164)","v":""},{"$f":"IF('Terugvordering reiskosten OAH'!CG164=\"\",\"\",'Terugvordering reiskosten OAH'!CG164)","v":""},{"$f":"IF('Terugvordering reiskosten OAH'!CM164=0,\"\",'Terugvordering reiskosten OAH'!CM164)","v":""}]
[{"$f":"IF('Terugvordering reiskosten OAH'!D165=\"\",\"\",IF('Terugvordering reiskosten OAH'!$T$36=\"\",\"\",'Terugvordering reiskosten OAH'!$T$36))","v":""},{"$f":"IF(A93=\"\",\"\",'Terugvordering reiskosten OAH'!$T$38)","v":""},{"$f":"IF(A93=\"\",\"\",'gegevensblad samenvatting vord.'!$C$2)","v":""},{"$f":"IF('Terugvordering reiskosten OAH'!D165=\"\",\"\",TEXT('Terugvordering reiskosten OAH'!D165,\"mm-jjjj\"))","v":""},{"$f":"IF('Terugvordering reiskosten OAH'!H165=\"\",\"\",'Terugvordering reiskosten OAH'!H165)","v":""},{"$f":"IF('Terugvordering reiskosten OAH'!R165=\"\",\"\",'Terugvordering reiskosten OAH'!R165)","v":""},{"$f":"IF('Terugvordering reiskosten OAH'!X165=\"\",\"\",'Terugvordering reiskosten OAH'!X165)","v":""},{"$f":"IF('Terugvordering reiskosten OAH'!AJ165=\"\",\"\",'Terugvordering reiskosten OAH'!AJ165)","v":""},{"$f":"IF('Terugvordering reiskosten OAH'!AR165=\"\",\"\",'Terugvordering reiskosten OAH'!AR165)","v":""},{"$f":"IF('Terugvordering reiskosten OAH'!AY165=\"\",\"\",'Terugvordering reiskosten OAH'!AY165)","v":""},{"$f":"IF('Terugvordering reiskosten OAH'!BC165=0,\"\",'Terugvordering reiskosten OAH'!BC165)","v":""},{"$f":"IF('Terugvordering reiskosten OAH'!BK165=0,\"\",'Terugvordering reiskosten OAH'!BK165)","v":""},{"$f":"IF('Terugvordering reiskosten OAH'!BR165=0,\"\",'Terugvordering reiskosten OAH'!BR165)","v":""},{"$f":"IF('Terugvordering reiskosten OAH'!BZ165=0,\"\",'Terugvordering reiskosten OAH'!BZ165)","v":""},{"$f":"IF('Terugvordering reiskosten OAH'!CG165=\"\",\"\",'Terugvordering reiskosten OAH'!CG165)","v":""},{"$f":"IF('Terugvordering reiskosten OAH'!CM165=0,\"\",'Terugvordering reiskosten OAH'!CM165)","v":""}]
[{"$f":"IF('Terugvordering reiskosten OAH'!D166=\"\",\"\",IF('Terugvordering reiskosten OAH'!$T$36=\"\",\"\",'Terugvordering reiskosten OAH'!$T$36))","v":""},{"$f":"IF(A94=\"\",\"\",'Terugvordering reiskosten OAH'!$T$38)","v":""},{"$f":"IF(A94=\"\",\"\",'gegevensblad samenvatting vord.'!$C$2)","v":""},{"$f":"IF('Terugvordering reiskosten OAH'!D166=\"\",\"\",TEXT('Terugvordering reiskosten OAH'!D166,\"mm-jjjj\"))","v":""},{"$f":"IF('Terugvordering reiskosten OAH'!H166=\"\",\"\",'Terugvordering reiskosten OAH'!H166)","v":""},{"$f":"IF('Terugvordering reiskosten OAH'!R166=\"\",\"\",'Terugvordering reiskosten OAH'!R166)","v":""},{"$f":"IF('Terugvordering reiskosten OAH'!X166=\"\",\"\",'Terugvordering reiskosten OAH'!X166)","v":""},{"$f":"IF('Terugvordering reiskosten OAH'!AJ166=\"\",\"\",'Terugvordering reiskosten OAH'!AJ166)","v":""},{"$f":"IF('Terugvordering reiskosten OAH'!AR166=\"\",\"\",'Terugvordering reiskosten OAH'!AR166)","v":""},{"$f":"IF('Terugvordering reiskosten OAH'!AY166=\"\",\"\",'Terugvordering reiskosten OAH'!AY166)","v":""},{"$f":"IF('Terugvordering reiskosten OAH'!BC166=0,\"\",'Terugvordering reiskosten OAH'!BC166)","v":""},{"$f":"IF('Terugvordering reiskosten OAH'!BK166=0,\"\",'Terugvordering reiskosten OAH'!BK166)","v":""},{"$f":"IF('Terugvordering reiskosten OAH'!BR166=0,\"\",'Terugvordering reiskosten OAH'!BR166)","v":""},{"$f":"IF('Terugvordering reiskosten OAH'!BZ166=0,\"\",'Terugvordering reiskosten OAH'!BZ166)","v":""},{"$f":"IF('Terugvordering reiskosten OAH'!CG166=\"\",\"\",'Terugvordering reiskosten OAH'!CG166)","v":""},{"$f":"IF('Terugvordering reiskosten OAH'!CM166=0,\"\",'Terugvordering reiskosten OAH'!CM166)","v":""}]
[{"$f":"IF('Terugvordering reiskosten OAH'!D167=\"\",\"\",IF('Terugvordering reiskosten OAH'!$T$36=\"\",\"\",'Terugvordering reiskosten OAH'!$T$36))","v":""},{"$f":"IF(A95=\"\",\"\",'Terugvordering reiskosten OAH'!$T$38)","v":""},{"$f":"IF(A95=\"\",\"\",'gegevensblad samenvatting vord.'!$C$2)","v":""},{"$f":"IF('Terugvordering reiskosten OAH'!D167=\"\",\"\",TEXT('Terugvordering reiskosten OAH'!D167,\"mm-jjjj\"))","v":""},{"$f":"IF('Terugvordering reiskosten OAH'!H167=\"\",\"\",'Terugvordering reiskosten OAH'!H167)","v":""},{"$f":"IF('Terugvordering reiskosten OAH'!R167=\"\",\"\",'Terugvordering reiskosten OAH'!R167)","v":""},{"$f":"IF('Terugvordering reiskosten OAH'!X167=\"\",\"\",'Terugvordering reiskosten OAH'!X167)","v":""},{"$f":"IF('Terugvordering reiskosten OAH'!AJ167=\"\",\"\",'Terugvordering reiskosten OAH'!AJ167)","v":""},{"$f":"IF('Terugvordering reiskosten OAH'!AR167=\"\",\"\",'Terugvordering reiskosten OAH'!AR167)","v":""},{"$f":"IF('Terugvordering reiskosten OAH'!AY167=\"\",\"\",'Terugvordering reiskosten OAH'!AY167)","v":""},{"$f":"IF('Terugvordering reiskosten OAH'!BC167=0,\"\",'Terugvordering reiskosten OAH'!BC167)","v":""},{"$f":"IF('Terugvordering reiskosten OAH'!BK167=0,\"\",'Terugvordering reiskosten OAH'!BK167)","v":""},{"$f":"IF('Terugvordering reiskosten OAH'!BR167=0,\"\",'Terugvordering reiskosten OAH'!BR167)","v":""},{"$f":"IF('Terugvordering reiskosten OAH'!BZ167=0,\"\",'Terugvordering reiskosten OAH'!BZ167)","v":""},{"$f":"IF('Terugvordering reiskosten OAH'!CG167=\"\",\"\",'Terugvordering reiskosten OAH'!CG167)","v":""},{"$f":"IF('Terugvordering reiskosten OAH'!CM167=0,\"\",'Terugvordering reiskosten OAH'!CM167)","v":""}]
[{"$f":"IF('Terugvordering reiskosten OAH'!D168=\"\",\"\",IF('Terugvordering reiskosten OAH'!$T$36=\"\",\"\",'Terugvordering reiskosten OAH'!$T$36))","v":""},{"$f":"IF(A96=\"\",\"\",'Terugvordering reiskosten OAH'!$T$38)","v":""},{"$f":"IF(A96=\"\",\"\",'gegevensblad samenvatting vord.'!$C$2)","v":""},{"$f":"IF('Terugvordering reiskosten OAH'!D168=\"\",\"\",TEXT('Terugvordering reiskosten OAH'!D168,\"mm-jjjj\"))","v":""},{"$f":"IF('Terugvordering reiskosten OAH'!H168=\"\",\"\",'Terugvordering reiskosten OAH'!H168)","v":""},{"$f":"IF('Terugvordering reiskosten OAH'!R168=\"\",\"\",'Terugvordering reiskosten OAH'!R168)","v":""},{"$f":"IF('Terugvordering reiskosten OAH'!X168=\"\",\"\",'Terugvordering reiskosten OAH'!X168)","v":""},{"$f":"IF('Terugvordering reiskosten OAH'!AJ168=\"\",\"\",'Terugvordering reiskosten OAH'!AJ168)","v":""},{"$f":"IF('Terugvordering reiskosten OAH'!AR168=\"\",\"\",'Terugvordering reiskosten OAH'!AR168)","v":""},{"$f":"IF('Terugvordering reiskosten OAH'!AY168=\"\",\"\",'Terugvordering reiskosten OAH'!AY168)","v":""},{"$f":"IF('Terugvordering reiskosten OAH'!BC168=0,\"\",'Terugvordering reiskosten OAH'!BC168)","v":""},{"$f":"IF('Terugvordering reiskosten OAH'!BK168=0,\"\",'Terugvordering reiskosten OAH'!BK168)","v":""},{"$f":"IF('Terugvordering reiskosten OAH'!BR168=0,\"\",'Terugvordering reiskosten OAH'!BR168)","v":""},{"$f":"IF('Terugvordering reiskosten OAH'!BZ168=0,\"\",'Terugvordering reiskosten OAH'!BZ168)","v":""},{"$f":"IF('Terugvordering reiskosten OAH'!CG168=\"\",\"\",'Terugvordering reiskosten OAH'!CG168)","v":""},{"$f":"IF('Terugvordering reiskosten OAH'!CM168=0,\"\",'Terugvordering reiskosten OAH'!CM168)","v":""}]
[{"$f":"IF('Terugvordering reiskosten OAH'!D169=\"\",\"\",IF('Terugvordering reiskosten OAH'!$T$36=\"\",\"\",'Terugvordering reiskosten OAH'!$T$36))","v":""},{"$f":"IF(A97=\"\",\"\",'Terugvordering reiskosten OAH'!$T$38)","v":""},{"$f":"IF(A97=\"\",\"\",'gegevensblad samenvatting vord.'!$C$2)","v":""},{"$f":"IF('Terugvordering reiskosten OAH'!D169=\"\",\"\",TEXT('Terugvordering reiskosten OAH'!D169,\"mm-jjjj\"))","v":""},{"$f":"IF('Terugvordering reiskosten OAH'!H169=\"\",\"\",'Terugvordering reiskosten OAH'!H169)","v":""},{"$f":"IF('Terugvordering reiskosten OAH'!R169=\"\",\"\",'Terugvordering reiskosten OAH'!R169)","v":""},{"$f":"IF('Terugvordering reiskosten OAH'!X169=\"\",\"\",'Terugvordering reiskosten OAH'!X169)","v":""},{"$f":"IF('Terugvordering reiskosten OAH'!AJ169=\"\",\"\",'Terugvordering reiskosten OAH'!AJ169)","v":""},{"$f":"IF('Terugvordering reiskosten OAH'!AR169=\"\",\"\",'Terugvordering reiskosten OAH'!AR169)","v":""},{"$f":"IF('Terugvordering reiskosten OAH'!AY169=\"\",\"\",'Terugvordering reiskosten OAH'!AY169)","v":""},{"$f":"IF('Terugvordering reiskosten OAH'!BC169=0,\"\",'Terugvordering reiskosten OAH'!BC169)","v":""},{"$f":"IF('Terugvordering reiskosten OAH'!BK169=0,\"\",'Terugvordering reiskosten OAH'!BK169)","v":""},{"$f":"IF('Terugvordering reiskosten OAH'!BR169=0,\"\",'Terugvordering reiskosten OAH'!BR169)","v":""},{"$f":"IF('Terugvordering reiskosten OAH'!BZ169=0,\"\",'Terugvordering reiskosten OAH'!BZ169)","v":""},{"$f":"IF('Terugvordering reiskosten OAH'!CG169=\"\",\"\",'Terugvordering reiskosten OAH'!CG169)","v":""},{"$f":"IF('Terugvordering reiskosten OAH'!CM169=0,\"\",'Terugvordering reiskosten OAH'!CM169)","v":""}]
[{"$f":"IF('Terugvordering reiskosten OAH'!D170=\"\",\"\",IF('Terugvordering reiskosten OAH'!$T$36=\"\",\"\",'Terugvordering reiskosten OAH'!$T$36))","v":""},{"$f":"IF(A98=\"\",\"\",'Terugvordering reiskosten OAH'!$T$38)","v":""},{"$f":"IF(A98=\"\",\"\",'gegevensblad samenvatting vord.'!$C$2)","v":""},{"$f":"IF('Terugvordering reiskosten OAH'!D170=\"\",\"\",TEXT('Terugvordering reiskosten OAH'!D170,\"mm-jjjj\"))","v":""},{"$f":"IF('Terugvordering reiskosten OAH'!H170=\"\",\"\",'Terugvordering reiskosten OAH'!H170)","v":""},{"$f":"IF('Terugvordering reiskosten OAH'!R170=\"\",\"\",'Terugvordering reiskosten OAH'!R170)","v":""},{"$f":"IF('Terugvordering reiskosten OAH'!X170=\"\",\"\",'Terugvordering reiskosten OAH'!X170)","v":""},{"$f":"IF('Terugvordering reiskosten OAH'!AJ170=\"\",\"\",'Terugvordering reiskosten OAH'!AJ170)","v":""},{"$f":"IF('Terugvordering reiskosten OAH'!AR170=\"\",\"\",'Terugvordering reiskosten OAH'!AR170)","v":""},{"$f":"IF('Terugvordering reiskosten OAH'!AY170=\"\",\"\",'Terugvordering reiskosten OAH'!AY170)","v":""},{"$f":"IF('Terugvordering reiskosten OAH'!BC170=0,\"\",'Terugvordering reiskosten OAH'!BC170)","v":""},{"$f":"IF('Terugvordering reiskosten OAH'!BK170=0,\"\",'Terugvordering reiskosten OAH'!BK170)","v":""},{"$f":"IF('Terugvordering reiskosten OAH'!BR170=0,\"\",'Terugvordering reiskosten OAH'!BR170)","v":""},{"$f":"IF('Terugvordering reiskosten OAH'!BZ170=0,\"\",'Terugvordering reiskosten OAH'!BZ170)","v":""},{"$f":"IF('Terugvordering reiskosten OAH'!CG170=\"\",\"\",'Terugvordering reiskosten OAH'!CG170)","v":""},{"$f":"IF('Terugvordering reiskosten OAH'!CM170=0,\"\",'Terugvordering reiskosten OAH'!CM170)","v":""}]
[{"$f":"IF('Terugvordering reiskosten OAH'!D171=\"\",\"\",IF('Terugvordering reiskosten OAH'!$T$36=\"\",\"\",'Terugvordering reiskosten OAH'!$T$36))","v":""},{"$f":"IF(A99=\"\",\"\",'Terugvordering reiskosten OAH'!$T$38)","v":""},{"$f":"IF(A99=\"\",\"\",'gegevensblad samenvatting vord.'!$C$2)","v":""},{"$f":"IF('Terugvordering reiskosten OAH'!D171=\"\",\"\",TEXT('Terugvordering reiskosten OAH'!D171,\"mm-jjjj\"))","v":""},{"$f":"IF('Terugvordering reiskosten OAH'!H171=\"\",\"\",'Terugvordering reiskosten OAH'!H171)","v":""},{"$f":"IF('Terugvordering reiskosten OAH'!R171=\"\",\"\",'Terugvordering reiskosten OAH'!R171)","v":""},{"$f":"IF('Terugvordering reiskosten OAH'!X171=\"\",\"\",'Terugvordering reiskosten OAH'!X171)","v":""},{"$f":"IF('Terugvordering reiskosten OAH'!AJ171=\"\",\"\",'Terugvordering reiskosten OAH'!AJ171)","v":""},{"$f":"IF('Terugvordering reiskosten OAH'!AR171=\"\",\"\",'Terugvordering reiskosten OAH'!AR171)","v":""},{"$f":"IF('Terugvordering reiskosten OAH'!AY171=\"\",\"\",'Terugvordering reiskosten OAH'!AY171)","v":""},{"$f":"IF('Terugvordering reiskosten OAH'!BC171=0,\"\",'Terugvordering reiskosten OAH'!BC171)","v":""},{"$f":"IF('Terugvordering reiskosten OAH'!BK171=0,\"\",'Terugvordering reiskosten OAH'!BK171)","v":""},{"$f":"IF('Terugvordering reiskosten OAH'!BR171=0,\"\",'Terugvordering reiskosten OAH'!BR171)","v":""},{"$f":"IF('Terugvordering reiskosten OAH'!BZ171=0,\"\",'Terugvordering reiskosten OAH'!BZ171)","v":""},{"$f":"IF('Terugvordering reiskosten OAH'!CG171=\"\",\"\",'Terugvordering reiskosten OAH'!CG171)","v":""},{"$f":"IF('Terugvordering reiskosten OAH'!CM171=0,\"\",'Terugvordering reiskosten OAH'!CM171)","v":""}]
[{"$f":"IF('Terugvordering reiskosten OAH'!D172=\"\",\"\",IF('Terugvordering reiskosten OAH'!$T$36=\"\",\"\",'Terugvordering reiskosten OAH'!$T$36))","v":""},{"$f":"IF(A100=\"\",\"\",'Terugvordering reiskosten OAH'!$T$38)","v":""},{"$f":"IF(A100=\"\",\"\",'gegevensblad samenvatting vord.'!$C$2)","v":""},{"$f":"IF('Terugvordering reiskosten OAH'!D172=\"\",\"\",TEXT('Terugvordering reiskosten OAH'!D172,\"mm-jjjj\"))","v":""},{"$f":"IF('Terugvordering reiskosten OAH'!H172=\"\",\"\",'Terugvordering reiskosten OAH'!H172)","v":""},{"$f":"IF('Terugvordering reiskosten OAH'!R172=\"\",\"\",'Terugvordering reiskosten OAH'!R172)","v":""},{"$f":"IF('Terugvordering reiskosten OAH'!X172=\"\",\"\",'Terugvordering reiskosten OAH'!X172)","v":""},{"$f":"IF('Terugvordering reiskosten OAH'!AJ172=\"\",\"\",'Terugvordering reiskosten OAH'!AJ172)","v":""},{"$f":"IF('Terugvordering reiskosten OAH'!AR172=\"\",\"\",'Terugvordering reiskosten OAH'!AR172)","v":""},{"$f":"IF('Terugvordering reiskosten OAH'!AY172=\"\",\"\",'Terugvordering reiskosten OAH'!AY172)","v":""},{"$f":"IF('Terugvordering reiskosten OAH'!BC172=0,\"\",'Terugvordering reiskosten OAH'!BC172)","v":""},{"$f":"IF('Terugvordering reiskosten OAH'!BK172=0,\"\",'Terugvordering reiskosten OAH'!BK172)","v":""},{"$f":"IF('Terugvordering reiskosten OAH'!BR172=0,\"\",'Terugvordering reiskosten OAH'!BR172)","v":""},{"$f":"IF('Terugvordering reiskosten OAH'!BZ172=0,\"\",'Terugvordering reiskosten OAH'!BZ172)","v":""},{"$f":"IF('Terugvordering reiskosten OAH'!CG172=\"\",\"\",'Terugvordering reiskosten OAH'!CG172)","v":""},{"$f":"IF('Terugvordering reiskosten OAH'!CM172=0,\"\",'Terugvordering reiskosten OAH'!CM172)","v":""}]
[{"$f":"IF('Terugvordering reiskosten OAH'!D173=\"\",\"\",IF('Terugvordering reiskosten OAH'!$T$36=\"\",\"\",'Terugvordering reiskosten OAH'!$T$36))","v":""},{"$f":"IF(A101=\"\",\"\",'Terugvordering reiskosten OAH'!$T$38)","v":""},{"$f":"IF(A101=\"\",\"\",'gegevensblad samenvatting vord.'!$C$2)","v":""},{"$f":"IF('Terugvordering reiskosten OAH'!D173=\"\",\"\",TEXT('Terugvordering reiskosten OAH'!D173,\"mm-jjjj\"))","v":""},{"$f":"IF('Terugvordering reiskosten OAH'!H173=\"\",\"\",'Terugvordering reiskosten OAH'!H173)","v":""},{"$f":"IF('Terugvordering reiskosten OAH'!R173=\"\",\"\",'Terugvordering reiskosten OAH'!R173)","v":""},{"$f":"IF('Terugvordering reiskosten OAH'!X173=\"\",\"\",'Terugvordering reiskosten OAH'!X173)","v":""},{"$f":"IF('Terugvordering reiskosten OAH'!AJ173=\"\",\"\",'Terugvordering reiskosten OAH'!AJ173)","v":""},{"$f":"IF('Terugvordering reiskosten OAH'!AR173=\"\",\"\",'Terugvordering reiskosten OAH'!AR173)","v":""},{"$f":"IF('Terugvordering reiskosten OAH'!AY173=\"\",\"\",'Terugvordering reiskosten OAH'!AY173)","v":""},{"$f":"IF('Terugvordering reiskosten OAH'!BC173=0,\"\",'Terugvordering reiskosten OAH'!BC173)","v":""},{"$f":"IF('Terugvordering reiskosten OAH'!BK173=0,\"\",'Terugvordering reiskosten OAH'!BK173)","v":""},{"$f":"IF('Terugvordering reiskosten OAH'!BR173=0,\"\",'Terugvordering reiskosten OAH'!BR173)","v":""},{"$f":"IF('Terugvordering reiskosten OAH'!BZ173=0,\"\",'Terugvordering reiskosten OAH'!BZ173)","v":""},{"$f":"IF('Terugvordering reiskosten OAH'!CG173=\"\",\"\",'Terugvordering reiskosten OAH'!CG173)","v":""},{"$f":"IF('Terugvordering reiskosten OAH'!CM173=0,\"\",'Terugvordering reiskosten OAH'!CM173)","v":""}]
[{"$f":"IF('Terugvordering reiskosten OAH'!D174=\"\",\"\",IF('Terugvordering reiskosten OAH'!$T$36=\"\",\"\",'Terugvordering reiskosten OAH'!$T$36))","v":""},{"$f":"IF(A102=\"\",\"\",'Terugvordering reiskosten OAH'!$T$38)","v":""},{"$f":"IF(A102=\"\",\"\",'gegevensblad samenvatting vord.'!$C$2)","v":""},{"$f":"IF('Terugvordering reiskosten OAH'!D174=\"\",\"\",TEXT('Terugvordering reiskosten OAH'!D174,\"mm-jjjj\"))","v":""},{"$f":"IF('Terugvordering reiskosten OAH'!H174=\"\",\"\",'Terugvordering reiskosten OAH'!H174)","v":""},{"$f":"IF('Terugvordering reiskosten OAH'!R174=\"\",\"\",'Terugvordering reiskosten OAH'!R174)","v":""},{"$f":"IF('Terugvordering reiskosten OAH'!X174=\"\",\"\",'Terugvordering reiskosten OAH'!X174)","v":""},{"$f":"IF('Terugvordering reiskosten OAH'!AJ174=\"\",\"\",'Terugvordering reiskosten OAH'!AJ174)","v":""},{"$f":"IF('Terugvordering reiskosten OAH'!AR174=\"\",\"\",'Terugvordering reiskosten OAH'!AR174)","v":""},{"$f":"IF('Terugvordering reiskosten OAH'!AY174=\"\",\"\",'Terugvordering reiskosten OAH'!AY174)","v":""},{"$f":"IF('Terugvordering reiskosten OAH'!BC174=0,\"\",'Terugvordering reiskosten OAH'!BC174)","v":""},{"$f":"IF('Terugvordering reiskosten OAH'!BK174=0,\"\",'Terugvordering reiskosten OAH'!BK174)","v":""},{"$f":"IF('Terugvordering reiskosten OAH'!BR174=0,\"\",'Terugvordering reiskosten OAH'!BR174)","v":""},{"$f":"IF('Terugvordering reiskosten OAH'!BZ174=0,\"\",'Terugvordering reiskosten OAH'!BZ174)","v":""},{"$f":"IF('Terugvordering reiskosten OAH'!CG174=\"\",\"\",'Terugvordering reiskosten OAH'!CG174)","v":""},{"$f":"IF('Terugvordering reiskosten OAH'!CM174=0,\"\",'Terugvordering reiskosten OAH'!CM174)","v":""}]
[{"$f":"IF('Terugvordering reiskosten OAH'!D175=\"\",\"\",IF('Terugvordering reiskosten OAH'!$T$36=\"\",\"\",'Terugvordering reiskosten OAH'!$T$36))","v":""},{"$f":"IF(A103=\"\",\"\",'Terugvordering reiskosten OAH'!$T$38)","v":""},{"$f":"IF(A103=\"\",\"\",'gegevensblad samenvatting vord.'!$C$2)","v":""},{"$f":"IF('Terugvordering reiskosten OAH'!D175=\"\",\"\",TEXT('Terugvordering reiskosten OAH'!D175,\"mm-jjjj\"))","v":""},{"$f":"IF('Terugvordering reiskosten OAH'!H175=\"\",\"\",'Terugvordering reiskosten OAH'!H175)","v":""},{"$f":"IF('Terugvordering reiskosten OAH'!R175=\"\",\"\",'Terugvordering reiskosten OAH'!R175)","v":""},{"$f":"IF('Terugvordering reiskosten OAH'!X175=\"\",\"\",'Terugvordering reiskosten OAH'!X175)","v":""},{"$f":"IF('Terugvordering reiskosten OAH'!AJ175=\"\",\"\",'Terugvordering reiskosten OAH'!AJ175)","v":""},{"$f":"IF('Terugvordering reiskosten OAH'!AR175=\"\",\"\",'Terugvordering reiskosten OAH'!AR175)","v":""},{"$f":"IF('Terugvordering reiskosten OAH'!AY175=\"\",\"\",'Terugvordering reiskosten OAH'!AY175)","v":""},{"$f":"IF('Terugvordering reiskosten OAH'!BC175=0,\"\",'Terugvordering reiskosten OAH'!BC175)","v":""},{"$f":"IF('Terugvordering reiskosten OAH'!BK175=0,\"\",'Terugvordering reiskosten OAH'!BK175)","v":""},{"$f":"IF('Terugvordering reiskosten OAH'!BR175=0,\"\",'Terugvordering reiskosten OAH'!BR175)","v":""},{"$f":"IF('Terugvordering reiskosten OAH'!BZ175=0,\"\",'Terugvordering reiskosten OAH'!BZ175)","v":""},{"$f":"IF('Terugvordering reiskosten OAH'!CG175=\"\",\"\",'Terugvordering reiskosten OAH'!CG175)","v":""},{"$f":"IF('Terugvordering reiskosten OAH'!CM175=0,\"\",'Terugvordering reiskosten OAH'!CM175)","v":""}]
[{"$f":"IF('Terugvordering reiskosten OAH'!D176=\"\",\"\",IF('Terugvordering reiskosten OAH'!$T$36=\"\",\"\",'Terugvordering reiskosten OAH'!$T$36))","v":""},{"$f":"IF(A104=\"\",\"\",'Terugvordering reiskosten OAH'!$T$38)","v":""},{"$f":"IF(A104=\"\",\"\",'gegevensblad samenvatting vord.'!$C$2)","v":""},{"$f":"IF('Terugvordering reiskosten OAH'!D176=\"\",\"\",TEXT('Terugvordering reiskosten OAH'!D176,\"mm-jjjj\"))","v":""},{"$f":"IF('Terugvordering reiskosten OAH'!H176=\"\",\"\",'Terugvordering reiskosten OAH'!H176)","v":""},{"$f":"IF('Terugvordering reiskosten OAH'!R176=\"\",\"\",'Terugvordering reiskosten OAH'!R176)","v":""},{"$f":"IF('Terugvordering reiskosten OAH'!X176=\"\",\"\",'Terugvordering reiskosten OAH'!X176)","v":""},{"$f":"IF('Terugvordering reiskosten OAH'!AJ176=\"\",\"\",'Terugvordering reiskosten OAH'!AJ176)","v":""},{"$f":"IF('Terugvordering reiskosten OAH'!AR176=\"\",\"\",'Terugvordering reiskosten OAH'!AR176)","v":""},{"$f":"IF('Terugvordering reiskosten OAH'!AY176=\"\",\"\",'Terugvordering reiskosten OAH'!AY176)","v":""},{"$f":"IF('Terugvordering reiskosten OAH'!BC176=0,\"\",'Terugvordering reiskosten OAH'!BC176)","v":""},{"$f":"IF('Terugvordering reiskosten OAH'!BK176=0,\"\",'Terugvordering reiskosten OAH'!BK176)","v":""},{"$f":"IF('Terugvordering reiskosten OAH'!BR176=0,\"\",'Terugvordering reiskosten OAH'!BR176)","v":""},{"$f":"IF('Terugvordering reiskosten OAH'!BZ176=0,\"\",'Terugvordering reiskosten OAH'!BZ176)","v":""},{"$f":"IF('Terugvordering reiskosten OAH'!CG176=\"\",\"\",'Terugvordering reiskosten OAH'!CG176)","v":""},{"$f":"IF('Terugvordering reiskosten OAH'!CM176=0,\"\",'Terugvordering reiskosten OAH'!CM176)","v":""}]
[{"$f":"IF('Terugvordering reiskosten OAH'!D177=\"\",\"\",IF('Terugvordering reiskosten OAH'!$T$36=\"\",\"\",'Terugvordering reiskosten OAH'!$T$36))","v":""},{"$f":"IF(A105=\"\",\"\",'Terugvordering reiskosten OAH'!$T$38)","v":""},{"$f":"IF(A105=\"\",\"\",'gegevensblad samenvatting vord.'!$C$2)","v":""},{"$f":"IF('Terugvordering reiskosten OAH'!D177=\"\",\"\",TEXT('Terugvordering reiskosten OAH'!D177,\"mm-jjjj\"))","v":""},{"$f":"IF('Terugvordering reiskosten OAH'!H177=\"\",\"\",'Terugvordering reiskosten OAH'!H177)","v":""},{"$f":"IF('Terugvordering reiskosten OAH'!R177=\"\",\"\",'Terugvordering reiskosten OAH'!R177)","v":""},{"$f":"IF('Terugvordering reiskosten OAH'!X177=\"\",\"\",'Terugvordering reiskosten OAH'!X177)","v":""},{"$f":"IF('Terugvordering reiskosten OAH'!AJ177=\"\",\"\",'Terugvordering reiskosten OAH'!AJ177)","v":""},{"$f":"IF('Terugvordering reiskosten OAH'!AR177=\"\",\"\",'Terugvordering reiskosten OAH'!AR177)","v":""},{"$f":"IF('Terugvordering reiskosten OAH'!AY177=\"\",\"\",'Terugvordering reiskosten OAH'!AY177)","v":""},{"$f":"IF('Terugvordering reiskosten OAH'!BC177=0,\"\",'Terugvordering reiskosten OAH'!BC177)","v":""},{"$f":"IF('Terugvordering reiskosten OAH'!BK177=0,\"\",'Terugvordering reiskosten OAH'!BK177)","v":""},{"$f":"IF('Terugvordering reiskosten OAH'!BR177=0,\"\",'Terugvordering reiskosten OAH'!BR177)","v":""},{"$f":"IF('Terugvordering reiskosten OAH'!BZ177=0,\"\",'Terugvordering reiskosten OAH'!BZ177)","v":""},{"$f":"IF('Terugvordering reiskosten OAH'!CG177=\"\",\"\",'Terugvordering reiskosten OAH'!CG177)","v":""},{"$f":"IF('Terugvordering reiskosten OAH'!CM177=0,\"\",'Terugvordering reiskosten OAH'!CM177)","v":""}]
[{"$f":"IF('Terugvordering reiskosten OAH'!D178=\"\",\"\",IF('Terugvordering reiskosten OAH'!$T$36=\"\",\"\",'Terugvordering reiskosten OAH'!$T$36))","v":""},{"$f":"IF(A106=\"\",\"\",'Terugvordering reiskosten OAH'!$T$38)","v":""},{"$f":"IF(A106=\"\",\"\",'gegevensblad samenvatting vord.'!$C$2)","v":""},{"$f":"IF('Terugvordering reiskosten OAH'!D178=\"\",\"\",TEXT('Terugvordering reiskosten OAH'!D178,\"mm-jjjj\"))","v":""},{"$f":"IF('Terugvordering reiskosten OAH'!H178=\"\",\"\",'Terugvordering reiskosten OAH'!H178)","v":""},{"$f":"IF('Terugvordering reiskosten OAH'!R178=\"\",\"\",'Terugvordering reiskosten OAH'!R178)","v":""},{"$f":"IF('Terugvordering reiskosten OAH'!X178=\"\",\"\",'Terugvordering reiskosten OAH'!X178)","v":""},{"$f":"IF('Terugvordering reiskosten OAH'!AJ178=\"\",\"\",'Terugvordering reiskosten OAH'!AJ178)","v":""},{"$f":"IF('Terugvordering reiskosten OAH'!AR178=\"\",\"\",'Terugvordering reiskosten OAH'!AR178)","v":""},{"$f":"IF('Terugvordering reiskosten OAH'!AY178=\"\",\"\",'Terugvordering reiskosten OAH'!AY178)","v":""},{"$f":"IF('Terugvordering reiskosten OAH'!BC178=0,\"\",'Terugvordering reiskosten OAH'!BC178)","v":""},{"$f":"IF('Terugvordering reiskosten OAH'!BK178=0,\"\",'Terugvordering reiskosten OAH'!BK178)","v":""},{"$f":"IF('Terugvordering reiskosten OAH'!BR178=0,\"\",'Terugvordering reiskosten OAH'!BR178)","v":""},{"$f":"IF('Terugvordering reiskosten OAH'!BZ178=0,\"\",'Terugvordering reiskosten OAH'!BZ178)","v":""},{"$f":"IF('Terugvordering reiskosten OAH'!CG178=\"\",\"\",'Terugvordering reiskosten OAH'!CG178)","v":""},{"$f":"IF('Terugvordering reiskosten OAH'!CM178=0,\"\",'Terugvordering reiskosten OAH'!CM178)","v":""}]
[{"$f":"IF('Terugvordering reiskosten OAH'!D179=\"\",\"\",IF('Terugvordering reiskosten OAH'!$T$36=\"\",\"\",'Terugvordering reiskosten OAH'!$T$36))","v":""},{"$f":"IF(A107=\"\",\"\",'Terugvordering reiskosten OAH'!$T$38)","v":""},{"$f":"IF(A107=\"\",\"\",'gegevensblad samenvatting vord.'!$C$2)","v":""},{"$f":"IF('Terugvordering reiskosten OAH'!D179=\"\",\"\",TEXT('Terugvordering reiskosten OAH'!D179,\"mm-jjjj\"))","v":""},{"$f":"IF('Terugvordering reiskosten OAH'!H179=\"\",\"\",'Terugvordering reiskosten OAH'!H179)","v":""},{"$f":"IF('Terugvordering reiskosten OAH'!R179=\"\",\"\",'Terugvordering reiskosten OAH'!R179)","v":""},{"$f":"IF('Terugvordering reiskosten OAH'!X179=\"\",\"\",'Terugvordering reiskosten OAH'!X179)","v":""},{"$f":"IF('Terugvordering reiskosten OAH'!AJ179=\"\",\"\",'Terugvordering reiskosten OAH'!AJ179)","v":""},{"$f":"IF('Terugvordering reiskosten OAH'!AR179=\"\",\"\",'Terugvordering reiskosten OAH'!AR179)","v":""},{"$f":"IF('Terugvordering reiskosten OAH'!AY179=\"\",\"\",'Terugvordering reiskosten OAH'!AY179)","v":""},{"$f":"IF('Terugvordering reiskosten OAH'!BC179=0,\"\",'Terugvordering reiskosten OAH'!BC179)","v":""},{"$f":"IF('Terugvordering reiskosten OAH'!BK179=0,\"\",'Terugvordering reiskosten OAH'!BK179)","v":""},{"$f":"IF('Terugvordering reiskosten OAH'!BR179=0,\"\",'Terugvordering reiskosten OAH'!BR179)","v":""},{"$f":"IF('Terugvordering reiskosten OAH'!BZ179=0,\"\",'Terugvordering reiskosten OAH'!BZ179)","v":""},{"$f":"IF('Terugvordering reiskosten OAH'!CG179=\"\",\"\",'Terugvordering reiskosten OAH'!CG179)","v":""},{"$f":"IF('Terugvordering reiskosten OAH'!CM179=0,\"\",'Terugvordering reiskosten OAH'!CM179)","v":""}]
[{"$f":"IF('Terugvordering reiskosten OAH'!D180=\"\",\"\",IF('Terugvordering reiskosten OAH'!$T$36=\"\",\"\",'Terugvordering reiskosten OAH'!$T$36))","v":""},{"$f":"IF(A108=\"\",\"\",'Terugvordering reiskosten OAH'!$T$38)","v":""},{"$f":"IF(A108=\"\",\"\",'gegevensblad samenvatting vord.'!$C$2)","v":""},{"$f":"IF('Terugvordering reiskosten OAH'!D180=\"\",\"\",TEXT('Terugvordering reiskosten OAH'!D180,\"mm-jjjj\"))","v":""},{"$f":"IF('Terugvordering reiskosten OAH'!H180=\"\",\"\",'Terugvordering reiskosten OAH'!H180)","v":""},{"$f":"IF('Terugvordering reiskosten OAH'!R180=\"\",\"\",'Terugvordering reiskosten OAH'!R180)","v":""},{"$f":"IF('Terugvordering reiskosten OAH'!X180=\"\",\"\",'Terugvordering reiskosten OAH'!X180)","v":""},{"$f":"IF('Terugvordering reiskosten OAH'!AJ180=\"\",\"\",'Terugvordering reiskosten OAH'!AJ180)","v":""},{"$f":"IF('Terugvordering reiskosten OAH'!AR180=\"\",\"\",'Terugvordering reiskosten OAH'!AR180)","v":""},{"$f":"IF('Terugvordering reiskosten OAH'!AY180=\"\",\"\",'Terugvordering reiskosten OAH'!AY180)","v":""},{"$f":"IF('Terugvordering reiskosten OAH'!BC180=0,\"\",'Terugvordering reiskosten OAH'!BC180)","v":""},{"$f":"IF('Terugvordering reiskosten OAH'!BK180=0,\"\",'Terugvordering reiskosten OAH'!BK180)","v":""},{"$f":"IF('Terugvordering reiskosten OAH'!BR180=0,\"\",'Terugvordering reiskosten OAH'!BR180)","v":""},{"$f":"IF('Terugvordering reiskosten OAH'!BZ180=0,\"\",'Terugvordering reiskosten OAH'!BZ180)","v":""},{"$f":"IF('Terugvordering reiskosten OAH'!CG180=\"\",\"\",'Terugvordering reiskosten OAH'!CG180)","v":""},{"$f":"IF('Terugvordering reiskosten OAH'!CM180=0,\"\",'Terugvordering reiskosten OAH'!CM180)","v":""}]
[{"$f":"IF('Terugvordering reiskosten OAH'!D181=\"\",\"\",IF('Terugvordering reiskosten OAH'!$T$36=\"\",\"\",'Terugvordering reiskosten OAH'!$T$36))","v":""},{"$f":"IF(A109=\"\",\"\",'Terugvordering reiskosten OAH'!$T$38)","v":""},{"$f":"IF(A109=\"\",\"\",'gegevensblad samenvatting vord.'!$C$2)","v":""},{"$f":"IF('Terugvordering reiskosten OAH'!D181=\"\",\"\",TEXT('Terugvordering reiskosten OAH'!D181,\"mm-jjjj\"))","v":""},{"$f":"IF('Terugvordering reiskosten OAH'!H181=\"\",\"\",'Terugvordering reiskosten OAH'!H181)","v":""},{"$f":"IF('Terugvordering reiskosten OAH'!R181=\"\",\"\",'Terugvordering reiskosten OAH'!R181)","v":""},{"$f":"IF('Terugvordering reiskosten OAH'!X181=\"\",\"\",'Terugvordering reiskosten OAH'!X181)","v":""},{"$f":"IF('Terugvordering reiskosten OAH'!AJ181=\"\",\"\",'Terugvordering reiskosten OAH'!AJ181)","v":""},{"$f":"IF('Terugvordering reiskosten OAH'!AR181=\"\",\"\",'Terugvordering reiskosten OAH'!AR181)","v":""},{"$f":"IF('Terugvordering reiskosten OAH'!AY181=\"\",\"\",'Terugvordering reiskosten OAH'!AY181)","v":""},{"$f":"IF('Terugvordering reiskosten OAH'!BC181=0,\"\",'Terugvordering reiskosten OAH'!BC181)","v":""},{"$f":"IF('Terugvordering reiskosten OAH'!BK181=0,\"\",'Terugvordering reiskosten OAH'!BK181)","v":""},{"$f":"IF('Terugvordering reiskosten OAH'!BR181=0,\"\",'Terugvordering reiskosten OAH'!BR181)","v":""},{"$f":"IF('Terugvordering reiskosten OAH'!BZ181=0,\"\",'Terugvordering reiskosten OAH'!BZ181)","v":""},{"$f":"IF('Terugvordering reiskosten OAH'!CG181=\"\",\"\",'Terugvordering reiskosten OAH'!CG181)","v":""},{"$f":"IF('Terugvordering reiskosten OAH'!CM181=0,\"\",'Terugvordering reiskosten OAH'!CM181)","v":""}]
[{"$f":"IF('Terugvordering reiskosten OAH'!D182=\"\",\"\",IF('Terugvordering reiskosten OAH'!$T$36=\"\",\"\",'Terugvordering reiskosten OAH'!$T$36))","v":""},{"$f":"IF(A110=\"\",\"\",'Terugvordering reiskosten OAH'!$T$38)","v":""},{"$f":"IF(A110=\"\",\"\",'gegevensblad samenvatting vord.'!$C$2)","v":""},{"$f":"IF('Terugvordering reiskosten OAH'!D182=\"\",\"\",TEXT('Terugvordering reiskosten OAH'!D182,\"mm-jjjj\"))","v":""},{"$f":"IF('Terugvordering reiskosten OAH'!H182=\"\",\"\",'Terugvordering reiskosten OAH'!H182)","v":""},{"$f":"IF('Terugvordering reiskosten OAH'!R182=\"\",\"\",'Terugvordering reiskosten OAH'!R182)","v":""},{"$f":"IF('Terugvordering reiskosten OAH'!X182=\"\",\"\",'Terugvordering reiskosten OAH'!X182)","v":""},{"$f":"IF('Terugvordering reiskosten OAH'!AJ182=\"\",\"\",'Terugvordering reiskosten OAH'!AJ182)","v":""},{"$f":"IF('Terugvordering reiskosten OAH'!AR182=\"\",\"\",'Terugvordering reiskosten OAH'!AR182)","v":""},{"$f":"IF('Terugvordering reiskosten OAH'!AY182=\"\",\"\",'Terugvordering reiskosten OAH'!AY182)","v":""},{"$f":"IF('Terugvordering reiskosten OAH'!BC182=0,\"\",'Terugvordering reiskosten OAH'!BC182)","v":""},{"$f":"IF('Terugvordering reiskosten OAH'!BK182=0,\"\",'Terugvordering reiskosten OAH'!BK182)","v":""},{"$f":"IF('Terugvordering reiskosten OAH'!BR182=0,\"\",'Terugvordering reiskosten OAH'!BR182)","v":""},{"$f":"IF('Terugvordering reiskosten OAH'!BZ182=0,\"\",'Terugvordering reiskosten OAH'!BZ182)","v":""},{"$f":"IF('Terugvordering reiskosten OAH'!CG182=\"\",\"\",'Terugvordering reiskosten OAH'!CG182)","v":""},{"$f":"IF('Terugvordering reiskosten OAH'!CM182=0,\"\",'Terugvordering reiskosten OAH'!CM182)","v":""}]
[{"$f":"IF('Terugvordering reiskosten OAH'!D183=\"\",\"\",IF('Terugvordering reiskosten OAH'!$T$36=\"\",\"\",'Terugvordering reiskosten OAH'!$T$36))","v":""},{"$f":"IF(A111=\"\",\"\",'Terugvordering reiskosten OAH'!$T$38)","v":""},{"$f":"IF(A111=\"\",\"\",'gegevensblad samenvatting vord.'!$C$2)","v":""},{"$f":"IF('Terugvordering reiskosten OAH'!D183=\"\",\"\",TEXT('Terugvordering reiskosten OAH'!D183,\"mm-jjjj\"))","v":""},{"$f":"IF('Terugvordering reiskosten OAH'!H183=\"\",\"\",'Terugvordering reiskosten OAH'!H183)","v":""},{"$f":"IF('Terugvordering reiskosten OAH'!R183=\"\",\"\",'Terugvordering reiskosten OAH'!R183)","v":""},{"$f":"IF('Terugvordering reiskosten OAH'!X183=\"\",\"\",'Terugvordering reiskosten OAH'!X183)","v":""},{"$f":"IF('Terugvordering reiskosten OAH'!AJ183=\"\",\"\",'Terugvordering reiskosten OAH'!AJ183)","v":""},{"$f":"IF('Terugvordering reiskosten OAH'!AR183=\"\",\"\",'Terugvordering reiskosten OAH'!AR183)","v":""},{"$f":"IF('Terugvordering reiskosten OAH'!AY183=\"\",\"\",'Terugvordering reiskosten OAH'!AY183)","v":""},{"$f":"IF('Terugvordering reiskosten OAH'!BC183=0,\"\",'Terugvordering reiskosten OAH'!BC183)","v":""},{"$f":"IF('Terugvordering reiskosten OAH'!BK183=0,\"\",'Terugvordering reiskosten OAH'!BK183)","v":""},{"$f":"IF('Terugvordering reiskosten OAH'!BR183=0,\"\",'Terugvordering reiskosten OAH'!BR183)","v":""},{"$f":"IF('Terugvordering reiskosten OAH'!BZ183=0,\"\",'Terugvordering reiskosten OAH'!BZ183)","v":""},{"$f":"IF('Terugvordering reiskosten OAH'!CG183=\"\",\"\",'Terugvordering reiskosten OAH'!CG183)","v":""},{"$f":"IF('Terugvordering reiskosten OAH'!CM183=0,\"\",'Terugvordering reiskosten OAH'!CM183)","v":""}]
[{"$f":"IF('Terugvordering reiskosten OAH'!D184=\"\",\"\",IF('Terugvordering reiskosten OAH'!$T$36=\"\",\"\",'Terugvordering reiskosten OAH'!$T$36))","v":""},{"$f":"IF(A112=\"\",\"\",'Terugvordering reiskosten OAH'!$T$38)","v":""},{"$f":"IF(A112=\"\",\"\",'gegevensblad samenvatting vord.'!$C$2)","v":""},{"$f":"IF('Terugvordering reiskosten OAH'!D184=\"\",\"\",TEXT('Terugvordering reiskosten OAH'!D184,\"mm-jjjj\"))","v":""},{"$f":"IF('Terugvordering reiskosten OAH'!H184=\"\",\"\",'Terugvordering reiskosten OAH'!H184)","v":""},{"$f":"IF('Terugvordering reiskosten OAH'!R184=\"\",\"\",'Terugvordering reiskosten OAH'!R184)","v":""},{"$f":"IF('Terugvordering reiskosten OAH'!X184=\"\",\"\",'Terugvordering reiskosten OAH'!X184)","v":""},{"$f":"IF('Terugvordering reiskosten OAH'!AJ184=\"\",\"\",'Terugvordering reiskosten OAH'!AJ184)","v":""},{"$f":"IF('Terugvordering reiskosten OAH'!AR184=\"\",\"\",'Terugvordering reiskosten OAH'!AR184)","v":""},{"$f":"IF('Terugvordering reiskosten OAH'!AY184=\"\",\"\",'Terugvordering reiskosten OAH'!AY184)","v":""},{"$f":"IF('Terugvordering reiskosten OAH'!BC184=0,\"\",'Terugvordering reiskosten OAH'!BC184)","v":""},{"$f":"IF('Terugvordering reiskosten OAH'!BK184=0,\"\",'Terugvordering reiskosten OAH'!BK184)","v":""},{"$f":"IF('Terugvordering reiskosten OAH'!BR184=0,\"\",'Terugvordering reiskosten OAH'!BR184)","v":""},{"$f":"IF('Terugvordering reiskosten OAH'!BZ184=0,\"\",'Terugvordering reiskosten OAH'!BZ184)","v":""},{"$f":"IF('Terugvordering reiskosten OAH'!CG184=\"\",\"\",'Terugvordering reiskosten OAH'!CG184)","v":""},{"$f":"IF('Terugvordering reiskosten OAH'!CM184=0,\"\",'Terugvordering reiskosten OAH'!CM184)","v":""}]
[{"$f":"IF('Terugvordering reiskosten OAH'!D185=\"\",\"\",IF('Terugvordering reiskosten OAH'!$T$36=\"\",\"\",'Terugvordering reiskosten OAH'!$T$36))","v":""},{"$f":"IF(A113=\"\",\"\",'Terugvordering reiskosten OAH'!$T$38)","v":""},{"$f":"IF(A113=\"\",\"\",'gegevensblad samenvatting vord.'!$C$2)","v":""},{"$f":"IF('Terugvordering reiskosten OAH'!D185=\"\",\"\",TEXT('Terugvordering reiskosten OAH'!D185,\"mm-jjjj\"))","v":""},{"$f":"IF('Terugvordering reiskosten OAH'!H185=\"\",\"\",'Terugvordering reiskosten OAH'!H185)","v":""},{"$f":"IF('Terugvordering reiskosten OAH'!R185=\"\",\"\",'Terugvordering reiskosten OAH'!R185)","v":""},{"$f":"IF('Terugvordering reiskosten OAH'!X185=\"\",\"\",'Terugvordering reiskosten OAH'!X185)","v":""},{"$f":"IF('Terugvordering reiskosten OAH'!AJ185=\"\",\"\",'Terugvordering reiskosten OAH'!AJ185)","v":""},{"$f":"IF('Terugvordering reiskosten OAH'!AR185=\"\",\"\",'Terugvordering reiskosten OAH'!AR185)","v":""},{"$f":"IF('Terugvordering reiskosten OAH'!AY185=\"\",\"\",'Terugvordering reiskosten OAH'!AY185)","v":""},{"$f":"IF('Terugvordering reiskosten OAH'!BC185=0,\"\",'Terugvordering reiskosten OAH'!BC185)","v":""},{"$f":"IF('Terugvordering reiskosten OAH'!BK185=0,\"\",'Terugvordering reiskosten OAH'!BK185)","v":""},{"$f":"IF('Terugvordering reiskosten OAH'!BR185=0,\"\",'Terugvordering reiskosten OAH'!BR185)","v":""},{"$f":"IF('Terugvordering reiskosten OAH'!BZ185=0,\"\",'Terugvordering reiskosten OAH'!BZ185)","v":""},{"$f":"IF('Terugvordering reiskosten OAH'!CG185=\"\",\"\",'Terugvordering reiskosten OAH'!CG185)","v":""},{"$f":"IF('Terugvordering reiskosten OAH'!CM185=0,\"\",'Terugvordering reiskosten OAH'!CM185)","v":""}]
[{"$f":"IF('Terugvordering reiskosten OAH'!D186=\"\",\"\",IF('Terugvordering reiskosten OAH'!$T$36=\"\",\"\",'Terugvordering reiskosten OAH'!$T$36))","v":""},{"$f":"IF(A114=\"\",\"\",'Terugvordering reiskosten OAH'!$T$38)","v":""},{"$f":"IF(A114=\"\",\"\",'gegevensblad samenvatting vord.'!$C$2)","v":""},{"$f":"IF('Terugvordering reiskosten OAH'!D186=\"\",\"\",TEXT('Terugvordering reiskosten OAH'!D186,\"mm-jjjj\"))","v":""},{"$f":"IF('Terugvordering reiskosten OAH'!H186=\"\",\"\",'Terugvordering reiskosten OAH'!H186)","v":""},{"$f":"IF('Terugvordering reiskosten OAH'!R186=\"\",\"\",'Terugvordering reiskosten OAH'!R186)","v":""},{"$f":"IF('Terugvordering reiskosten OAH'!X186=\"\",\"\",'Terugvordering reiskosten OAH'!X186)","v":""},{"$f":"IF('Terugvordering reiskosten OAH'!AJ186=\"\",\"\",'Terugvordering reiskosten OAH'!AJ186)","v":""},{"$f":"IF('Terugvordering reiskosten OAH'!AR186=\"\",\"\",'Terugvordering reiskosten OAH'!AR186)","v":""},{"$f":"IF('Terugvordering reiskosten OAH'!AY186=\"\",\"\",'Terugvordering reiskosten OAH'!AY186)","v":""},{"$f":"IF('Terugvordering reiskosten OAH'!BC186=0,\"\",'Terugvordering reiskosten OAH'!BC186)","v":""},{"$f":"IF('Terugvordering reiskosten OAH'!BK186=0,\"\",'Terugvordering reiskosten OAH'!BK186)","v":""},{"$f":"IF('Terugvordering reiskosten OAH'!BR186=0,\"\",'Terugvordering reiskosten OAH'!BR186)","v":""},{"$f":"IF('Terugvordering reiskosten OAH'!BZ186=0,\"\",'Terugvordering reiskosten OAH'!BZ186)","v":""},{"$f":"IF('Terugvordering reiskosten OAH'!CG186=\"\",\"\",'Terugvordering reiskosten OAH'!CG186)","v":""},{"$f":"IF('Terugvordering reiskosten OAH'!CM186=0,\"\",'Terugvordering reiskosten OAH'!CM186)","v":""}]
[{"$f":"IF('Terugvordering reiskosten OAH'!D187=\"\",\"\",IF('Terugvordering reiskosten OAH'!$T$36=\"\",\"\",'Terugvordering reiskosten OAH'!$T$36))","v":""},{"$f":"IF(A115=\"\",\"\",'Terugvordering reiskosten OAH'!$T$38)","v":""},{"$f":"IF(A115=\"\",\"\",'gegevensblad samenvatting vord.'!$C$2)","v":""},{"$f":"IF('Terugvordering reiskosten OAH'!D187=\"\",\"\",TEXT('Terugvordering reiskosten OAH'!D187,\"mm-jjjj\"))","v":""},{"$f":"IF('Terugvordering reiskosten OAH'!H187=\"\",\"\",'Terugvordering reiskosten OAH'!H187)","v":""},{"$f":"IF('Terugvordering reiskosten OAH'!R187=\"\",\"\",'Terugvordering reiskosten OAH'!R187)","v":""},{"$f":"IF('Terugvordering reiskosten OAH'!X187=\"\",\"\",'Terugvordering reiskosten OAH'!X187)","v":""},{"$f":"IF('Terugvordering reiskosten OAH'!AJ187=\"\",\"\",'Terugvordering reiskosten OAH'!AJ187)","v":""},{"$f":"IF('Terugvordering reiskosten OAH'!AR187=\"\",\"\",'Terugvordering reiskosten OAH'!AR187)","v":""},{"$f":"IF('Terugvordering reiskosten OAH'!AY187=\"\",\"\",'Terugvordering reiskosten OAH'!AY187)","v":""},{"$f":"IF('Terugvordering reiskosten OAH'!BC187=0,\"\",'Terugvordering reiskosten OAH'!BC187)","v":""},{"$f":"IF('Terugvordering reiskosten OAH'!BK187=0,\"\",'Terugvordering reiskosten OAH'!BK187)","v":""},{"$f":"IF('Terugvordering reiskosten OAH'!BR187=0,\"\",'Terugvordering reiskosten OAH'!BR187)","v":""},{"$f":"IF('Terugvordering reiskosten OAH'!BZ187=0,\"\",'Terugvordering reiskosten OAH'!BZ187)","v":""},{"$f":"IF('Terugvordering reiskosten OAH'!CG187=\"\",\"\",'Terugvordering reiskosten OAH'!CG187)","v":""},{"$f":"IF('Terugvordering reiskosten OAH'!CM187=0,\"\",'Terugvordering reiskosten OAH'!CM187)","v":""}]
[{"$f":"IF('Terugvordering reiskosten OAH'!D188=\"\",\"\",IF('Terugvordering reiskosten OAH'!$T$36=\"\",\"\",'Terugvordering reiskosten OAH'!$T$36))","v":""},{"$f":"IF(A116=\"\",\"\",'Terugvordering reiskosten OAH'!$T$38)","v":""},{"$f":"IF(A116=\"\",\"\",'gegevensblad samenvatting vord.'!$C$2)","v":""},{"$f":"IF('Terugvordering reiskosten OAH'!D188=\"\",\"\",TEXT('Terugvordering reiskosten OAH'!D188,\"mm-jjjj\"))","v":""},{"$f":"IF('Terugvordering reiskosten OAH'!H188=\"\",\"\",'Terugvordering reiskosten OAH'!H188)","v":""},{"$f":"IF('Terugvordering reiskosten OAH'!R188=\"\",\"\",'Terugvordering reiskosten OAH'!R188)","v":""},{"$f":"IF('Terugvordering reiskosten OAH'!X188=\"\",\"\",'Terugvordering reiskosten OAH'!X188)","v":""},{"$f":"IF('Terugvordering reiskosten OAH'!AJ188=\"\",\"\",'Terugvordering reiskosten OAH'!AJ188)","v":""},{"$f":"IF('Terugvordering reiskosten OAH'!AR188=\"\",\"\",'Terugvordering reiskosten OAH'!AR188)","v":""},{"$f":"IF('Terugvordering reiskosten OAH'!AY188=\"\",\"\",'Terugvordering reiskosten OAH'!AY188)","v":""},{"$f":"IF('Terugvordering reiskosten OAH'!BC188=0,\"\",'Terugvordering reiskosten OAH'!BC188)","v":""},{"$f":"IF('Terugvordering reiskosten OAH'!BK188=0,\"\",'Terugvordering reiskosten OAH'!BK188)","v":""},{"$f":"IF('Terugvordering reiskosten OAH'!BR188=0,\"\",'Terugvordering reiskosten OAH'!BR188)","v":""},{"$f":"IF('Terugvordering reiskosten OAH'!BZ188=0,\"\",'Terugvordering reiskosten OAH'!BZ188)","v":""},{"$f":"IF('Terugvordering reiskosten OAH'!CG188=\"\",\"\",'Terugvordering reiskosten OAH'!CG188)","v":""},{"$f":"IF('Terugvordering reiskosten OAH'!CM188=0,\"\",'Terugvordering reiskosten OAH'!CM188)","v":""}]
[{"$f":"IF('Terugvordering reiskosten OAH'!D189=\"\",\"\",IF('Terugvordering reiskosten OAH'!$T$36=\"\",\"\",'Terugvordering reiskosten OAH'!$T$36))","v":""},{"$f":"IF(A117=\"\",\"\",'Terugvordering reiskosten OAH'!$T$38)","v":""},{"$f":"IF(A117=\"\",\"\",'gegevensblad samenvatting vord.'!$C$2)","v":""},{"$f":"IF('Terugvordering reiskosten OAH'!D189=\"\",\"\",TEXT('Terugvordering reiskosten OAH'!D189,\"mm-jjjj\"))","v":""},{"$f":"IF('Terugvordering reiskosten OAH'!H189=\"\",\"\",'Terugvordering reiskosten OAH'!H189)","v":""},{"$f":"IF('Terugvordering reiskosten OAH'!R189=\"\",\"\",'Terugvordering reiskosten OAH'!R189)","v":""},{"$f":"IF('Terugvordering reiskosten OAH'!X189=\"\",\"\",'Terugvordering reiskosten OAH'!X189)","v":""},{"$f":"IF('Terugvordering reiskosten OAH'!AJ189=\"\",\"\",'Terugvordering reiskosten OAH'!AJ189)","v":""},{"$f":"IF('Terugvordering reiskosten OAH'!AR189=\"\",\"\",'Terugvordering reiskosten OAH'!AR189)","v":""},{"$f":"IF('Terugvordering reiskosten OAH'!AY189=\"\",\"\",'Terugvordering reiskosten OAH'!AY189)","v":""},{"$f":"IF('Terugvordering reiskosten OAH'!BC189=0,\"\",'Terugvordering reiskosten OAH'!BC189)","v":""},{"$f":"IF('Terugvordering reiskosten OAH'!BK189=0,\"\",'Terugvordering reiskosten OAH'!BK189)","v":""},{"$f":"IF('Terugvordering reiskosten OAH'!BR189=0,\"\",'Terugvordering reiskosten OAH'!BR189)","v":""},{"$f":"IF('Terugvordering reiskosten OAH'!BZ189=0,\"\",'Terugvordering reiskosten OAH'!BZ189)","v":""},{"$f":"IF('Terugvordering reiskosten OAH'!CG189=\"\",\"\",'Terugvordering reiskosten OAH'!CG189)","v":""},{"$f":"IF('Terugvordering reiskosten OAH'!CM189=0,\"\",'Terugvordering reiskosten OAH'!CM189)","v":""}]
[{"$f":"IF('Terugvordering reiskosten OAH'!D190=\"\",\"\",IF('Terugvordering reiskosten OAH'!$T$36=\"\",\"\",'Terugvordering reiskosten OAH'!$T$36))","v":""},{"$f":"IF(A118=\"\",\"\",'Terugvordering reiskosten OAH'!$T$38)","v":""},{"$f":"IF(A118=\"\",\"\",'gegevensblad samenvatting vord.'!$C$2)","v":""},{"$f":"IF('Terugvordering reiskosten OAH'!D190=\"\",\"\",TEXT('Terugvordering reiskosten OAH'!D190,\"mm-jjjj\"))","v":""},{"$f":"IF('Terugvordering reiskosten OAH'!H190=\"\",\"\",'Terugvordering reiskosten OAH'!H190)","v":""},{"$f":"IF('Terugvordering reiskosten OAH'!R190=\"\",\"\",'Terugvordering reiskosten OAH'!R190)","v":""},{"$f":"IF('Terugvordering reiskosten OAH'!X190=\"\",\"\",'Terugvordering reiskosten OAH'!X190)","v":""},{"$f":"IF('Terugvordering reiskosten OAH'!AJ190=\"\",\"\",'Terugvordering reiskosten OAH'!AJ190)","v":""},{"$f":"IF('Terugvordering reiskosten OAH'!AR190=\"\",\"\",'Terugvordering reiskosten OAH'!AR190)","v":""},{"$f":"IF('Terugvordering reiskosten OAH'!AY190=\"\",\"\",'Terugvordering reiskosten OAH'!AY190)","v":""},{"$f":"IF('Terugvordering reiskosten OAH'!BC190=0,\"\",'Terugvordering reiskosten OAH'!BC190)","v":""},{"$f":"IF('Terugvordering reiskosten OAH'!BK190=0,\"\",'Terugvordering reiskosten OAH'!BK190)","v":""},{"$f":"IF('Terugvordering reiskosten OAH'!BR190=0,\"\",'Terugvordering reiskosten OAH'!BR190)","v":""},{"$f":"IF('Terugvordering reiskosten OAH'!BZ190=0,\"\",'Terugvordering reiskosten OAH'!BZ190)","v":""},{"$f":"IF('Terugvordering reiskosten OAH'!CG190=\"\",\"\",'Terugvordering reiskosten OAH'!CG190)","v":""},{"$f":"IF('Terugvordering reiskosten OAH'!CM190=0,\"\",'Terugvordering reiskosten OAH'!CM190)","v":""}]
[{"$f":"IF('Terugvordering reiskosten OAH'!D191=\"\",\"\",IF('Terugvordering reiskosten OAH'!$T$36=\"\",\"\",'Terugvordering reiskosten OAH'!$T$36))","v":""},{"$f":"IF(A119=\"\",\"\",'Terugvordering reiskosten OAH'!$T$38)","v":""},{"$f":"IF(A119=\"\",\"\",'gegevensblad samenvatting vord.'!$C$2)","v":""},{"$f":"IF('Terugvordering reiskosten OAH'!D191=\"\",\"\",TEXT('Terugvordering reiskosten OAH'!D191,\"mm-jjjj\"))","v":""},{"$f":"IF('Terugvordering reiskosten OAH'!H191=\"\",\"\",'Terugvordering reiskosten OAH'!H191)","v":""},{"$f":"IF('Terugvordering reiskosten OAH'!R191=\"\",\"\",'Terugvordering reiskosten OAH'!R191)","v":""},{"$f":"IF('Terugvordering reiskosten OAH'!X191=\"\",\"\",'Terugvordering reiskosten OAH'!X191)","v":""},{"$f":"IF('Terugvordering reiskosten OAH'!AJ191=\"\",\"\",'Terugvordering reiskosten OAH'!AJ191)","v":""},{"$f":"IF('Terugvordering reiskosten OAH'!AR191=\"\",\"\",'Terugvordering reiskosten OAH'!AR191)","v":""},{"$f":"IF('Terugvordering reiskosten OAH'!AY191=\"\",\"\",'Terugvordering reiskosten OAH'!AY191)","v":""},{"$f":"IF('Terugvordering reiskosten OAH'!BC191=0,\"\",'Terugvordering reiskosten OAH'!BC191)","v":""},{"$f":"IF('Terugvordering reiskosten OAH'!BK191=0,\"\",'Terugvordering reiskosten OAH'!BK191)","v":""},{"$f":"IF('Terugvordering reiskosten OAH'!BR191=0,\"\",'Terugvordering reiskosten OAH'!BR191)","v":""},{"$f":"IF('Terugvordering reiskosten OAH'!BZ191=0,\"\",'Terugvordering reiskosten OAH'!BZ191)","v":""},{"$f":"IF('Terugvordering reiskosten OAH'!CG191=\"\",\"\",'Terugvordering reiskosten OAH'!CG191)","v":""},{"$f":"IF('Terugvordering reiskosten OAH'!CM191=0,\"\",'Terugvordering reiskosten OAH'!CM191)","v":""}]
[{"$f":"IF('Terugvordering reiskosten OAH'!D192=\"\",\"\",IF('Terugvordering reiskosten OAH'!$T$36=\"\",\"\",'Terugvordering reiskosten OAH'!$T$36))","v":""},{"$f":"IF(A120=\"\",\"\",'Terugvordering reiskosten OAH'!$T$38)","v":""},{"$f":"IF(A120=\"\",\"\",'gegevensblad samenvatting vord.'!$C$2)","v":""},{"$f":"IF('Terugvordering reiskosten OAH'!D192=\"\",\"\",TEXT('Terugvordering reiskosten OAH'!D192,\"mm-jjjj\"))","v":""},{"$f":"IF('Terugvordering reiskosten OAH'!H192=\"\",\"\",'Terugvordering reiskosten OAH'!H192)","v":""},{"$f":"IF('Terugvordering reiskosten OAH'!R192=\"\",\"\",'Terugvordering reiskosten OAH'!R192)","v":""},{"$f":"IF('Terugvordering reiskosten OAH'!X192=\"\",\"\",'Terugvordering reiskosten OAH'!X192)","v":""},{"$f":"IF('Terugvordering reiskosten OAH'!AJ192=\"\",\"\",'Terugvordering reiskosten OAH'!AJ192)","v":""},{"$f":"IF('Terugvordering reiskosten OAH'!AR192=\"\",\"\",'Terugvordering reiskosten OAH'!AR192)","v":""},{"$f":"IF('Terugvordering reiskosten OAH'!AY192=\"\",\"\",'Terugvordering reiskosten OAH'!AY192)","v":""},{"$f":"IF('Terugvordering reiskosten OAH'!BC192=0,\"\",'Terugvordering reiskosten OAH'!BC192)","v":""},{"$f":"IF('Terugvordering reiskosten OAH'!BK192=0,\"\",'Terugvordering reiskosten OAH'!BK192)","v":""},{"$f":"IF('Terugvordering reiskosten OAH'!BR192=0,\"\",'Terugvordering reiskosten OAH'!BR192)","v":""},{"$f":"IF('Terugvordering reiskosten OAH'!BZ192=0,\"\",'Terugvordering reiskosten OAH'!BZ192)","v":""},{"$f":"IF('Terugvordering reiskosten OAH'!CG192=\"\",\"\",'Terugvordering reiskosten OAH'!CG192)","v":""},{"$f":"IF('Terugvordering reiskosten OAH'!CM192=0,\"\",'Terugvordering reiskosten OAH'!CM192)","v":""}]
[{"$f":"IF('Terugvordering reiskosten OAH'!D193=\"\",\"\",IF('Terugvordering reiskosten OAH'!$T$36=\"\",\"\",'Terugvordering reiskosten OAH'!$T$36))","v":""},{"$f":"IF(A121=\"\",\"\",'Terugvordering reiskosten OAH'!$T$38)","v":""},{"$f":"IF(A121=\"\",\"\",'gegevensblad samenvatting vord.'!$C$2)","v":""},{"$f":"IF('Terugvordering reiskosten OAH'!D193=\"\",\"\",TEXT('Terugvordering reiskosten OAH'!D193,\"mm-jjjj\"))","v":""},{"$f":"IF('Terugvordering reiskosten OAH'!H193=\"\",\"\",'Terugvordering reiskosten OAH'!H193)","v":""},{"$f":"IF('Terugvordering reiskosten OAH'!R193=\"\",\"\",'Terugvordering reiskosten OAH'!R193)","v":""},{"$f":"IF('Terugvordering reiskosten OAH'!X193=\"\",\"\",'Terugvordering reiskosten OAH'!X193)","v":""},{"$f":"IF('Terugvordering reiskosten OAH'!AJ193=\"\",\"\",'Terugvordering reiskosten OAH'!AJ193)","v":""},{"$f":"IF('Terugvordering reiskosten OAH'!AR193=\"\",\"\",'Terugvordering reiskosten OAH'!AR193)","v":""},{"$f":"IF('Terugvordering reiskosten OAH'!AY193=\"\",\"\",'Terugvordering reiskosten OAH'!AY193)","v":""},{"$f":"IF('Terugvordering reiskosten OAH'!BC193=0,\"\",'Terugvordering reiskosten OAH'!BC193)","v":""},{"$f":"IF('Terugvordering reiskosten OAH'!BK193=0,\"\",'Terugvordering reiskosten OAH'!BK193)","v":""},{"$f":"IF('Terugvordering reiskosten OAH'!BR193=0,\"\",'Terugvordering reiskosten OAH'!BR193)","v":""},{"$f":"IF('Terugvordering reiskosten OAH'!BZ193=0,\"\",'Terugvordering reiskosten OAH'!BZ193)","v":""},{"$f":"IF('Terugvordering reiskosten OAH'!CG193=\"\",\"\",'Terugvordering reiskosten OAH'!CG193)","v":""},{"$f":"IF('Terugvordering reiskosten OAH'!CM193=0,\"\",'Terugvordering reiskosten OAH'!CM193)","v":""}]
[{"$f":"IF('Terugvordering reiskosten OAH'!D194=\"\",\"\",IF('Terugvordering reiskosten OAH'!$T$36=\"\",\"\",'Terugvordering reiskosten OAH'!$T$36))","v":""},{"$f":"IF(A122=\"\",\"\",'Terugvordering reiskosten OAH'!$T$38)","v":""},{"$f":"IF(A122=\"\",\"\",'gegevensblad samenvatting vord.'!$C$2)","v":""},{"$f":"IF('Terugvordering reiskosten OAH'!D194=\"\",\"\",TEXT('Terugvordering reiskosten OAH'!D194,\"mm-jjjj\"))","v":""},{"$f":"IF('Terugvordering reiskosten OAH'!H194=\"\",\"\",'Terugvordering reiskosten OAH'!H194)","v":""},{"$f":"IF('Terugvordering reiskosten OAH'!R194=\"\",\"\",'Terugvordering reiskosten OAH'!R194)","v":""},{"$f":"IF('Terugvordering reiskosten OAH'!X194=\"\",\"\",'Terugvordering reiskosten OAH'!X194)","v":""},{"$f":"IF('Terugvordering reiskosten OAH'!AJ194=\"\",\"\",'Terugvordering reiskosten OAH'!AJ194)","v":""},{"$f":"IF('Terugvordering reiskosten OAH'!AR194=\"\",\"\",'Terugvordering reiskosten OAH'!AR194)","v":""},{"$f":"IF('Terugvordering reiskosten OAH'!AY194=\"\",\"\",'Terugvordering reiskosten OAH'!AY194)","v":""},{"$f":"IF('Terugvordering reiskosten OAH'!BC194=0,\"\",'Terugvordering reiskosten OAH'!BC194)","v":""},{"$f":"IF('Terugvordering reiskosten OAH'!BK194=0,\"\",'Terugvordering reiskosten OAH'!BK194)","v":""},{"$f":"IF('Terugvordering reiskosten OAH'!BR194=0,\"\",'Terugvordering reiskosten OAH'!BR194)","v":""},{"$f":"IF('Terugvordering reiskosten OAH'!BZ194=0,\"\",'Terugvordering reiskosten OAH'!BZ194)","v":""},{"$f":"IF('Terugvordering reiskosten OAH'!CG194=\"\",\"\",'Terugvordering reiskosten OAH'!CG194)","v":""},{"$f":"IF('Terugvordering reiskosten OAH'!CM194=0,\"\",'Terugvordering reiskosten OAH'!CM194)","v":""}]
[{"$f":"IF('Terugvordering reiskosten OAH'!D195=\"\",\"\",IF('Terugvordering reiskosten OAH'!$T$36=\"\",\"\",'Terugvordering reiskosten OAH'!$T$36))","v":""},{"$f":"IF(A123=\"\",\"\",'Terugvordering reiskosten OAH'!$T$38)","v":""},{"$f":"IF(A123=\"\",\"\",'gegevensblad samenvatting vord.'!$C$2)","v":""},{"$f":"IF('Terugvordering reiskosten OAH'!D195=\"\",\"\",TEXT('Terugvordering reiskosten OAH'!D195,\"mm-jjjj\"))","v":""},{"$f":"IF('Terugvordering reiskosten OAH'!H195=\"\",\"\",'Terugvordering reiskosten OAH'!H195)","v":""},{"$f":"IF('Terugvordering reiskosten OAH'!R195=\"\",\"\",'Terugvordering reiskosten OAH'!R195)","v":""},{"$f":"IF('Terugvordering reiskosten OAH'!X195=\"\",\"\",'Terugvordering reiskosten OAH'!X195)","v":""},{"$f":"IF('Terugvordering reiskosten OAH'!AJ195=\"\",\"\",'Terugvordering reiskosten OAH'!AJ195)","v":""},{"$f":"IF('Terugvordering reiskosten OAH'!AR195=\"\",\"\",'Terugvordering reiskosten OAH'!AR195)","v":""},{"$f":"IF('Terugvordering reiskosten OAH'!AY195=\"\",\"\",'Terugvordering reiskosten OAH'!AY195)","v":""},{"$f":"IF('Terugvordering reiskosten OAH'!BC195=0,\"\",'Terugvordering reiskosten OAH'!BC195)","v":""},{"$f":"IF('Terugvordering reiskosten OAH'!BK195=0,\"\",'Terugvordering reiskosten OAH'!BK195)","v":""},{"$f":"IF('Terugvordering reiskosten OAH'!BR195=0,\"\",'Terugvordering reiskosten OAH'!BR195)","v":""},{"$f":"IF('Terugvordering reiskosten OAH'!BZ195=0,\"\",'Terugvordering reiskosten OAH'!BZ195)","v":""},{"$f":"IF('Terugvordering reiskosten OAH'!CG195=\"\",\"\",'Terugvordering reiskosten OAH'!CG195)","v":""},{"$f":"IF('Terugvordering reiskosten OAH'!CM195=0,\"\",'Terugvordering reiskosten OAH'!CM195)","v":""}]
[{"$f":"IF('Terugvordering reiskosten OAH'!D196=\"\",\"\",IF('Terugvordering reiskosten OAH'!$T$36=\"\",\"\",'Terugvordering reiskosten OAH'!$T$36))","v":""},{"$f":"IF(A124=\"\",\"\",'Terugvordering reiskosten OAH'!$T$38)","v":""},{"$f":"IF(A124=\"\",\"\",'gegevensblad samenvatting vord.'!$C$2)","v":""},{"$f":"IF('Terugvordering reiskosten OAH'!D196=\"\",\"\",TEXT('Terugvordering reiskosten OAH'!D196,\"mm-jjjj\"))","v":""},{"$f":"IF('Terugvordering reiskosten OAH'!H196=\"\",\"\",'Terugvordering reiskosten OAH'!H196)","v":""},{"$f":"IF('Terugvordering reiskosten OAH'!R196=\"\",\"\",'Terugvordering reiskosten OAH'!R196)","v":""},{"$f":"IF('Terugvordering reiskosten OAH'!X196=\"\",\"\",'Terugvordering reiskosten OAH'!X196)","v":""},{"$f":"IF('Terugvordering reiskosten OAH'!AJ196=\"\",\"\",'Terugvordering reiskosten OAH'!AJ196)","v":""},{"$f":"IF('Terugvordering reiskosten OAH'!AR196=\"\",\"\",'Terugvordering reiskosten OAH'!AR196)","v":""},{"$f":"IF('Terugvordering reiskosten OAH'!AY196=\"\",\"\",'Terugvordering reiskosten OAH'!AY196)","v":""},{"$f":"IF('Terugvordering reiskosten OAH'!BC196=0,\"\",'Terugvordering reiskosten OAH'!BC196)","v":""},{"$f":"IF('Terugvordering reiskosten OAH'!BK196=0,\"\",'Terugvordering reiskosten OAH'!BK196)","v":""},{"$f":"IF('Terugvordering reiskosten OAH'!BR196=0,\"\",'Terugvordering reiskosten OAH'!BR196)","v":""},{"$f":"IF('Terugvordering reiskosten OAH'!BZ196=0,\"\",'Terugvordering reiskosten OAH'!BZ196)","v":""},{"$f":"IF('Terugvordering reiskosten OAH'!CG196=\"\",\"\",'Terugvordering reiskosten OAH'!CG196)","v":""},{"$f":"IF('Terugvordering reiskosten OAH'!CM196=0,\"\",'Terugvordering reiskosten OAH'!CM196)","v":""}]
[{"$f":"IF('Terugvordering reiskosten OAH'!D197=\"\",\"\",IF('Terugvordering reiskosten OAH'!$T$36=\"\",\"\",'Terugvordering reiskosten OAH'!$T$36))","v":""},{"$f":"IF(A125=\"\",\"\",'Terugvordering reiskosten OAH'!$T$38)","v":""},{"$f":"IF(A125=\"\",\"\",'gegevensblad samenvatting vord.'!$C$2)","v":""},{"$f":"IF('Terugvordering reiskosten OAH'!D197=\"\",\"\",TEXT('Terugvordering reiskosten OAH'!D197,\"mm-jjjj\"))","v":""},{"$f":"IF('Terugvordering reiskosten OAH'!H197=\"\",\"\",'Terugvordering reiskosten OAH'!H197)","v":""},{"$f":"IF('Terugvordering reiskosten OAH'!R197=\"\",\"\",'Terugvordering reiskosten OAH'!R197)","v":""},{"$f":"IF('Terugvordering reiskosten OAH'!X197=\"\",\"\",'Terugvordering reiskosten OAH'!X197)","v":""},{"$f":"IF('Terugvordering reiskosten OAH'!AJ197=\"\",\"\",'Terugvordering reiskosten OAH'!AJ197)","v":""},{"$f":"IF('Terugvordering reiskosten OAH'!AR197=\"\",\"\",'Terugvordering reiskosten OAH'!AR197)","v":""},{"$f":"IF('Terugvordering reiskosten OAH'!AY197=\"\",\"\",'Terugvordering reiskosten OAH'!AY197)","v":""},{"$f":"IF('Terugvordering reiskosten OAH'!BC197=0,\"\",'Terugvordering reiskosten OAH'!BC197)","v":""},{"$f":"IF('Terugvordering reiskosten OAH'!BK197=0,\"\",'Terugvordering reiskosten OAH'!BK197)","v":""},{"$f":"IF('Terugvordering reiskosten OAH'!BR197=0,\"\",'Terugvordering reiskosten OAH'!BR197)","v":""},{"$f":"IF('Terugvordering reiskosten OAH'!BZ197=0,\"\",'Terugvordering reiskosten OAH'!BZ197)","v":""},{"$f":"IF('Terugvordering reiskosten OAH'!CG197=\"\",\"\",'Terugvordering reiskosten OAH'!CG197)","v":""},{"$f":"IF('Terugvordering reiskosten OAH'!CM197=0,\"\",'Terugvordering reiskosten OAH'!CM197)","v":""}]
[{"$f":"IF('Terugvordering reiskosten OAH'!D198=\"\",\"\",IF('Terugvordering reiskosten OAH'!$T$36=\"\",\"\",'Terugvordering reiskosten OAH'!$T$36))","v":""},{"$f":"IF(A126=\"\",\"\",'Terugvordering reiskosten OAH'!$T$38)","v":""},{"$f":"IF(A126=\"\",\"\",'gegevensblad samenvatting vord.'!$C$2)","v":""},{"$f":"IF('Terugvordering reiskosten OAH'!D198=\"\",\"\",TEXT('Terugvordering reiskosten OAH'!D198,\"mm-jjjj\"))","v":""},{"$f":"IF('Terugvordering reiskosten OAH'!H198=\"\",\"\",'Terugvordering reiskosten OAH'!H198)","v":""},{"$f":"IF('Terugvordering reiskosten OAH'!R198=\"\",\"\",'Terugvordering reiskosten OAH'!R198)","v":""},{"$f":"IF('Terugvordering reiskosten OAH'!X198=\"\",\"\",'Terugvordering reiskosten OAH'!X198)","v":""},{"$f":"IF('Terugvordering reiskosten OAH'!AJ198=\"\",\"\",'Terugvordering reiskosten OAH'!AJ198)","v":""},{"$f":"IF('Terugvordering reiskosten OAH'!AR198=\"\",\"\",'Terugvordering reiskosten OAH'!AR198)","v":""},{"$f":"IF('Terugvordering reiskosten OAH'!AY198=\"\",\"\",'Terugvordering reiskosten OAH'!AY198)","v":""},{"$f":"IF('Terugvordering reiskosten OAH'!BC198=0,\"\",'Terugvordering reiskosten OAH'!BC198)","v":""},{"$f":"IF('Terugvordering reiskosten OAH'!BK198=0,\"\",'Terugvordering reiskosten OAH'!BK198)","v":""},{"$f":"IF('Terugvordering reiskosten OAH'!BR198=0,\"\",'Terugvordering reiskosten OAH'!BR198)","v":""},{"$f":"IF('Terugvordering reiskosten OAH'!BZ198=0,\"\",'Terugvordering reiskosten OAH'!BZ198)","v":""},{"$f":"IF('Terugvordering reiskosten OAH'!CG198=\"\",\"\",'Terugvordering reiskosten OAH'!CG198)","v":""},{"$f":"IF('Terugvordering reiskosten OAH'!CM198=0,\"\",'Terugvordering reiskosten OAH'!CM198)","v":""}]
[{"$f":"IF('Terugvordering reiskosten OAH'!D199=\"\",\"\",IF('Terugvordering reiskosten OAH'!$T$36=\"\",\"\",'Terugvordering reiskosten OAH'!$T$36))","v":""},{"$f":"IF(A127=\"\",\"\",'Terugvordering reiskosten OAH'!$T$38)","v":""},{"$f":"IF(A127=\"\",\"\",'gegevensblad samenvatting vord.'!$C$2)","v":""},{"$f":"IF('Terugvordering reiskosten OAH'!D199=\"\",\"\",TEXT('Terugvordering reiskosten OAH'!D199,\"mm-jjjj\"))","v":""},{"$f":"IF('Terugvordering reiskosten OAH'!H199=\"\",\"\",'Terugvordering reiskosten OAH'!H199)","v":""},{"$f":"IF('Terugvordering reiskosten OAH'!R199=\"\",\"\",'Terugvordering reiskosten OAH'!R199)","v":""},{"$f":"IF('Terugvordering reiskosten OAH'!X199=\"\",\"\",'Terugvordering reiskosten OAH'!X199)","v":""},{"$f":"IF('Terugvordering reiskosten OAH'!AJ199=\"\",\"\",'Terugvordering reiskosten OAH'!AJ199)","v":""},{"$f":"IF('Terugvordering reiskosten OAH'!AR199=\"\",\"\",'Terugvordering reiskosten OAH'!AR199)","v":""},{"$f":"IF('Terugvordering reiskosten OAH'!AY199=\"\",\"\",'Terugvordering reiskosten OAH'!AY199)","v":""},{"$f":"IF('Terugvordering reiskosten OAH'!BC199=0,\"\",'Terugvordering reiskosten OAH'!BC199)","v":""},{"$f":"IF('Terugvordering reiskosten OAH'!BK199=0,\"\",'Terugvordering reiskosten OAH'!BK199)","v":""},{"$f":"IF('Terugvordering reiskosten OAH'!BR199=0,\"\",'Terugvordering reiskosten OAH'!BR199)","v":""},{"$f":"IF('Terugvordering reiskosten OAH'!BZ199=0,\"\",'Terugvordering reiskosten OAH'!BZ199)","v":""},{"$f":"IF('Terugvordering reiskosten OAH'!CG199=\"\",\"\",'Terugvordering reiskosten OAH'!CG199)","v":""},{"$f":"IF('Terugvordering reiskosten OAH'!CM199=0,\"\",'Terugvordering reiskosten OAH'!CM199)","v":""}]
[{"$f":"IF('Terugvordering reiskosten OAH'!D200=\"\",\"\",IF('Terugvordering reiskosten OAH'!$T$36=\"\",\"\",'Terugvordering reiskosten OAH'!$T$36))","v":""},{"$f":"IF(A128=\"\",\"\",'Terugvordering reiskosten OAH'!$T$38)","v":""},{"$f":"IF(A128=\"\",\"\",'gegevensblad samenvatting vord.'!$C$2)","v":""},{"$f":"IF('Terugvordering reiskosten OAH'!D200=\"\",\"\",TEXT('Terugvordering reiskosten OAH'!D200,\"mm-jjjj\"))","v":""},{"$f":"IF('Terugvordering reiskosten OAH'!H200=\"\",\"\",'Terugvordering reiskosten OAH'!H200)","v":""},{"$f":"IF('Terugvordering reiskosten OAH'!R200=\"\",\"\",'Terugvordering reiskosten OAH'!R200)","v":""},{"$f":"IF('Terugvordering reiskosten OAH'!X200=\"\",\"\",'Terugvordering reiskosten OAH'!X200)","v":""},{"$f":"IF('Terugvordering reiskosten OAH'!AJ200=\"\",\"\",'Terugvordering reiskosten OAH'!AJ200)","v":""},{"$f":"IF('Terugvordering reiskosten OAH'!AR200=\"\",\"\",'Terugvordering reiskosten OAH'!AR200)","v":""},{"$f":"IF('Terugvordering reiskosten OAH'!AY200=\"\",\"\",'Terugvordering reiskosten OAH'!AY200)","v":""},{"$f":"IF('Terugvordering reiskosten OAH'!BC200=0,\"\",'Terugvordering reiskosten OAH'!BC200)","v":""},{"$f":"IF('Terugvordering reiskosten OAH'!BK200=0,\"\",'Terugvordering reiskosten OAH'!BK200)","v":""},{"$f":"IF('Terugvordering reiskosten OAH'!BR200=0,\"\",'Terugvordering reiskosten OAH'!BR200)","v":""},{"$f":"IF('Terugvordering reiskosten OAH'!BZ200=0,\"\",'Terugvordering reiskosten OAH'!BZ200)","v":""},{"$f":"IF('Terugvordering reiskosten OAH'!CG200=\"\",\"\",'Terugvordering reiskosten OAH'!CG200)","v":""},{"$f":"IF('Terugvordering reiskosten OAH'!CM200=0,\"\",'Terugvordering reiskosten OAH'!CM200)","v":""}]
[{"$f":"IF('Terugvordering reiskosten OAH'!D201=\"\",\"\",IF('Terugvordering reiskosten OAH'!$T$36=\"\",\"\",'Terugvordering reiskosten OAH'!$T$36))","v":""},{"$f":"IF(A129=\"\",\"\",'Terugvordering reiskosten OAH'!$T$38)","v":""},{"$f":"IF(A129=\"\",\"\",'gegevensblad samenvatting vord.'!$C$2)","v":""},{"$f":"IF('Terugvordering reiskosten OAH'!D201=\"\",\"\",TEXT('Terugvordering reiskosten OAH'!D201,\"mm-jjjj\"))","v":""},{"$f":"IF('Terugvordering reiskosten OAH'!H201=\"\",\"\",'Terugvordering reiskosten OAH'!H201)","v":""},{"$f":"IF('Terugvordering reiskosten OAH'!R201=\"\",\"\",'Terugvordering reiskosten OAH'!R201)","v":""},{"$f":"IF('Terugvordering reiskosten OAH'!X201=\"\",\"\",'Terugvordering reiskosten OAH'!X201)","v":""},{"$f":"IF('Terugvordering reiskosten OAH'!AJ201=\"\",\"\",'Terugvordering reiskosten OAH'!AJ201)","v":""},{"$f":"IF('Terugvordering reiskosten OAH'!AR201=\"\",\"\",'Terugvordering reiskosten OAH'!AR201)","v":""},{"$f":"IF('Terugvordering reiskosten OAH'!AY201=\"\",\"\",'Terugvordering reiskosten OAH'!AY201)","v":""},{"$f":"IF('Terugvordering reiskosten OAH'!BC201=0,\"\",'Terugvordering reiskosten OAH'!BC201)","v":""},{"$f":"IF('Terugvordering reiskosten OAH'!BK201=0,\"\",'Terugvordering reiskosten OAH'!BK201)","v":""},{"$f":"IF('Terugvordering reiskosten OAH'!BR201=0,\"\",'Terugvordering reiskosten OAH'!BR201)","v":""},{"$f":"IF('Terugvordering reiskosten OAH'!BZ201=0,\"\",'Terugvordering reiskosten OAH'!BZ201)","v":""},{"$f":"IF('Terugvordering reiskosten OAH'!CG201=\"\",\"\",'Terugvordering reiskosten OAH'!CG201)","v":""},{"$f":"IF('Terugvordering reiskosten OAH'!CM201=0,\"\",'Terugvordering reiskosten OAH'!CM201)","v":""}]
[{"$f":"IF('Terugvordering reiskosten OAH'!D202=\"\",\"\",IF('Terugvordering reiskosten OAH'!$T$36=\"\",\"\",'Terugvordering reiskosten OAH'!$T$36))","v":""},{"$f":"IF(A130=\"\",\"\",'Terugvordering reiskosten OAH'!$T$38)","v":""},{"$f":"IF(A130=\"\",\"\",'gegevensblad samenvatting vord.'!$C$2)","v":""},{"$f":"IF('Terugvordering reiskosten OAH'!D202=\"\",\"\",TEXT('Terugvordering reiskosten OAH'!D202,\"mm-jjjj\"))","v":""},{"$f":"IF('Terugvordering reiskosten OAH'!H202=\"\",\"\",'Terugvordering reiskosten OAH'!H202)","v":""},{"$f":"IF('Terugvordering reiskosten OAH'!R202=\"\",\"\",'Terugvordering reiskosten OAH'!R202)","v":""},{"$f":"IF('Terugvordering reiskosten OAH'!X202=\"\",\"\",'Terugvordering reiskosten OAH'!X202)","v":""},{"$f":"IF('Terugvordering reiskosten OAH'!AJ202=\"\",\"\",'Terugvordering reiskosten OAH'!AJ202)","v":""},{"$f":"IF('Terugvordering reiskosten OAH'!AR202=\"\",\"\",'Terugvordering reiskosten OAH'!AR202)","v":""},{"$f":"IF('Terugvordering reiskosten OAH'!AY202=\"\",\"\",'Terugvordering reiskosten OAH'!AY202)","v":""},{"$f":"IF('Terugvordering reiskosten OAH'!BC202=0,\"\",'Terugvordering reiskosten OAH'!BC202)","v":""},{"$f":"IF('Terugvordering reiskosten OAH'!BK202=0,\"\",'Terugvordering reiskosten OAH'!BK202)","v":""},{"$f":"IF('Terugvordering reiskosten OAH'!BR202=0,\"\",'Terugvordering reiskosten OAH'!BR202)","v":""},{"$f":"IF('Terugvordering reiskosten OAH'!BZ202=0,\"\",'Terugvordering reiskosten OAH'!BZ202)","v":""},{"$f":"IF('Terugvordering reiskosten OAH'!CG202=\"\",\"\",'Terugvordering reiskosten OAH'!CG202)","v":""},{"$f":"IF('Terugvordering reiskosten OAH'!CM202=0,\"\",'Terugvordering reiskosten OAH'!CM202)","v":""}]
[{"$f":"IF('Terugvordering reiskosten OAH'!D203=\"\",\"\",IF('Terugvordering reiskosten OAH'!$T$36=\"\",\"\",'Terugvordering reiskosten OAH'!$T$36))","v":""},{"$f":"IF(A131=\"\",\"\",'Terugvordering reiskosten OAH'!$T$38)","v":""},{"$f":"IF(A131=\"\",\"\",'gegevensblad samenvatting vord.'!$C$2)","v":""},{"$f":"IF('Terugvordering reiskosten OAH'!D203=\"\",\"\",TEXT('Terugvordering reiskosten OAH'!D203,\"mm-jjjj\"))","v":""},{"$f":"IF('Terugvordering reiskosten OAH'!H203=\"\",\"\",'Terugvordering reiskosten OAH'!H203)","v":""},{"$f":"IF('Terugvordering reiskosten OAH'!R203=\"\",\"\",'Terugvordering reiskosten OAH'!R203)","v":""},{"$f":"IF('Terugvordering reiskosten OAH'!X203=\"\",\"\",'Terugvordering reiskosten OAH'!X203)","v":""},{"$f":"IF('Terugvordering reiskosten OAH'!AJ203=\"\",\"\",'Terugvordering reiskosten OAH'!AJ203)","v":""},{"$f":"IF('Terugvordering reiskosten OAH'!AR203=\"\",\"\",'Terugvordering reiskosten OAH'!AR203)","v":""},{"$f":"IF('Terugvordering reiskosten OAH'!AY203=\"\",\"\",'Terugvordering reiskosten OAH'!AY203)","v":""},{"$f":"IF('Terugvordering reiskosten OAH'!BC203=0,\"\",'Terugvordering reiskosten OAH'!BC203)","v":""},{"$f":"IF('Terugvordering reiskosten OAH'!BK203=0,\"\",'Terugvordering reiskosten OAH'!BK203)","v":""},{"$f":"IF('Terugvordering reiskosten OAH'!BR203=0,\"\",'Terugvordering reiskosten OAH'!BR203)","v":""},{"$f":"IF('Terugvordering reiskosten OAH'!BZ203=0,\"\",'Terugvordering reiskosten OAH'!BZ203)","v":""},{"$f":"IF('Terugvordering reiskosten OAH'!CG203=\"\",\"\",'Terugvordering reiskosten OAH'!CG203)","v":""},{"$f":"IF('Terugvordering reiskosten OAH'!CM203=0,\"\",'Terugvordering reiskosten OAH'!CM203)","v":""}]
[{"$f":"IF('Terugvordering reiskosten OAH'!D204=\"\",\"\",IF('Terugvordering reiskosten OAH'!$T$36=\"\",\"\",'Terugvordering reiskosten OAH'!$T$36))","v":""},{"$f":"IF(A132=\"\",\"\",'Terugvordering reiskosten OAH'!$T$38)","v":""},{"$f":"IF(A132=\"\",\"\",'gegevensblad samenvatting vord.'!$C$2)","v":""},{"$f":"IF('Terugvordering reiskosten OAH'!D204=\"\",\"\",TEXT('Terugvordering reiskosten OAH'!D204,\"mm-jjjj\"))","v":""},{"$f":"IF('Terugvordering reiskosten OAH'!H204=\"\",\"\",'Terugvordering reiskosten OAH'!H204)","v":""},{"$f":"IF('Terugvordering reiskosten OAH'!R204=\"\",\"\",'Terugvordering reiskosten OAH'!R204)","v":""},{"$f":"IF('Terugvordering reiskosten OAH'!X204=\"\",\"\",'Terugvordering reiskosten OAH'!X204)","v":""},{"$f":"IF('Terugvordering reiskosten OAH'!AJ204=\"\",\"\",'Terugvordering reiskosten OAH'!AJ204)","v":""},{"$f":"IF('Terugvordering reiskosten OAH'!AR204=\"\",\"\",'Terugvordering reiskosten OAH'!AR204)","v":""},{"$f":"IF('Terugvordering reiskosten OAH'!AY204=\"\",\"\",'Terugvordering reiskosten OAH'!AY204)","v":""},{"$f":"IF('Terugvordering reiskosten OAH'!BC204=0,\"\",'Terugvordering reiskosten OAH'!BC204)","v":""},{"$f":"IF('Terugvordering reiskosten OAH'!BK204=0,\"\",'Terugvordering reiskosten OAH'!BK204)","v":""},{"$f":"IF('Terugvordering reiskosten OAH'!BR204=0,\"\",'Terugvordering reiskosten OAH'!BR204)","v":""},{"$f":"IF('Terugvordering reiskosten OAH'!BZ204=0,\"\",'Terugvordering reiskosten OAH'!BZ204)","v":""},{"$f":"IF('Terugvordering reiskosten OAH'!CG204=\"\",\"\",'Terugvordering reiskosten OAH'!CG204)","v":""},{"$f":"IF('Terugvordering reiskosten OAH'!CM204=0,\"\",'Terugvordering reiskosten OAH'!CM204)","v":""}]
[{"$f":"IF('Terugvordering reiskosten OAH'!D205=\"\",\"\",IF('Terugvordering reiskosten OAH'!$T$36=\"\",\"\",'Terugvordering reiskosten OAH'!$T$36))","v":""},{"$f":"IF(A133=\"\",\"\",'Terugvordering reiskosten OAH'!$T$38)","v":""},{"$f":"IF(A133=\"\",\"\",'gegevensblad samenvatting vord.'!$C$2)","v":""},{"$f":"IF('Terugvordering reiskosten OAH'!D205=\"\",\"\",TEXT('Terugvordering reiskosten OAH'!D205,\"mm-jjjj\"))","v":""},{"$f":"IF('Terugvordering reiskosten OAH'!H205=\"\",\"\",'Terugvordering reiskosten OAH'!H205)","v":""},{"$f":"IF('Terugvordering reiskosten OAH'!R205=\"\",\"\",'Terugvordering reiskosten OAH'!R205)","v":""},{"$f":"IF('Terugvordering reiskosten OAH'!X205=\"\",\"\",'Terugvordering reiskosten OAH'!X205)","v":""},{"$f":"IF('Terugvordering reiskosten OAH'!AJ205=\"\",\"\",'Terugvordering reiskosten OAH'!AJ205)","v":""},{"$f":"IF('Terugvordering reiskosten OAH'!AR205=\"\",\"\",'Terugvordering reiskosten OAH'!AR205)","v":""},{"$f":"IF('Terugvordering reiskosten OAH'!AY205=\"\",\"\",'Terugvordering reiskosten OAH'!AY205)","v":""},{"$f":"IF('Terugvordering reiskosten OAH'!BC205=0,\"\",'Terugvordering reiskosten OAH'!BC205)","v":""},{"$f":"IF('Terugvordering reiskosten OAH'!BK205=0,\"\",'Terugvordering reiskosten OAH'!BK205)","v":""},{"$f":"IF('Terugvordering reiskosten OAH'!BR205=0,\"\",'Terugvordering reiskosten OAH'!BR205)","v":""},{"$f":"IF('Terugvordering reiskosten OAH'!BZ205=0,\"\",'Terugvordering reiskosten OAH'!BZ205)","v":""},{"$f":"IF('Terugvordering reiskosten OAH'!CG205=\"\",\"\",'Terugvordering reiskosten OAH'!CG205)","v":""},{"$f":"IF('Terugvordering reiskosten OAH'!CM205=0,\"\",'Terugvordering reiskosten OAH'!CM205)","v":""}]
[{"$f":"IF('Terugvordering reiskosten OAH'!D206=\"\",\"\",IF('Terugvordering reiskosten OAH'!$T$36=\"\",\"\",'Terugvordering reiskosten OAH'!$T$36))","v":""},{"$f":"IF(A134=\"\",\"\",'Terugvordering reiskosten OAH'!$T$38)","v":""},{"$f":"IF(A134=\"\",\"\",'gegevensblad samenvatting vord.'!$C$2)","v":""},{"$f":"IF('Terugvordering reiskosten OAH'!D206=\"\",\"\",TEXT('Terugvordering reiskosten OAH'!D206,\"mm-jjjj\"))","v":""},{"$f":"IF('Terugvordering reiskosten OAH'!H206=\"\",\"\",'Terugvordering reiskosten OAH'!H206)","v":""},{"$f":"IF('Terugvordering reiskosten OAH'!R206=\"\",\"\",'Terugvordering reiskosten OAH'!R206)","v":""},{"$f":"IF('Terugvordering reiskosten OAH'!X206=\"\",\"\",'Terugvordering reiskosten OAH'!X206)","v":""},{"$f":"IF('Terugvordering reiskosten OAH'!AJ206=\"\",\"\",'Terugvordering reiskosten OAH'!AJ206)","v":""},{"$f":"IF('Terugvordering reiskosten OAH'!AR206=\"\",\"\",'Terugvordering reiskosten OAH'!AR206)","v":""},{"$f":"IF('Terugvordering reiskosten OAH'!AY206=\"\",\"\",'Terugvordering reiskosten OAH'!AY206)","v":""},{"$f":"IF('Terugvordering reiskosten OAH'!BC206=0,\"\",'Terugvordering reiskosten OAH'!BC206)","v":""},{"$f":"IF('Terugvordering reiskosten OAH'!BK206=0,\"\",'Terugvordering reiskosten OAH'!BK206)","v":""},{"$f":"IF('Terugvordering reiskosten OAH'!BR206=0,\"\",'Terugvordering reiskosten OAH'!BR206)","v":""},{"$f":"IF('Terugvordering reiskosten OAH'!BZ206=0,\"\",'Terugvordering reiskosten OAH'!BZ206)","v":""},{"$f":"IF('Terugvordering reiskosten OAH'!CG206=\"\",\"\",'Terugvordering reiskosten OAH'!CG206)","v":""},{"$f":"IF('Terugvordering reiskosten OAH'!CM206=0,\"\",'Terugvordering reiskosten OAH'!CM206)","v":""}]
[{"$f":"IF('Terugvordering reiskosten OAH'!D207=\"\",\"\",IF('Terugvordering reiskosten OAH'!$T$36=\"\",\"\",'Terugvordering reiskosten OAH'!$T$36))","v":""},{"$f":"IF(A135=\"\",\"\",'Terugvordering reiskosten OAH'!$T$38)","v":""},{"$f":"IF(A135=\"\",\"\",'gegevensblad samenvatting vord.'!$C$2)","v":""},{"$f":"IF('Terugvordering reiskosten OAH'!D207=\"\",\"\",TEXT('Terugvordering reiskosten OAH'!D207,\"mm-jjjj\"))","v":""},{"$f":"IF('Terugvordering reiskosten OAH'!H207=\"\",\"\",'Terugvordering reiskosten OAH'!H207)","v":""},{"$f":"IF('Terugvordering reiskosten OAH'!R207=\"\",\"\",'Terugvordering reiskosten OAH'!R207)","v":""},{"$f":"IF('Terugvordering reiskosten OAH'!X207=\"\",\"\",'Terugvordering reiskosten OAH'!X207)","v":""},{"$f":"IF('Terugvordering reiskosten OAH'!AJ207=\"\",\"\",'Terugvordering reiskosten OAH'!AJ207)","v":""},{"$f":"IF('Terugvordering reiskosten OAH'!AR207=\"\",\"\",'Terugvordering reiskosten OAH'!AR207)","v":""},{"$f":"IF('Terugvordering reiskosten OAH'!AY207=\"\",\"\",'Terugvordering reiskosten OAH'!AY207)","v":""},{"$f":"IF('Terugvordering reiskosten OAH'!BC207=0,\"\",'Terugvordering reiskosten OAH'!BC207)","v":""},{"$f":"IF('Terugvordering reiskosten OAH'!BK207=0,\"\",'Terugvordering reiskosten OAH'!BK207)","v":""},{"$f":"IF('Terugvordering reiskosten OAH'!BR207=0,\"\",'Terugvordering reiskosten OAH'!BR207)","v":""},{"$f":"IF('Terugvordering reiskosten OAH'!BZ207=0,\"\",'Terugvordering reiskosten OAH'!BZ207)","v":""},{"$f":"IF('Terugvordering reiskosten OAH'!CG207=\"\",\"\",'Terugvordering reiskosten OAH'!CG207)","v":""},{"$f":"IF('Terugvordering reiskosten OAH'!CM207=0,\"\",'Terugvordering reiskosten OAH'!CM207)","v":""}]
[{"$f":"IF('Terugvordering reiskosten OAH'!D208=\"\",\"\",IF('Terugvordering reiskosten OAH'!$T$36=\"\",\"\",'Terugvordering reiskosten OAH'!$T$36))","v":""},{"$f":"IF(A136=\"\",\"\",'Terugvordering reiskosten OAH'!$T$38)","v":""},{"$f":"IF(A136=\"\",\"\",'gegevensblad samenvatting vord.'!$C$2)","v":""},{"$f":"IF('Terugvordering reiskosten OAH'!D208=\"\",\"\",TEXT('Terugvordering reiskosten OAH'!D208,\"mm-jjjj\"))","v":""},{"$f":"IF('Terugvordering reiskosten OAH'!H208=\"\",\"\",'Terugvordering reiskosten OAH'!H208)","v":""},{"$f":"IF('Terugvordering reiskosten OAH'!R208=\"\",\"\",'Terugvordering reiskosten OAH'!R208)","v":""},{"$f":"IF('Terugvordering reiskosten OAH'!X208=\"\",\"\",'Terugvordering reiskosten OAH'!X208)","v":""},{"$f":"IF('Terugvordering reiskosten OAH'!AJ208=\"\",\"\",'Terugvordering reiskosten OAH'!AJ208)","v":""},{"$f":"IF('Terugvordering reiskosten OAH'!AR208=\"\",\"\",'Terugvordering reiskosten OAH'!AR208)","v":""},{"$f":"IF('Terugvordering reiskosten OAH'!AY208=\"\",\"\",'Terugvordering reiskosten OAH'!AY208)","v":""},{"$f":"IF('Terugvordering reiskosten OAH'!BC208=0,\"\",'Terugvordering reiskosten OAH'!BC208)","v":""},{"$f":"IF('Terugvordering reiskosten OAH'!BK208=0,\"\",'Terugvordering reiskosten OAH'!BK208)","v":""},{"$f":"IF('Terugvordering reiskosten OAH'!BR208=0,\"\",'Terugvordering reiskosten OAH'!BR208)","v":""},{"$f":"IF('Terugvordering reiskosten OAH'!BZ208=0,\"\",'Terugvordering reiskosten OAH'!BZ208)","v":""},{"$f":"IF('Terugvordering reiskosten OAH'!CG208=\"\",\"\",'Terugvordering reiskosten OAH'!CG208)","v":""},{"$f":"IF('Terugvordering reiskosten OAH'!CM208=0,\"\",'Terugvordering reiskosten OAH'!CM208)","v":""}]
[{"$f":"IF('Terugvordering reiskosten OAH'!D209=\"\",\"\",IF('Terugvordering reiskosten OAH'!$T$36=\"\",\"\",'Terugvordering reiskosten OAH'!$T$36))","v":""},{"$f":"IF(A137=\"\",\"\",'Terugvordering reiskosten OAH'!$T$38)","v":""},{"$f":"IF(A137=\"\",\"\",'gegevensblad samenvatting vord.'!$C$2)","v":""},{"$f":"IF('Terugvordering reiskosten OAH'!D209=\"\",\"\",TEXT('Terugvordering reiskosten OAH'!D209,\"mm-jjjj\"))","v":""},{"$f":"IF('Terugvordering reiskosten OAH'!H209=\"\",\"\",'Terugvordering reiskosten OAH'!H209)","v":""},{"$f":"IF('Terugvordering reiskosten OAH'!R209=\"\",\"\",'Terugvordering reiskosten OAH'!R209)","v":""},{"$f":"IF('Terugvordering reiskosten OAH'!X209=\"\",\"\",'Terugvordering reiskosten OAH'!X209)","v":""},{"$f":"IF('Terugvordering reiskosten OAH'!AJ209=\"\",\"\",'Terugvordering reiskosten OAH'!AJ209)","v":""},{"$f":"IF('Terugvordering reiskosten OAH'!AR209=\"\",\"\",'Terugvordering reiskosten OAH'!AR209)","v":""},{"$f":"IF('Terugvordering reiskosten OAH'!AY209=\"\",\"\",'Terugvordering reiskosten OAH'!AY209)","v":""},{"$f":"IF('Terugvordering reiskosten OAH'!BC209=0,\"\",'Terugvordering reiskosten OAH'!BC209)","v":""},{"$f":"IF('Terugvordering reiskosten OAH'!BK209=0,\"\",'Terugvordering reiskosten OAH'!BK209)","v":""},{"$f":"IF('Terugvordering reiskosten OAH'!BR209=0,\"\",'Terugvordering reiskosten OAH'!BR209)","v":""},{"$f":"IF('Terugvordering reiskosten OAH'!BZ209=0,\"\",'Terugvordering reiskosten OAH'!BZ209)","v":""},{"$f":"IF('Terugvordering reiskosten OAH'!CG209=\"\",\"\",'Terugvordering reiskosten OAH'!CG209)","v":""},{"$f":"IF('Terugvordering reiskosten OAH'!CM209=0,\"\",'Terugvordering reiskosten OAH'!CM209)","v":""}]
[{"$f":"IF('Terugvordering reiskosten OAH'!D210=\"\",\"\",IF('Terugvordering reiskosten OAH'!$T$36=\"\",\"\",'Terugvordering reiskosten OAH'!$T$36))","v":""},{"$f":"IF(A138=\"\",\"\",'Terugvordering reiskosten OAH'!$T$38)","v":""},{"$f":"IF(A138=\"\",\"\",'gegevensblad samenvatting vord.'!$C$2)","v":""},{"$f":"IF('Terugvordering reiskosten OAH'!D210=\"\",\"\",TEXT('Terugvordering reiskosten OAH'!D210,\"mm-jjjj\"))","v":""},{"$f":"IF('Terugvordering reiskosten OAH'!H210=\"\",\"\",'Terugvordering reiskosten OAH'!H210)","v":""},{"$f":"IF('Terugvordering reiskosten OAH'!R210=\"\",\"\",'Terugvordering reiskosten OAH'!R210)","v":""},{"$f":"IF('Terugvordering reiskosten OAH'!X210=\"\",\"\",'Terugvordering reiskosten OAH'!X210)","v":""},{"$f":"IF('Terugvordering reiskosten OAH'!AJ210=\"\",\"\",'Terugvordering reiskosten OAH'!AJ210)","v":""},{"$f":"IF('Terugvordering reiskosten OAH'!AR210=\"\",\"\",'Terugvordering reiskosten OAH'!AR210)","v":""},{"$f":"IF('Terugvordering reiskosten OAH'!AY210=\"\",\"\",'Terugvordering reiskosten OAH'!AY210)","v":""},{"$f":"IF('Terugvordering reiskosten OAH'!BC210=0,\"\",'Terugvordering reiskosten OAH'!BC210)","v":""},{"$f":"IF('Terugvordering reiskosten OAH'!BK210=0,\"\",'Terugvordering reiskosten OAH'!BK210)","v":""},{"$f":"IF('Terugvordering reiskosten OAH'!BR210=0,\"\",'Terugvordering reiskosten OAH'!BR210)","v":""},{"$f":"IF('Terugvordering reiskosten OAH'!BZ210=0,\"\",'Terugvordering reiskosten OAH'!BZ210)","v":""},{"$f":"IF('Terugvordering reiskosten OAH'!CG210=\"\",\"\",'Terugvordering reiskosten OAH'!CG210)","v":""},{"$f":"IF('Terugvordering reiskosten OAH'!CM210=0,\"\",'Terugvordering reiskosten OAH'!CM210)","v":""}]
[{"$f":"IF('Terugvordering reiskosten OAH'!D211=\"\",\"\",IF('Terugvordering reiskosten OAH'!$T$36=\"\",\"\",'Terugvordering reiskosten OAH'!$T$36))","v":""},{"$f":"IF(A139=\"\",\"\",'Terugvordering reiskosten OAH'!$T$38)","v":""},{"$f":"IF(A139=\"\",\"\",'gegevensblad samenvatting vord.'!$C$2)","v":""},{"$f":"IF('Terugvordering reiskosten OAH'!D211=\"\",\"\",TEXT('Terugvordering reiskosten OAH'!D211,\"mm-jjjj\"))","v":""},{"$f":"IF('Terugvordering reiskosten OAH'!H211=\"\",\"\",'Terugvordering reiskosten OAH'!H211)","v":""},{"$f":"IF('Terugvordering reiskosten OAH'!R211=\"\",\"\",'Terugvordering reiskosten OAH'!R211)","v":""},{"$f":"IF('Terugvordering reiskosten OAH'!X211=\"\",\"\",'Terugvordering reiskosten OAH'!X211)","v":""},{"$f":"IF('Terugvordering reiskosten OAH'!AJ211=\"\",\"\",'Terugvordering reiskosten OAH'!AJ211)","v":""},{"$f":"IF('Terugvordering reiskosten OAH'!AR211=\"\",\"\",'Terugvordering reiskosten OAH'!AR211)","v":""},{"$f":"IF('Terugvordering reiskosten OAH'!AY211=\"\",\"\",'Terugvordering reiskosten OAH'!AY211)","v":""},{"$f":"IF('Terugvordering reiskosten OAH'!BC211=0,\"\",'Terugvordering reiskosten OAH'!BC211)","v":""},{"$f":"IF('Terugvordering reiskosten OAH'!BK211=0,\"\",'Terugvordering reiskosten OAH'!BK211)","v":""},{"$f":"IF('Terugvordering reiskosten OAH'!BR211=0,\"\",'Terugvordering reiskosten OAH'!BR211)","v":""},{"$f":"IF('Terugvordering reiskosten OAH'!BZ211=0,\"\",'Terugvordering reiskosten OAH'!BZ211)","v":""},{"$f":"IF('Terugvordering reiskosten OAH'!CG211=\"\",\"\",'Terugvordering reiskosten OAH'!CG211)","v":""},{"$f":"IF('Terugvordering reiskosten OAH'!CM211=0,\"\",'Terugvordering reiskosten OAH'!CM211)","v":""}]
[{"$f":"IF('Terugvordering reiskosten OAH'!D212=\"\",\"\",IF('Terugvordering reiskosten OAH'!$T$36=\"\",\"\",'Terugvordering reiskosten OAH'!$T$36))","v":""},{"$f":"IF(A140=\"\",\"\",'Terugvordering reiskosten OAH'!$T$38)","v":""},{"$f":"IF(A140=\"\",\"\",'gegevensblad samenvatting vord.'!$C$2)","v":""},{"$f":"IF('Terugvordering reiskosten OAH'!D212=\"\",\"\",TEXT('Terugvordering reiskosten OAH'!D212,\"mm-jjjj\"))","v":""},{"$f":"IF('Terugvordering reiskosten OAH'!H212=\"\",\"\",'Terugvordering reiskosten OAH'!H212)","v":""},{"$f":"IF('Terugvordering reiskosten OAH'!R212=\"\",\"\",'Terugvordering reiskosten OAH'!R212)","v":""},{"$f":"IF('Terugvordering reiskosten OAH'!X212=\"\",\"\",'Terugvordering reiskosten OAH'!X212)","v":""},{"$f":"IF('Terugvordering reiskosten OAH'!AJ212=\"\",\"\",'Terugvordering reiskosten OAH'!AJ212)","v":""},{"$f":"IF('Terugvordering reiskosten OAH'!AR212=\"\",\"\",'Terugvordering reiskosten OAH'!AR212)","v":""},{"$f":"IF('Terugvordering reiskosten OAH'!AY212=\"\",\"\",'Terugvordering reiskosten OAH'!AY212)","v":""},{"$f":"IF('Terugvordering reiskosten OAH'!BC212=0,\"\",'Terugvordering reiskosten OAH'!BC212)","v":""},{"$f":"IF('Terugvordering reiskosten OAH'!BK212=0,\"\",'Terugvordering reiskosten OAH'!BK212)","v":""},{"$f":"IF('Terugvordering reiskosten OAH'!BR212=0,\"\",'Terugvordering reiskosten OAH'!BR212)","v":""},{"$f":"IF('Terugvordering reiskosten OAH'!BZ212=0,\"\",'Terugvordering reiskosten OAH'!BZ212)","v":""},{"$f":"IF('Terugvordering reiskosten OAH'!CG212=\"\",\"\",'Terugvordering reiskosten OAH'!CG212)","v":""},{"$f":"IF('Terugvordering reiskosten OAH'!CM212=0,\"\",'Terugvordering reiskosten OAH'!CM212)","v":""}]
[{"$f":"IF('Terugvordering reiskosten OAH'!D213=\"\",\"\",IF('Terugvordering reiskosten OAH'!$T$36=\"\",\"\",'Terugvordering reiskosten OAH'!$T$36))","v":""},{"$f":"IF(A141=\"\",\"\",'Terugvordering reiskosten OAH'!$T$38)","v":""},{"$f":"IF(A141=\"\",\"\",'gegevensblad samenvatting vord.'!$C$2)","v":""},{"$f":"IF('Terugvordering reiskosten OAH'!D213=\"\",\"\",TEXT('Terugvordering reiskosten OAH'!D213,\"mm-jjjj\"))","v":""},{"$f":"IF('Terugvordering reiskosten OAH'!H213=\"\",\"\",'Terugvordering reiskosten OAH'!H213)","v":""},{"$f":"IF('Terugvordering reiskosten OAH'!R213=\"\",\"\",'Terugvordering reiskosten OAH'!R213)","v":""},{"$f":"IF('Terugvordering reiskosten OAH'!X213=\"\",\"\",'Terugvordering reiskosten OAH'!X213)","v":""},{"$f":"IF('Terugvordering reiskosten OAH'!AJ213=\"\",\"\",'Terugvordering reiskosten OAH'!AJ213)","v":""},{"$f":"IF('Terugvordering reiskosten OAH'!AR213=\"\",\"\",'Terugvordering reiskosten OAH'!AR213)","v":""},{"$f":"IF('Terugvordering reiskosten OAH'!AY213=\"\",\"\",'Terugvordering reiskosten OAH'!AY213)","v":""},{"$f":"IF('Terugvordering reiskosten OAH'!BC213=0,\"\",'Terugvordering reiskosten OAH'!BC213)","v":""},{"$f":"IF('Terugvordering reiskosten OAH'!BK213=0,\"\",'Terugvordering reiskosten OAH'!BK213)","v":""},{"$f":"IF('Terugvordering reiskosten OAH'!BR213=0,\"\",'Terugvordering reiskosten OAH'!BR213)","v":""},{"$f":"IF('Terugvordering reiskosten OAH'!BZ213=0,\"\",'Terugvordering reiskosten OAH'!BZ213)","v":""},{"$f":"IF('Terugvordering reiskosten OAH'!CG213=\"\",\"\",'Terugvordering reiskosten OAH'!CG213)","v":""},{"$f":"IF('Terugvordering reiskosten OAH'!CM213=0,\"\",'Terugvordering reiskosten OAH'!CM213)","v":""}]
[{"$f":"IF('Terugvordering reiskosten OAH'!D214=\"\",\"\",IF('Terugvordering reiskosten OAH'!$T$36=\"\",\"\",'Terugvordering reiskosten OAH'!$T$36))","v":""},{"$f":"IF(A142=\"\",\"\",'Terugvordering reiskosten OAH'!$T$38)","v":""},{"$f":"IF(A142=\"\",\"\",'gegevensblad samenvatting vord.'!$C$2)","v":""},{"$f":"IF('Terugvordering reiskosten OAH'!D214=\"\",\"\",TEXT('Terugvordering reiskosten OAH'!D214,\"mm-jjjj\"))","v":""},{"$f":"IF('Terugvordering reiskosten OAH'!H214=\"\",\"\",'Terugvordering reiskosten OAH'!H214)","v":""},{"$f":"IF('Terugvordering reiskosten OAH'!R214=\"\",\"\",'Terugvordering reiskosten OAH'!R214)","v":""},{"$f":"IF('Terugvordering reiskosten OAH'!X214=\"\",\"\",'Terugvordering reiskosten OAH'!X214)","v":""},{"$f":"IF('Terugvordering reiskosten OAH'!AJ214=\"\",\"\",'Terugvordering reiskosten OAH'!AJ214)","v":""},{"$f":"IF('Terugvordering reiskosten OAH'!AR214=\"\",\"\",'Terugvordering reiskosten OAH'!AR214)","v":""},{"$f":"IF('Terugvordering reiskosten OAH'!AY214=\"\",\"\",'Terugvordering reiskosten OAH'!AY214)","v":""},{"$f":"IF('Terugvordering reiskosten OAH'!BC214=0,\"\",'Terugvordering reiskosten OAH'!BC214)","v":""},{"$f":"IF('Terugvordering reiskosten OAH'!BK214=0,\"\",'Terugvordering reiskosten OAH'!BK214)","v":""},{"$f":"IF('Terugvordering reiskosten OAH'!BR214=0,\"\",'Terugvordering reiskosten OAH'!BR214)","v":""},{"$f":"IF('Terugvordering reiskosten OAH'!BZ214=0,\"\",'Terugvordering reiskosten OAH'!BZ214)","v":""},{"$f":"IF('Terugvordering reiskosten OAH'!CG214=\"\",\"\",'Terugvordering reiskosten OAH'!CG214)","v":""},{"$f":"IF('Terugvordering reiskosten OAH'!CM214=0,\"\",'Terugvordering reiskosten OAH'!CM214)","v":""}]
[{"$f":"IF('Terugvordering reiskosten OAH'!D215=\"\",\"\",IF('Terugvordering reiskosten OAH'!$T$36=\"\",\"\",'Terugvordering reiskosten OAH'!$T$36))","v":""},{"$f":"IF(A143=\"\",\"\",'Terugvordering reiskosten OAH'!$T$38)","v":""},{"$f":"IF(A143=\"\",\"\",'gegevensblad samenvatting vord.'!$C$2)","v":""},{"$f":"IF('Terugvordering reiskosten OAH'!D215=\"\",\"\",TEXT('Terugvordering reiskosten OAH'!D215,\"mm-jjjj\"))","v":""},{"$f":"IF('Terugvordering reiskosten OAH'!H215=\"\",\"\",'Terugvordering reiskosten OAH'!H215)","v":""},{"$f":"IF('Terugvordering reiskosten OAH'!R215=\"\",\"\",'Terugvordering reiskosten OAH'!R215)","v":""},{"$f":"IF('Terugvordering reiskosten OAH'!X215=\"\",\"\",'Terugvordering reiskosten OAH'!X215)","v":""},{"$f":"IF('Terugvordering reiskosten OAH'!AJ215=\"\",\"\",'Terugvordering reiskosten OAH'!AJ215)","v":""},{"$f":"IF('Terugvordering reiskosten OAH'!AR215=\"\",\"\",'Terugvordering reiskosten OAH'!AR215)","v":""},{"$f":"IF('Terugvordering reiskosten OAH'!AY215=\"\",\"\",'Terugvordering reiskosten OAH'!AY215)","v":""},{"$f":"IF('Terugvordering reiskosten OAH'!BC215=0,\"\",'Terugvordering reiskosten OAH'!BC215)","v":""},{"$f":"IF('Terugvordering reiskosten OAH'!BK215=0,\"\",'Terugvordering reiskosten OAH'!BK215)","v":""},{"$f":"IF('Terugvordering reiskosten OAH'!BR215=0,\"\",'Terugvordering reiskosten OAH'!BR215)","v":""},{"$f":"IF('Terugvordering reiskosten OAH'!BZ215=0,\"\",'Terugvordering reiskosten OAH'!BZ215)","v":""},{"$f":"IF('Terugvordering reiskosten OAH'!CG215=\"\",\"\",'Terugvordering reiskosten OAH'!CG215)","v":""},{"$f":"IF('Terugvordering reiskosten OAH'!CM215=0,\"\",'Terugvordering reiskosten OAH'!CM215)","v":""}]
[{"$f":"IF('Terugvordering reiskosten OAH'!D216=\"\",\"\",IF('Terugvordering reiskosten OAH'!$T$36=\"\",\"\",'Terugvordering reiskosten OAH'!$T$36))","v":""},{"$f":"IF(A144=\"\",\"\",'Terugvordering reiskosten OAH'!$T$38)","v":""},{"$f":"IF(A144=\"\",\"\",'gegevensblad samenvatting vord.'!$C$2)","v":""},{"$f":"IF('Terugvordering reiskosten OAH'!D216=\"\",\"\",TEXT('Terugvordering reiskosten OAH'!D216,\"mm-jjjj\"))","v":""},{"$f":"IF('Terugvordering reiskosten OAH'!H216=\"\",\"\",'Terugvordering reiskosten OAH'!H216)","v":""},{"$f":"IF('Terugvordering reiskosten OAH'!R216=\"\",\"\",'Terugvordering reiskosten OAH'!R216)","v":""},{"$f":"IF('Terugvordering reiskosten OAH'!X216=\"\",\"\",'Terugvordering reiskosten OAH'!X216)","v":""},{"$f":"IF('Terugvordering reiskosten OAH'!AJ216=\"\",\"\",'Terugvordering reiskosten OAH'!AJ216)","v":""},{"$f":"IF('Terugvordering reiskosten OAH'!AR216=\"\",\"\",'Terugvordering reiskosten OAH'!AR216)","v":""},{"$f":"IF('Terugvordering reiskosten OAH'!AY216=\"\",\"\",'Terugvordering reiskosten OAH'!AY216)","v":""},{"$f":"IF('Terugvordering reiskosten OAH'!BC216=0,\"\",'Terugvordering reiskosten OAH'!BC216)","v":""},{"$f":"IF('Terugvordering reiskosten OAH'!BK216=0,\"\",'Terugvordering reiskosten OAH'!BK216)","v":""},{"$f":"IF('Terugvordering reiskosten OAH'!BR216=0,\"\",'Terugvordering reiskosten OAH'!BR216)","v":""},{"$f":"IF('Terugvordering reiskosten OAH'!BZ216=0,\"\",'Terugvordering reiskosten OAH'!BZ216)","v":""},{"$f":"IF('Terugvordering reiskosten OAH'!CG216=\"\",\"\",'Terugvordering reiskosten OAH'!CG216)","v":""},{"$f":"IF('Terugvordering reiskosten OAH'!CM216=0,\"\",'Terugvordering reiskosten OAH'!CM216)","v":""}]
[{"$f":"IF('Terugvordering reiskosten OAH'!D217=\"\",\"\",IF('Terugvordering reiskosten OAH'!$T$36=\"\",\"\",'Terugvordering reiskosten OAH'!$T$36))","v":""},{"$f":"IF(A145=\"\",\"\",'Terugvordering reiskosten OAH'!$T$38)","v":""},{"$f":"IF(A145=\"\",\"\",'gegevensblad samenvatting vord.'!$C$2)","v":""},{"$f":"IF('Terugvordering reiskosten OAH'!D217=\"\",\"\",TEXT('Terugvordering reiskosten OAH'!D217,\"mm-jjjj\"))","v":""},{"$f":"IF('Terugvordering reiskosten OAH'!H217=\"\",\"\",'Terugvordering reiskosten OAH'!H217)","v":""},{"$f":"IF('Terugvordering reiskosten OAH'!R217=\"\",\"\",'Terugvordering reiskosten OAH'!R217)","v":""},{"$f":"IF('Terugvordering reiskosten OAH'!X217=\"\",\"\",'Terugvordering reiskosten OAH'!X217)","v":""},{"$f":"IF('Terugvordering reiskosten OAH'!AJ217=\"\",\"\",'Terugvordering reiskosten OAH'!AJ217)","v":""},{"$f":"IF('Terugvordering reiskosten OAH'!AR217=\"\",\"\",'Terugvordering reiskosten OAH'!AR217)","v":""},{"$f":"IF('Terugvordering reiskosten OAH'!AY217=\"\",\"\",'Terugvordering reiskosten OAH'!AY217)","v":""},{"$f":"IF('Terugvordering reiskosten OAH'!BC217=0,\"\",'Terugvordering reiskosten OAH'!BC217)","v":""},{"$f":"IF('Terugvordering reiskosten OAH'!BK217=0,\"\",'Terugvordering reiskosten OAH'!BK217)","v":""},{"$f":"IF('Terugvordering reiskosten OAH'!BR217=0,\"\",'Terugvordering reiskosten OAH'!BR217)","v":""},{"$f":"IF('Terugvordering reiskosten OAH'!BZ217=0,\"\",'Terugvordering reiskosten OAH'!BZ217)","v":""},{"$f":"IF('Terugvordering reiskosten OAH'!CG217=\"\",\"\",'Terugvordering reiskosten OAH'!CG217)","v":""},{"$f":"IF('Terugvordering reiskosten OAH'!CM217=0,\"\",'Terugvordering reiskosten OAH'!CM217)","v":""}]
[{"$f":"IF('Terugvordering reiskosten OAH'!D218=\"\",\"\",IF('Terugvordering reiskosten OAH'!$T$36=\"\",\"\",'Terugvordering reiskosten OAH'!$T$36))","v":""},{"$f":"IF(A146=\"\",\"\",'Terugvordering reiskosten OAH'!$T$38)","v":""},{"$f":"IF(A146=\"\",\"\",'gegevensblad samenvatting vord.'!$C$2)","v":""},{"$f":"IF('Terugvordering reiskosten OAH'!D218=\"\",\"\",TEXT('Terugvordering reiskosten OAH'!D218,\"mm-jjjj\"))","v":""},{"$f":"IF('Terugvordering reiskosten OAH'!H218=\"\",\"\",'Terugvordering reiskosten OAH'!H218)","v":""},{"$f":"IF('Terugvordering reiskosten OAH'!R218=\"\",\"\",'Terugvordering reiskosten OAH'!R218)","v":""},{"$f":"IF('Terugvordering reiskosten OAH'!X218=\"\",\"\",'Terugvordering reiskosten OAH'!X218)","v":""},{"$f":"IF('Terugvordering reiskosten OAH'!AJ218=\"\",\"\",'Terugvordering reiskosten OAH'!AJ218)","v":""},{"$f":"IF('Terugvordering reiskosten OAH'!AR218=\"\",\"\",'Terugvordering reiskosten OAH'!AR218)","v":""},{"$f":"IF('Terugvordering reiskosten OAH'!AY218=\"\",\"\",'Terugvordering reiskosten OAH'!AY218)","v":""},{"$f":"IF('Terugvordering reiskosten OAH'!BC218=0,\"\",'Terugvordering reiskosten OAH'!BC218)","v":""},{"$f":"IF('Terugvordering reiskosten OAH'!BK218=0,\"\",'Terugvordering reiskosten OAH'!BK218)","v":""},{"$f":"IF('Terugvordering reiskosten OAH'!BR218=0,\"\",'Terugvordering reiskosten OAH'!BR218)","v":""},{"$f":"IF('Terugvordering reiskosten OAH'!BZ218=0,\"\",'Terugvordering reiskosten OAH'!BZ218)","v":""},{"$f":"IF('Terugvordering reiskosten OAH'!CG218=\"\",\"\",'Terugvordering reiskosten OAH'!CG218)","v":""},{"$f":"IF('Terugvordering reiskosten OAH'!CM218=0,\"\",'Terugvordering reiskosten OAH'!CM218)","v":""}]
[{"$f":"IF('Terugvordering reiskosten OAH'!D219=\"\",\"\",IF('Terugvordering reiskosten OAH'!$T$36=\"\",\"\",'Terugvordering reiskosten OAH'!$T$36))","v":""},{"$f":"IF(A147=\"\",\"\",'Terugvordering reiskosten OAH'!$T$38)","v":""},{"$f":"IF(A147=\"\",\"\",'gegevensblad samenvatting vord.'!$C$2)","v":""},{"$f":"IF('Terugvordering reiskosten OAH'!D219=\"\",\"\",TEXT('Terugvordering reiskosten OAH'!D219,\"mm-jjjj\"))","v":""},{"$f":"IF('Terugvordering reiskosten OAH'!H219=\"\",\"\",'Terugvordering reiskosten OAH'!H219)","v":""},{"$f":"IF('Terugvordering reiskosten OAH'!R219=\"\",\"\",'Terugvordering reiskosten OAH'!R219)","v":""},{"$f":"IF('Terugvordering reiskosten OAH'!X219=\"\",\"\",'Terugvordering reiskosten OAH'!X219)","v":""},{"$f":"IF('Terugvordering reiskosten OAH'!AJ219=\"\",\"\",'Terugvordering reiskosten OAH'!AJ219)","v":""},{"$f":"IF('Terugvordering reiskosten OAH'!AR219=\"\",\"\",'Terugvordering reiskosten OAH'!AR219)","v":""},{"$f":"IF('Terugvordering reiskosten OAH'!AY219=\"\",\"\",'Terugvordering reiskosten OAH'!AY219)","v":""},{"$f":"IF('Terugvordering reiskosten OAH'!BC219=0,\"\",'Terugvordering reiskosten OAH'!BC219)","v":""},{"$f":"IF('Terugvordering reiskosten OAH'!BK219=0,\"\",'Terugvordering reiskosten OAH'!BK219)","v":""},{"$f":"IF('Terugvordering reiskosten OAH'!BR219=0,\"\",'Terugvordering reiskosten OAH'!BR219)","v":""},{"$f":"IF('Terugvordering reiskosten OAH'!BZ219=0,\"\",'Terugvordering reiskosten OAH'!BZ219)","v":""},{"$f":"IF('Terugvordering reiskosten OAH'!CG219=\"\",\"\",'Terugvordering reiskosten OAH'!CG219)","v":""},{"$f":"IF('Terugvordering reiskosten OAH'!CM219=0,\"\",'Terugvordering reiskosten OAH'!CM219)","v":""}]
[{"$f":"IF('Terugvordering reiskosten OAH'!D220=\"\",\"\",IF('Terugvordering reiskosten OAH'!$T$36=\"\",\"\",'Terugvordering reiskosten OAH'!$T$36))","v":""},{"$f":"IF(A148=\"\",\"\",'Terugvordering reiskosten OAH'!$T$38)","v":""},{"$f":"IF(A148=\"\",\"\",'gegevensblad samenvatting vord.'!$C$2)","v":""},{"$f":"IF('Terugvordering reiskosten OAH'!D220=\"\",\"\",TEXT('Terugvordering reiskosten OAH'!D220,\"mm-jjjj\"))","v":""},{"$f":"IF('Terugvordering reiskosten OAH'!H220=\"\",\"\",'Terugvordering reiskosten OAH'!H220)","v":""},{"$f":"IF('Terugvordering reiskosten OAH'!R220=\"\",\"\",'Terugvordering reiskosten OAH'!R220)","v":""},{"$f":"IF('Terugvordering reiskosten OAH'!X220=\"\",\"\",'Terugvordering reiskosten OAH'!X220)","v":""},{"$f":"IF('Terugvordering reiskosten OAH'!AJ220=\"\",\"\",'Terugvordering reiskosten OAH'!AJ220)","v":""},{"$f":"IF('Terugvordering reiskosten OAH'!AR220=\"\",\"\",'Terugvordering reiskosten OAH'!AR220)","v":""},{"$f":"IF('Terugvordering reiskosten OAH'!AY220=\"\",\"\",'Terugvordering reiskosten OAH'!AY220)","v":""},{"$f":"IF('Terugvordering reiskosten OAH'!BC220=0,\"\",'Terugvordering reiskosten OAH'!BC220)","v":""},{"$f":"IF('Terugvordering reiskosten OAH'!BK220=0,\"\",'Terugvordering reiskosten OAH'!BK220)","v":""},{"$f":"IF('Terugvordering reiskosten OAH'!BR220=0,\"\",'Terugvordering reiskosten OAH'!BR220)","v":""},{"$f":"IF('Terugvordering reiskosten OAH'!BZ220=0,\"\",'Terugvordering reiskosten OAH'!BZ220)","v":""},{"$f":"IF('Terugvordering reiskosten OAH'!CG220=\"\",\"\",'Terugvordering reiskosten OAH'!CG220)","v":""},{"$f":"IF('Terugvordering reiskosten OAH'!CM220=0,\"\",'Terugvordering reiskosten OAH'!CM220)","v":""}]
[{"$f":"IF('Terugvordering reiskosten OAH'!D221=\"\",\"\",IF('Terugvordering reiskosten OAH'!$T$36=\"\",\"\",'Terugvordering reiskosten OAH'!$T$36))","v":""},{"$f":"IF(A149=\"\",\"\",'Terugvordering reiskosten OAH'!$T$38)","v":""},{"$f":"IF(A149=\"\",\"\",'gegevensblad samenvatting vord.'!$C$2)","v":""},{"$f":"IF('Terugvordering reiskosten OAH'!D221=\"\",\"\",TEXT('Terugvordering reiskosten OAH'!D221,\"mm-jjjj\"))","v":""},{"$f":"IF('Terugvordering reiskosten OAH'!H221=\"\",\"\",'Terugvordering reiskosten OAH'!H221)","v":""},{"$f":"IF('Terugvordering reiskosten OAH'!R221=\"\",\"\",'Terugvordering reiskosten OAH'!R221)","v":""},{"$f":"IF('Terugvordering reiskosten OAH'!X221=\"\",\"\",'Terugvordering reiskosten OAH'!X221)","v":""},{"$f":"IF('Terugvordering reiskosten OAH'!AJ221=\"\",\"\",'Terugvordering reiskosten OAH'!AJ221)","v":""},{"$f":"IF('Terugvordering reiskosten OAH'!AR221=\"\",\"\",'Terugvordering reiskosten OAH'!AR221)","v":""},{"$f":"IF('Terugvordering reiskosten OAH'!AY221=\"\",\"\",'Terugvordering reiskosten OAH'!AY221)","v":""},{"$f":"IF('Terugvordering reiskosten OAH'!BC221=0,\"\",'Terugvordering reiskosten OAH'!BC221)","v":""},{"$f":"IF('Terugvordering reiskosten OAH'!BK221=0,\"\",'Terugvordering reiskosten OAH'!BK221)","v":""},{"$f":"IF('Terugvordering reiskosten OAH'!BR221=0,\"\",'Terugvordering reiskosten OAH'!BR221)","v":""},{"$f":"IF('Terugvordering reiskosten OAH'!BZ221=0,\"\",'Terugvordering reiskosten OAH'!BZ221)","v":""},{"$f":"IF('Terugvordering reiskosten OAH'!CG221=\"\",\"\",'Terugvordering reiskosten OAH'!CG221)","v":""},{"$f":"IF('Terugvordering reiskosten OAH'!CM221=0,\"\",'Terugvordering reiskosten OAH'!CM221)","v":""}]
[{"$f":"IF('Terugvordering reiskosten OAH'!D222=\"\",\"\",IF('Terugvordering reiskosten OAH'!$T$36=\"\",\"\",'Terugvordering reiskosten OAH'!$T$36))","v":""},{"$f":"IF(A150=\"\",\"\",'Terugvordering reiskosten OAH'!$T$38)","v":""},{"$f":"IF(A150=\"\",\"\",'gegevensblad samenvatting vord.'!$C$2)","v":""},{"$f":"IF('Terugvordering reiskosten OAH'!D222=\"\",\"\",TEXT('Terugvordering reiskosten OAH'!D222,\"mm-jjjj\"))","v":""},{"$f":"IF('Terugvordering reiskosten OAH'!H222=\"\",\"\",'Terugvordering reiskosten OAH'!H222)","v":""},{"$f":"IF('Terugvordering reiskosten OAH'!R222=\"\",\"\",'Terugvordering reiskosten OAH'!R222)","v":""},{"$f":"IF('Terugvordering reiskosten OAH'!X222=\"\",\"\",'Terugvordering reiskosten OAH'!X222)","v":""},{"$f":"IF('Terugvordering reiskosten OAH'!AJ222=\"\",\"\",'Terugvordering reiskosten OAH'!AJ222)","v":""},{"$f":"IF('Terugvordering reiskosten OAH'!AR222=\"\",\"\",'Terugvordering reiskosten OAH'!AR222)","v":""},{"$f":"IF('Terugvordering reiskosten OAH'!AY222=\"\",\"\",'Terugvordering reiskosten OAH'!AY222)","v":""},{"$f":"IF('Terugvordering reiskosten OAH'!BC222=0,\"\",'Terugvordering reiskosten OAH'!BC222)","v":""},{"$f":"IF('Terugvordering reiskosten OAH'!BK222=0,\"\",'Terugvordering reiskosten OAH'!BK222)","v":""},{"$f":"IF('Terugvordering reiskosten OAH'!BR222=0,\"\",'Terugvordering reiskosten OAH'!BR222)","v":""},{"$f":"IF('Terugvordering reiskosten OAH'!BZ222=0,\"\",'Terugvordering reiskosten OAH'!BZ222)","v":""},{"$f":"IF('Terugvordering reiskosten OAH'!CG222=\"\",\"\",'Terugvordering reiskosten OAH'!CG222)","v":""},{"$f":"IF('Terugvordering reiskosten OAH'!CM222=0,\"\",'Terugvordering reiskosten OAH'!CM222)","v":""}]
[{"$f":"IF('Terugvordering reiskosten OAH'!D223=\"\",\"\",IF('Terugvordering reiskosten OAH'!$T$36=\"\",\"\",'Terugvordering reiskosten OAH'!$T$36))","v":""},{"$f":"IF(A151=\"\",\"\",'Terugvordering reiskosten OAH'!$T$38)","v":""},{"$f":"IF(A151=\"\",\"\",'gegevensblad samenvatting vord.'!$C$2)","v":""},{"$f":"IF('Terugvordering reiskosten OAH'!D223=\"\",\"\",TEXT('Terugvordering reiskosten OAH'!D223,\"mm-jjjj\"))","v":""},{"$f":"IF('Terugvordering reiskosten OAH'!H223=\"\",\"\",'Terugvordering reiskosten OAH'!H223)","v":""},{"$f":"IF('Terugvordering reiskosten OAH'!R223=\"\",\"\",'Terugvordering reiskosten OAH'!R223)","v":""},{"$f":"IF('Terugvordering reiskosten OAH'!X223=\"\",\"\",'Terugvordering reiskosten OAH'!X223)","v":""},{"$f":"IF('Terugvordering reiskosten OAH'!AJ223=\"\",\"\",'Terugvordering reiskosten OAH'!AJ223)","v":""},{"$f":"IF('Terugvordering reiskosten OAH'!AR223=\"\",\"\",'Terugvordering reiskosten OAH'!AR223)","v":""},{"$f":"IF('Terugvordering reiskosten OAH'!AY223=\"\",\"\",'Terugvordering reiskosten OAH'!AY223)","v":""},{"$f":"IF('Terugvordering reiskosten OAH'!BC223=0,\"\",'Terugvordering reiskosten OAH'!BC223)","v":""},{"$f":"IF('Terugvordering reiskosten OAH'!BK223=0,\"\",'Terugvordering reiskosten OAH'!BK223)","v":""},{"$f":"IF('Terugvordering reiskosten OAH'!BR223=0,\"\",'Terugvordering reiskosten OAH'!BR223)","v":""},{"$f":"IF('Terugvordering reiskosten OAH'!BZ223=0,\"\",'Terugvordering reiskosten OAH'!BZ223)","v":""},{"$f":"IF('Terugvordering reiskosten OAH'!CG223=\"\",\"\",'Terugvordering reiskosten OAH'!CG223)","v":""},{"$f":"IF('Terugvordering reiskosten OAH'!CM223=0,\"\",'Terugvordering reiskosten OAH'!CM223)","v":""}]
[{"$f":"IF('Terugvordering reiskosten OAH'!D224=\"\",\"\",IF('Terugvordering reiskosten OAH'!$T$36=\"\",\"\",'Terugvordering reiskosten OAH'!$T$36))","v":""},{"$f":"IF(A152=\"\",\"\",'Terugvordering reiskosten OAH'!$T$38)","v":""},{"$f":"IF(A152=\"\",\"\",'gegevensblad samenvatting vord.'!$C$2)","v":""},{"$f":"IF('Terugvordering reiskosten OAH'!D224=\"\",\"\",TEXT('Terugvordering reiskosten OAH'!D224,\"mm-jjjj\"))","v":""},{"$f":"IF('Terugvordering reiskosten OAH'!H224=\"\",\"\",'Terugvordering reiskosten OAH'!H224)","v":""},{"$f":"IF('Terugvordering reiskosten OAH'!R224=\"\",\"\",'Terugvordering reiskosten OAH'!R224)","v":""},{"$f":"IF('Terugvordering reiskosten OAH'!X224=\"\",\"\",'Terugvordering reiskosten OAH'!X224)","v":""},{"$f":"IF('Terugvordering reiskosten OAH'!AJ224=\"\",\"\",'Terugvordering reiskosten OAH'!AJ224)","v":""},{"$f":"IF('Terugvordering reiskosten OAH'!AR224=\"\",\"\",'Terugvordering reiskosten OAH'!AR224)","v":""},{"$f":"IF('Terugvordering reiskosten OAH'!AY224=\"\",\"\",'Terugvordering reiskosten OAH'!AY224)","v":""},{"$f":"IF('Terugvordering reiskosten OAH'!BC224=0,\"\",'Terugvordering reiskosten OAH'!BC224)","v":""},{"$f":"IF('Terugvordering reiskosten OAH'!BK224=0,\"\",'Terugvordering reiskosten OAH'!BK224)","v":""},{"$f":"IF('Terugvordering reiskosten OAH'!BR224=0,\"\",'Terugvordering reiskosten OAH'!BR224)","v":""},{"$f":"IF('Terugvordering reiskosten OAH'!BZ224=0,\"\",'Terugvordering reiskosten OAH'!BZ224)","v":""},{"$f":"IF('Terugvordering reiskosten OAH'!CG224=\"\",\"\",'Terugvordering reiskosten OAH'!CG224)","v":""},{"$f":"IF('Terugvordering reiskosten OAH'!CM224=0,\"\",'Terugvordering reiskosten OAH'!CM224)","v":""}]
[{"$f":"IF('Terugvordering reiskosten OAH'!D225=\"\",\"\",IF('Terugvordering reiskosten OAH'!$T$36=\"\",\"\",'Terugvordering reiskosten OAH'!$T$36))","v":""},{"$f":"IF(A153=\"\",\"\",'Terugvordering reiskosten OAH'!$T$38)","v":""},{"$f":"IF(A153=\"\",\"\",'gegevensblad samenvatting vord.'!$C$2)","v":""},{"$f":"IF('Terugvordering reiskosten OAH'!D225=\"\",\"\",TEXT('Terugvordering reiskosten OAH'!D225,\"mm-jjjj\"))","v":""},{"$f":"IF('Terugvordering reiskosten OAH'!H225=\"\",\"\",'Terugvordering reiskosten OAH'!H225)","v":""},{"$f":"IF('Terugvordering reiskosten OAH'!R225=\"\",\"\",'Terugvordering reiskosten OAH'!R225)","v":""},{"$f":"IF('Terugvordering reiskosten OAH'!X225=\"\",\"\",'Terugvordering reiskosten OAH'!X225)","v":""},{"$f":"IF('Terugvordering reiskosten OAH'!AJ225=\"\",\"\",'Terugvordering reiskosten OAH'!AJ225)","v":""},{"$f":"IF('Terugvordering reiskosten OAH'!AR225=\"\",\"\",'Terugvordering reiskosten OAH'!AR225)","v":""},{"$f":"IF('Terugvordering reiskosten OAH'!AY225=\"\",\"\",'Terugvordering reiskosten OAH'!AY225)","v":""},{"$f":"IF('Terugvordering reiskosten OAH'!BC225=0,\"\",'Terugvordering reiskosten OAH'!BC225)","v":""},{"$f":"IF('Terugvordering reiskosten OAH'!BK225=0,\"\",'Terugvordering reiskosten OAH'!BK225)","v":""},{"$f":"IF('Terugvordering reiskosten OAH'!BR225=0,\"\",'Terugvordering reiskosten OAH'!BR225)","v":""},{"$f":"IF('Terugvordering reiskosten OAH'!BZ225=0,\"\",'Terugvordering reiskosten OAH'!BZ225)","v":""},{"$f":"IF('Terugvordering reiskosten OAH'!CG225=\"\",\"\",'Terugvordering reiskosten OAH'!CG225)","v":""},{"$f":"IF('Terugvordering reiskosten OAH'!CM225=0,\"\",'Terugvordering reiskosten OAH'!CM225)","v":""}]
[{"$f":"IF('Terugvordering reiskosten OAH'!D226=\"\",\"\",IF('Terugvordering reiskosten OAH'!$T$36=\"\",\"\",'Terugvordering reiskosten OAH'!$T$36))","v":""},{"$f":"IF(A154=\"\",\"\",'Terugvordering reiskosten OAH'!$T$38)","v":""},{"$f":"IF(A154=\"\",\"\",'gegevensblad samenvatting vord.'!$C$2)","v":""},{"$f":"IF('Terugvordering reiskosten OAH'!D226=\"\",\"\",TEXT('Terugvordering reiskosten OAH'!D226,\"mm-jjjj\"))","v":""},{"$f":"IF('Terugvordering reiskosten OAH'!H226=\"\",\"\",'Terugvordering reiskosten OAH'!H226)","v":""},{"$f":"IF('Terugvordering reiskosten OAH'!R226=\"\",\"\",'Terugvordering reiskosten OAH'!R226)","v":""},{"$f":"IF('Terugvordering reiskosten OAH'!X226=\"\",\"\",'Terugvordering reiskosten OAH'!X226)","v":""},{"$f":"IF('Terugvordering reiskosten OAH'!AJ226=\"\",\"\",'Terugvordering reiskosten OAH'!AJ226)","v":""},{"$f":"IF('Terugvordering reiskosten OAH'!AR226=\"\",\"\",'Terugvordering reiskosten OAH'!AR226)","v":""},{"$f":"IF('Terugvordering reiskosten OAH'!AY226=\"\",\"\",'Terugvordering reiskosten OAH'!AY226)","v":""},{"$f":"IF('Terugvordering reiskosten OAH'!BC226=0,\"\",'Terugvordering reiskosten OAH'!BC226)","v":""},{"$f":"IF('Terugvordering reiskosten OAH'!BK226=0,\"\",'Terugvordering reiskosten OAH'!BK226)","v":""},{"$f":"IF('Terugvordering reiskosten OAH'!BR226=0,\"\",'Terugvordering reiskosten OAH'!BR226)","v":""},{"$f":"IF('Terugvordering reiskosten OAH'!BZ226=0,\"\",'Terugvordering reiskosten OAH'!BZ226)","v":""},{"$f":"IF('Terugvordering reiskosten OAH'!CG226=\"\",\"\",'Terugvordering reiskosten OAH'!CG226)","v":""},{"$f":"IF('Terugvordering reiskosten OAH'!CM226=0,\"\",'Terugvordering reiskosten OAH'!CM226)","v":""}]
[{"$f":"IF('Terugvordering reiskosten OAH'!D227=\"\",\"\",IF('Terugvordering reiskosten OAH'!$T$36=\"\",\"\",'Terugvordering reiskosten OAH'!$T$36))","v":""},{"$f":"IF(A155=\"\",\"\",'Terugvordering reiskosten OAH'!$T$38)","v":""},{"$f":"IF(A155=\"\",\"\",'gegevensblad samenvatting vord.'!$C$2)","v":""},{"$f":"IF('Terugvordering reiskosten OAH'!D227=\"\",\"\",TEXT('Terugvordering reiskosten OAH'!D227,\"mm-jjjj\"))","v":""},{"$f":"IF('Terugvordering reiskosten OAH'!H227=\"\",\"\",'Terugvordering reiskosten OAH'!H227)","v":""},{"$f":"IF('Terugvordering reiskosten OAH'!R227=\"\",\"\",'Terugvordering reiskosten OAH'!R227)","v":""},{"$f":"IF('Terugvordering reiskosten OAH'!X227=\"\",\"\",'Terugvordering reiskosten OAH'!X227)","v":""},{"$f":"IF('Terugvordering reiskosten OAH'!AJ227=\"\",\"\",'Terugvordering reiskosten OAH'!AJ227)","v":""},{"$f":"IF('Terugvordering reiskosten OAH'!AR227=\"\",\"\",'Terugvordering reiskosten OAH'!AR227)","v":""},{"$f":"IF('Terugvordering reiskosten OAH'!AY227=\"\",\"\",'Terugvordering reiskosten OAH'!AY227)","v":""},{"$f":"IF('Terugvordering reiskosten OAH'!BC227=0,\"\",'Terugvordering reiskosten OAH'!BC227)","v":""},{"$f":"IF('Terugvordering reiskosten OAH'!BK227=0,\"\",'Terugvordering reiskosten OAH'!BK227)","v":""},{"$f":"IF('Terugvordering reiskosten OAH'!BR227=0,\"\",'Terugvordering reiskosten OAH'!BR227)","v":""},{"$f":"IF('Terugvordering reiskosten OAH'!BZ227=0,\"\",'Terugvordering reiskosten OAH'!BZ227)","v":""},{"$f":"IF('Terugvordering reiskosten OAH'!CG227=\"\",\"\",'Terugvordering reiskosten OAH'!CG227)","v":""},{"$f":"IF('Terugvordering reiskosten OAH'!CM227=0,\"\",'Terugvordering reiskosten OAH'!CM227)","v":""}]
[{"$f":"IF('Terugvordering reiskosten OAH'!D228=\"\",\"\",IF('Terugvordering reiskosten OAH'!$T$36=\"\",\"\",'Terugvordering reiskosten OAH'!$T$36))","v":""},{"$f":"IF(A156=\"\",\"\",'Terugvordering reiskosten OAH'!$T$38)","v":""},{"$f":"IF(A156=\"\",\"\",'gegevensblad samenvatting vord.'!$C$2)","v":""},{"$f":"IF('Terugvordering reiskosten OAH'!D228=\"\",\"\",TEXT('Terugvordering reiskosten OAH'!D228,\"mm-jjjj\"))","v":""},{"$f":"IF('Terugvordering reiskosten OAH'!H228=\"\",\"\",'Terugvordering reiskosten OAH'!H228)","v":""},{"$f":"IF('Terugvordering reiskosten OAH'!R228=\"\",\"\",'Terugvordering reiskosten OAH'!R228)","v":""},{"$f":"IF('Terugvordering reiskosten OAH'!X228=\"\",\"\",'Terugvordering reiskosten OAH'!X228)","v":""},{"$f":"IF('Terugvordering reiskosten OAH'!AJ228=\"\",\"\",'Terugvordering reiskosten OAH'!AJ228)","v":""},{"$f":"IF('Terugvordering reiskosten OAH'!AR228=\"\",\"\",'Terugvordering reiskosten OAH'!AR228)","v":""},{"$f":"IF('Terugvordering reiskosten OAH'!AY228=\"\",\"\",'Terugvordering reiskosten OAH'!AY228)","v":""},{"$f":"IF('Terugvordering reiskosten OAH'!BC228=0,\"\",'Terugvordering reiskosten OAH'!BC228)","v":""},{"$f":"IF('Terugvordering reiskosten OAH'!BK228=0,\"\",'Terugvordering reiskosten OAH'!BK228)","v":""},{"$f":"IF('Terugvordering reiskosten OAH'!BR228=0,\"\",'Terugvordering reiskosten OAH'!BR228)","v":""},{"$f":"IF('Terugvordering reiskosten OAH'!BZ228=0,\"\",'Terugvordering reiskosten OAH'!BZ228)","v":""},{"$f":"IF('Terugvordering reiskosten OAH'!CG228=\"\",\"\",'Terugvordering reiskosten OAH'!CG228)","v":""},{"$f":"IF('Terugvordering reiskosten OAH'!CM228=0,\"\",'Terugvordering reiskosten OAH'!CM228)","v":""}]
[{"$f":"IF('Terugvordering reiskosten OAH'!D229=\"\",\"\",IF('Terugvordering reiskosten OAH'!$T$36=\"\",\"\",'Terugvordering reiskosten OAH'!$T$36))","v":""},{"$f":"IF(A157=\"\",\"\",'Terugvordering reiskosten OAH'!$T$38)","v":""},{"$f":"IF(A157=\"\",\"\",'gegevensblad samenvatting vord.'!$C$2)","v":""},{"$f":"IF('Terugvordering reiskosten OAH'!D229=\"\",\"\",TEXT('Terugvordering reiskosten OAH'!D229,\"mm-jjjj\"))","v":""},{"$f":"IF('Terugvordering reiskosten OAH'!H229=\"\",\"\",'Terugvordering reiskosten OAH'!H229)","v":""},{"$f":"IF('Terugvordering reiskosten OAH'!R229=\"\",\"\",'Terugvordering reiskosten OAH'!R229)","v":""},{"$f":"IF('Terugvordering reiskosten OAH'!X229=\"\",\"\",'Terugvordering reiskosten OAH'!X229)","v":""},{"$f":"IF('Terugvordering reiskosten OAH'!AJ229=\"\",\"\",'Terugvordering reiskosten OAH'!AJ229)","v":""},{"$f":"IF('Terugvordering reiskosten OAH'!AR229=\"\",\"\",'Terugvordering reiskosten OAH'!AR229)","v":""},{"$f":"IF('Terugvordering reiskosten OAH'!AY229=\"\",\"\",'Terugvordering reiskosten OAH'!AY229)","v":""},{"$f":"IF('Terugvordering reiskosten OAH'!BC229=0,\"\",'Terugvordering reiskosten OAH'!BC229)","v":""},{"$f":"IF('Terugvordering reiskosten OAH'!BK229=0,\"\",'Terugvordering reiskosten OAH'!BK229)","v":""},{"$f":"IF('Terugvordering reiskosten OAH'!BR229=0,\"\",'Terugvordering reiskosten OAH'!BR229)","v":""},{"$f":"IF('Terugvordering reiskosten OAH'!BZ229=0,\"\",'Terugvordering reiskosten OAH'!BZ229)","v":""},{"$f":"IF('Terugvordering reiskosten OAH'!CG229=\"\",\"\",'Terugvordering reiskosten OAH'!CG229)","v":""},{"$f":"IF('Terugvordering reiskosten OAH'!CM229=0,\"\",'Terugvordering reiskosten OAH'!CM229)","v":""}]
[{"$f":"IF('Terugvordering reiskosten OAH'!D230=\"\",\"\",IF('Terugvordering reiskosten OAH'!$T$36=\"\",\"\",'Terugvordering reiskosten OAH'!$T$36))","v":""},{"$f":"IF(A158=\"\",\"\",'Terugvordering reiskosten OAH'!$T$38)","v":""},{"$f":"IF(A158=\"\",\"\",'gegevensblad samenvatting vord.'!$C$2)","v":""},{"$f":"IF('Terugvordering reiskosten OAH'!D230=\"\",\"\",TEXT('Terugvordering reiskosten OAH'!D230,\"mm-jjjj\"))","v":""},{"$f":"IF('Terugvordering reiskosten OAH'!H230=\"\",\"\",'Terugvordering reiskosten OAH'!H230)","v":""},{"$f":"IF('Terugvordering reiskosten OAH'!R230=\"\",\"\",'Terugvordering reiskosten OAH'!R230)","v":""},{"$f":"IF('Terugvordering reiskosten OAH'!X230=\"\",\"\",'Terugvordering reiskosten OAH'!X230)","v":""},{"$f":"IF('Terugvordering reiskosten OAH'!AJ230=\"\",\"\",'Terugvordering reiskosten OAH'!AJ230)","v":""},{"$f":"IF('Terugvordering reiskosten OAH'!AR230=\"\",\"\",'Terugvordering reiskosten OAH'!AR230)","v":""},{"$f":"IF('Terugvordering reiskosten OAH'!AY230=\"\",\"\",'Terugvordering reiskosten OAH'!AY230)","v":""},{"$f":"IF('Terugvordering reiskosten OAH'!BC230=0,\"\",'Terugvordering reiskosten OAH'!BC230)","v":""},{"$f":"IF('Terugvordering reiskosten OAH'!BK230=0,\"\",'Terugvordering reiskosten OAH'!BK230)","v":""},{"$f":"IF('Terugvordering reiskosten OAH'!BR230=0,\"\",'Terugvordering reiskosten OAH'!BR230)","v":""},{"$f":"IF('Terugvordering reiskosten OAH'!BZ230=0,\"\",'Terugvordering reiskosten OAH'!BZ230)","v":""},{"$f":"IF('Terugvordering reiskosten OAH'!CG230=\"\",\"\",'Terugvordering reiskosten OAH'!CG230)","v":""},{"$f":"IF('Terugvordering reiskosten OAH'!CM230=0,\"\",'Terugvordering reiskosten OAH'!CM230)","v":""}]
[{"$f":"IF('Terugvordering reiskosten OAH'!D231=\"\",\"\",IF('Terugvordering reiskosten OAH'!$T$36=\"\",\"\",'Terugvordering reiskosten OAH'!$T$36))","v":""},{"$f":"IF(A159=\"\",\"\",'Terugvordering reiskosten OAH'!$T$38)","v":""},{"$f":"IF(A159=\"\",\"\",'gegevensblad samenvatting vord.'!$C$2)","v":""},{"$f":"IF('Terugvordering reiskosten OAH'!D231=\"\",\"\",TEXT('Terugvordering reiskosten OAH'!D231,\"mm-jjjj\"))","v":""},{"$f":"IF('Terugvordering reiskosten OAH'!H231=\"\",\"\",'Terugvordering reiskosten OAH'!H231)","v":""},{"$f":"IF('Terugvordering reiskosten OAH'!R231=\"\",\"\",'Terugvordering reiskosten OAH'!R231)","v":""},{"$f":"IF('Terugvordering reiskosten OAH'!X231=\"\",\"\",'Terugvordering reiskosten OAH'!X231)","v":""},{"$f":"IF('Terugvordering reiskosten OAH'!AJ231=\"\",\"\",'Terugvordering reiskosten OAH'!AJ231)","v":""},{"$f":"IF('Terugvordering reiskosten OAH'!AR231=\"\",\"\",'Terugvordering reiskosten OAH'!AR231)","v":""},{"$f":"IF('Terugvordering reiskosten OAH'!AY231=\"\",\"\",'Terugvordering reiskosten OAH'!AY231)","v":""},{"$f":"IF('Terugvordering reiskosten OAH'!BC231=0,\"\",'Terugvordering reiskosten OAH'!BC231)","v":""},{"$f":"IF('Terugvordering reiskosten OAH'!BK231=0,\"\",'Terugvordering reiskosten OAH'!BK231)","v":""},{"$f":"IF('Terugvordering reiskosten OAH'!BR231=0,\"\",'Terugvordering reiskosten OAH'!BR231)","v":""},{"$f":"IF('Terugvordering reiskosten OAH'!BZ231=0,\"\",'Terugvordering reiskosten OAH'!BZ231)","v":""},{"$f":"IF('Terugvordering reiskosten OAH'!CG231=\"\",\"\",'Terugvordering reiskosten OAH'!CG231)","v":""},{"$f":"IF('Terugvordering reiskosten OAH'!CM231=0,\"\",'Terugvordering reiskosten OAH'!CM231)","v":""}]
[{"$f":"IF('Terugvordering reiskosten OAH'!D232=\"\",\"\",IF('Terugvordering reiskosten OAH'!$T$36=\"\",\"\",'Terugvordering reiskosten OAH'!$T$36))","v":""},{"$f":"IF(A160=\"\",\"\",'Terugvordering reiskosten OAH'!$T$38)","v":""},{"$f":"IF(A160=\"\",\"\",'gegevensblad samenvatting vord.'!$C$2)","v":""},{"$f":"IF('Terugvordering reiskosten OAH'!D232=\"\",\"\",TEXT('Terugvordering reiskosten OAH'!D232,\"mm-jjjj\"))","v":""},{"$f":"IF('Terugvordering reiskosten OAH'!H232=\"\",\"\",'Terugvordering reiskosten OAH'!H232)","v":""},{"$f":"IF('Terugvordering reiskosten OAH'!R232=\"\",\"\",'Terugvordering reiskosten OAH'!R232)","v":""},{"$f":"IF('Terugvordering reiskosten OAH'!X232=\"\",\"\",'Terugvordering reiskosten OAH'!X232)","v":""},{"$f":"IF('Terugvordering reiskosten OAH'!AJ232=\"\",\"\",'Terugvordering reiskosten OAH'!AJ232)","v":""},{"$f":"IF('Terugvordering reiskosten OAH'!AR232=\"\",\"\",'Terugvordering reiskosten OAH'!AR232)","v":""},{"$f":"IF('Terugvordering reiskosten OAH'!AY232=\"\",\"\",'Terugvordering reiskosten OAH'!AY232)","v":""},{"$f":"IF('Terugvordering reiskosten OAH'!BC232=0,\"\",'Terugvordering reiskosten OAH'!BC232)","v":""},{"$f":"IF('Terugvordering reiskosten OAH'!BK232=0,\"\",'Terugvordering reiskosten OAH'!BK232)","v":""},{"$f":"IF('Terugvordering reiskosten OAH'!BR232=0,\"\",'Terugvordering reiskosten OAH'!BR232)","v":""},{"$f":"IF('Terugvordering reiskosten OAH'!BZ232=0,\"\",'Terugvordering reiskosten OAH'!BZ232)","v":""},{"$f":"IF('Terugvordering reiskosten OAH'!CG232=\"\",\"\",'Terugvordering reiskosten OAH'!CG232)","v":""},{"$f":"IF('Terugvordering reiskosten OAH'!CM232=0,\"\",'Terugvordering reiskosten OAH'!CM232)","v":""}]
[{"$f":"IF('Terugvordering reiskosten OAH'!D233=\"\",\"\",IF('Terugvordering reiskosten OAH'!$T$36=\"\",\"\",'Terugvordering reiskosten OAH'!$T$36))","v":""},{"$f":"IF(A161=\"\",\"\",'Terugvordering reiskosten OAH'!$T$38)","v":""},{"$f":"IF(A161=\"\",\"\",'gegevensblad samenvatting vord.'!$C$2)","v":""},{"$f":"IF('Terugvordering reiskosten OAH'!D233=\"\",\"\",TEXT('Terugvordering reiskosten OAH'!D233,\"mm-jjjj\"))","v":""},{"$f":"IF('Terugvordering reiskosten OAH'!H233=\"\",\"\",'Terugvordering reiskosten OAH'!H233)","v":""},{"$f":"IF('Terugvordering reiskosten OAH'!R233=\"\",\"\",'Terugvordering reiskosten OAH'!R233)","v":""},{"$f":"IF('Terugvordering reiskosten OAH'!X233=\"\",\"\",'Terugvordering reiskosten OAH'!X233)","v":""},{"$f":"IF('Terugvordering reiskosten OAH'!AJ233=\"\",\"\",'Terugvordering reiskosten OAH'!AJ233)","v":""},{"$f":"IF('Terugvordering reiskosten OAH'!AR233=\"\",\"\",'Terugvordering reiskosten OAH'!AR233)","v":""},{"$f":"IF('Terugvordering reiskosten OAH'!AY233=\"\",\"\",'Terugvordering reiskosten OAH'!AY233)","v":""},{"$f":"IF('Terugvordering reiskosten OAH'!BC233=0,\"\",'Terugvordering reiskosten OAH'!BC233)","v":""},{"$f":"IF('Terugvordering reiskosten OAH'!BK233=0,\"\",'Terugvordering reiskosten OAH'!BK233)","v":""},{"$f":"IF('Terugvordering reiskosten OAH'!BR233=0,\"\",'Terugvordering reiskosten OAH'!BR233)","v":""},{"$f":"IF('Terugvordering reiskosten OAH'!BZ233=0,\"\",'Terugvordering reiskosten OAH'!BZ233)","v":""},{"$f":"IF('Terugvordering reiskosten OAH'!CG233=\"\",\"\",'Terugvordering reiskosten OAH'!CG233)","v":""},{"$f":"IF('Terugvordering reiskosten OAH'!CM233=0,\"\",'Terugvordering reiskosten OAH'!CM233)","v":""}]
[{"$f":"IF('Terugvordering reiskosten OAH'!D234=\"\",\"\",IF('Terugvordering reiskosten OAH'!$T$36=\"\",\"\",'Terugvordering reiskosten OAH'!$T$36))","v":""},{"$f":"IF(A162=\"\",\"\",'Terugvordering reiskosten OAH'!$T$38)","v":""},{"$f":"IF(A162=\"\",\"\",'gegevensblad samenvatting vord.'!$C$2)","v":""},{"$f":"IF('Terugvordering reiskosten OAH'!D234=\"\",\"\",TEXT('Terugvordering reiskosten OAH'!D234,\"mm-jjjj\"))","v":""},{"$f":"IF('Terugvordering reiskosten OAH'!H234=\"\",\"\",'Terugvordering reiskosten OAH'!H234)","v":""},{"$f":"IF('Terugvordering reiskosten OAH'!R234=\"\",\"\",'Terugvordering reiskosten OAH'!R234)","v":""},{"$f":"IF('Terugvordering reiskosten OAH'!X234=\"\",\"\",'Terugvordering reiskosten OAH'!X234)","v":""},{"$f":"IF('Terugvordering reiskosten OAH'!AJ234=\"\",\"\",'Terugvordering reiskosten OAH'!AJ234)","v":""},{"$f":"IF('Terugvordering reiskosten OAH'!AR234=\"\",\"\",'Terugvordering reiskosten OAH'!AR234)","v":""},{"$f":"IF('Terugvordering reiskosten OAH'!AY234=\"\",\"\",'Terugvordering reiskosten OAH'!AY234)","v":""},{"$f":"IF('Terugvordering reiskosten OAH'!BC234=0,\"\",'Terugvordering reiskosten OAH'!BC234)","v":""},{"$f":"IF('Terugvordering reiskosten OAH'!BK234=0,\"\",'Terugvordering reiskosten OAH'!BK234)","v":""},{"$f":"IF('Terugvordering reiskosten OAH'!BR234=0,\"\",'Terugvordering reiskosten OAH'!BR234)","v":""},{"$f":"IF('Terugvordering reiskosten OAH'!BZ234=0,\"\",'Terugvordering reiskosten OAH'!BZ234)","v":""},{"$f":"IF('Terugvordering reiskosten OAH'!CG234=\"\",\"\",'Terugvordering reiskosten OAH'!CG234)","v":""},{"$f":"IF('Terugvordering reiskosten OAH'!CM234=0,\"\",'Terugvordering reiskosten OAH'!CM234)","v":""}]
[{"$f":"IF('Terugvordering reiskosten OAH'!D235=\"\",\"\",IF('Terugvordering reiskosten OAH'!$T$36=\"\",\"\",'Terugvordering reiskosten OAH'!$T$36))","v":""},{"$f":"IF(A163=\"\",\"\",'Terugvordering reiskosten OAH'!$T$38)","v":""},{"$f":"IF(A163=\"\",\"\",'gegevensblad samenvatting vord.'!$C$2)","v":""},{"$f":"IF('Terugvordering reiskosten OAH'!D235=\"\",\"\",TEXT('Terugvordering reiskosten OAH'!D235,\"mm-jjjj\"))","v":""},{"$f":"IF('Terugvordering reiskosten OAH'!H235=\"\",\"\",'Terugvordering reiskosten OAH'!H235)","v":""},{"$f":"IF('Terugvordering reiskosten OAH'!R235=\"\",\"\",'Terugvordering reiskosten OAH'!R235)","v":""},{"$f":"IF('Terugvordering reiskosten OAH'!X235=\"\",\"\",'Terugvordering reiskosten OAH'!X235)","v":""},{"$f":"IF('Terugvordering reiskosten OAH'!AJ235=\"\",\"\",'Terugvordering reiskosten OAH'!AJ235)","v":""},{"$f":"IF('Terugvordering reiskosten OAH'!AR235=\"\",\"\",'Terugvordering reiskosten OAH'!AR235)","v":""},{"$f":"IF('Terugvordering reiskosten OAH'!AY235=\"\",\"\",'Terugvordering reiskosten OAH'!AY235)","v":""},{"$f":"IF('Terugvordering reiskosten OAH'!BC235=0,\"\",'Terugvordering reiskosten OAH'!BC235)","v":""},{"$f":"IF('Terugvordering reiskosten OAH'!BK235=0,\"\",'Terugvordering reiskosten OAH'!BK235)","v":""},{"$f":"IF('Terugvordering reiskosten OAH'!BR235=0,\"\",'Terugvordering reiskosten OAH'!BR235)","v":""},{"$f":"IF('Terugvordering reiskosten OAH'!BZ235=0,\"\",'Terugvordering reiskosten OAH'!BZ235)","v":""},{"$f":"IF('Terugvordering reiskosten OAH'!CG235=\"\",\"\",'Terugvordering reiskosten OAH'!CG235)","v":""},{"$f":"IF('Terugvordering reiskosten OAH'!CM235=0,\"\",'Terugvordering reiskosten OAH'!CM235)","v":""}]
[{"$f":"IF('Terugvordering reiskosten OAH'!D236=\"\",\"\",IF('Terugvordering reiskosten OAH'!$T$36=\"\",\"\",'Terugvordering reiskosten OAH'!$T$36))","v":""},{"$f":"IF(A164=\"\",\"\",'Terugvordering reiskosten OAH'!$T$38)","v":""},{"$f":"IF(A164=\"\",\"\",'gegevensblad samenvatting vord.'!$C$2)","v":""},{"$f":"IF('Terugvordering reiskosten OAH'!D236=\"\",\"\",TEXT('Terugvordering reiskosten OAH'!D236,\"mm-jjjj\"))","v":""},{"$f":"IF('Terugvordering reiskosten OAH'!H236=\"\",\"\",'Terugvordering reiskosten OAH'!H236)","v":""},{"$f":"IF('Terugvordering reiskosten OAH'!R236=\"\",\"\",'Terugvordering reiskosten OAH'!R236)","v":""},{"$f":"IF('Terugvordering reiskosten OAH'!X236=\"\",\"\",'Terugvordering reiskosten OAH'!X236)","v":""},{"$f":"IF('Terugvordering reiskosten OAH'!AJ236=\"\",\"\",'Terugvordering reiskosten OAH'!AJ236)","v":""},{"$f":"IF('Terugvordering reiskosten OAH'!AR236=\"\",\"\",'Terugvordering reiskosten OAH'!AR236)","v":""},{"$f":"IF('Terugvordering reiskosten OAH'!AY236=\"\",\"\",'Terugvordering reiskosten OAH'!AY236)","v":""},{"$f":"IF('Terugvordering reiskosten OAH'!BC236=0,\"\",'Terugvordering reiskosten OAH'!BC236)","v":""},{"$f":"IF('Terugvordering reiskosten OAH'!BK236=0,\"\",'Terugvordering reiskosten OAH'!BK236)","v":""},{"$f":"IF('Terugvordering reiskosten OAH'!BR236=0,\"\",'Terugvordering reiskosten OAH'!BR236)","v":""},{"$f":"IF('Terugvordering reiskosten OAH'!BZ236=0,\"\",'Terugvordering reiskosten OAH'!BZ236)","v":""},{"$f":"IF('Terugvordering reiskosten OAH'!CG236=\"\",\"\",'Terugvordering reiskosten OAH'!CG236)","v":""},{"$f":"IF('Terugvordering reiskosten OAH'!CM236=0,\"\",'Terugvordering reiskosten OAH'!CM236)","v":""}]
[{"$f":"IF('Terugvordering reiskosten OAH'!D237=\"\",\"\",IF('Terugvordering reiskosten OAH'!$T$36=\"\",\"\",'Terugvordering reiskosten OAH'!$T$36))","v":""},{"$f":"IF(A165=\"\",\"\",'Terugvordering reiskosten OAH'!$T$38)","v":""},{"$f":"IF(A165=\"\",\"\",'gegevensblad samenvatting vord.'!$C$2)","v":""},{"$f":"IF('Terugvordering reiskosten OAH'!D237=\"\",\"\",TEXT('Terugvordering reiskosten OAH'!D237,\"mm-jjjj\"))","v":""},{"$f":"IF('Terugvordering reiskosten OAH'!H237=\"\",\"\",'Terugvordering reiskosten OAH'!H237)","v":""},{"$f":"IF('Terugvordering reiskosten OAH'!R237=\"\",\"\",'Terugvordering reiskosten OAH'!R237)","v":""},{"$f":"IF('Terugvordering reiskosten OAH'!X237=\"\",\"\",'Terugvordering reiskosten OAH'!X237)","v":""},{"$f":"IF('Terugvordering reiskosten OAH'!AJ237=\"\",\"\",'Terugvordering reiskosten OAH'!AJ237)","v":""},{"$f":"IF('Terugvordering reiskosten OAH'!AR237=\"\",\"\",'Terugvordering reiskosten OAH'!AR237)","v":""},{"$f":"IF('Terugvordering reiskosten OAH'!AY237=\"\",\"\",'Terugvordering reiskosten OAH'!AY237)","v":""},{"$f":"IF('Terugvordering reiskosten OAH'!BC237=0,\"\",'Terugvordering reiskosten OAH'!BC237)","v":""},{"$f":"IF('Terugvordering reiskosten OAH'!BK237=0,\"\",'Terugvordering reiskosten OAH'!BK237)","v":""},{"$f":"IF('Terugvordering reiskosten OAH'!BR237=0,\"\",'Terugvordering reiskosten OAH'!BR237)","v":""},{"$f":"IF('Terugvordering reiskosten OAH'!BZ237=0,\"\",'Terugvordering reiskosten OAH'!BZ237)","v":""},{"$f":"IF('Terugvordering reiskosten OAH'!CG237=\"\",\"\",'Terugvordering reiskosten OAH'!CG237)","v":""},{"$f":"IF('Terugvordering reiskosten OAH'!CM237=0,\"\",'Terugvordering reiskosten OAH'!CM237)","v":""}]
[{"$f":"IF('Terugvordering reiskosten OAH'!D238=\"\",\"\",IF('Terugvordering reiskosten OAH'!$T$36=\"\",\"\",'Terugvordering reiskosten OAH'!$T$36))","v":""},{"$f":"IF(A166=\"\",\"\",'Terugvordering reiskosten OAH'!$T$38)","v":""},{"$f":"IF(A166=\"\",\"\",'gegevensblad samenvatting vord.'!$C$2)","v":""},{"$f":"IF('Terugvordering reiskosten OAH'!D238=\"\",\"\",TEXT('Terugvordering reiskosten OAH'!D238,\"mm-jjjj\"))","v":""},{"$f":"IF('Terugvordering reiskosten OAH'!H238=\"\",\"\",'Terugvordering reiskosten OAH'!H238)","v":""},{"$f":"IF('Terugvordering reiskosten OAH'!R238=\"\",\"\",'Terugvordering reiskosten OAH'!R238)","v":""},{"$f":"IF('Terugvordering reiskosten OAH'!X238=\"\",\"\",'Terugvordering reiskosten OAH'!X238)","v":""},{"$f":"IF('Terugvordering reiskosten OAH'!AJ238=\"\",\"\",'Terugvordering reiskosten OAH'!AJ238)","v":""},{"$f":"IF('Terugvordering reiskosten OAH'!AR238=\"\",\"\",'Terugvordering reiskosten OAH'!AR238)","v":""},{"$f":"IF('Terugvordering reiskosten OAH'!AY238=\"\",\"\",'Terugvordering reiskosten OAH'!AY238)","v":""},{"$f":"IF('Terugvordering reiskosten OAH'!BC238=0,\"\",'Terugvordering reiskosten OAH'!BC238)","v":""},{"$f":"IF('Terugvordering reiskosten OAH'!BK238=0,\"\",'Terugvordering reiskosten OAH'!BK238)","v":""},{"$f":"IF('Terugvordering reiskosten OAH'!BR238=0,\"\",'Terugvordering reiskosten OAH'!BR238)","v":""},{"$f":"IF('Terugvordering reiskosten OAH'!BZ238=0,\"\",'Terugvordering reiskosten OAH'!BZ238)","v":""},{"$f":"IF('Terugvordering reiskosten OAH'!CG238=\"\",\"\",'Terugvordering reiskosten OAH'!CG238)","v":""},{"$f":"IF('Terugvordering reiskosten OAH'!CM238=0,\"\",'Terugvordering reiskosten OAH'!CM238)","v":""}]
[{"$f":"IF('Terugvordering reiskosten OAH'!D239=\"\",\"\",IF('Terugvordering reiskosten OAH'!$T$36=\"\",\"\",'Terugvordering reiskosten OAH'!$T$36))","v":""},{"$f":"IF(A167=\"\",\"\",'Terugvordering reiskosten OAH'!$T$38)","v":""},{"$f":"IF(A167=\"\",\"\",'gegevensblad samenvatting vord.'!$C$2)","v":""},{"$f":"IF('Terugvordering reiskosten OAH'!D239=\"\",\"\",TEXT('Terugvordering reiskosten OAH'!D239,\"mm-jjjj\"))","v":""},{"$f":"IF('Terugvordering reiskosten OAH'!H239=\"\",\"\",'Terugvordering reiskosten OAH'!H239)","v":""},{"$f":"IF('Terugvordering reiskosten OAH'!R239=\"\",\"\",'Terugvordering reiskosten OAH'!R239)","v":""},{"$f":"IF('Terugvordering reiskosten OAH'!X239=\"\",\"\",'Terugvordering reiskosten OAH'!X239)","v":""},{"$f":"IF('Terugvordering reiskosten OAH'!AJ239=\"\",\"\",'Terugvordering reiskosten OAH'!AJ239)","v":""},{"$f":"IF('Terugvordering reiskosten OAH'!AR239=\"\",\"\",'Terugvordering reiskosten OAH'!AR239)","v":""},{"$f":"IF('Terugvordering reiskosten OAH'!AY239=\"\",\"\",'Terugvordering reiskosten OAH'!AY239)","v":""},{"$f":"IF('Terugvordering reiskosten OAH'!BC239=0,\"\",'Terugvordering reiskosten OAH'!BC239)","v":""},{"$f":"IF('Terugvordering reiskosten OAH'!BK239=0,\"\",'Terugvordering reiskosten OAH'!BK239)","v":""},{"$f":"IF('Terugvordering reiskosten OAH'!BR239=0,\"\",'Terugvordering reiskosten OAH'!BR239)","v":""},{"$f":"IF('Terugvordering reiskosten OAH'!BZ239=0,\"\",'Terugvordering reiskosten OAH'!BZ239)","v":""},{"$f":"IF('Terugvordering reiskosten OAH'!CG239=\"\",\"\",'Terugvordering reiskosten OAH'!CG239)","v":""},{"$f":"IF('Terugvordering reiskosten OAH'!CM239=0,\"\",'Terugvordering reiskosten OAH'!CM239)","v":""}]
[{"$f":"IF('Terugvordering reiskosten OAH'!D240=\"\",\"\",IF('Terugvordering reiskosten OAH'!$T$36=\"\",\"\",'Terugvordering reiskosten OAH'!$T$36))","v":""},{"$f":"IF(A168=\"\",\"\",'Terugvordering reiskosten OAH'!$T$38)","v":""},{"$f":"IF(A168=\"\",\"\",'gegevensblad samenvatting vord.'!$C$2)","v":""},{"$f":"IF('Terugvordering reiskosten OAH'!D240=\"\",\"\",TEXT('Terugvordering reiskosten OAH'!D240,\"mm-jjjj\"))","v":""},{"$f":"IF('Terugvordering reiskosten OAH'!H240=\"\",\"\",'Terugvordering reiskosten OAH'!H240)","v":""},{"$f":"IF('Terugvordering reiskosten OAH'!R240=\"\",\"\",'Terugvordering reiskosten OAH'!R240)","v":""},{"$f":"IF('Terugvordering reiskosten OAH'!X240=\"\",\"\",'Terugvordering reiskosten OAH'!X240)","v":""},{"$f":"IF('Terugvordering reiskosten OAH'!AJ240=\"\",\"\",'Terugvordering reiskosten OAH'!AJ240)","v":""},{"$f":"IF('Terugvordering reiskosten OAH'!AR240=\"\",\"\",'Terugvordering reiskosten OAH'!AR240)","v":""},{"$f":"IF('Terugvordering reiskosten OAH'!AY240=\"\",\"\",'Terugvordering reiskosten OAH'!AY240)","v":""},{"$f":"IF('Terugvordering reiskosten OAH'!BC240=0,\"\",'Terugvordering reiskosten OAH'!BC240)","v":""},{"$f":"IF('Terugvordering reiskosten OAH'!BK240=0,\"\",'Terugvordering reiskosten OAH'!BK240)","v":""},{"$f":"IF('Terugvordering reiskosten OAH'!BR240=0,\"\",'Terugvordering reiskosten OAH'!BR240)","v":""},{"$f":"IF('Terugvordering reiskosten OAH'!BZ240=0,\"\",'Terugvordering reiskosten OAH'!BZ240)","v":""},{"$f":"IF('Terugvordering reiskosten OAH'!CG240=\"\",\"\",'Terugvordering reiskosten OAH'!CG240)","v":""},{"$f":"IF('Terugvordering reiskosten OAH'!CM240=0,\"\",'Terugvordering reiskosten OAH'!CM240)","v":""}]
[{"$f":"IF('Terugvordering reiskosten OAH'!D241=\"\",\"\",IF('Terugvordering reiskosten OAH'!$T$36=\"\",\"\",'Terugvordering reiskosten OAH'!$T$36))","v":""},{"$f":"IF(A169=\"\",\"\",'Terugvordering reiskosten OAH'!$T$38)","v":""},{"$f":"IF(A169=\"\",\"\",'gegevensblad samenvatting vord.'!$C$2)","v":""},{"$f":"IF('Terugvordering reiskosten OAH'!D241=\"\",\"\",TEXT('Terugvordering reiskosten OAH'!D241,\"mm-jjjj\"))","v":""},{"$f":"IF('Terugvordering reiskosten OAH'!H241=\"\",\"\",'Terugvordering reiskosten OAH'!H241)","v":""},{"$f":"IF('Terugvordering reiskosten OAH'!R241=\"\",\"\",'Terugvordering reiskosten OAH'!R241)","v":""},{"$f":"IF('Terugvordering reiskosten OAH'!X241=\"\",\"\",'Terugvordering reiskosten OAH'!X241)","v":""},{"$f":"IF('Terugvordering reiskosten OAH'!AJ241=\"\",\"\",'Terugvordering reiskosten OAH'!AJ241)","v":""},{"$f":"IF('Terugvordering reiskosten OAH'!AR241=\"\",\"\",'Terugvordering reiskosten OAH'!AR241)","v":""},{"$f":"IF('Terugvordering reiskosten OAH'!AY241=\"\",\"\",'Terugvordering reiskosten OAH'!AY241)","v":""},{"$f":"IF('Terugvordering reiskosten OAH'!BC241=0,\"\",'Terugvordering reiskosten OAH'!BC241)","v":""},{"$f":"IF('Terugvordering reiskosten OAH'!BK241=0,\"\",'Terugvordering reiskosten OAH'!BK241)","v":""},{"$f":"IF('Terugvordering reiskosten OAH'!BR241=0,\"\",'Terugvordering reiskosten OAH'!BR241)","v":""},{"$f":"IF('Terugvordering reiskosten OAH'!BZ241=0,\"\",'Terugvordering reiskosten OAH'!BZ241)","v":""},{"$f":"IF('Terugvordering reiskosten OAH'!CG241=\"\",\"\",'Terugvordering reiskosten OAH'!CG241)","v":""},{"$f":"IF('Terugvordering reiskosten OAH'!CM241=0,\"\",'Terugvordering reiskosten OAH'!CM241)","v":""}]
[{"$f":"IF('Terugvordering reiskosten OAH'!D242=\"\",\"\",IF('Terugvordering reiskosten OAH'!$T$36=\"\",\"\",'Terugvordering reiskosten OAH'!$T$36))","v":""},{"$f":"IF(A170=\"\",\"\",'Terugvordering reiskosten OAH'!$T$38)","v":""},{"$f":"IF(A170=\"\",\"\",'gegevensblad samenvatting vord.'!$C$2)","v":""},{"$f":"IF('Terugvordering reiskosten OAH'!D242=\"\",\"\",TEXT('Terugvordering reiskosten OAH'!D242,\"mm-jjjj\"))","v":""},{"$f":"IF('Terugvordering reiskosten OAH'!H242=\"\",\"\",'Terugvordering reiskosten OAH'!H242)","v":""},{"$f":"IF('Terugvordering reiskosten OAH'!R242=\"\",\"\",'Terugvordering reiskosten OAH'!R242)","v":""},{"$f":"IF('Terugvordering reiskosten OAH'!X242=\"\",\"\",'Terugvordering reiskosten OAH'!X242)","v":""},{"$f":"IF('Terugvordering reiskosten OAH'!AJ242=\"\",\"\",'Terugvordering reiskosten OAH'!AJ242)","v":""},{"$f":"IF('Terugvordering reiskosten OAH'!AR242=\"\",\"\",'Terugvordering reiskosten OAH'!AR242)","v":""},{"$f":"IF('Terugvordering reiskosten OAH'!AY242=\"\",\"\",'Terugvordering reiskosten OAH'!AY242)","v":""},{"$f":"IF('Terugvordering reiskosten OAH'!BC242=0,\"\",'Terugvordering reiskosten OAH'!BC242)","v":""},{"$f":"IF('Terugvordering reiskosten OAH'!BK242=0,\"\",'Terugvordering reiskosten OAH'!BK242)","v":""},{"$f":"IF('Terugvordering reiskosten OAH'!BR242=0,\"\",'Terugvordering reiskosten OAH'!BR242)","v":""},{"$f":"IF('Terugvordering reiskosten OAH'!BZ242=0,\"\",'Terugvordering reiskosten OAH'!BZ242)","v":""},{"$f":"IF('Terugvordering reiskosten OAH'!CG242=\"\",\"\",'Terugvordering reiskosten OAH'!CG242)","v":""},{"$f":"IF('Terugvordering reiskosten OAH'!CM242=0,\"\",'Terugvordering reiskosten OAH'!CM242)","v":""}]
[{"$f":"IF('Terugvordering reiskosten OAH'!D243=\"\",\"\",IF('Terugvordering reiskosten OAH'!$T$36=\"\",\"\",'Terugvordering reiskosten OAH'!$T$36))","v":""},{"$f":"IF(A171=\"\",\"\",'Terugvordering reiskosten OAH'!$T$38)","v":""},{"$f":"IF(A171=\"\",\"\",'gegevensblad samenvatting vord.'!$C$2)","v":""},{"$f":"IF('Terugvordering reiskosten OAH'!D243=\"\",\"\",TEXT('Terugvordering reiskosten OAH'!D243,\"mm-jjjj\"))","v":""},{"$f":"IF('Terugvordering reiskosten OAH'!H243=\"\",\"\",'Terugvordering reiskosten OAH'!H243)","v":""},{"$f":"IF('Terugvordering reiskosten OAH'!R243=\"\",\"\",'Terugvordering reiskosten OAH'!R243)","v":""},{"$f":"IF('Terugvordering reiskosten OAH'!X243=\"\",\"\",'Terugvordering reiskosten OAH'!X243)","v":""},{"$f":"IF('Terugvordering reiskosten OAH'!AJ243=\"\",\"\",'Terugvordering reiskosten OAH'!AJ243)","v":""},{"$f":"IF('Terugvordering reiskosten OAH'!AR243=\"\",\"\",'Terugvordering reiskosten OAH'!AR243)","v":""},{"$f":"IF('Terugvordering reiskosten OAH'!AY243=\"\",\"\",'Terugvordering reiskosten OAH'!AY243)","v":""},{"$f":"IF('Terugvordering reiskosten OAH'!BC243=0,\"\",'Terugvordering reiskosten OAH'!BC243)","v":""},{"$f":"IF('Terugvordering reiskosten OAH'!BK243=0,\"\",'Terugvordering reiskosten OAH'!BK243)","v":""},{"$f":"IF('Terugvordering reiskosten OAH'!BR243=0,\"\",'Terugvordering reiskosten OAH'!BR243)","v":""},{"$f":"IF('Terugvordering reiskosten OAH'!BZ243=0,\"\",'Terugvordering reiskosten OAH'!BZ243)","v":""},{"$f":"IF('Terugvordering reiskosten OAH'!CG243=\"\",\"\",'Terugvordering reiskosten OAH'!CG243)","v":""},{"$f":"IF('Terugvordering reiskosten OAH'!CM243=0,\"\",'Terugvordering reiskosten OAH'!CM243)","v":""}]
[{"$f":"IF('Terugvordering reiskosten OAH'!D244=\"\",\"\",IF('Terugvordering reiskosten OAH'!$T$36=\"\",\"\",'Terugvordering reiskosten OAH'!$T$36))","v":""},{"$f":"IF(A172=\"\",\"\",'Terugvordering reiskosten OAH'!$T$38)","v":""},{"$f":"IF(A172=\"\",\"\",'gegevensblad samenvatting vord.'!$C$2)","v":""},{"$f":"IF('Terugvordering reiskosten OAH'!D244=\"\",\"\",TEXT('Terugvordering reiskosten OAH'!D244,\"mm-jjjj\"))","v":""},{"$f":"IF('Terugvordering reiskosten OAH'!H244=\"\",\"\",'Terugvordering reiskosten OAH'!H244)","v":""},{"$f":"IF('Terugvordering reiskosten OAH'!R244=\"\",\"\",'Terugvordering reiskosten OAH'!R244)","v":""},{"$f":"IF('Terugvordering reiskosten OAH'!X244=\"\",\"\",'Terugvordering reiskosten OAH'!X244)","v":""},{"$f":"IF('Terugvordering reiskosten OAH'!AJ244=\"\",\"\",'Terugvordering reiskosten OAH'!AJ244)","v":""},{"$f":"IF('Terugvordering reiskosten OAH'!AR244=\"\",\"\",'Terugvordering reiskosten OAH'!AR244)","v":""},{"$f":"IF('Terugvordering reiskosten OAH'!AY244=\"\",\"\",'Terugvordering reiskosten OAH'!AY244)","v":""},{"$f":"IF('Terugvordering reiskosten OAH'!BC244=0,\"\",'Terugvordering reiskosten OAH'!BC244)","v":""},{"$f":"IF('Terugvordering reiskosten OAH'!BK244=0,\"\",'Terugvordering reiskosten OAH'!BK244)","v":""},{"$f":"IF('Terugvordering reiskosten OAH'!BR244=0,\"\",'Terugvordering reiskosten OAH'!BR244)","v":""},{"$f":"IF('Terugvordering reiskosten OAH'!BZ244=0,\"\",'Terugvordering reiskosten OAH'!BZ244)","v":""},{"$f":"IF('Terugvordering reiskosten OAH'!CG244=\"\",\"\",'Terugvordering reiskosten OAH'!CG244)","v":""},{"$f":"IF('Terugvordering reiskosten OAH'!CM244=0,\"\",'Terugvordering reiskosten OAH'!CM244)","v":""}]
[{"$f":"IF('Terugvordering reiskosten OAH'!D245=\"\",\"\",IF('Terugvordering reiskosten OAH'!$T$36=\"\",\"\",'Terugvordering reiskosten OAH'!$T$36))","v":""},{"$f":"IF(A173=\"\",\"\",'Terugvordering reiskosten OAH'!$T$38)","v":""},{"$f":"IF(A173=\"\",\"\",'gegevensblad samenvatting vord.'!$C$2)","v":""},{"$f":"IF('Terugvordering reiskosten OAH'!D245=\"\",\"\",TEXT('Terugvordering reiskosten OAH'!D245,\"mm-jjjj\"))","v":""},{"$f":"IF('Terugvordering reiskosten OAH'!H245=\"\",\"\",'Terugvordering reiskosten OAH'!H245)","v":""},{"$f":"IF('Terugvordering reiskosten OAH'!R245=\"\",\"\",'Terugvordering reiskosten OAH'!R245)","v":""},{"$f":"IF('Terugvordering reiskosten OAH'!X245=\"\",\"\",'Terugvordering reiskosten OAH'!X245)","v":""},{"$f":"IF('Terugvordering reiskosten OAH'!AJ245=\"\",\"\",'Terugvordering reiskosten OAH'!AJ245)","v":""},{"$f":"IF('Terugvordering reiskosten OAH'!AR245=\"\",\"\",'Terugvordering reiskosten OAH'!AR245)","v":""},{"$f":"IF('Terugvordering reiskosten OAH'!AY245=\"\",\"\",'Terugvordering reiskosten OAH'!AY245)","v":""},{"$f":"IF('Terugvordering reiskosten OAH'!BC245=0,\"\",'Terugvordering reiskosten OAH'!BC245)","v":""},{"$f":"IF('Terugvordering reiskosten OAH'!BK245=0,\"\",'Terugvordering reiskosten OAH'!BK245)","v":""},{"$f":"IF('Terugvordering reiskosten OAH'!BR245=0,\"\",'Terugvordering reiskosten OAH'!BR245)","v":""},{"$f":"IF('Terugvordering reiskosten OAH'!BZ245=0,\"\",'Terugvordering reiskosten OAH'!BZ245)","v":""},{"$f":"IF('Terugvordering reiskosten OAH'!CG245=\"\",\"\",'Terugvordering reiskosten OAH'!CG245)","v":""},{"$f":"IF('Terugvordering reiskosten OAH'!CM245=0,\"\",'Terugvordering reiskosten OAH'!CM245)","v":""}]
[{"$f":"IF('Terugvordering reiskosten OAH'!D246=\"\",\"\",IF('Terugvordering reiskosten OAH'!$T$36=\"\",\"\",'Terugvordering reiskosten OAH'!$T$36))","v":""},{"$f":"IF(A174=\"\",\"\",'Terugvordering reiskosten OAH'!$T$38)","v":""},{"$f":"IF(A174=\"\",\"\",'gegevensblad samenvatting vord.'!$C$2)","v":""},{"$f":"IF('Terugvordering reiskosten OAH'!D246=\"\",\"\",TEXT('Terugvordering reiskosten OAH'!D246,\"mm-jjjj\"))","v":""},{"$f":"IF('Terugvordering reiskosten OAH'!H246=\"\",\"\",'Terugvordering reiskosten OAH'!H246)","v":""},{"$f":"IF('Terugvordering reiskosten OAH'!R246=\"\",\"\",'Terugvordering reiskosten OAH'!R246)","v":""},{"$f":"IF('Terugvordering reiskosten OAH'!X246=\"\",\"\",'Terugvordering reiskosten OAH'!X246)","v":""},{"$f":"IF('Terugvordering reiskosten OAH'!AJ246=\"\",\"\",'Terugvordering reiskosten OAH'!AJ246)","v":""},{"$f":"IF('Terugvordering reiskosten OAH'!AR246=\"\",\"\",'Terugvordering reiskosten OAH'!AR246)","v":""},{"$f":"IF('Terugvordering reiskosten OAH'!AY246=\"\",\"\",'Terugvordering reiskosten OAH'!AY246)","v":""},{"$f":"IF('Terugvordering reiskosten OAH'!BC246=0,\"\",'Terugvordering reiskosten OAH'!BC246)","v":""},{"$f":"IF('Terugvordering reiskosten OAH'!BK246=0,\"\",'Terugvordering reiskosten OAH'!BK246)","v":""},{"$f":"IF('Terugvordering reiskosten OAH'!BR246=0,\"\",'Terugvordering reiskosten OAH'!BR246)","v":""},{"$f":"IF('Terugvordering reiskosten OAH'!BZ246=0,\"\",'Terugvordering reiskosten OAH'!BZ246)","v":""},{"$f":"IF('Terugvordering reiskosten OAH'!CG246=\"\",\"\",'Terugvordering reiskosten OAH'!CG246)","v":""},{"$f":"IF('Terugvordering reiskosten OAH'!CM246=0,\"\",'Terugvordering reiskosten OAH'!CM246)","v":""}]
[{"$f":"IF('Terugvordering reiskosten OAH'!D247=\"\",\"\",IF('Terugvordering reiskosten OAH'!$T$36=\"\",\"\",'Terugvordering reiskosten OAH'!$T$36))","v":""},{"$f":"IF(A175=\"\",\"\",'Terugvordering reiskosten OAH'!$T$38)","v":""},{"$f":"IF(A175=\"\",\"\",'gegevensblad samenvatting vord.'!$C$2)","v":""},{"$f":"IF('Terugvordering reiskosten OAH'!D247=\"\",\"\",TEXT('Terugvordering reiskosten OAH'!D247,\"mm-jjjj\"))","v":""},{"$f":"IF('Terugvordering reiskosten OAH'!H247=\"\",\"\",'Terugvordering reiskosten OAH'!H247)","v":""},{"$f":"IF('Terugvordering reiskosten OAH'!R247=\"\",\"\",'Terugvordering reiskosten OAH'!R247)","v":""},{"$f":"IF('Terugvordering reiskosten OAH'!X247=\"\",\"\",'Terugvordering reiskosten OAH'!X247)","v":""},{"$f":"IF('Terugvordering reiskosten OAH'!AJ247=\"\",\"\",'Terugvordering reiskosten OAH'!AJ247)","v":""},{"$f":"IF('Terugvordering reiskosten OAH'!AR247=\"\",\"\",'Terugvordering reiskosten OAH'!AR247)","v":""},{"$f":"IF('Terugvordering reiskosten OAH'!AY247=\"\",\"\",'Terugvordering reiskosten OAH'!AY247)","v":""},{"$f":"IF('Terugvordering reiskosten OAH'!BC247=0,\"\",'Terugvordering reiskosten OAH'!BC247)","v":""},{"$f":"IF('Terugvordering reiskosten OAH'!BK247=0,\"\",'Terugvordering reiskosten OAH'!BK247)","v":""},{"$f":"IF('Terugvordering reiskosten OAH'!BR247=0,\"\",'Terugvordering reiskosten OAH'!BR247)","v":""},{"$f":"IF('Terugvordering reiskosten OAH'!BZ247=0,\"\",'Terugvordering reiskosten OAH'!BZ247)","v":""},{"$f":"IF('Terugvordering reiskosten OAH'!CG247=\"\",\"\",'Terugvordering reiskosten OAH'!CG247)","v":""},{"$f":"IF('Terugvordering reiskosten OAH'!CM247=0,\"\",'Terugvordering reiskosten OAH'!CM247)","v":""}]
[{"$f":"IF('Terugvordering reiskosten OAH'!D248=\"\",\"\",IF('Terugvordering reiskosten OAH'!$T$36=\"\",\"\",'Terugvordering reiskosten OAH'!$T$36))","v":""},{"$f":"IF(A176=\"\",\"\",'Terugvordering reiskosten OAH'!$T$38)","v":""},{"$f":"IF(A176=\"\",\"\",'gegevensblad samenvatting vord.'!$C$2)","v":""},{"$f":"IF('Terugvordering reiskosten OAH'!D248=\"\",\"\",TEXT('Terugvordering reiskosten OAH'!D248,\"mm-jjjj\"))","v":""},{"$f":"IF('Terugvordering reiskosten OAH'!H248=\"\",\"\",'Terugvordering reiskosten OAH'!H248)","v":""},{"$f":"IF('Terugvordering reiskosten OAH'!R248=\"\",\"\",'Terugvordering reiskosten OAH'!R248)","v":""},{"$f":"IF('Terugvordering reiskosten OAH'!X248=\"\",\"\",'Terugvordering reiskosten OAH'!X248)","v":""},{"$f":"IF('Terugvordering reiskosten OAH'!AJ248=\"\",\"\",'Terugvordering reiskosten OAH'!AJ248)","v":""},{"$f":"IF('Terugvordering reiskosten OAH'!AR248=\"\",\"\",'Terugvordering reiskosten OAH'!AR248)","v":""},{"$f":"IF('Terugvordering reiskosten OAH'!AY248=\"\",\"\",'Terugvordering reiskosten OAH'!AY248)","v":""},{"$f":"IF('Terugvordering reiskosten OAH'!BC248=0,\"\",'Terugvordering reiskosten OAH'!BC248)","v":""},{"$f":"IF('Terugvordering reiskosten OAH'!BK248=0,\"\",'Terugvordering reiskosten OAH'!BK248)","v":""},{"$f":"IF('Terugvordering reiskosten OAH'!BR248=0,\"\",'Terugvordering reiskosten OAH'!BR248)","v":""},{"$f":"IF('Terugvordering reiskosten OAH'!BZ248=0,\"\",'Terugvordering reiskosten OAH'!BZ248)","v":""},{"$f":"IF('Terugvordering reiskosten OAH'!CG248=\"\",\"\",'Terugvordering reiskosten OAH'!CG248)","v":""},{"$f":"IF('Terugvordering reiskosten OAH'!CM248=0,\"\",'Terugvordering reiskosten OAH'!CM248)","v":""}]
[{"$f":"IF('Terugvordering reiskosten OAH'!D249=\"\",\"\",IF('Terugvordering reiskosten OAH'!$T$36=\"\",\"\",'Terugvordering reiskosten OAH'!$T$36))","v":""},{"$f":"IF(A177=\"\",\"\",'Terugvordering reiskosten OAH'!$T$38)","v":""},{"$f":"IF(A177=\"\",\"\",'gegevensblad samenvatting vord.'!$C$2)","v":""},{"$f":"IF('Terugvordering reiskosten OAH'!D249=\"\",\"\",TEXT('Terugvordering reiskosten OAH'!D249,\"mm-jjjj\"))","v":""},{"$f":"IF('Terugvordering reiskosten OAH'!H249=\"\",\"\",'Terugvordering reiskosten OAH'!H249)","v":""},{"$f":"IF('Terugvordering reiskosten OAH'!R249=\"\",\"\",'Terugvordering reiskosten OAH'!R249)","v":""},{"$f":"IF('Terugvordering reiskosten OAH'!X249=\"\",\"\",'Terugvordering reiskosten OAH'!X249)","v":""},{"$f":"IF('Terugvordering reiskosten OAH'!AJ249=\"\",\"\",'Terugvordering reiskosten OAH'!AJ249)","v":""},{"$f":"IF('Terugvordering reiskosten OAH'!AR249=\"\",\"\",'Terugvordering reiskosten OAH'!AR249)","v":""},{"$f":"IF('Terugvordering reiskosten OAH'!AY249=\"\",\"\",'Terugvordering reiskosten OAH'!AY249)","v":""},{"$f":"IF('Terugvordering reiskosten OAH'!BC249=0,\"\",'Terugvordering reiskosten OAH'!BC249)","v":""},{"$f":"IF('Terugvordering reiskosten OAH'!BK249=0,\"\",'Terugvordering reiskosten OAH'!BK249)","v":""},{"$f":"IF('Terugvordering reiskosten OAH'!BR249=0,\"\",'Terugvordering reiskosten OAH'!BR249)","v":""},{"$f":"IF('Terugvordering reiskosten OAH'!BZ249=0,\"\",'Terugvordering reiskosten OAH'!BZ249)","v":""},{"$f":"IF('Terugvordering reiskosten OAH'!CG249=\"\",\"\",'Terugvordering reiskosten OAH'!CG249)","v":""},{"$f":"IF('Terugvordering reiskosten OAH'!CM249=0,\"\",'Terugvordering reiskosten OAH'!CM249)","v":""}]
[{"$f":"IF('Terugvordering reiskosten OAH'!D250=\"\",\"\",IF('Terugvordering reiskosten OAH'!$T$36=\"\",\"\",'Terugvordering reiskosten OAH'!$T$36))","v":""},{"$f":"IF(A178=\"\",\"\",'Terugvordering reiskosten OAH'!$T$38)","v":""},{"$f":"IF(A178=\"\",\"\",'gegevensblad samenvatting vord.'!$C$2)","v":""},{"$f":"IF('Terugvordering reiskosten OAH'!D250=\"\",\"\",TEXT('Terugvordering reiskosten OAH'!D250,\"mm-jjjj\"))","v":""},{"$f":"IF('Terugvordering reiskosten OAH'!H250=\"\",\"\",'Terugvordering reiskosten OAH'!H250)","v":""},{"$f":"IF('Terugvordering reiskosten OAH'!R250=\"\",\"\",'Terugvordering reiskosten OAH'!R250)","v":""},{"$f":"IF('Terugvordering reiskosten OAH'!X250=\"\",\"\",'Terugvordering reiskosten OAH'!X250)","v":""},{"$f":"IF('Terugvordering reiskosten OAH'!AJ250=\"\",\"\",'Terugvordering reiskosten OAH'!AJ250)","v":""},{"$f":"IF('Terugvordering reiskosten OAH'!AR250=\"\",\"\",'Terugvordering reiskosten OAH'!AR250)","v":""},{"$f":"IF('Terugvordering reiskosten OAH'!AY250=\"\",\"\",'Terugvordering reiskosten OAH'!AY250)","v":""},{"$f":"IF('Terugvordering reiskosten OAH'!BC250=0,\"\",'Terugvordering reiskosten OAH'!BC250)","v":""},{"$f":"IF('Terugvordering reiskosten OAH'!BK250=0,\"\",'Terugvordering reiskosten OAH'!BK250)","v":""},{"$f":"IF('Terugvordering reiskosten OAH'!BR250=0,\"\",'Terugvordering reiskosten OAH'!BR250)","v":""},{"$f":"IF('Terugvordering reiskosten OAH'!BZ250=0,\"\",'Terugvordering reiskosten OAH'!BZ250)","v":""},{"$f":"IF('Terugvordering reiskosten OAH'!CG250=\"\",\"\",'Terugvordering reiskosten OAH'!CG250)","v":""},{"$f":"IF('Terugvordering reiskosten OAH'!CM250=0,\"\",'Terugvordering reiskosten OAH'!CM250)","v":""}]
[{"$f":"IF('Terugvordering reiskosten OAH'!D251=\"\",\"\",IF('Terugvordering reiskosten OAH'!$T$36=\"\",\"\",'Terugvordering reiskosten OAH'!$T$36))","v":""},{"$f":"IF(A179=\"\",\"\",'Terugvordering reiskosten OAH'!$T$38)","v":""},{"$f":"IF(A179=\"\",\"\",'gegevensblad samenvatting vord.'!$C$2)","v":""},{"$f":"IF('Terugvordering reiskosten OAH'!D251=\"\",\"\",TEXT('Terugvordering reiskosten OAH'!D251,\"mm-jjjj\"))","v":""},{"$f":"IF('Terugvordering reiskosten OAH'!H251=\"\",\"\",'Terugvordering reiskosten OAH'!H251)","v":""},{"$f":"IF('Terugvordering reiskosten OAH'!R251=\"\",\"\",'Terugvordering reiskosten OAH'!R251)","v":""},{"$f":"IF('Terugvordering reiskosten OAH'!X251=\"\",\"\",'Terugvordering reiskosten OAH'!X251)","v":""},{"$f":"IF('Terugvordering reiskosten OAH'!AJ251=\"\",\"\",'Terugvordering reiskosten OAH'!AJ251)","v":""},{"$f":"IF('Terugvordering reiskosten OAH'!AR251=\"\",\"\",'Terugvordering reiskosten OAH'!AR251)","v":""},{"$f":"IF('Terugvordering reiskosten OAH'!AY251=\"\",\"\",'Terugvordering reiskosten OAH'!AY251)","v":""},{"$f":"IF('Terugvordering reiskosten OAH'!BC251=0,\"\",'Terugvordering reiskosten OAH'!BC251)","v":""},{"$f":"IF('Terugvordering reiskosten OAH'!BK251=0,\"\",'Terugvordering reiskosten OAH'!BK251)","v":""},{"$f":"IF('Terugvordering reiskosten OAH'!BR251=0,\"\",'Terugvordering reiskosten OAH'!BR251)","v":""},{"$f":"IF('Terugvordering reiskosten OAH'!BZ251=0,\"\",'Terugvordering reiskosten OAH'!BZ251)","v":""},{"$f":"IF('Terugvordering reiskosten OAH'!CG251=\"\",\"\",'Terugvordering reiskosten OAH'!CG251)","v":""},{"$f":"IF('Terugvordering reiskosten OAH'!CM251=0,\"\",'Terugvordering reiskosten OAH'!CM251)","v":""}]
[{"$f":"IF('Terugvordering reiskosten OAH'!D252=\"\",\"\",IF('Terugvordering reiskosten OAH'!$T$36=\"\",\"\",'Terugvordering reiskosten OAH'!$T$36))","v":""},{"$f":"IF(A180=\"\",\"\",'Terugvordering reiskosten OAH'!$T$38)","v":""},{"$f":"IF(A180=\"\",\"\",'gegevensblad samenvatting vord.'!$C$2)","v":""},{"$f":"IF('Terugvordering reiskosten OAH'!D252=\"\",\"\",TEXT('Terugvordering reiskosten OAH'!D252,\"mm-jjjj\"))","v":""},{"$f":"IF('Terugvordering reiskosten OAH'!H252=\"\",\"\",'Terugvordering reiskosten OAH'!H252)","v":""},{"$f":"IF('Terugvordering reiskosten OAH'!R252=\"\",\"\",'Terugvordering reiskosten OAH'!R252)","v":""},{"$f":"IF('Terugvordering reiskosten OAH'!X252=\"\",\"\",'Terugvordering reiskosten OAH'!X252)","v":""},{"$f":"IF('Terugvordering reiskosten OAH'!AJ252=\"\",\"\",'Terugvordering reiskosten OAH'!AJ252)","v":""},{"$f":"IF('Terugvordering reiskosten OAH'!AR252=\"\",\"\",'Terugvordering reiskosten OAH'!AR252)","v":""},{"$f":"IF('Terugvordering reiskosten OAH'!AY252=\"\",\"\",'Terugvordering reiskosten OAH'!AY252)","v":""},{"$f":"IF('Terugvordering reiskosten OAH'!BC252=0,\"\",'Terugvordering reiskosten OAH'!BC252)","v":""},{"$f":"IF('Terugvordering reiskosten OAH'!BK252=0,\"\",'Terugvordering reiskosten OAH'!BK252)","v":""},{"$f":"IF('Terugvordering reiskosten OAH'!BR252=0,\"\",'Terugvordering reiskosten OAH'!BR252)","v":""},{"$f":"IF('Terugvordering reiskosten OAH'!BZ252=0,\"\",'Terugvordering reiskosten OAH'!BZ252)","v":""},{"$f":"IF('Terugvordering reiskosten OAH'!CG252=\"\",\"\",'Terugvordering reiskosten OAH'!CG252)","v":""},{"$f":"IF('Terugvordering reiskosten OAH'!CM252=0,\"\",'Terugvordering reiskosten OAH'!CM252)","v":""}]
[{"$f":"IF('Terugvordering reiskosten OAH'!D253=\"\",\"\",IF('Terugvordering reiskosten OAH'!$T$36=\"\",\"\",'Terugvordering reiskosten OAH'!$T$36))","v":""},{"$f":"IF(A181=\"\",\"\",'Terugvordering reiskosten OAH'!$T$38)","v":""},{"$f":"IF(A181=\"\",\"\",'gegevensblad samenvatting vord.'!$C$2)","v":""},{"$f":"IF('Terugvordering reiskosten OAH'!D253=\"\",\"\",TEXT('Terugvordering reiskosten OAH'!D253,\"mm-jjjj\"))","v":""},{"$f":"IF('Terugvordering reiskosten OAH'!H253=\"\",\"\",'Terugvordering reiskosten OAH'!H253)","v":""},{"$f":"IF('Terugvordering reiskosten OAH'!R253=\"\",\"\",'Terugvordering reiskosten OAH'!R253)","v":""},{"$f":"IF('Terugvordering reiskosten OAH'!X253=\"\",\"\",'Terugvordering reiskosten OAH'!X253)","v":""},{"$f":"IF('Terugvordering reiskosten OAH'!AJ253=\"\",\"\",'Terugvordering reiskosten OAH'!AJ253)","v":""},{"$f":"IF('Terugvordering reiskosten OAH'!AR253=\"\",\"\",'Terugvordering reiskosten OAH'!AR253)","v":""},{"$f":"IF('Terugvordering reiskosten OAH'!AY253=\"\",\"\",'Terugvordering reiskosten OAH'!AY253)","v":""},{"$f":"IF('Terugvordering reiskosten OAH'!BC253=0,\"\",'Terugvordering reiskosten OAH'!BC253)","v":""},{"$f":"IF('Terugvordering reiskosten OAH'!BK253=0,\"\",'Terugvordering reiskosten OAH'!BK253)","v":""},{"$f":"IF('Terugvordering reiskosten OAH'!BR253=0,\"\",'Terugvordering reiskosten OAH'!BR253)","v":""},{"$f":"IF('Terugvordering reiskosten OAH'!BZ253=0,\"\",'Terugvordering reiskosten OAH'!BZ253)","v":""},{"$f":"IF('Terugvordering reiskosten OAH'!CG253=\"\",\"\",'Terugvordering reiskosten OAH'!CG253)","v":""},{"$f":"IF('Terugvordering reiskosten OAH'!CM253=0,\"\",'Terugvordering reiskosten OAH'!CM253)","v":""}]
[{"$f":"IF('Terugvordering reiskosten OAH'!D254=\"\",\"\",IF('Terugvordering reiskosten OAH'!$T$36=\"\",\"\",'Terugvordering reiskosten OAH'!$T$36))","v":""},{"$f":"IF(A182=\"\",\"\",'Terugvordering reiskosten OAH'!$T$38)","v":""},{"$f":"IF(A182=\"\",\"\",'gegevensblad samenvatting vord.'!$C$2)","v":""},{"$f":"IF('Terugvordering reiskosten OAH'!D254=\"\",\"\",TEXT('Terugvordering reiskosten OAH'!D254,\"mm-jjjj\"))","v":""},{"$f":"IF('Terugvordering reiskosten OAH'!H254=\"\",\"\",'Terugvordering reiskosten OAH'!H254)","v":""},{"$f":"IF('Terugvordering reiskosten OAH'!R254=\"\",\"\",'Terugvordering reiskosten OAH'!R254)","v":""},{"$f":"IF('Terugvordering reiskosten OAH'!X254=\"\",\"\",'Terugvordering reiskosten OAH'!X254)","v":""},{"$f":"IF('Terugvordering reiskosten OAH'!AJ254=\"\",\"\",'Terugvordering reiskosten OAH'!AJ254)","v":""},{"$f":"IF('Terugvordering reiskosten OAH'!AR254=\"\",\"\",'Terugvordering reiskosten OAH'!AR254)","v":""},{"$f":"IF('Terugvordering reiskosten OAH'!AY254=\"\",\"\",'Terugvordering reiskosten OAH'!AY254)","v":""},{"$f":"IF('Terugvordering reiskosten OAH'!BC254=0,\"\",'Terugvordering reiskosten OAH'!BC254)","v":""},{"$f":"IF('Terugvordering reiskosten OAH'!BK254=0,\"\",'Terugvordering reiskosten OAH'!BK254)","v":""},{"$f":"IF('Terugvordering reiskosten OAH'!BR254=0,\"\",'Terugvordering reiskosten OAH'!BR254)","v":""},{"$f":"IF('Terugvordering reiskosten OAH'!BZ254=0,\"\",'Terugvordering reiskosten OAH'!BZ254)","v":""},{"$f":"IF('Terugvordering reiskosten OAH'!CG254=\"\",\"\",'Terugvordering reiskosten OAH'!CG254)","v":""},{"$f":"IF('Terugvordering reiskosten OAH'!CM254=0,\"\",'Terugvordering reiskosten OAH'!CM254)","v":""}]
[{"$f":"IF('Terugvordering reiskosten OAH'!D255=\"\",\"\",IF('Terugvordering reiskosten OAH'!$T$36=\"\",\"\",'Terugvordering reiskosten OAH'!$T$36))","v":""},{"$f":"IF(A183=\"\",\"\",'Terugvordering reiskosten OAH'!$T$38)","v":""},{"$f":"IF(A183=\"\",\"\",'gegevensblad samenvatting vord.'!$C$2)","v":""},{"$f":"IF('Terugvordering reiskosten OAH'!D255=\"\",\"\",TEXT('Terugvordering reiskosten OAH'!D255,\"mm-jjjj\"))","v":""},{"$f":"IF('Terugvordering reiskosten OAH'!H255=\"\",\"\",'Terugvordering reiskosten OAH'!H255)","v":""},{"$f":"IF('Terugvordering reiskosten OAH'!R255=\"\",\"\",'Terugvordering reiskosten OAH'!R255)","v":""},{"$f":"IF('Terugvordering reiskosten OAH'!X255=\"\",\"\",'Terugvordering reiskosten OAH'!X255)","v":""},{"$f":"IF('Terugvordering reiskosten OAH'!AJ255=\"\",\"\",'Terugvordering reiskosten OAH'!AJ255)","v":""},{"$f":"IF('Terugvordering reiskosten OAH'!AR255=\"\",\"\",'Terugvordering reiskosten OAH'!AR255)","v":""},{"$f":"IF('Terugvordering reiskosten OAH'!AY255=\"\",\"\",'Terugvordering reiskosten OAH'!AY255)","v":""},{"$f":"IF('Terugvordering reiskosten OAH'!BC255=0,\"\",'Terugvordering reiskosten OAH'!BC255)","v":""},{"$f":"IF('Terugvordering reiskosten OAH'!BK255=0,\"\",'Terugvordering reiskosten OAH'!BK255)","v":""},{"$f":"IF('Terugvordering reiskosten OAH'!BR255=0,\"\",'Terugvordering reiskosten OAH'!BR255)","v":""},{"$f":"IF('Terugvordering reiskosten OAH'!BZ255=0,\"\",'Terugvordering reiskosten OAH'!BZ255)","v":""},{"$f":"IF('Terugvordering reiskosten OAH'!CG255=\"\",\"\",'Terugvordering reiskosten OAH'!CG255)","v":""},{"$f":"IF('Terugvordering reiskosten OAH'!CM255=0,\"\",'Terugvordering reiskosten OAH'!CM255)","v":""}]
[{"$f":"IF('Terugvordering reiskosten OAH'!D256=\"\",\"\",IF('Terugvordering reiskosten OAH'!$T$36=\"\",\"\",'Terugvordering reiskosten OAH'!$T$36))","v":""},{"$f":"IF(A184=\"\",\"\",'Terugvordering reiskosten OAH'!$T$38)","v":""},{"$f":"IF(A184=\"\",\"\",'gegevensblad samenvatting vord.'!$C$2)","v":""},{"$f":"IF('Terugvordering reiskosten OAH'!D256=\"\",\"\",TEXT('Terugvordering reiskosten OAH'!D256,\"mm-jjjj\"))","v":""},{"$f":"IF('Terugvordering reiskosten OAH'!H256=\"\",\"\",'Terugvordering reiskosten OAH'!H256)","v":""},{"$f":"IF('Terugvordering reiskosten OAH'!R256=\"\",\"\",'Terugvordering reiskosten OAH'!R256)","v":""},{"$f":"IF('Terugvordering reiskosten OAH'!X256=\"\",\"\",'Terugvordering reiskosten OAH'!X256)","v":""},{"$f":"IF('Terugvordering reiskosten OAH'!AJ256=\"\",\"\",'Terugvordering reiskosten OAH'!AJ256)","v":""},{"$f":"IF('Terugvordering reiskosten OAH'!AR256=\"\",\"\",'Terugvordering reiskosten OAH'!AR256)","v":""},{"$f":"IF('Terugvordering reiskosten OAH'!AY256=\"\",\"\",'Terugvordering reiskosten OAH'!AY256)","v":""},{"$f":"IF('Terugvordering reiskosten OAH'!BC256=0,\"\",'Terugvordering reiskosten OAH'!BC256)","v":""},{"$f":"IF('Terugvordering reiskosten OAH'!BK256=0,\"\",'Terugvordering reiskosten OAH'!BK256)","v":""},{"$f":"IF('Terugvordering reiskosten OAH'!BR256=0,\"\",'Terugvordering reiskosten OAH'!BR256)","v":""},{"$f":"IF('Terugvordering reiskosten OAH'!BZ256=0,\"\",'Terugvordering reiskosten OAH'!BZ256)","v":""},{"$f":"IF('Terugvordering reiskosten OAH'!CG256=\"\",\"\",'Terugvordering reiskosten OAH'!CG256)","v":""},{"$f":"IF('Terugvordering reiskosten OAH'!CM256=0,\"\",'Terugvordering reiskosten OAH'!CM256)","v":""}]
[{"$f":"IF('Terugvordering reiskosten OAH'!D257=\"\",\"\",IF('Terugvordering reiskosten OAH'!$T$36=\"\",\"\",'Terugvordering reiskosten OAH'!$T$36))","v":""},{"$f":"IF(A185=\"\",\"\",'Terugvordering reiskosten OAH'!$T$38)","v":""},{"$f":"IF(A185=\"\",\"\",'gegevensblad samenvatting vord.'!$C$2)","v":""},{"$f":"IF('Terugvordering reiskosten OAH'!D257=\"\",\"\",TEXT('Terugvordering reiskosten OAH'!D257,\"mm-jjjj\"))","v":""},{"$f":"IF('Terugvordering reiskosten OAH'!H257=\"\",\"\",'Terugvordering reiskosten OAH'!H257)","v":""},{"$f":"IF('Terugvordering reiskosten OAH'!R257=\"\",\"\",'Terugvordering reiskosten OAH'!R257)","v":""},{"$f":"IF('Terugvordering reiskosten OAH'!X257=\"\",\"\",'Terugvordering reiskosten OAH'!X257)","v":""},{"$f":"IF('Terugvordering reiskosten OAH'!AJ257=\"\",\"\",'Terugvordering reiskosten OAH'!AJ257)","v":""},{"$f":"IF('Terugvordering reiskosten OAH'!AR257=\"\",\"\",'Terugvordering reiskosten OAH'!AR257)","v":""},{"$f":"IF('Terugvordering reiskosten OAH'!AY257=\"\",\"\",'Terugvordering reiskosten OAH'!AY257)","v":""},{"$f":"IF('Terugvordering reiskosten OAH'!BC257=0,\"\",'Terugvordering reiskosten OAH'!BC257)","v":""},{"$f":"IF('Terugvordering reiskosten OAH'!BK257=0,\"\",'Terugvordering reiskosten OAH'!BK257)","v":""},{"$f":"IF('Terugvordering reiskosten OAH'!BR257=0,\"\",'Terugvordering reiskosten OAH'!BR257)","v":""},{"$f":"IF('Terugvordering reiskosten OAH'!BZ257=0,\"\",'Terugvordering reiskosten OAH'!BZ257)","v":""},{"$f":"IF('Terugvordering reiskosten OAH'!CG257=\"\",\"\",'Terugvordering reiskosten OAH'!CG257)","v":""},{"$f":"IF('Terugvordering reiskosten OAH'!CM257=0,\"\",'Terugvordering reiskosten OAH'!CM257)","v":""}]
[{"$f":"IF('Terugvordering reiskosten OAH'!D258=\"\",\"\",IF('Terugvordering reiskosten OAH'!$T$36=\"\",\"\",'Terugvordering reiskosten OAH'!$T$36))","v":""},{"$f":"IF(A186=\"\",\"\",'Terugvordering reiskosten OAH'!$T$38)","v":""},{"$f":"IF(A186=\"\",\"\",'gegevensblad samenvatting vord.'!$C$2)","v":""},{"$f":"IF('Terugvordering reiskosten OAH'!D258=\"\",\"\",TEXT('Terugvordering reiskosten OAH'!D258,\"mm-jjjj\"))","v":""},{"$f":"IF('Terugvordering reiskosten OAH'!H258=\"\",\"\",'Terugvordering reiskosten OAH'!H258)","v":""},{"$f":"IF('Terugvordering reiskosten OAH'!R258=\"\",\"\",'Terugvordering reiskosten OAH'!R258)","v":""},{"$f":"IF('Terugvordering reiskosten OAH'!X258=\"\",\"\",'Terugvordering reiskosten OAH'!X258)","v":""},{"$f":"IF('Terugvordering reiskosten OAH'!AJ258=\"\",\"\",'Terugvordering reiskosten OAH'!AJ258)","v":""},{"$f":"IF('Terugvordering reiskosten OAH'!AR258=\"\",\"\",'Terugvordering reiskosten OAH'!AR258)","v":""},{"$f":"IF('Terugvordering reiskosten OAH'!AY258=\"\",\"\",'Terugvordering reiskosten OAH'!AY258)","v":""},{"$f":"IF('Terugvordering reiskosten OAH'!BC258=0,\"\",'Terugvordering reiskosten OAH'!BC258)","v":""},{"$f":"IF('Terugvordering reiskosten OAH'!BK258=0,\"\",'Terugvordering reiskosten OAH'!BK258)","v":""},{"$f":"IF('Terugvordering reiskosten OAH'!BR258=0,\"\",'Terugvordering reiskosten OAH'!BR258)","v":""},{"$f":"IF('Terugvordering reiskosten OAH'!BZ258=0,\"\",'Terugvordering reiskosten OAH'!BZ258)","v":""},{"$f":"IF('Terugvordering reiskosten OAH'!CG258=\"\",\"\",'Terugvordering reiskosten OAH'!CG258)","v":""},{"$f":"IF('Terugvordering reiskosten OAH'!CM258=0,\"\",'Terugvordering reiskosten OAH'!CM258)","v":""}]
[{"$f":"IF('Terugvordering reiskosten OAH'!D259=\"\",\"\",IF('Terugvordering reiskosten OAH'!$T$36=\"\",\"\",'Terugvordering reiskosten OAH'!$T$36))","v":""},{"$f":"IF(A187=\"\",\"\",'Terugvordering reiskosten OAH'!$T$38)","v":""},{"$f":"IF(A187=\"\",\"\",'gegevensblad samenvatting vord.'!$C$2)","v":""},{"$f":"IF('Terugvordering reiskosten OAH'!D259=\"\",\"\",TEXT('Terugvordering reiskosten OAH'!D259,\"mm-jjjj\"))","v":""},{"$f":"IF('Terugvordering reiskosten OAH'!H259=\"\",\"\",'Terugvordering reiskosten OAH'!H259)","v":""},{"$f":"IF('Terugvordering reiskosten OAH'!R259=\"\",\"\",'Terugvordering reiskosten OAH'!R259)","v":""},{"$f":"IF('Terugvordering reiskosten OAH'!X259=\"\",\"\",'Terugvordering reiskosten OAH'!X259)","v":""},{"$f":"IF('Terugvordering reiskosten OAH'!AJ259=\"\",\"\",'Terugvordering reiskosten OAH'!AJ259)","v":""},{"$f":"IF('Terugvordering reiskosten OAH'!AR259=\"\",\"\",'Terugvordering reiskosten OAH'!AR259)","v":""},{"$f":"IF('Terugvordering reiskosten OAH'!AY259=\"\",\"\",'Terugvordering reiskosten OAH'!AY259)","v":""},{"$f":"IF('Terugvordering reiskosten OAH'!BC259=0,\"\",'Terugvordering reiskosten OAH'!BC259)","v":""},{"$f":"IF('Terugvordering reiskosten OAH'!BK259=0,\"\",'Terugvordering reiskosten OAH'!BK259)","v":""},{"$f":"IF('Terugvordering reiskosten OAH'!BR259=0,\"\",'Terugvordering reiskosten OAH'!BR259)","v":""},{"$f":"IF('Terugvordering reiskosten OAH'!BZ259=0,\"\",'Terugvordering reiskosten OAH'!BZ259)","v":""},{"$f":"IF('Terugvordering reiskosten OAH'!CG259=\"\",\"\",'Terugvordering reiskosten OAH'!CG259)","v":""},{"$f":"IF('Terugvordering reiskosten OAH'!CM259=0,\"\",'Terugvordering reiskosten OAH'!CM259)","v":""}]
[{"$f":"IF('Terugvordering reiskosten OAH'!D260=\"\",\"\",IF('Terugvordering reiskosten OAH'!$T$36=\"\",\"\",'Terugvordering reiskosten OAH'!$T$36))","v":""},{"$f":"IF(A188=\"\",\"\",'Terugvordering reiskosten OAH'!$T$38)","v":""},{"$f":"IF(A188=\"\",\"\",'gegevensblad samenvatting vord.'!$C$2)","v":""},{"$f":"IF('Terugvordering reiskosten OAH'!D260=\"\",\"\",TEXT('Terugvordering reiskosten OAH'!D260,\"mm-jjjj\"))","v":""},{"$f":"IF('Terugvordering reiskosten OAH'!H260=\"\",\"\",'Terugvordering reiskosten OAH'!H260)","v":""},{"$f":"IF('Terugvordering reiskosten OAH'!R260=\"\",\"\",'Terugvordering reiskosten OAH'!R260)","v":""},{"$f":"IF('Terugvordering reiskosten OAH'!X260=\"\",\"\",'Terugvordering reiskosten OAH'!X260)","v":""},{"$f":"IF('Terugvordering reiskosten OAH'!AJ260=\"\",\"\",'Terugvordering reiskosten OAH'!AJ260)","v":""},{"$f":"IF('Terugvordering reiskosten OAH'!AR260=\"\",\"\",'Terugvordering reiskosten OAH'!AR260)","v":""},{"$f":"IF('Terugvordering reiskosten OAH'!AY260=\"\",\"\",'Terugvordering reiskosten OAH'!AY260)","v":""},{"$f":"IF('Terugvordering reiskosten OAH'!BC260=0,\"\",'Terugvordering reiskosten OAH'!BC260)","v":""},{"$f":"IF('Terugvordering reiskosten OAH'!BK260=0,\"\",'Terugvordering reiskosten OAH'!BK260)","v":""},{"$f":"IF('Terugvordering reiskosten OAH'!BR260=0,\"\",'Terugvordering reiskosten OAH'!BR260)","v":""},{"$f":"IF('Terugvordering reiskosten OAH'!BZ260=0,\"\",'Terugvordering reiskosten OAH'!BZ260)","v":""},{"$f":"IF('Terugvordering reiskosten OAH'!CG260=\"\",\"\",'Terugvordering reiskosten OAH'!CG260)","v":""},{"$f":"IF('Terugvordering reiskosten OAH'!CM260=0,\"\",'Terugvordering reiskosten OAH'!CM260)","v":""}]
[{"$f":"IF('Terugvordering reiskosten OAH'!D261=\"\",\"\",IF('Terugvordering reiskosten OAH'!$T$36=\"\",\"\",'Terugvordering reiskosten OAH'!$T$36))","v":""},{"$f":"IF(A189=\"\",\"\",'Terugvordering reiskosten OAH'!$T$38)","v":""},{"$f":"IF(A189=\"\",\"\",'gegevensblad samenvatting vord.'!$C$2)","v":""},{"$f":"IF('Terugvordering reiskosten OAH'!D261=\"\",\"\",TEXT('Terugvordering reiskosten OAH'!D261,\"mm-jjjj\"))","v":""},{"$f":"IF('Terugvordering reiskosten OAH'!H261=\"\",\"\",'Terugvordering reiskosten OAH'!H261)","v":""},{"$f":"IF('Terugvordering reiskosten OAH'!R261=\"\",\"\",'Terugvordering reiskosten OAH'!R261)","v":""},{"$f":"IF('Terugvordering reiskosten OAH'!X261=\"\",\"\",'Terugvordering reiskosten OAH'!X261)","v":""},{"$f":"IF('Terugvordering reiskosten OAH'!AJ261=\"\",\"\",'Terugvordering reiskosten OAH'!AJ261)","v":""},{"$f":"IF('Terugvordering reiskosten OAH'!AR261=\"\",\"\",'Terugvordering reiskosten OAH'!AR261)","v":""},{"$f":"IF('Terugvordering reiskosten OAH'!AY261=\"\",\"\",'Terugvordering reiskosten OAH'!AY261)","v":""},{"$f":"IF('Terugvordering reiskosten OAH'!BC261=0,\"\",'Terugvordering reiskosten OAH'!BC261)","v":""},{"$f":"IF('Terugvordering reiskosten OAH'!BK261=0,\"\",'Terugvordering reiskosten OAH'!BK261)","v":""},{"$f":"IF('Terugvordering reiskosten OAH'!BR261=0,\"\",'Terugvordering reiskosten OAH'!BR261)","v":""},{"$f":"IF('Terugvordering reiskosten OAH'!BZ261=0,\"\",'Terugvordering reiskosten OAH'!BZ261)","v":""},{"$f":"IF('Terugvordering reiskosten OAH'!CG261=\"\",\"\",'Terugvordering reiskosten OAH'!CG261)","v":""},{"$f":"IF('Terugvordering reiskosten OAH'!CM261=0,\"\",'Terugvordering reiskosten OAH'!CM261)","v":""}]
[{"$f":"IF('Terugvordering reiskosten OAH'!D262=\"\",\"\",IF('Terugvordering reiskosten OAH'!$T$36=\"\",\"\",'Terugvordering reiskosten OAH'!$T$36))","v":""},{"$f":"IF(A190=\"\",\"\",'Terugvordering reiskosten OAH'!$T$38)","v":""},{"$f":"IF(A190=\"\",\"\",'gegevensblad samenvatting vord.'!$C$2)","v":""},{"$f":"IF('Terugvordering reiskosten OAH'!D262=\"\",\"\",TEXT('Terugvordering reiskosten OAH'!D262,\"mm-jjjj\"))","v":""},{"$f":"IF('Terugvordering reiskosten OAH'!H262=\"\",\"\",'Terugvordering reiskosten OAH'!H262)","v":""},{"$f":"IF('Terugvordering reiskosten OAH'!R262=\"\",\"\",'Terugvordering reiskosten OAH'!R262)","v":""},{"$f":"IF('Terugvordering reiskosten OAH'!X262=\"\",\"\",'Terugvordering reiskosten OAH'!X262)","v":""},{"$f":"IF('Terugvordering reiskosten OAH'!AJ262=\"\",\"\",'Terugvordering reiskosten OAH'!AJ262)","v":""},{"$f":"IF('Terugvordering reiskosten OAH'!AR262=\"\",\"\",'Terugvordering reiskosten OAH'!AR262)","v":""},{"$f":"IF('Terugvordering reiskosten OAH'!AY262=\"\",\"\",'Terugvordering reiskosten OAH'!AY262)","v":""},{"$f":"IF('Terugvordering reiskosten OAH'!BC262=0,\"\",'Terugvordering reiskosten OAH'!BC262)","v":""},{"$f":"IF('Terugvordering reiskosten OAH'!BK262=0,\"\",'Terugvordering reiskosten OAH'!BK262)","v":""},{"$f":"IF('Terugvordering reiskosten OAH'!BR262=0,\"\",'Terugvordering reiskosten OAH'!BR262)","v":""},{"$f":"IF('Terugvordering reiskosten OAH'!BZ262=0,\"\",'Terugvordering reiskosten OAH'!BZ262)","v":""},{"$f":"IF('Terugvordering reiskosten OAH'!CG262=\"\",\"\",'Terugvordering reiskosten OAH'!CG262)","v":""},{"$f":"IF('Terugvordering reiskosten OAH'!CM262=0,\"\",'Terugvordering reiskosten OAH'!CM262)","v":""}]
[{"$f":"IF('Terugvordering reiskosten OAH'!D263=\"\",\"\",IF('Terugvordering reiskosten OAH'!$T$36=\"\",\"\",'Terugvordering reiskosten OAH'!$T$36))","v":""},{"$f":"IF(A191=\"\",\"\",'Terugvordering reiskosten OAH'!$T$38)","v":""},{"$f":"IF(A191=\"\",\"\",'gegevensblad samenvatting vord.'!$C$2)","v":""},{"$f":"IF('Terugvordering reiskosten OAH'!D263=\"\",\"\",TEXT('Terugvordering reiskosten OAH'!D263,\"mm-jjjj\"))","v":""},{"$f":"IF('Terugvordering reiskosten OAH'!H263=\"\",\"\",'Terugvordering reiskosten OAH'!H263)","v":""},{"$f":"IF('Terugvordering reiskosten OAH'!R263=\"\",\"\",'Terugvordering reiskosten OAH'!R263)","v":""},{"$f":"IF('Terugvordering reiskosten OAH'!X263=\"\",\"\",'Terugvordering reiskosten OAH'!X263)","v":""},{"$f":"IF('Terugvordering reiskosten OAH'!AJ263=\"\",\"\",'Terugvordering reiskosten OAH'!AJ263)","v":""},{"$f":"IF('Terugvordering reiskosten OAH'!AR263=\"\",\"\",'Terugvordering reiskosten OAH'!AR263)","v":""},{"$f":"IF('Terugvordering reiskosten OAH'!AY263=\"\",\"\",'Terugvordering reiskosten OAH'!AY263)","v":""},{"$f":"IF('Terugvordering reiskosten OAH'!BC263=0,\"\",'Terugvordering reiskosten OAH'!BC263)","v":""},{"$f":"IF('Terugvordering reiskosten OAH'!BK263=0,\"\",'Terugvordering reiskosten OAH'!BK263)","v":""},{"$f":"IF('Terugvordering reiskosten OAH'!BR263=0,\"\",'Terugvordering reiskosten OAH'!BR263)","v":""},{"$f":"IF('Terugvordering reiskosten OAH'!BZ263=0,\"\",'Terugvordering reiskosten OAH'!BZ263)","v":""},{"$f":"IF('Terugvordering reiskosten OAH'!CG263=\"\",\"\",'Terugvordering reiskosten OAH'!CG263)","v":""},{"$f":"IF('Terugvordering reiskosten OAH'!CM263=0,\"\",'Terugvordering reiskosten OAH'!CM263)","v":""}]
[{"$f":"IF('Terugvordering reiskosten OAH'!D264=\"\",\"\",IF('Terugvordering reiskosten OAH'!$T$36=\"\",\"\",'Terugvordering reiskosten OAH'!$T$36))","v":""},{"$f":"IF(A192=\"\",\"\",'Terugvordering reiskosten OAH'!$T$38)","v":""},{"$f":"IF(A192=\"\",\"\",'gegevensblad samenvatting vord.'!$C$2)","v":""},{"$f":"IF('Terugvordering reiskosten OAH'!D264=\"\",\"\",TEXT('Terugvordering reiskosten OAH'!D264,\"mm-jjjj\"))","v":""},{"$f":"IF('Terugvordering reiskosten OAH'!H264=\"\",\"\",'Terugvordering reiskosten OAH'!H264)","v":""},{"$f":"IF('Terugvordering reiskosten OAH'!R264=\"\",\"\",'Terugvordering reiskosten OAH'!R264)","v":""},{"$f":"IF('Terugvordering reiskosten OAH'!X264=\"\",\"\",'Terugvordering reiskosten OAH'!X264)","v":""},{"$f":"IF('Terugvordering reiskosten OAH'!AJ264=\"\",\"\",'Terugvordering reiskosten OAH'!AJ264)","v":""},{"$f":"IF('Terugvordering reiskosten OAH'!AR264=\"\",\"\",'Terugvordering reiskosten OAH'!AR264)","v":""},{"$f":"IF('Terugvordering reiskosten OAH'!AY264=\"\",\"\",'Terugvordering reiskosten OAH'!AY264)","v":""},{"$f":"IF('Terugvordering reiskosten OAH'!BC264=0,\"\",'Terugvordering reiskosten OAH'!BC264)","v":""},{"$f":"IF('Terugvordering reiskosten OAH'!BK264=0,\"\",'Terugvordering reiskosten OAH'!BK264)","v":""},{"$f":"IF('Terugvordering reiskosten OAH'!BR264=0,\"\",'Terugvordering reiskosten OAH'!BR264)","v":""},{"$f":"IF('Terugvordering reiskosten OAH'!BZ264=0,\"\",'Terugvordering reiskosten OAH'!BZ264)","v":""},{"$f":"IF('Terugvordering reiskosten OAH'!CG264=\"\",\"\",'Terugvordering reiskosten OAH'!CG264)","v":""},{"$f":"IF('Terugvordering reiskosten OAH'!CM264=0,\"\",'Terugvordering reiskosten OAH'!CM264)","v":""}]
[{"$f":"IF('Terugvordering reiskosten OAH'!D265=\"\",\"\",IF('Terugvordering reiskosten OAH'!$T$36=\"\",\"\",'Terugvordering reiskosten OAH'!$T$36))","v":""},{"$f":"IF(A193=\"\",\"\",'Terugvordering reiskosten OAH'!$T$38)","v":""},{"$f":"IF(A193=\"\",\"\",'gegevensblad samenvatting vord.'!$C$2)","v":""},{"$f":"IF('Terugvordering reiskosten OAH'!D265=\"\",\"\",TEXT('Terugvordering reiskosten OAH'!D265,\"mm-jjjj\"))","v":""},{"$f":"IF('Terugvordering reiskosten OAH'!H265=\"\",\"\",'Terugvordering reiskosten OAH'!H265)","v":""},{"$f":"IF('Terugvordering reiskosten OAH'!R265=\"\",\"\",'Terugvordering reiskosten OAH'!R265)","v":""},{"$f":"IF('Terugvordering reiskosten OAH'!X265=\"\",\"\",'Terugvordering reiskosten OAH'!X265)","v":""},{"$f":"IF('Terugvordering reiskosten OAH'!AJ265=\"\",\"\",'Terugvordering reiskosten OAH'!AJ265)","v":""},{"$f":"IF('Terugvordering reiskosten OAH'!AR265=\"\",\"\",'Terugvordering reiskosten OAH'!AR265)","v":""},{"$f":"IF('Terugvordering reiskosten OAH'!AY265=\"\",\"\",'Terugvordering reiskosten OAH'!AY265)","v":""},{"$f":"IF('Terugvordering reiskosten OAH'!BC265=0,\"\",'Terugvordering reiskosten OAH'!BC265)","v":""},{"$f":"IF('Terugvordering reiskosten OAH'!BK265=0,\"\",'Terugvordering reiskosten OAH'!BK265)","v":""},{"$f":"IF('Terugvordering reiskosten OAH'!BR265=0,\"\",'Terugvordering reiskosten OAH'!BR265)","v":""},{"$f":"IF('Terugvordering reiskosten OAH'!BZ265=0,\"\",'Terugvordering reiskosten OAH'!BZ265)","v":""},{"$f":"IF('Terugvordering reiskosten OAH'!CG265=\"\",\"\",'Terugvordering reiskosten OAH'!CG265)","v":""},{"$f":"IF('Terugvordering reiskosten OAH'!CM265=0,\"\",'Terugvordering reiskosten OAH'!CM265)","v":""}]
[{"$f":"IF('Terugvordering reiskosten OAH'!D266=\"\",\"\",IF('Terugvordering reiskosten OAH'!$T$36=\"\",\"\",'Terugvordering reiskosten OAH'!$T$36))","v":""},{"$f":"IF(A194=\"\",\"\",'Terugvordering reiskosten OAH'!$T$38)","v":""},{"$f":"IF(A194=\"\",\"\",'gegevensblad samenvatting vord.'!$C$2)","v":""},{"$f":"IF('Terugvordering reiskosten OAH'!D266=\"\",\"\",TEXT('Terugvordering reiskosten OAH'!D266,\"mm-jjjj\"))","v":""},{"$f":"IF('Terugvordering reiskosten OAH'!H266=\"\",\"\",'Terugvordering reiskosten OAH'!H266)","v":""},{"$f":"IF('Terugvordering reiskosten OAH'!R266=\"\",\"\",'Terugvordering reiskosten OAH'!R266)","v":""},{"$f":"IF('Terugvordering reiskosten OAH'!X266=\"\",\"\",'Terugvordering reiskosten OAH'!X266)","v":""},{"$f":"IF('Terugvordering reiskosten OAH'!AJ266=\"\",\"\",'Terugvordering reiskosten OAH'!AJ266)","v":""},{"$f":"IF('Terugvordering reiskosten OAH'!AR266=\"\",\"\",'Terugvordering reiskosten OAH'!AR266)","v":""},{"$f":"IF('Terugvordering reiskosten OAH'!AY266=\"\",\"\",'Terugvordering reiskosten OAH'!AY266)","v":""},{"$f":"IF('Terugvordering reiskosten OAH'!BC266=0,\"\",'Terugvordering reiskosten OAH'!BC266)","v":""},{"$f":"IF('Terugvordering reiskosten OAH'!BK266=0,\"\",'Terugvordering reiskosten OAH'!BK266)","v":""},{"$f":"IF('Terugvordering reiskosten OAH'!BR266=0,\"\",'Terugvordering reiskosten OAH'!BR266)","v":""},{"$f":"IF('Terugvordering reiskosten OAH'!BZ266=0,\"\",'Terugvordering reiskosten OAH'!BZ266)","v":""},{"$f":"IF('Terugvordering reiskosten OAH'!CG266=\"\",\"\",'Terugvordering reiskosten OAH'!CG266)","v":""},{"$f":"IF('Terugvordering reiskosten OAH'!CM266=0,\"\",'Terugvordering reiskosten OAH'!CM266)","v":""}]
[{"$f":"IF('Terugvordering reiskosten OAH'!D267=\"\",\"\",IF('Terugvordering reiskosten OAH'!$T$36=\"\",\"\",'Terugvordering reiskosten OAH'!$T$36))","v":""},{"$f":"IF(A195=\"\",\"\",'Terugvordering reiskosten OAH'!$T$38)","v":""},{"$f":"IF(A195=\"\",\"\",'gegevensblad samenvatting vord.'!$C$2)","v":""},{"$f":"IF('Terugvordering reiskosten OAH'!D267=\"\",\"\",TEXT('Terugvordering reiskosten OAH'!D267,\"mm-jjjj\"))","v":""},{"$f":"IF('Terugvordering reiskosten OAH'!H267=\"\",\"\",'Terugvordering reiskosten OAH'!H267)","v":""},{"$f":"IF('Terugvordering reiskosten OAH'!R267=\"\",\"\",'Terugvordering reiskosten OAH'!R267)","v":""},{"$f":"IF('Terugvordering reiskosten OAH'!X267=\"\",\"\",'Terugvordering reiskosten OAH'!X267)","v":""},{"$f":"IF('Terugvordering reiskosten OAH'!AJ267=\"\",\"\",'Terugvordering reiskosten OAH'!AJ267)","v":""},{"$f":"IF('Terugvordering reiskosten OAH'!AR267=\"\",\"\",'Terugvordering reiskosten OAH'!AR267)","v":""},{"$f":"IF('Terugvordering reiskosten OAH'!AY267=\"\",\"\",'Terugvordering reiskosten OAH'!AY267)","v":""},{"$f":"IF('Terugvordering reiskosten OAH'!BC267=0,\"\",'Terugvordering reiskosten OAH'!BC267)","v":""},{"$f":"IF('Terugvordering reiskosten OAH'!BK267=0,\"\",'Terugvordering reiskosten OAH'!BK267)","v":""},{"$f":"IF('Terugvordering reiskosten OAH'!BR267=0,\"\",'Terugvordering reiskosten OAH'!BR267)","v":""},{"$f":"IF('Terugvordering reiskosten OAH'!BZ267=0,\"\",'Terugvordering reiskosten OAH'!BZ267)","v":""},{"$f":"IF('Terugvordering reiskosten OAH'!CG267=\"\",\"\",'Terugvordering reiskosten OAH'!CG267)","v":""},{"$f":"IF('Terugvordering reiskosten OAH'!CM267=0,\"\",'Terugvordering reiskosten OAH'!CM267)","v":""}]
[{"$f":"IF('Terugvordering reiskosten OAH'!D268=\"\",\"\",IF('Terugvordering reiskosten OAH'!$T$36=\"\",\"\",'Terugvordering reiskosten OAH'!$T$36))","v":""},{"$f":"IF(A196=\"\",\"\",'Terugvordering reiskosten OAH'!$T$38)","v":""},{"$f":"IF(A196=\"\",\"\",'gegevensblad samenvatting vord.'!$C$2)","v":""},{"$f":"IF('Terugvordering reiskosten OAH'!D268=\"\",\"\",TEXT('Terugvordering reiskosten OAH'!D268,\"mm-jjjj\"))","v":""},{"$f":"IF('Terugvordering reiskosten OAH'!H268=\"\",\"\",'Terugvordering reiskosten OAH'!H268)","v":""},{"$f":"IF('Terugvordering reiskosten OAH'!R268=\"\",\"\",'Terugvordering reiskosten OAH'!R268)","v":""},{"$f":"IF('Terugvordering reiskosten OAH'!X268=\"\",\"\",'Terugvordering reiskosten OAH'!X268)","v":""},{"$f":"IF('Terugvordering reiskosten OAH'!AJ268=\"\",\"\",'Terugvordering reiskosten OAH'!AJ268)","v":""},{"$f":"IF('Terugvordering reiskosten OAH'!AR268=\"\",\"\",'Terugvordering reiskosten OAH'!AR268)","v":""},{"$f":"IF('Terugvordering reiskosten OAH'!AY268=\"\",\"\",'Terugvordering reiskosten OAH'!AY268)","v":""},{"$f":"IF('Terugvordering reiskosten OAH'!BC268=0,\"\",'Terugvordering reiskosten OAH'!BC268)","v":""},{"$f":"IF('Terugvordering reiskosten OAH'!BK268=0,\"\",'Terugvordering reiskosten OAH'!BK268)","v":""},{"$f":"IF('Terugvordering reiskosten OAH'!BR268=0,\"\",'Terugvordering reiskosten OAH'!BR268)","v":""},{"$f":"IF('Terugvordering reiskosten OAH'!BZ268=0,\"\",'Terugvordering reiskosten OAH'!BZ268)","v":""},{"$f":"IF('Terugvordering reiskosten OAH'!CG268=\"\",\"\",'Terugvordering reiskosten OAH'!CG268)","v":""},{"$f":"IF('Terugvordering reiskosten OAH'!CM268=0,\"\",'Terugvordering reiskosten OAH'!CM268)","v":""}]
[{"$f":"IF('Terugvordering reiskosten OAH'!D269=\"\",\"\",IF('Terugvordering reiskosten OAH'!$T$36=\"\",\"\",'Terugvordering reiskosten OAH'!$T$36))","v":""},{"$f":"IF(A197=\"\",\"\",'Terugvordering reiskosten OAH'!$T$38)","v":""},{"$f":"IF(A197=\"\",\"\",'gegevensblad samenvatting vord.'!$C$2)","v":""},{"$f":"IF('Terugvordering reiskosten OAH'!D269=\"\",\"\",TEXT('Terugvordering reiskosten OAH'!D269,\"mm-jjjj\"))","v":""},{"$f":"IF('Terugvordering reiskosten OAH'!H269=\"\",\"\",'Terugvordering reiskosten OAH'!H269)","v":""},{"$f":"IF('Terugvordering reiskosten OAH'!R269=\"\",\"\",'Terugvordering reiskosten OAH'!R269)","v":""},{"$f":"IF('Terugvordering reiskosten OAH'!X269=\"\",\"\",'Terugvordering reiskosten OAH'!X269)","v":""},{"$f":"IF('Terugvordering reiskosten OAH'!AJ269=\"\",\"\",'Terugvordering reiskosten OAH'!AJ269)","v":""},{"$f":"IF('Terugvordering reiskosten OAH'!AR269=\"\",\"\",'Terugvordering reiskosten OAH'!AR269)","v":""},{"$f":"IF('Terugvordering reiskosten OAH'!AY269=\"\",\"\",'Terugvordering reiskosten OAH'!AY269)","v":""},{"$f":"IF('Terugvordering reiskosten OAH'!BC269=0,\"\",'Terugvordering reiskosten OAH'!BC269)","v":""},{"$f":"IF('Terugvordering reiskosten OAH'!BK269=0,\"\",'Terugvordering reiskosten OAH'!BK269)","v":""},{"$f":"IF('Terugvordering reiskosten OAH'!BR269=0,\"\",'Terugvordering reiskosten OAH'!BR269)","v":""},{"$f":"IF('Terugvordering reiskosten OAH'!BZ269=0,\"\",'Terugvordering reiskosten OAH'!BZ269)","v":""},{"$f":"IF('Terugvordering reiskosten OAH'!CG269=\"\",\"\",'Terugvordering reiskosten OAH'!CG269)","v":""},{"$f":"IF('Terugvordering reiskosten OAH'!CM269=0,\"\",'Terugvordering reiskosten OAH'!CM269)","v":""}]
[{"$f":"IF('Terugvordering reiskosten OAH'!D270=\"\",\"\",IF('Terugvordering reiskosten OAH'!$T$36=\"\",\"\",'Terugvordering reiskosten OAH'!$T$36))","v":""},{"$f":"IF(A198=\"\",\"\",'Terugvordering reiskosten OAH'!$T$38)","v":""},{"$f":"IF(A198=\"\",\"\",'gegevensblad samenvatting vord.'!$C$2)","v":""},{"$f":"IF('Terugvordering reiskosten OAH'!D270=\"\",\"\",TEXT('Terugvordering reiskosten OAH'!D270,\"mm-jjjj\"))","v":""},{"$f":"IF('Terugvordering reiskosten OAH'!H270=\"\",\"\",'Terugvordering reiskosten OAH'!H270)","v":""},{"$f":"IF('Terugvordering reiskosten OAH'!R270=\"\",\"\",'Terugvordering reiskosten OAH'!R270)","v":""},{"$f":"IF('Terugvordering reiskosten OAH'!X270=\"\",\"\",'Terugvordering reiskosten OAH'!X270)","v":""},{"$f":"IF('Terugvordering reiskosten OAH'!AJ270=\"\",\"\",'Terugvordering reiskosten OAH'!AJ270)","v":""},{"$f":"IF('Terugvordering reiskosten OAH'!AR270=\"\",\"\",'Terugvordering reiskosten OAH'!AR270)","v":""},{"$f":"IF('Terugvordering reiskosten OAH'!AY270=\"\",\"\",'Terugvordering reiskosten OAH'!AY270)","v":""},{"$f":"IF('Terugvordering reiskosten OAH'!BC270=0,\"\",'Terugvordering reiskosten OAH'!BC270)","v":""},{"$f":"IF('Terugvordering reiskosten OAH'!BK270=0,\"\",'Terugvordering reiskosten OAH'!BK270)","v":""},{"$f":"IF('Terugvordering reiskosten OAH'!BR270=0,\"\",'Terugvordering reiskosten OAH'!BR270)","v":""},{"$f":"IF('Terugvordering reiskosten OAH'!BZ270=0,\"\",'Terugvordering reiskosten OAH'!BZ270)","v":""},{"$f":"IF('Terugvordering reiskosten OAH'!CG270=\"\",\"\",'Terugvordering reiskosten OAH'!CG270)","v":""},{"$f":"IF('Terugvordering reiskosten OAH'!CM270=0,\"\",'Terugvordering reiskosten OAH'!CM270)","v":""}]
[{"$f":"IF('Terugvordering reiskosten OAH'!D271=\"\",\"\",IF('Terugvordering reiskosten OAH'!$T$36=\"\",\"\",'Terugvordering reiskosten OAH'!$T$36))","v":""},{"$f":"IF(A199=\"\",\"\",'Terugvordering reiskosten OAH'!$T$38)","v":""},{"$f":"IF(A199=\"\",\"\",'gegevensblad samenvatting vord.'!$C$2)","v":""},{"$f":"IF('Terugvordering reiskosten OAH'!D271=\"\",\"\",TEXT('Terugvordering reiskosten OAH'!D271,\"mm-jjjj\"))","v":""},{"$f":"IF('Terugvordering reiskosten OAH'!H271=\"\",\"\",'Terugvordering reiskosten OAH'!H271)","v":""},{"$f":"IF('Terugvordering reiskosten OAH'!R271=\"\",\"\",'Terugvordering reiskosten OAH'!R271)","v":""},{"$f":"IF('Terugvordering reiskosten OAH'!X271=\"\",\"\",'Terugvordering reiskosten OAH'!X271)","v":""},{"$f":"IF('Terugvordering reiskosten OAH'!AJ271=\"\",\"\",'Terugvordering reiskosten OAH'!AJ271)","v":""},{"$f":"IF('Terugvordering reiskosten OAH'!AR271=\"\",\"\",'Terugvordering reiskosten OAH'!AR271)","v":""},{"$f":"IF('Terugvordering reiskosten OAH'!AY271=\"\",\"\",'Terugvordering reiskosten OAH'!AY271)","v":""},{"$f":"IF('Terugvordering reiskosten OAH'!BC271=0,\"\",'Terugvordering reiskosten OAH'!BC271)","v":""},{"$f":"IF('Terugvordering reiskosten OAH'!BK271=0,\"\",'Terugvordering reiskosten OAH'!BK271)","v":""},{"$f":"IF('Terugvordering reiskosten OAH'!BR271=0,\"\",'Terugvordering reiskosten OAH'!BR271)","v":""},{"$f":"IF('Terugvordering reiskosten OAH'!BZ271=0,\"\",'Terugvordering reiskosten OAH'!BZ271)","v":""},{"$f":"IF('Terugvordering reiskosten OAH'!CG271=\"\",\"\",'Terugvordering reiskosten OAH'!CG271)","v":""},{"$f":"IF('Terugvordering reiskosten OAH'!CM271=0,\"\",'Terugvordering reiskosten OAH'!CM271)","v":""}]
[{"$f":"IF('Terugvordering reiskosten OAH'!D272=\"\",\"\",IF('Terugvordering reiskosten OAH'!$T$36=\"\",\"\",'Terugvordering reiskosten OAH'!$T$36))","v":""},{"$f":"IF(A200=\"\",\"\",'Terugvordering reiskosten OAH'!$T$38)","v":""},{"$f":"IF(A200=\"\",\"\",'gegevensblad samenvatting vord.'!$C$2)","v":""},{"$f":"IF('Terugvordering reiskosten OAH'!D272=\"\",\"\",TEXT('Terugvordering reiskosten OAH'!D272,\"mm-jjjj\"))","v":""},{"$f":"IF('Terugvordering reiskosten OAH'!H272=\"\",\"\",'Terugvordering reiskosten OAH'!H272)","v":""},{"$f":"IF('Terugvordering reiskosten OAH'!R272=\"\",\"\",'Terugvordering reiskosten OAH'!R272)","v":""},{"$f":"IF('Terugvordering reiskosten OAH'!X272=\"\",\"\",'Terugvordering reiskosten OAH'!X272)","v":""},{"$f":"IF('Terugvordering reiskosten OAH'!AJ272=\"\",\"\",'Terugvordering reiskosten OAH'!AJ272)","v":""},{"$f":"IF('Terugvordering reiskosten OAH'!AR272=\"\",\"\",'Terugvordering reiskosten OAH'!AR272)","v":""},{"$f":"IF('Terugvordering reiskosten OAH'!AY272=\"\",\"\",'Terugvordering reiskosten OAH'!AY272)","v":""},{"$f":"IF('Terugvordering reiskosten OAH'!BC272=0,\"\",'Terugvordering reiskosten OAH'!BC272)","v":""},{"$f":"IF('Terugvordering reiskosten OAH'!BK272=0,\"\",'Terugvordering reiskosten OAH'!BK272)","v":""},{"$f":"IF('Terugvordering reiskosten OAH'!BR272=0,\"\",'Terugvordering reiskosten OAH'!BR272)","v":""},{"$f":"IF('Terugvordering reiskosten OAH'!BZ272=0,\"\",'Terugvordering reiskosten OAH'!BZ272)","v":""},{"$f":"IF('Terugvordering reiskosten OAH'!CG272=\"\",\"\",'Terugvordering reiskosten OAH'!CG272)","v":""},{"$f":"IF('Terugvordering reiskosten OAH'!CM272=0,\"\",'Terugvordering reiskosten OAH'!CM272)","v":""}]
[{"$f":"IF('Terugvordering reiskosten OAH'!D273=\"\",\"\",IF('Terugvordering reiskosten OAH'!$T$36=\"\",\"\",'Terugvordering reiskosten OAH'!$T$36))","v":""},{"$f":"IF(A201=\"\",\"\",'Terugvordering reiskosten OAH'!$T$38)","v":""},{"$f":"IF(A201=\"\",\"\",'gegevensblad samenvatting vord.'!$C$2)","v":""},{"$f":"IF('Terugvordering reiskosten OAH'!D273=\"\",\"\",TEXT('Terugvordering reiskosten OAH'!D273,\"mm-jjjj\"))","v":""},{"$f":"IF('Terugvordering reiskosten OAH'!H273=\"\",\"\",'Terugvordering reiskosten OAH'!H273)","v":""},{"$f":"IF('Terugvordering reiskosten OAH'!R273=\"\",\"\",'Terugvordering reiskosten OAH'!R273)","v":""},{"$f":"IF('Terugvordering reiskosten OAH'!X273=\"\",\"\",'Terugvordering reiskosten OAH'!X273)","v":""},{"$f":"IF('Terugvordering reiskosten OAH'!AJ273=\"\",\"\",'Terugvordering reiskosten OAH'!AJ273)","v":""},{"$f":"IF('Terugvordering reiskosten OAH'!AR273=\"\",\"\",'Terugvordering reiskosten OAH'!AR273)","v":""},{"$f":"IF('Terugvordering reiskosten OAH'!AY273=\"\",\"\",'Terugvordering reiskosten OAH'!AY273)","v":""},{"$f":"IF('Terugvordering reiskosten OAH'!BC273=0,\"\",'Terugvordering reiskosten OAH'!BC273)","v":""},{"$f":"IF('Terugvordering reiskosten OAH'!BK273=0,\"\",'Terugvordering reiskosten OAH'!BK273)","v":""},{"$f":"IF('Terugvordering reiskosten OAH'!BR273=0,\"\",'Terugvordering reiskosten OAH'!BR273)","v":""},{"$f":"IF('Terugvordering reiskosten OAH'!BZ273=0,\"\",'Terugvordering reiskosten OAH'!BZ273)","v":""},{"$f":"IF('Terugvordering reiskosten OAH'!CG273=\"\",\"\",'Terugvordering reiskosten OAH'!CG273)","v":""},{"$f":"IF('Terugvordering reiskosten OAH'!CM273=0,\"\",'Terugvordering reiskosten OAH'!CM273)","v":""}]
[{"$f":"IF('Terugvordering reiskosten OAH'!D274=\"\",\"\",IF('Terugvordering reiskosten OAH'!$T$36=\"\",\"\",'Terugvordering reiskosten OAH'!$T$36))","v":""},{"$f":"IF(A202=\"\",\"\",'Terugvordering reiskosten OAH'!$T$38)","v":""},{"$f":"IF(A202=\"\",\"\",'gegevensblad samenvatting vord.'!$C$2)","v":""},{"$f":"IF('Terugvordering reiskosten OAH'!D274=\"\",\"\",TEXT('Terugvordering reiskosten OAH'!D274,\"mm-jjjj\"))","v":""},{"$f":"IF('Terugvordering reiskosten OAH'!H274=\"\",\"\",'Terugvordering reiskosten OAH'!H274)","v":""},{"$f":"IF('Terugvordering reiskosten OAH'!R274=\"\",\"\",'Terugvordering reiskosten OAH'!R274)","v":""},{"$f":"IF('Terugvordering reiskosten OAH'!X274=\"\",\"\",'Terugvordering reiskosten OAH'!X274)","v":""},{"$f":"IF('Terugvordering reiskosten OAH'!AJ274=\"\",\"\",'Terugvordering reiskosten OAH'!AJ274)","v":""},{"$f":"IF('Terugvordering reiskosten OAH'!AR274=\"\",\"\",'Terugvordering reiskosten OAH'!AR274)","v":""},{"$f":"IF('Terugvordering reiskosten OAH'!AY274=\"\",\"\",'Terugvordering reiskosten OAH'!AY274)","v":""},{"$f":"IF('Terugvordering reiskosten OAH'!BC274=0,\"\",'Terugvordering reiskosten OAH'!BC274)","v":""},{"$f":"IF('Terugvordering reiskosten OAH'!BK274=0,\"\",'Terugvordering reiskosten OAH'!BK274)","v":""},{"$f":"IF('Terugvordering reiskosten OAH'!BR274=0,\"\",'Terugvordering reiskosten OAH'!BR274)","v":""},{"$f":"IF('Terugvordering reiskosten OAH'!BZ274=0,\"\",'Terugvordering reiskosten OAH'!BZ274)","v":""},{"$f":"IF('Terugvordering reiskosten OAH'!CG274=\"\",\"\",'Terugvordering reiskosten OAH'!CG274)","v":""},{"$f":"IF('Terugvordering reiskosten OAH'!CM274=0,\"\",'Terugvordering reiskosten OAH'!CM274)","v":""}]
[{"$f":"IF('Terugvordering reiskosten OAH'!D275=\"\",\"\",IF('Terugvordering reiskosten OAH'!$T$36=\"\",\"\",'Terugvordering reiskosten OAH'!$T$36))","v":""},{"$f":"IF(A203=\"\",\"\",'Terugvordering reiskosten OAH'!$T$38)","v":""},{"$f":"IF(A203=\"\",\"\",'gegevensblad samenvatting vord.'!$C$2)","v":""},{"$f":"IF('Terugvordering reiskosten OAH'!D275=\"\",\"\",TEXT('Terugvordering reiskosten OAH'!D275,\"mm-jjjj\"))","v":""},{"$f":"IF('Terugvordering reiskosten OAH'!H275=\"\",\"\",'Terugvordering reiskosten OAH'!H275)","v":""},{"$f":"IF('Terugvordering reiskosten OAH'!R275=\"\",\"\",'Terugvordering reiskosten OAH'!R275)","v":""},{"$f":"IF('Terugvordering reiskosten OAH'!X275=\"\",\"\",'Terugvordering reiskosten OAH'!X275)","v":""},{"$f":"IF('Terugvordering reiskosten OAH'!AJ275=\"\",\"\",'Terugvordering reiskosten OAH'!AJ275)","v":""},{"$f":"IF('Terugvordering reiskosten OAH'!AR275=\"\",\"\",'Terugvordering reiskosten OAH'!AR275)","v":""},{"$f":"IF('Terugvordering reiskosten OAH'!AY275=\"\",\"\",'Terugvordering reiskosten OAH'!AY275)","v":""},{"$f":"IF('Terugvordering reiskosten OAH'!BC275=0,\"\",'Terugvordering reiskosten OAH'!BC275)","v":""},{"$f":"IF('Terugvordering reiskosten OAH'!BK275=0,\"\",'Terugvordering reiskosten OAH'!BK275)","v":""},{"$f":"IF('Terugvordering reiskosten OAH'!BR275=0,\"\",'Terugvordering reiskosten OAH'!BR275)","v":""},{"$f":"IF('Terugvordering reiskosten OAH'!BZ275=0,\"\",'Terugvordering reiskosten OAH'!BZ275)","v":""},{"$f":"IF('Terugvordering reiskosten OAH'!CG275=\"\",\"\",'Terugvordering reiskosten OAH'!CG275)","v":""},{"$f":"IF('Terugvordering reiskosten OAH'!CM275=0,\"\",'Terugvordering reiskosten OAH'!CM275)","v":""}]
[{"$f":"IF('Terugvordering reiskosten OAH'!D276=\"\",\"\",IF('Terugvordering reiskosten OAH'!$T$36=\"\",\"\",'Terugvordering reiskosten OAH'!$T$36))","v":""},{"$f":"IF(A204=\"\",\"\",'Terugvordering reiskosten OAH'!$T$38)","v":""},{"$f":"IF(A204=\"\",\"\",'gegevensblad samenvatting vord.'!$C$2)","v":""},{"$f":"IF('Terugvordering reiskosten OAH'!D276=\"\",\"\",TEXT('Terugvordering reiskosten OAH'!D276,\"mm-jjjj\"))","v":""},{"$f":"IF('Terugvordering reiskosten OAH'!H276=\"\",\"\",'Terugvordering reiskosten OAH'!H276)","v":""},{"$f":"IF('Terugvordering reiskosten OAH'!R276=\"\",\"\",'Terugvordering reiskosten OAH'!R276)","v":""},{"$f":"IF('Terugvordering reiskosten OAH'!X276=\"\",\"\",'Terugvordering reiskosten OAH'!X276)","v":""},{"$f":"IF('Terugvordering reiskosten OAH'!AJ276=\"\",\"\",'Terugvordering reiskosten OAH'!AJ276)","v":""},{"$f":"IF('Terugvordering reiskosten OAH'!AR276=\"\",\"\",'Terugvordering reiskosten OAH'!AR276)","v":""},{"$f":"IF('Terugvordering reiskosten OAH'!AY276=\"\",\"\",'Terugvordering reiskosten OAH'!AY276)","v":""},{"$f":"IF('Terugvordering reiskosten OAH'!BC276=0,\"\",'Terugvordering reiskosten OAH'!BC276)","v":""},{"$f":"IF('Terugvordering reiskosten OAH'!BK276=0,\"\",'Terugvordering reiskosten OAH'!BK276)","v":""},{"$f":"IF('Terugvordering reiskosten OAH'!BR276=0,\"\",'Terugvordering reiskosten OAH'!BR276)","v":""},{"$f":"IF('Terugvordering reiskosten OAH'!BZ276=0,\"\",'Terugvordering reiskosten OAH'!BZ276)","v":""},{"$f":"IF('Terugvordering reiskosten OAH'!CG276=\"\",\"\",'Terugvordering reiskosten OAH'!CG276)","v":""},{"$f":"IF('Terugvordering reiskosten OAH'!CM276=0,\"\",'Terugvordering reiskosten OAH'!CM276)","v":""}]
[{"$f":"IF('Terugvordering reiskosten OAH'!D277=\"\",\"\",IF('Terugvordering reiskosten OAH'!$T$36=\"\",\"\",'Terugvordering reiskosten OAH'!$T$36))","v":""},{"$f":"IF(A205=\"\",\"\",'Terugvordering reiskosten OAH'!$T$38)","v":""},{"$f":"IF(A205=\"\",\"\",'gegevensblad samenvatting vord.'!$C$2)","v":""},{"$f":"IF('Terugvordering reiskosten OAH'!D277=\"\",\"\",TEXT('Terugvordering reiskosten OAH'!D277,\"mm-jjjj\"))","v":""},{"$f":"IF('Terugvordering reiskosten OAH'!H277=\"\",\"\",'Terugvordering reiskosten OAH'!H277)","v":""},{"$f":"IF('Terugvordering reiskosten OAH'!R277=\"\",\"\",'Terugvordering reiskosten OAH'!R277)","v":""},{"$f":"IF('Terugvordering reiskosten OAH'!X277=\"\",\"\",'Terugvordering reiskosten OAH'!X277)","v":""},{"$f":"IF('Terugvordering reiskosten OAH'!AJ277=\"\",\"\",'Terugvordering reiskosten OAH'!AJ277)","v":""},{"$f":"IF('Terugvordering reiskosten OAH'!AR277=\"\",\"\",'Terugvordering reiskosten OAH'!AR277)","v":""},{"$f":"IF('Terugvordering reiskosten OAH'!AY277=\"\",\"\",'Terugvordering reiskosten OAH'!AY277)","v":""},{"$f":"IF('Terugvordering reiskosten OAH'!BC277=0,\"\",'Terugvordering reiskosten OAH'!BC277)","v":""},{"$f":"IF('Terugvordering reiskosten OAH'!BK277=0,\"\",'Terugvordering reiskosten OAH'!BK277)","v":""},{"$f":"IF('Terugvordering reiskosten OAH'!BR277=0,\"\",'Terugvordering reiskosten OAH'!BR277)","v":""},{"$f":"IF('Terugvordering reiskosten OAH'!BZ277=0,\"\",'Terugvordering reiskosten OAH'!BZ277)","v":""},{"$f":"IF('Terugvordering reiskosten OAH'!CG277=\"\",\"\",'Terugvordering reiskosten OAH'!CG277)","v":""},{"$f":"IF('Terugvordering reiskosten OAH'!CM277=0,\"\",'Terugvordering reiskosten OAH'!CM277)","v":""}]
[{"$f":"IF('Terugvordering reiskosten OAH'!D278=\"\",\"\",IF('Terugvordering reiskosten OAH'!$T$36=\"\",\"\",'Terugvordering reiskosten OAH'!$T$36))","v":""},{"$f":"IF(A206=\"\",\"\",'Terugvordering reiskosten OAH'!$T$38)","v":""},{"$f":"IF(A206=\"\",\"\",'gegevensblad samenvatting vord.'!$C$2)","v":""},{"$f":"IF('Terugvordering reiskosten OAH'!D278=\"\",\"\",TEXT('Terugvordering reiskosten OAH'!D278,\"mm-jjjj\"))","v":""},{"$f":"IF('Terugvordering reiskosten OAH'!H278=\"\",\"\",'Terugvordering reiskosten OAH'!H278)","v":""},{"$f":"IF('Terugvordering reiskosten OAH'!R278=\"\",\"\",'Terugvordering reiskosten OAH'!R278)","v":""},{"$f":"IF('Terugvordering reiskosten OAH'!X278=\"\",\"\",'Terugvordering reiskosten OAH'!X278)","v":""},{"$f":"IF('Terugvordering reiskosten OAH'!AJ278=\"\",\"\",'Terugvordering reiskosten OAH'!AJ278)","v":""},{"$f":"IF('Terugvordering reiskosten OAH'!AR278=\"\",\"\",'Terugvordering reiskosten OAH'!AR278)","v":""},{"$f":"IF('Terugvordering reiskosten OAH'!AY278=\"\",\"\",'Terugvordering reiskosten OAH'!AY278)","v":""},{"$f":"IF('Terugvordering reiskosten OAH'!BC278=0,\"\",'Terugvordering reiskosten OAH'!BC278)","v":""},{"$f":"IF('Terugvordering reiskosten OAH'!BK278=0,\"\",'Terugvordering reiskosten OAH'!BK278)","v":""},{"$f":"IF('Terugvordering reiskosten OAH'!BR278=0,\"\",'Terugvordering reiskosten OAH'!BR278)","v":""},{"$f":"IF('Terugvordering reiskosten OAH'!BZ278=0,\"\",'Terugvordering reiskosten OAH'!BZ278)","v":""},{"$f":"IF('Terugvordering reiskosten OAH'!CG278=\"\",\"\",'Terugvordering reiskosten OAH'!CG278)","v":""},{"$f":"IF('Terugvordering reiskosten OAH'!CM278=0,\"\",'Terugvordering reiskosten OAH'!CM278)","v":""}]
[{"$f":"IF('Terugvordering reiskosten OAH'!D279=\"\",\"\",IF('Terugvordering reiskosten OAH'!$T$36=\"\",\"\",'Terugvordering reiskosten OAH'!$T$36))","v":""},{"$f":"IF(A207=\"\",\"\",'Terugvordering reiskosten OAH'!$T$38)","v":""},{"$f":"IF(A207=\"\",\"\",'gegevensblad samenvatting vord.'!$C$2)","v":""},{"$f":"IF('Terugvordering reiskosten OAH'!D279=\"\",\"\",TEXT('Terugvordering reiskosten OAH'!D279,\"mm-jjjj\"))","v":""},{"$f":"IF('Terugvordering reiskosten OAH'!H279=\"\",\"\",'Terugvordering reiskosten OAH'!H279)","v":""},{"$f":"IF('Terugvordering reiskosten OAH'!R279=\"\",\"\",'Terugvordering reiskosten OAH'!R279)","v":""},{"$f":"IF('Terugvordering reiskosten OAH'!X279=\"\",\"\",'Terugvordering reiskosten OAH'!X279)","v":""},{"$f":"IF('Terugvordering reiskosten OAH'!AJ279=\"\",\"\",'Terugvordering reiskosten OAH'!AJ279)","v":""},{"$f":"IF('Terugvordering reiskosten OAH'!AR279=\"\",\"\",'Terugvordering reiskosten OAH'!AR279)","v":""},{"$f":"IF('Terugvordering reiskosten OAH'!AY279=\"\",\"\",'Terugvordering reiskosten OAH'!AY279)","v":""},{"$f":"IF('Terugvordering reiskosten OAH'!BC279=0,\"\",'Terugvordering reiskosten OAH'!BC279)","v":""},{"$f":"IF('Terugvordering reiskosten OAH'!BK279=0,\"\",'Terugvordering reiskosten OAH'!BK279)","v":""},{"$f":"IF('Terugvordering reiskosten OAH'!BR279=0,\"\",'Terugvordering reiskosten OAH'!BR279)","v":""},{"$f":"IF('Terugvordering reiskosten OAH'!BZ279=0,\"\",'Terugvordering reiskosten OAH'!BZ279)","v":""},{"$f":"IF('Terugvordering reiskosten OAH'!CG279=\"\",\"\",'Terugvordering reiskosten OAH'!CG279)","v":""},{"$f":"IF('Terugvordering reiskosten OAH'!CM279=0,\"\",'Terugvordering reiskosten OAH'!CM279)","v":""}]
[{"$f":"IF('Terugvordering reiskosten OAH'!D280=\"\",\"\",IF('Terugvordering reiskosten OAH'!$T$36=\"\",\"\",'Terugvordering reiskosten OAH'!$T$36))","v":""},{"$f":"IF(A208=\"\",\"\",'Terugvordering reiskosten OAH'!$T$38)","v":""},{"$f":"IF(A208=\"\",\"\",'gegevensblad samenvatting vord.'!$C$2)","v":""},{"$f":"IF('Terugvordering reiskosten OAH'!D280=\"\",\"\",TEXT('Terugvordering reiskosten OAH'!D280,\"mm-jjjj\"))","v":""},{"$f":"IF('Terugvordering reiskosten OAH'!H280=\"\",\"\",'Terugvordering reiskosten OAH'!H280)","v":""},{"$f":"IF('Terugvordering reiskosten OAH'!R280=\"\",\"\",'Terugvordering reiskosten OAH'!R280)","v":""},{"$f":"IF('Terugvordering reiskosten OAH'!X280=\"\",\"\",'Terugvordering reiskosten OAH'!X280)","v":""},{"$f":"IF('Terugvordering reiskosten OAH'!AJ280=\"\",\"\",'Terugvordering reiskosten OAH'!AJ280)","v":""},{"$f":"IF('Terugvordering reiskosten OAH'!AR280=\"\",\"\",'Terugvordering reiskosten OAH'!AR280)","v":""},{"$f":"IF('Terugvordering reiskosten OAH'!AY280=\"\",\"\",'Terugvordering reiskosten OAH'!AY280)","v":""},{"$f":"IF('Terugvordering reiskosten OAH'!BC280=0,\"\",'Terugvordering reiskosten OAH'!BC280)","v":""},{"$f":"IF('Terugvordering reiskosten OAH'!BK280=0,\"\",'Terugvordering reiskosten OAH'!BK280)","v":""},{"$f":"IF('Terugvordering reiskosten OAH'!BR280=0,\"\",'Terugvordering reiskosten OAH'!BR280)","v":""},{"$f":"IF('Terugvordering reiskosten OAH'!BZ280=0,\"\",'Terugvordering reiskosten OAH'!BZ280)","v":""},{"$f":"IF('Terugvordering reiskosten OAH'!CG280=\"\",\"\",'Terugvordering reiskosten OAH'!CG280)","v":""},{"$f":"IF('Terugvordering reiskosten OAH'!CM280=0,\"\",'Terugvordering reiskosten OAH'!CM280)","v":""}]
[{"$f":"IF('Terugvordering reiskosten OAH'!D281=\"\",\"\",IF('Terugvordering reiskosten OAH'!$T$36=\"\",\"\",'Terugvordering reiskosten OAH'!$T$36))","v":""},{"$f":"IF(A209=\"\",\"\",'Terugvordering reiskosten OAH'!$T$38)","v":""},{"$f":"IF(A209=\"\",\"\",'gegevensblad samenvatting vord.'!$C$2)","v":""},{"$f":"IF('Terugvordering reiskosten OAH'!D281=\"\",\"\",TEXT('Terugvordering reiskosten OAH'!D281,\"mm-jjjj\"))","v":""},{"$f":"IF('Terugvordering reiskosten OAH'!H281=\"\",\"\",'Terugvordering reiskosten OAH'!H281)","v":""},{"$f":"IF('Terugvordering reiskosten OAH'!R281=\"\",\"\",'Terugvordering reiskosten OAH'!R281)","v":""},{"$f":"IF('Terugvordering reiskosten OAH'!X281=\"\",\"\",'Terugvordering reiskosten OAH'!X281)","v":""},{"$f":"IF('Terugvordering reiskosten OAH'!AJ281=\"\",\"\",'Terugvordering reiskosten OAH'!AJ281)","v":""},{"$f":"IF('Terugvordering reiskosten OAH'!AR281=\"\",\"\",'Terugvordering reiskosten OAH'!AR281)","v":""},{"$f":"IF('Terugvordering reiskosten OAH'!AY281=\"\",\"\",'Terugvordering reiskosten OAH'!AY281)","v":""},{"$f":"IF('Terugvordering reiskosten OAH'!BC281=0,\"\",'Terugvordering reiskosten OAH'!BC281)","v":""},{"$f":"IF('Terugvordering reiskosten OAH'!BK281=0,\"\",'Terugvordering reiskosten OAH'!BK281)","v":""},{"$f":"IF('Terugvordering reiskosten OAH'!BR281=0,\"\",'Terugvordering reiskosten OAH'!BR281)","v":""},{"$f":"IF('Terugvordering reiskosten OAH'!BZ281=0,\"\",'Terugvordering reiskosten OAH'!BZ281)","v":""},{"$f":"IF('Terugvordering reiskosten OAH'!CG281=\"\",\"\",'Terugvordering reiskosten OAH'!CG281)","v":""},{"$f":"IF('Terugvordering reiskosten OAH'!CM281=0,\"\",'Terugvordering reiskosten OAH'!CM281)","v":""}]
[{"$f":"IF('Terugvordering reiskosten OAH'!D282=\"\",\"\",IF('Terugvordering reiskosten OAH'!$T$36=\"\",\"\",'Terugvordering reiskosten OAH'!$T$36))","v":""},{"$f":"IF(A210=\"\",\"\",'Terugvordering reiskosten OAH'!$T$38)","v":""},{"$f":"IF(A210=\"\",\"\",'gegevensblad samenvatting vord.'!$C$2)","v":""},{"$f":"IF('Terugvordering reiskosten OAH'!D282=\"\",\"\",TEXT('Terugvordering reiskosten OAH'!D282,\"mm-jjjj\"))","v":""},{"$f":"IF('Terugvordering reiskosten OAH'!H282=\"\",\"\",'Terugvordering reiskosten OAH'!H282)","v":""},{"$f":"IF('Terugvordering reiskosten OAH'!R282=\"\",\"\",'Terugvordering reiskosten OAH'!R282)","v":""},{"$f":"IF('Terugvordering reiskosten OAH'!X282=\"\",\"\",'Terugvordering reiskosten OAH'!X282)","v":""},{"$f":"IF('Terugvordering reiskosten OAH'!AJ282=\"\",\"\",'Terugvordering reiskosten OAH'!AJ282)","v":""},{"$f":"IF('Terugvordering reiskosten OAH'!AR282=\"\",\"\",'Terugvordering reiskosten OAH'!AR282)","v":""},{"$f":"IF('Terugvordering reiskosten OAH'!AY282=\"\",\"\",'Terugvordering reiskosten OAH'!AY282)","v":""},{"$f":"IF('Terugvordering reiskosten OAH'!BC282=0,\"\",'Terugvordering reiskosten OAH'!BC282)","v":""},{"$f":"IF('Terugvordering reiskosten OAH'!BK282=0,\"\",'Terugvordering reiskosten OAH'!BK282)","v":""},{"$f":"IF('Terugvordering reiskosten OAH'!BR282=0,\"\",'Terugvordering reiskosten OAH'!BR282)","v":""},{"$f":"IF('Terugvordering reiskosten OAH'!BZ282=0,\"\",'Terugvordering reiskosten OAH'!BZ282)","v":""},{"$f":"IF('Terugvordering reiskosten OAH'!CG282=\"\",\"\",'Terugvordering reiskosten OAH'!CG282)","v":""},{"$f":"IF('Terugvordering reiskosten OAH'!CM282=0,\"\",'Terugvordering reiskosten OAH'!CM282)","v":""}]
[{"$f":"IF('Terugvordering reiskosten OAH'!D283=\"\",\"\",IF('Terugvordering reiskosten OAH'!$T$36=\"\",\"\",'Terugvordering reiskosten OAH'!$T$36))","v":""},{"$f":"IF(A211=\"\",\"\",'Terugvordering reiskosten OAH'!$T$38)","v":""},{"$f":"IF(A211=\"\",\"\",'gegevensblad samenvatting vord.'!$C$2)","v":""},{"$f":"IF('Terugvordering reiskosten OAH'!D283=\"\",\"\",TEXT('Terugvordering reiskosten OAH'!D283,\"mm-jjjj\"))","v":""},{"$f":"IF('Terugvordering reiskosten OAH'!H283=\"\",\"\",'Terugvordering reiskosten OAH'!H283)","v":""},{"$f":"IF('Terugvordering reiskosten OAH'!R283=\"\",\"\",'Terugvordering reiskosten OAH'!R283)","v":""},{"$f":"IF('Terugvordering reiskosten OAH'!X283=\"\",\"\",'Terugvordering reiskosten OAH'!X283)","v":""},{"$f":"IF('Terugvordering reiskosten OAH'!AJ283=\"\",\"\",'Terugvordering reiskosten OAH'!AJ283)","v":""},{"$f":"IF('Terugvordering reiskosten OAH'!AR283=\"\",\"\",'Terugvordering reiskosten OAH'!AR283)","v":""},{"$f":"IF('Terugvordering reiskosten OAH'!AY283=\"\",\"\",'Terugvordering reiskosten OAH'!AY283)","v":""},{"$f":"IF('Terugvordering reiskosten OAH'!BC283=0,\"\",'Terugvordering reiskosten OAH'!BC283)","v":""},{"$f":"IF('Terugvordering reiskosten OAH'!BK283=0,\"\",'Terugvordering reiskosten OAH'!BK283)","v":""},{"$f":"IF('Terugvordering reiskosten OAH'!BR283=0,\"\",'Terugvordering reiskosten OAH'!BR283)","v":""},{"$f":"IF('Terugvordering reiskosten OAH'!BZ283=0,\"\",'Terugvordering reiskosten OAH'!BZ283)","v":""},{"$f":"IF('Terugvordering reiskosten OAH'!CG283=\"\",\"\",'Terugvordering reiskosten OAH'!CG283)","v":""},{"$f":"IF('Terugvordering reiskosten OAH'!CM283=0,\"\",'Terugvordering reiskosten OAH'!CM283)","v":""}]
[{"$f":"IF('Terugvordering reiskosten OAH'!D284=\"\",\"\",IF('Terugvordering reiskosten OAH'!$T$36=\"\",\"\",'Terugvordering reiskosten OAH'!$T$36))","v":""},{"$f":"IF(A212=\"\",\"\",'Terugvordering reiskosten OAH'!$T$38)","v":""},{"$f":"IF(A212=\"\",\"\",'gegevensblad samenvatting vord.'!$C$2)","v":""},{"$f":"IF('Terugvordering reiskosten OAH'!D284=\"\",\"\",TEXT('Terugvordering reiskosten OAH'!D284,\"mm-jjjj\"))","v":""},{"$f":"IF('Terugvordering reiskosten OAH'!H284=\"\",\"\",'Terugvordering reiskosten OAH'!H284)","v":""},{"$f":"IF('Terugvordering reiskosten OAH'!R284=\"\",\"\",'Terugvordering reiskosten OAH'!R284)","v":""},{"$f":"IF('Terugvordering reiskosten OAH'!X284=\"\",\"\",'Terugvordering reiskosten OAH'!X284)","v":""},{"$f":"IF('Terugvordering reiskosten OAH'!AJ284=\"\",\"\",'Terugvordering reiskosten OAH'!AJ284)","v":""},{"$f":"IF('Terugvordering reiskosten OAH'!AR284=\"\",\"\",'Terugvordering reiskosten OAH'!AR284)","v":""},{"$f":"IF('Terugvordering reiskosten OAH'!AY284=\"\",\"\",'Terugvordering reiskosten OAH'!AY284)","v":""},{"$f":"IF('Terugvordering reiskosten OAH'!BC284=0,\"\",'Terugvordering reiskosten OAH'!BC284)","v":""},{"$f":"IF('Terugvordering reiskosten OAH'!BK284=0,\"\",'Terugvordering reiskosten OAH'!BK284)","v":""},{"$f":"IF('Terugvordering reiskosten OAH'!BR284=0,\"\",'Terugvordering reiskosten OAH'!BR284)","v":""},{"$f":"IF('Terugvordering reiskosten OAH'!BZ284=0,\"\",'Terugvordering reiskosten OAH'!BZ284)","v":""},{"$f":"IF('Terugvordering reiskosten OAH'!CG284=\"\",\"\",'Terugvordering reiskosten OAH'!CG284)","v":""},{"$f":"IF('Terugvordering reiskosten OAH'!CM284=0,\"\",'Terugvordering reiskosten OAH'!CM284)","v":""}]
[{"$f":"IF('Terugvordering reiskosten OAH'!D285=\"\",\"\",IF('Terugvordering reiskosten OAH'!$T$36=\"\",\"\",'Terugvordering reiskosten OAH'!$T$36))","v":""},{"$f":"IF(A213=\"\",\"\",'Terugvordering reiskosten OAH'!$T$38)","v":""},{"$f":"IF(A213=\"\",\"\",'gegevensblad samenvatting vord.'!$C$2)","v":""},{"$f":"IF('Terugvordering reiskosten OAH'!D285=\"\",\"\",TEXT('Terugvordering reiskosten OAH'!D285,\"mm-jjjj\"))","v":""},{"$f":"IF('Terugvordering reiskosten OAH'!H285=\"\",\"\",'Terugvordering reiskosten OAH'!H285)","v":""},{"$f":"IF('Terugvordering reiskosten OAH'!R285=\"\",\"\",'Terugvordering reiskosten OAH'!R285)","v":""},{"$f":"IF('Terugvordering reiskosten OAH'!X285=\"\",\"\",'Terugvordering reiskosten OAH'!X285)","v":""},{"$f":"IF('Terugvordering reiskosten OAH'!AJ285=\"\",\"\",'Terugvordering reiskosten OAH'!AJ285)","v":""},{"$f":"IF('Terugvordering reiskosten OAH'!AR285=\"\",\"\",'Terugvordering reiskosten OAH'!AR285)","v":""},{"$f":"IF('Terugvordering reiskosten OAH'!AY285=\"\",\"\",'Terugvordering reiskosten OAH'!AY285)","v":""},{"$f":"IF('Terugvordering reiskosten OAH'!BC285=0,\"\",'Terugvordering reiskosten OAH'!BC285)","v":""},{"$f":"IF('Terugvordering reiskosten OAH'!BK285=0,\"\",'Terugvordering reiskosten OAH'!BK285)","v":""},{"$f":"IF('Terugvordering reiskosten OAH'!BR285=0,\"\",'Terugvordering reiskosten OAH'!BR285)","v":""},{"$f":"IF('Terugvordering reiskosten OAH'!BZ285=0,\"\",'Terugvordering reiskosten OAH'!BZ285)","v":""},{"$f":"IF('Terugvordering reiskosten OAH'!CG285=\"\",\"\",'Terugvordering reiskosten OAH'!CG285)","v":""},{"$f":"IF('Terugvordering reiskosten OAH'!CM285=0,\"\",'Terugvordering reiskosten OAH'!CM285)","v":""}]
[{"$f":"IF('Terugvordering reiskosten OAH'!D286=\"\",\"\",IF('Terugvordering reiskosten OAH'!$T$36=\"\",\"\",'Terugvordering reiskosten OAH'!$T$36))","v":""},{"$f":"IF(A214=\"\",\"\",'Terugvordering reiskosten OAH'!$T$38)","v":""},{"$f":"IF(A214=\"\",\"\",'gegevensblad samenvatting vord.'!$C$2)","v":""},{"$f":"IF('Terugvordering reiskosten OAH'!D286=\"\",\"\",TEXT('Terugvordering reiskosten OAH'!D286,\"mm-jjjj\"))","v":""},{"$f":"IF('Terugvordering reiskosten OAH'!H286=\"\",\"\",'Terugvordering reiskosten OAH'!H286)","v":""},{"$f":"IF('Terugvordering reiskosten OAH'!R286=\"\",\"\",'Terugvordering reiskosten OAH'!R286)","v":""},{"$f":"IF('Terugvordering reiskosten OAH'!X286=\"\",\"\",'Terugvordering reiskosten OAH'!X286)","v":""},{"$f":"IF('Terugvordering reiskosten OAH'!AJ286=\"\",\"\",'Terugvordering reiskosten OAH'!AJ286)","v":""},{"$f":"IF('Terugvordering reiskosten OAH'!AR286=\"\",\"\",'Terugvordering reiskosten OAH'!AR286)","v":""},{"$f":"IF('Terugvordering reiskosten OAH'!AY286=\"\",\"\",'Terugvordering reiskosten OAH'!AY286)","v":""},{"$f":"IF('Terugvordering reiskosten OAH'!BC286=0,\"\",'Terugvordering reiskosten OAH'!BC286)","v":""},{"$f":"IF('Terugvordering reiskosten OAH'!BK286=0,\"\",'Terugvordering reiskosten OAH'!BK286)","v":""},{"$f":"IF('Terugvordering reiskosten OAH'!BR286=0,\"\",'Terugvordering reiskosten OAH'!BR286)","v":""},{"$f":"IF('Terugvordering reiskosten OAH'!BZ286=0,\"\",'Terugvordering reiskosten OAH'!BZ286)","v":""},{"$f":"IF('Terugvordering reiskosten OAH'!CG286=\"\",\"\",'Terugvordering reiskosten OAH'!CG286)","v":""},{"$f":"IF('Terugvordering reiskosten OAH'!CM286=0,\"\",'Terugvordering reiskosten OAH'!CM286)","v":""}]
[{"$f":"IF('Terugvordering reiskosten OAH'!D287=\"\",\"\",IF('Terugvordering reiskosten OAH'!$T$36=\"\",\"\",'Terugvordering reiskosten OAH'!$T$36))","v":""},{"$f":"IF(A215=\"\",\"\",'Terugvordering reiskosten OAH'!$T$38)","v":""},{"$f":"IF(A215=\"\",\"\",'gegevensblad samenvatting vord.'!$C$2)","v":""},{"$f":"IF('Terugvordering reiskosten OAH'!D287=\"\",\"\",TEXT('Terugvordering reiskosten OAH'!D287,\"mm-jjjj\"))","v":""},{"$f":"IF('Terugvordering reiskosten OAH'!H287=\"\",\"\",'Terugvordering reiskosten OAH'!H287)","v":""},{"$f":"IF('Terugvordering reiskosten OAH'!R287=\"\",\"\",'Terugvordering reiskosten OAH'!R287)","v":""},{"$f":"IF('Terugvordering reiskosten OAH'!X287=\"\",\"\",'Terugvordering reiskosten OAH'!X287)","v":""},{"$f":"IF('Terugvordering reiskosten OAH'!AJ287=\"\",\"\",'Terugvordering reiskosten OAH'!AJ287)","v":""},{"$f":"IF('Terugvordering reiskosten OAH'!AR287=\"\",\"\",'Terugvordering reiskosten OAH'!AR287)","v":""},{"$f":"IF('Terugvordering reiskosten OAH'!AY287=\"\",\"\",'Terugvordering reiskosten OAH'!AY287)","v":""},{"$f":"IF('Terugvordering reiskosten OAH'!BC287=0,\"\",'Terugvordering reiskosten OAH'!BC287)","v":""},{"$f":"IF('Terugvordering reiskosten OAH'!BK287=0,\"\",'Terugvordering reiskosten OAH'!BK287)","v":""},{"$f":"IF('Terugvordering reiskosten OAH'!BR287=0,\"\",'Terugvordering reiskosten OAH'!BR287)","v":""},{"$f":"IF('Terugvordering reiskosten OAH'!BZ287=0,\"\",'Terugvordering reiskosten OAH'!BZ287)","v":""},{"$f":"IF('Terugvordering reiskosten OAH'!CG287=\"\",\"\",'Terugvordering reiskosten OAH'!CG287)","v":""},{"$f":"IF('Terugvordering reiskosten OAH'!CM287=0,\"\",'Terugvordering reiskosten OAH'!CM287)","v":""}]
[{"$f":"IF('Terugvordering reiskosten OAH'!D288=\"\",\"\",IF('Terugvordering reiskosten OAH'!$T$36=\"\",\"\",'Terugvordering reiskosten OAH'!$T$36))","v":""},{"$f":"IF(A216=\"\",\"\",'Terugvordering reiskosten OAH'!$T$38)","v":""},{"$f":"IF(A216=\"\",\"\",'gegevensblad samenvatting vord.'!$C$2)","v":""},{"$f":"IF('Terugvordering reiskosten OAH'!D288=\"\",\"\",TEXT('Terugvordering reiskosten OAH'!D288,\"mm-jjjj\"))","v":""},{"$f":"IF('Terugvordering reiskosten OAH'!H288=\"\",\"\",'Terugvordering reiskosten OAH'!H288)","v":""},{"$f":"IF('Terugvordering reiskosten OAH'!R288=\"\",\"\",'Terugvordering reiskosten OAH'!R288)","v":""},{"$f":"IF('Terugvordering reiskosten OAH'!X288=\"\",\"\",'Terugvordering reiskosten OAH'!X288)","v":""},{"$f":"IF('Terugvordering reiskosten OAH'!AJ288=\"\",\"\",'Terugvordering reiskosten OAH'!AJ288)","v":""},{"$f":"IF('Terugvordering reiskosten OAH'!AR288=\"\",\"\",'Terugvordering reiskosten OAH'!AR288)","v":""},{"$f":"IF('Terugvordering reiskosten OAH'!AY288=\"\",\"\",'Terugvordering reiskosten OAH'!AY288)","v":""},{"$f":"IF('Terugvordering reiskosten OAH'!BC288=0,\"\",'Terugvordering reiskosten OAH'!BC288)","v":""},{"$f":"IF('Terugvordering reiskosten OAH'!BK288=0,\"\",'Terugvordering reiskosten OAH'!BK288)","v":""},{"$f":"IF('Terugvordering reiskosten OAH'!BR288=0,\"\",'Terugvordering reiskosten OAH'!BR288)","v":""},{"$f":"IF('Terugvordering reiskosten OAH'!BZ288=0,\"\",'Terugvordering reiskosten OAH'!BZ288)","v":""},{"$f":"IF('Terugvordering reiskosten OAH'!CG288=\"\",\"\",'Terugvordering reiskosten OAH'!CG288)","v":""},{"$f":"IF('Terugvordering reiskosten OAH'!CM288=0,\"\",'Terugvordering reiskosten OAH'!CM288)","v":""}]
[{"$f":"IF('Terugvordering reiskosten OAH'!D289=\"\",\"\",IF('Terugvordering reiskosten OAH'!$T$36=\"\",\"\",'Terugvordering reiskosten OAH'!$T$36))","v":""},{"$f":"IF(A217=\"\",\"\",'Terugvordering reiskosten OAH'!$T$38)","v":""},{"$f":"IF(A217=\"\",\"\",'gegevensblad samenvatting vord.'!$C$2)","v":""},{"$f":"IF('Terugvordering reiskosten OAH'!D289=\"\",\"\",TEXT('Terugvordering reiskosten OAH'!D289,\"mm-jjjj\"))","v":""},{"$f":"IF('Terugvordering reiskosten OAH'!H289=\"\",\"\",'Terugvordering reiskosten OAH'!H289)","v":""},{"$f":"IF('Terugvordering reiskosten OAH'!R289=\"\",\"\",'Terugvordering reiskosten OAH'!R289)","v":""},{"$f":"IF('Terugvordering reiskosten OAH'!X289=\"\",\"\",'Terugvordering reiskosten OAH'!X289)","v":""},{"$f":"IF('Terugvordering reiskosten OAH'!AJ289=\"\",\"\",'Terugvordering reiskosten OAH'!AJ289)","v":""},{"$f":"IF('Terugvordering reiskosten OAH'!AR289=\"\",\"\",'Terugvordering reiskosten OAH'!AR289)","v":""},{"$f":"IF('Terugvordering reiskosten OAH'!AY289=\"\",\"\",'Terugvordering reiskosten OAH'!AY289)","v":""},{"$f":"IF('Terugvordering reiskosten OAH'!BC289=0,\"\",'Terugvordering reiskosten OAH'!BC289)","v":""},{"$f":"IF('Terugvordering reiskosten OAH'!BK289=0,\"\",'Terugvordering reiskosten OAH'!BK289)","v":""},{"$f":"IF('Terugvordering reiskosten OAH'!BR289=0,\"\",'Terugvordering reiskosten OAH'!BR289)","v":""},{"$f":"IF('Terugvordering reiskosten OAH'!BZ289=0,\"\",'Terugvordering reiskosten OAH'!BZ289)","v":""},{"$f":"IF('Terugvordering reiskosten OAH'!CG289=\"\",\"\",'Terugvordering reiskosten OAH'!CG289)","v":""},{"$f":"IF('Terugvordering reiskosten OAH'!CM289=0,\"\",'Terugvordering reiskosten OAH'!CM289)","v":""}]
[{"$f":"IF('Terugvordering reiskosten OAH'!D290=\"\",\"\",IF('Terugvordering reiskosten OAH'!$T$36=\"\",\"\",'Terugvordering reiskosten OAH'!$T$36))","v":""},{"$f":"IF(A218=\"\",\"\",'Terugvordering reiskosten OAH'!$T$38)","v":""},{"$f":"IF(A218=\"\",\"\",'gegevensblad samenvatting vord.'!$C$2)","v":""},{"$f":"IF('Terugvordering reiskosten OAH'!D290=\"\",\"\",TEXT('Terugvordering reiskosten OAH'!D290,\"mm-jjjj\"))","v":""},{"$f":"IF('Terugvordering reiskosten OAH'!H290=\"\",\"\",'Terugvordering reiskosten OAH'!H290)","v":""},{"$f":"IF('Terugvordering reiskosten OAH'!R290=\"\",\"\",'Terugvordering reiskosten OAH'!R290)","v":""},{"$f":"IF('Terugvordering reiskosten OAH'!X290=\"\",\"\",'Terugvordering reiskosten OAH'!X290)","v":""},{"$f":"IF('Terugvordering reiskosten OAH'!AJ290=\"\",\"\",'Terugvordering reiskosten OAH'!AJ290)","v":""},{"$f":"IF('Terugvordering reiskosten OAH'!AR290=\"\",\"\",'Terugvordering reiskosten OAH'!AR290)","v":""},{"$f":"IF('Terugvordering reiskosten OAH'!AY290=\"\",\"\",'Terugvordering reiskosten OAH'!AY290)","v":""},{"$f":"IF('Terugvordering reiskosten OAH'!BC290=0,\"\",'Terugvordering reiskosten OAH'!BC290)","v":""},{"$f":"IF('Terugvordering reiskosten OAH'!BK290=0,\"\",'Terugvordering reiskosten OAH'!BK290)","v":""},{"$f":"IF('Terugvordering reiskosten OAH'!BR290=0,\"\",'Terugvordering reiskosten OAH'!BR290)","v":""},{"$f":"IF('Terugvordering reiskosten OAH'!BZ290=0,\"\",'Terugvordering reiskosten OAH'!BZ290)","v":""},{"$f":"IF('Terugvordering reiskosten OAH'!CG290=\"\",\"\",'Terugvordering reiskosten OAH'!CG290)","v":""},{"$f":"IF('Terugvordering reiskosten OAH'!CM290=0,\"\",'Terugvordering reiskosten OAH'!CM290)","v":""}]
[{"$f":"IF('Terugvordering reiskosten OAH'!D291=\"\",\"\",IF('Terugvordering reiskosten OAH'!$T$36=\"\",\"\",'Terugvordering reiskosten OAH'!$T$36))","v":""},{"$f":"IF(A219=\"\",\"\",'Terugvordering reiskosten OAH'!$T$38)","v":""},{"$f":"IF(A219=\"\",\"\",'gegevensblad samenvatting vord.'!$C$2)","v":""},{"$f":"IF('Terugvordering reiskosten OAH'!D291=\"\",\"\",TEXT('Terugvordering reiskosten OAH'!D291,\"mm-jjjj\"))","v":""},{"$f":"IF('Terugvordering reiskosten OAH'!H291=\"\",\"\",'Terugvordering reiskosten OAH'!H291)","v":""},{"$f":"IF('Terugvordering reiskosten OAH'!R291=\"\",\"\",'Terugvordering reiskosten OAH'!R291)","v":""},{"$f":"IF('Terugvordering reiskosten OAH'!X291=\"\",\"\",'Terugvordering reiskosten OAH'!X291)","v":""},{"$f":"IF('Terugvordering reiskosten OAH'!AJ291=\"\",\"\",'Terugvordering reiskosten OAH'!AJ291)","v":""},{"$f":"IF('Terugvordering reiskosten OAH'!AR291=\"\",\"\",'Terugvordering reiskosten OAH'!AR291)","v":""},{"$f":"IF('Terugvordering reiskosten OAH'!AY291=\"\",\"\",'Terugvordering reiskosten OAH'!AY291)","v":""},{"$f":"IF('Terugvordering reiskosten OAH'!BC291=0,\"\",'Terugvordering reiskosten OAH'!BC291)","v":""},{"$f":"IF('Terugvordering reiskosten OAH'!BK291=0,\"\",'Terugvordering reiskosten OAH'!BK291)","v":""},{"$f":"IF('Terugvordering reiskosten OAH'!BR291=0,\"\",'Terugvordering reiskosten OAH'!BR291)","v":""},{"$f":"IF('Terugvordering reiskosten OAH'!BZ291=0,\"\",'Terugvordering reiskosten OAH'!BZ291)","v":""},{"$f":"IF('Terugvordering reiskosten OAH'!CG291=\"\",\"\",'Terugvordering reiskosten OAH'!CG291)","v":""},{"$f":"IF('Terugvordering reiskosten OAH'!CM291=0,\"\",'Terugvordering reiskosten OAH'!CM291)","v":""}]
[{"$f":"IF('Terugvordering reiskosten OAH'!D292=\"\",\"\",IF('Terugvordering reiskosten OAH'!$T$36=\"\",\"\",'Terugvordering reiskosten OAH'!$T$36))","v":""},{"$f":"IF(A220=\"\",\"\",'Terugvordering reiskosten OAH'!$T$38)","v":""},{"$f":"IF(A220=\"\",\"\",'gegevensblad samenvatting vord.'!$C$2)","v":""},{"$f":"IF('Terugvordering reiskosten OAH'!D292=\"\",\"\",TEXT('Terugvordering reiskosten OAH'!D292,\"mm-jjjj\"))","v":""},{"$f":"IF('Terugvordering reiskosten OAH'!H292=\"\",\"\",'Terugvordering reiskosten OAH'!H292)","v":""},{"$f":"IF('Terugvordering reiskosten OAH'!R292=\"\",\"\",'Terugvordering reiskosten OAH'!R292)","v":""},{"$f":"IF('Terugvordering reiskosten OAH'!X292=\"\",\"\",'Terugvordering reiskosten OAH'!X292)","v":""},{"$f":"IF('Terugvordering reiskosten OAH'!AJ292=\"\",\"\",'Terugvordering reiskosten OAH'!AJ292)","v":""},{"$f":"IF('Terugvordering reiskosten OAH'!AR292=\"\",\"\",'Terugvordering reiskosten OAH'!AR292)","v":""},{"$f":"IF('Terugvordering reiskosten OAH'!AY292=\"\",\"\",'Terugvordering reiskosten OAH'!AY292)","v":""},{"$f":"IF('Terugvordering reiskosten OAH'!BC292=0,\"\",'Terugvordering reiskosten OAH'!BC292)","v":""},{"$f":"IF('Terugvordering reiskosten OAH'!BK292=0,\"\",'Terugvordering reiskosten OAH'!BK292)","v":""},{"$f":"IF('Terugvordering reiskosten OAH'!BR292=0,\"\",'Terugvordering reiskosten OAH'!BR292)","v":""},{"$f":"IF('Terugvordering reiskosten OAH'!BZ292=0,\"\",'Terugvordering reiskosten OAH'!BZ292)","v":""},{"$f":"IF('Terugvordering reiskosten OAH'!CG292=\"\",\"\",'Terugvordering reiskosten OAH'!CG292)","v":""},{"$f":"IF('Terugvordering reiskosten OAH'!CM292=0,\"\",'Terugvordering reiskosten OAH'!CM292)","v":""}]
[{"$f":"IF('Terugvordering reiskosten OAH'!D293=\"\",\"\",IF('Terugvordering reiskosten OAH'!$T$36=\"\",\"\",'Terugvordering reiskosten OAH'!$T$36))","v":""},{"$f":"IF(A221=\"\",\"\",'Terugvordering reiskosten OAH'!$T$38)","v":""},{"$f":"IF(A221=\"\",\"\",'gegevensblad samenvatting vord.'!$C$2)","v":""},{"$f":"IF('Terugvordering reiskosten OAH'!D293=\"\",\"\",TEXT('Terugvordering reiskosten OAH'!D293,\"mm-jjjj\"))","v":""},{"$f":"IF('Terugvordering reiskosten OAH'!H293=\"\",\"\",'Terugvordering reiskosten OAH'!H293)","v":""},{"$f":"IF('Terugvordering reiskosten OAH'!R293=\"\",\"\",'Terugvordering reiskosten OAH'!R293)","v":""},{"$f":"IF('Terugvordering reiskosten OAH'!X293=\"\",\"\",'Terugvordering reiskosten OAH'!X293)","v":""},{"$f":"IF('Terugvordering reiskosten OAH'!AJ293=\"\",\"\",'Terugvordering reiskosten OAH'!AJ293)","v":""},{"$f":"IF('Terugvordering reiskosten OAH'!AR293=\"\",\"\",'Terugvordering reiskosten OAH'!AR293)","v":""},{"$f":"IF('Terugvordering reiskosten OAH'!AY293=\"\",\"\",'Terugvordering reiskosten OAH'!AY293)","v":""},{"$f":"IF('Terugvordering reiskosten OAH'!BC293=0,\"\",'Terugvordering reiskosten OAH'!BC293)","v":""},{"$f":"IF('Terugvordering reiskosten OAH'!BK293=0,\"\",'Terugvordering reiskosten OAH'!BK293)","v":""},{"$f":"IF('Terugvordering reiskosten OAH'!BR293=0,\"\",'Terugvordering reiskosten OAH'!BR293)","v":""},{"$f":"IF('Terugvordering reiskosten OAH'!BZ293=0,\"\",'Terugvordering reiskosten OAH'!BZ293)","v":""},{"$f":"IF('Terugvordering reiskosten OAH'!CG293=\"\",\"\",'Terugvordering reiskosten OAH'!CG293)","v":""},{"$f":"IF('Terugvordering reiskosten OAH'!CM293=0,\"\",'Terugvordering reiskosten OAH'!CM293)","v":""}]
[{"$f":"IF('Terugvordering reiskosten OAH'!D294=\"\",\"\",IF('Terugvordering reiskosten OAH'!$T$36=\"\",\"\",'Terugvordering reiskosten OAH'!$T$36))","v":""},{"$f":"IF(A222=\"\",\"\",'Terugvordering reiskosten OAH'!$T$38)","v":""},{"$f":"IF(A222=\"\",\"\",'gegevensblad samenvatting vord.'!$C$2)","v":""},{"$f":"IF('Terugvordering reiskosten OAH'!D294=\"\",\"\",TEXT('Terugvordering reiskosten OAH'!D294,\"mm-jjjj\"))","v":""},{"$f":"IF('Terugvordering reiskosten OAH'!H294=\"\",\"\",'Terugvordering reiskosten OAH'!H294)","v":""},{"$f":"IF('Terugvordering reiskosten OAH'!R294=\"\",\"\",'Terugvordering reiskosten OAH'!R294)","v":""},{"$f":"IF('Terugvordering reiskosten OAH'!X294=\"\",\"\",'Terugvordering reiskosten OAH'!X294)","v":""},{"$f":"IF('Terugvordering reiskosten OAH'!AJ294=\"\",\"\",'Terugvordering reiskosten OAH'!AJ294)","v":""},{"$f":"IF('Terugvordering reiskosten OAH'!AR294=\"\",\"\",'Terugvordering reiskosten OAH'!AR294)","v":""},{"$f":"IF('Terugvordering reiskosten OAH'!AY294=\"\",\"\",'Terugvordering reiskosten OAH'!AY294)","v":""},{"$f":"IF('Terugvordering reiskosten OAH'!BC294=0,\"\",'Terugvordering reiskosten OAH'!BC294)","v":""},{"$f":"IF('Terugvordering reiskosten OAH'!BK294=0,\"\",'Terugvordering reiskosten OAH'!BK294)","v":""},{"$f":"IF('Terugvordering reiskosten OAH'!BR294=0,\"\",'Terugvordering reiskosten OAH'!BR294)","v":""},{"$f":"IF('Terugvordering reiskosten OAH'!BZ294=0,\"\",'Terugvordering reiskosten OAH'!BZ294)","v":""},{"$f":"IF('Terugvordering reiskosten OAH'!CG294=\"\",\"\",'Terugvordering reiskosten OAH'!CG294)","v":""},{"$f":"IF('Terugvordering reiskosten OAH'!CM294=0,\"\",'Terugvordering reiskosten OAH'!CM294)","v":""}]
[{"$f":"IF('Terugvordering reiskosten OAH'!D295=\"\",\"\",IF('Terugvordering reiskosten OAH'!$T$36=\"\",\"\",'Terugvordering reiskosten OAH'!$T$36))","v":""},{"$f":"IF(A223=\"\",\"\",'Terugvordering reiskosten OAH'!$T$38)","v":""},{"$f":"IF(A223=\"\",\"\",'gegevensblad samenvatting vord.'!$C$2)","v":""},{"$f":"IF('Terugvordering reiskosten OAH'!D295=\"\",\"\",TEXT('Terugvordering reiskosten OAH'!D295,\"mm-jjjj\"))","v":""},{"$f":"IF('Terugvordering reiskosten OAH'!H295=\"\",\"\",'Terugvordering reiskosten OAH'!H295)","v":""},{"$f":"IF('Terugvordering reiskosten OAH'!R295=\"\",\"\",'Terugvordering reiskosten OAH'!R295)","v":""},{"$f":"IF('Terugvordering reiskosten OAH'!X295=\"\",\"\",'Terugvordering reiskosten OAH'!X295)","v":""},{"$f":"IF('Terugvordering reiskosten OAH'!AJ295=\"\",\"\",'Terugvordering reiskosten OAH'!AJ295)","v":""},{"$f":"IF('Terugvordering reiskosten OAH'!AR295=\"\",\"\",'Terugvordering reiskosten OAH'!AR295)","v":""},{"$f":"IF('Terugvordering reiskosten OAH'!AY295=\"\",\"\",'Terugvordering reiskosten OAH'!AY295)","v":""},{"$f":"IF('Terugvordering reiskosten OAH'!BC295=0,\"\",'Terugvordering reiskosten OAH'!BC295)","v":""},{"$f":"IF('Terugvordering reiskosten OAH'!BK295=0,\"\",'Terugvordering reiskosten OAH'!BK295)","v":""},{"$f":"IF('Terugvordering reiskosten OAH'!BR295=0,\"\",'Terugvordering reiskosten OAH'!BR295)","v":""},{"$f":"IF('Terugvordering reiskosten OAH'!BZ295=0,\"\",'Terugvordering reiskosten OAH'!BZ295)","v":""},{"$f":"IF('Terugvordering reiskosten OAH'!CG295=\"\",\"\",'Terugvordering reiskosten OAH'!CG295)","v":""},{"$f":"IF('Terugvordering reiskosten OAH'!CM295=0,\"\",'Terugvordering reiskosten OAH'!CM295)","v":""}]
[{"$f":"IF('Terugvordering reiskosten OAH'!D296=\"\",\"\",IF('Terugvordering reiskosten OAH'!$T$36=\"\",\"\",'Terugvordering reiskosten OAH'!$T$36))","v":""},{"$f":"IF(A224=\"\",\"\",'Terugvordering reiskosten OAH'!$T$38)","v":""},{"$f":"IF(A224=\"\",\"\",'gegevensblad samenvatting vord.'!$C$2)","v":""},{"$f":"IF('Terugvordering reiskosten OAH'!D296=\"\",\"\",TEXT('Terugvordering reiskosten OAH'!D296,\"mm-jjjj\"))","v":""},{"$f":"IF('Terugvordering reiskosten OAH'!H296=\"\",\"\",'Terugvordering reiskosten OAH'!H296)","v":""},{"$f":"IF('Terugvordering reiskosten OAH'!R296=\"\",\"\",'Terugvordering reiskosten OAH'!R296)","v":""},{"$f":"IF('Terugvordering reiskosten OAH'!X296=\"\",\"\",'Terugvordering reiskosten OAH'!X296)","v":""},{"$f":"IF('Terugvordering reiskosten OAH'!AJ296=\"\",\"\",'Terugvordering reiskosten OAH'!AJ296)","v":""},{"$f":"IF('Terugvordering reiskosten OAH'!AR296=\"\",\"\",'Terugvordering reiskosten OAH'!AR296)","v":""},{"$f":"IF('Terugvordering reiskosten OAH'!AY296=\"\",\"\",'Terugvordering reiskosten OAH'!AY296)","v":""},{"$f":"IF('Terugvordering reiskosten OAH'!BC296=0,\"\",'Terugvordering reiskosten OAH'!BC296)","v":""},{"$f":"IF('Terugvordering reiskosten OAH'!BK296=0,\"\",'Terugvordering reiskosten OAH'!BK296)","v":""},{"$f":"IF('Terugvordering reiskosten OAH'!BR296=0,\"\",'Terugvordering reiskosten OAH'!BR296)","v":""},{"$f":"IF('Terugvordering reiskosten OAH'!BZ296=0,\"\",'Terugvordering reiskosten OAH'!BZ296)","v":""},{"$f":"IF('Terugvordering reiskosten OAH'!CG296=\"\",\"\",'Terugvordering reiskosten OAH'!CG296)","v":""},{"$f":"IF('Terugvordering reiskosten OAH'!CM296=0,\"\",'Terugvordering reiskosten OAH'!CM296)","v":""}]
[{"$f":"IF('Terugvordering reiskosten OAH'!D297=\"\",\"\",IF('Terugvordering reiskosten OAH'!$T$36=\"\",\"\",'Terugvordering reiskosten OAH'!$T$36))","v":""},{"$f":"IF(A225=\"\",\"\",'Terugvordering reiskosten OAH'!$T$38)","v":""},{"$f":"IF(A225=\"\",\"\",'gegevensblad samenvatting vord.'!$C$2)","v":""},{"$f":"IF('Terugvordering reiskosten OAH'!D297=\"\",\"\",TEXT('Terugvordering reiskosten OAH'!D297,\"mm-jjjj\"))","v":""},{"$f":"IF('Terugvordering reiskosten OAH'!H297=\"\",\"\",'Terugvordering reiskosten OAH'!H297)","v":""},{"$f":"IF('Terugvordering reiskosten OAH'!R297=\"\",\"\",'Terugvordering reiskosten OAH'!R297)","v":""},{"$f":"IF('Terugvordering reiskosten OAH'!X297=\"\",\"\",'Terugvordering reiskosten OAH'!X297)","v":""},{"$f":"IF('Terugvordering reiskosten OAH'!AJ297=\"\",\"\",'Terugvordering reiskosten OAH'!AJ297)","v":""},{"$f":"IF('Terugvordering reiskosten OAH'!AR297=\"\",\"\",'Terugvordering reiskosten OAH'!AR297)","v":""},{"$f":"IF('Terugvordering reiskosten OAH'!AY297=\"\",\"\",'Terugvordering reiskosten OAH'!AY297)","v":""},{"$f":"IF('Terugvordering reiskosten OAH'!BC297=0,\"\",'Terugvordering reiskosten OAH'!BC297)","v":""},{"$f":"IF('Terugvordering reiskosten OAH'!BK297=0,\"\",'Terugvordering reiskosten OAH'!BK297)","v":""},{"$f":"IF('Terugvordering reiskosten OAH'!BR297=0,\"\",'Terugvordering reiskosten OAH'!BR297)","v":""},{"$f":"IF('Terugvordering reiskosten OAH'!BZ297=0,\"\",'Terugvordering reiskosten OAH'!BZ297)","v":""},{"$f":"IF('Terugvordering reiskosten OAH'!CG297=\"\",\"\",'Terugvordering reiskosten OAH'!CG297)","v":""},{"$f":"IF('Terugvordering reiskosten OAH'!CM297=0,\"\",'Terugvordering reiskosten OAH'!CM297)","v":""}]
[{"$f":"IF('Terugvordering reiskosten OAH'!D298=\"\",\"\",IF('Terugvordering reiskosten OAH'!$T$36=\"\",\"\",'Terugvordering reiskosten OAH'!$T$36))","v":""},{"$f":"IF(A226=\"\",\"\",'Terugvordering reiskosten OAH'!$T$38)","v":""},{"$f":"IF(A226=\"\",\"\",'gegevensblad samenvatting vord.'!$C$2)","v":""},{"$f":"IF('Terugvordering reiskosten OAH'!D298=\"\",\"\",TEXT('Terugvordering reiskosten OAH'!D298,\"mm-jjjj\"))","v":""},{"$f":"IF('Terugvordering reiskosten OAH'!H298=\"\",\"\",'Terugvordering reiskosten OAH'!H298)","v":""},{"$f":"IF('Terugvordering reiskosten OAH'!R298=\"\",\"\",'Terugvordering reiskosten OAH'!R298)","v":""},{"$f":"IF('Terugvordering reiskosten OAH'!X298=\"\",\"\",'Terugvordering reiskosten OAH'!X298)","v":""},{"$f":"IF('Terugvordering reiskosten OAH'!AJ298=\"\",\"\",'Terugvordering reiskosten OAH'!AJ298)","v":""},{"$f":"IF('Terugvordering reiskosten OAH'!AR298=\"\",\"\",'Terugvordering reiskosten OAH'!AR298)","v":""},{"$f":"IF('Terugvordering reiskosten OAH'!AY298=\"\",\"\",'Terugvordering reiskosten OAH'!AY298)","v":""},{"$f":"IF('Terugvordering reiskosten OAH'!BC298=0,\"\",'Terugvordering reiskosten OAH'!BC298)","v":""},{"$f":"IF('Terugvordering reiskosten OAH'!BK298=0,\"\",'Terugvordering reiskosten OAH'!BK298)","v":""},{"$f":"IF('Terugvordering reiskosten OAH'!BR298=0,\"\",'Terugvordering reiskosten OAH'!BR298)","v":""},{"$f":"IF('Terugvordering reiskosten OAH'!BZ298=0,\"\",'Terugvordering reiskosten OAH'!BZ298)","v":""},{"$f":"IF('Terugvordering reiskosten OAH'!CG298=\"\",\"\",'Terugvordering reiskosten OAH'!CG298)","v":""},{"$f":"IF('Terugvordering reiskosten OAH'!CM298=0,\"\",'Terugvordering reiskosten OAH'!CM298)","v":""}]
[{"$f":"IF('Terugvordering reiskosten OAH'!D299=\"\",\"\",IF('Terugvordering reiskosten OAH'!$T$36=\"\",\"\",'Terugvordering reiskosten OAH'!$T$36))","v":""},{"$f":"IF(A227=\"\",\"\",'Terugvordering reiskosten OAH'!$T$38)","v":""},{"$f":"IF(A227=\"\",\"\",'gegevensblad samenvatting vord.'!$C$2)","v":""},{"$f":"IF('Terugvordering reiskosten OAH'!D299=\"\",\"\",TEXT('Terugvordering reiskosten OAH'!D299,\"mm-jjjj\"))","v":""},{"$f":"IF('Terugvordering reiskosten OAH'!H299=\"\",\"\",'Terugvordering reiskosten OAH'!H299)","v":""},{"$f":"IF('Terugvordering reiskosten OAH'!R299=\"\",\"\",'Terugvordering reiskosten OAH'!R299)","v":""},{"$f":"IF('Terugvordering reiskosten OAH'!X299=\"\",\"\",'Terugvordering reiskosten OAH'!X299)","v":""},{"$f":"IF('Terugvordering reiskosten OAH'!AJ299=\"\",\"\",'Terugvordering reiskosten OAH'!AJ299)","v":""},{"$f":"IF('Terugvordering reiskosten OAH'!AR299=\"\",\"\",'Terugvordering reiskosten OAH'!AR299)","v":""},{"$f":"IF('Terugvordering reiskosten OAH'!AY299=\"\",\"\",'Terugvordering reiskosten OAH'!AY299)","v":""},{"$f":"IF('Terugvordering reiskosten OAH'!BC299=0,\"\",'Terugvordering reiskosten OAH'!BC299)","v":""},{"$f":"IF('Terugvordering reiskosten OAH'!BK299=0,\"\",'Terugvordering reiskosten OAH'!BK299)","v":""},{"$f":"IF('Terugvordering reiskosten OAH'!BR299=0,\"\",'Terugvordering reiskosten OAH'!BR299)","v":""},{"$f":"IF('Terugvordering reiskosten OAH'!BZ299=0,\"\",'Terugvordering reiskosten OAH'!BZ299)","v":""},{"$f":"IF('Terugvordering reiskosten OAH'!CG299=\"\",\"\",'Terugvordering reiskosten OAH'!CG299)","v":""},{"$f":"IF('Terugvordering reiskosten OAH'!CM299=0,\"\",'Terugvordering reiskosten OAH'!CM299)","v":""}]
[{"$f":"IF('Terugvordering reiskosten OAH'!D300=\"\",\"\",IF('Terugvordering reiskosten OAH'!$T$36=\"\",\"\",'Terugvordering reiskosten OAH'!$T$36))","v":""},{"$f":"IF(A228=\"\",\"\",'Terugvordering reiskosten OAH'!$T$38)","v":""},{"$f":"IF(A228=\"\",\"\",'gegevensblad samenvatting vord.'!$C$2)","v":""},{"$f":"IF('Terugvordering reiskosten OAH'!D300=\"\",\"\",TEXT('Terugvordering reiskosten OAH'!D300,\"mm-jjjj\"))","v":""},{"$f":"IF('Terugvordering reiskosten OAH'!H300=\"\",\"\",'Terugvordering reiskosten OAH'!H300)","v":""},{"$f":"IF('Terugvordering reiskosten OAH'!R300=\"\",\"\",'Terugvordering reiskosten OAH'!R300)","v":""},{"$f":"IF('Terugvordering reiskosten OAH'!X300=\"\",\"\",'Terugvordering reiskosten OAH'!X300)","v":""},{"$f":"IF('Terugvordering reiskosten OAH'!AJ300=\"\",\"\",'Terugvordering reiskosten OAH'!AJ300)","v":""},{"$f":"IF('Terugvordering reiskosten OAH'!AR300=\"\",\"\",'Terugvordering reiskosten OAH'!AR300)","v":""},{"$f":"IF('Terugvordering reiskosten OAH'!AY300=\"\",\"\",'Terugvordering reiskosten OAH'!AY300)","v":""},{"$f":"IF('Terugvordering reiskosten OAH'!BC300=0,\"\",'Terugvordering reiskosten OAH'!BC300)","v":""},{"$f":"IF('Terugvordering reiskosten OAH'!BK300=0,\"\",'Terugvordering reiskosten OAH'!BK300)","v":""},{"$f":"IF('Terugvordering reiskosten OAH'!BR300=0,\"\",'Terugvordering reiskosten OAH'!BR300)","v":""},{"$f":"IF('Terugvordering reiskosten OAH'!BZ300=0,\"\",'Terugvordering reiskosten OAH'!BZ300)","v":""},{"$f":"IF('Terugvordering reiskosten OAH'!CG300=\"\",\"\",'Terugvordering reiskosten OAH'!CG300)","v":""},{"$f":"IF('Terugvordering reiskosten OAH'!CM300=0,\"\",'Terugvordering reiskosten OAH'!CM300)","v":""}]
[{"$f":"IF('Terugvordering reiskosten OAH'!D301=\"\",\"\",IF('Terugvordering reiskosten OAH'!$T$36=\"\",\"\",'Terugvordering reiskosten OAH'!$T$36))","v":""},{"$f":"IF(A229=\"\",\"\",'Terugvordering reiskosten OAH'!$T$38)","v":""},{"$f":"IF(A229=\"\",\"\",'gegevensblad samenvatting vord.'!$C$2)","v":""},{"$f":"IF('Terugvordering reiskosten OAH'!D301=\"\",\"\",TEXT('Terugvordering reiskosten OAH'!D301,\"mm-jjjj\"))","v":""},{"$f":"IF('Terugvordering reiskosten OAH'!H301=\"\",\"\",'Terugvordering reiskosten OAH'!H301)","v":""},{"$f":"IF('Terugvordering reiskosten OAH'!R301=\"\",\"\",'Terugvordering reiskosten OAH'!R301)","v":""},{"$f":"IF('Terugvordering reiskosten OAH'!X301=\"\",\"\",'Terugvordering reiskosten OAH'!X301)","v":""},{"$f":"IF('Terugvordering reiskosten OAH'!AJ301=\"\",\"\",'Terugvordering reiskosten OAH'!AJ301)","v":""},{"$f":"IF('Terugvordering reiskosten OAH'!AR301=\"\",\"\",'Terugvordering reiskosten OAH'!AR301)","v":""},{"$f":"IF('Terugvordering reiskosten OAH'!AY301=\"\",\"\",'Terugvordering reiskosten OAH'!AY301)","v":""},{"$f":"IF('Terugvordering reiskosten OAH'!BC301=0,\"\",'Terugvordering reiskosten OAH'!BC301)","v":""},{"$f":"IF('Terugvordering reiskosten OAH'!BK301=0,\"\",'Terugvordering reiskosten OAH'!BK301)","v":""},{"$f":"IF('Terugvordering reiskosten OAH'!BR301=0,\"\",'Terugvordering reiskosten OAH'!BR301)","v":""},{"$f":"IF('Terugvordering reiskosten OAH'!BZ301=0,\"\",'Terugvordering reiskosten OAH'!BZ301)","v":""},{"$f":"IF('Terugvordering reiskosten OAH'!CG301=\"\",\"\",'Terugvordering reiskosten OAH'!CG301)","v":""},{"$f":"IF('Terugvordering reiskosten OAH'!CM301=0,\"\",'Terugvordering reiskosten OAH'!CM301)","v":""}]
[{"$f":"IF('Terugvordering reiskosten OAH'!D302=\"\",\"\",IF('Terugvordering reiskosten OAH'!$T$36=\"\",\"\",'Terugvordering reiskosten OAH'!$T$36))","v":""},{"$f":"IF(A230=\"\",\"\",'Terugvordering reiskosten OAH'!$T$38)","v":""},{"$f":"IF(A230=\"\",\"\",'gegevensblad samenvatting vord.'!$C$2)","v":""},{"$f":"IF('Terugvordering reiskosten OAH'!D302=\"\",\"\",TEXT('Terugvordering reiskosten OAH'!D302,\"mm-jjjj\"))","v":""},{"$f":"IF('Terugvordering reiskosten OAH'!H302=\"\",\"\",'Terugvordering reiskosten OAH'!H302)","v":""},{"$f":"IF('Terugvordering reiskosten OAH'!R302=\"\",\"\",'Terugvordering reiskosten OAH'!R302)","v":""},{"$f":"IF('Terugvordering reiskosten OAH'!X302=\"\",\"\",'Terugvordering reiskosten OAH'!X302)","v":""},{"$f":"IF('Terugvordering reiskosten OAH'!AJ302=\"\",\"\",'Terugvordering reiskosten OAH'!AJ302)","v":""},{"$f":"IF('Terugvordering reiskosten OAH'!AR302=\"\",\"\",'Terugvordering reiskosten OAH'!AR302)","v":""},{"$f":"IF('Terugvordering reiskosten OAH'!AY302=\"\",\"\",'Terugvordering reiskosten OAH'!AY302)","v":""},{"$f":"IF('Terugvordering reiskosten OAH'!BC302=0,\"\",'Terugvordering reiskosten OAH'!BC302)","v":""},{"$f":"IF('Terugvordering reiskosten OAH'!BK302=0,\"\",'Terugvordering reiskosten OAH'!BK302)","v":""},{"$f":"IF('Terugvordering reiskosten OAH'!BR302=0,\"\",'Terugvordering reiskosten OAH'!BR302)","v":""},{"$f":"IF('Terugvordering reiskosten OAH'!BZ302=0,\"\",'Terugvordering reiskosten OAH'!BZ302)","v":""},{"$f":"IF('Terugvordering reiskosten OAH'!CG302=\"\",\"\",'Terugvordering reiskosten OAH'!CG302)","v":""},{"$f":"IF('Terugvordering reiskosten OAH'!CM302=0,\"\",'Terugvordering reiskosten OAH'!CM302)","v":""}]
[{"$f":"IF('Terugvordering reiskosten OAH'!D303=\"\",\"\",IF('Terugvordering reiskosten OAH'!$T$36=\"\",\"\",'Terugvordering reiskosten OAH'!$T$36))","v":""},{"$f":"IF(A231=\"\",\"\",'Terugvordering reiskosten OAH'!$T$38)","v":""},{"$f":"IF(A231=\"\",\"\",'gegevensblad samenvatting vord.'!$C$2)","v":""},{"$f":"IF('Terugvordering reiskosten OAH'!D303=\"\",\"\",TEXT('Terugvordering reiskosten OAH'!D303,\"mm-jjjj\"))","v":""},{"$f":"IF('Terugvordering reiskosten OAH'!H303=\"\",\"\",'Terugvordering reiskosten OAH'!H303)","v":""},{"$f":"IF('Terugvordering reiskosten OAH'!R303=\"\",\"\",'Terugvordering reiskosten OAH'!R303)","v":""},{"$f":"IF('Terugvordering reiskosten OAH'!X303=\"\",\"\",'Terugvordering reiskosten OAH'!X303)","v":""},{"$f":"IF('Terugvordering reiskosten OAH'!AJ303=\"\",\"\",'Terugvordering reiskosten OAH'!AJ303)","v":""},{"$f":"IF('Terugvordering reiskosten OAH'!AR303=\"\",\"\",'Terugvordering reiskosten OAH'!AR303)","v":""},{"$f":"IF('Terugvordering reiskosten OAH'!AY303=\"\",\"\",'Terugvordering reiskosten OAH'!AY303)","v":""},{"$f":"IF('Terugvordering reiskosten OAH'!BC303=0,\"\",'Terugvordering reiskosten OAH'!BC303)","v":""},{"$f":"IF('Terugvordering reiskosten OAH'!BK303=0,\"\",'Terugvordering reiskosten OAH'!BK303)","v":""},{"$f":"IF('Terugvordering reiskosten OAH'!BR303=0,\"\",'Terugvordering reiskosten OAH'!BR303)","v":""},{"$f":"IF('Terugvordering reiskosten OAH'!BZ303=0,\"\",'Terugvordering reiskosten OAH'!BZ303)","v":""},{"$f":"IF('Terugvordering reiskosten OAH'!CG303=\"\",\"\",'Terugvordering reiskosten OAH'!CG303)","v":""},{"$f":"IF('Terugvordering reiskosten OAH'!CM303=0,\"\",'Terugvordering reiskosten OAH'!CM303)","v":""}]
[{"$f":"IF('Terugvordering reiskosten OAH'!D304=\"\",\"\",IF('Terugvordering reiskosten OAH'!$T$36=\"\",\"\",'Terugvordering reiskosten OAH'!$T$36))","v":""},{"$f":"IF(A232=\"\",\"\",'Terugvordering reiskosten OAH'!$T$38)","v":""},{"$f":"IF(A232=\"\",\"\",'gegevensblad samenvatting vord.'!$C$2)","v":""},{"$f":"IF('Terugvordering reiskosten OAH'!D304=\"\",\"\",TEXT('Terugvordering reiskosten OAH'!D304,\"mm-jjjj\"))","v":""},{"$f":"IF('Terugvordering reiskosten OAH'!H304=\"\",\"\",'Terugvordering reiskosten OAH'!H304)","v":""},{"$f":"IF('Terugvordering reiskosten OAH'!R304=\"\",\"\",'Terugvordering reiskosten OAH'!R304)","v":""},{"$f":"IF('Terugvordering reiskosten OAH'!X304=\"\",\"\",'Terugvordering reiskosten OAH'!X304)","v":""},{"$f":"IF('Terugvordering reiskosten OAH'!AJ304=\"\",\"\",'Terugvordering reiskosten OAH'!AJ304)","v":""},{"$f":"IF('Terugvordering reiskosten OAH'!AR304=\"\",\"\",'Terugvordering reiskosten OAH'!AR304)","v":""},{"$f":"IF('Terugvordering reiskosten OAH'!AY304=\"\",\"\",'Terugvordering reiskosten OAH'!AY304)","v":""},{"$f":"IF('Terugvordering reiskosten OAH'!BC304=0,\"\",'Terugvordering reiskosten OAH'!BC304)","v":""},{"$f":"IF('Terugvordering reiskosten OAH'!BK304=0,\"\",'Terugvordering reiskosten OAH'!BK304)","v":""},{"$f":"IF('Terugvordering reiskosten OAH'!BR304=0,\"\",'Terugvordering reiskosten OAH'!BR304)","v":""},{"$f":"IF('Terugvordering reiskosten OAH'!BZ304=0,\"\",'Terugvordering reiskosten OAH'!BZ304)","v":""},{"$f":"IF('Terugvordering reiskosten OAH'!CG304=\"\",\"\",'Terugvordering reiskosten OAH'!CG304)","v":""},{"$f":"IF('Terugvordering reiskosten OAH'!CM304=0,\"\",'Terugvordering reiskosten OAH'!CM304)","v":""}]
[{"$f":"IF('Terugvordering reiskosten OAH'!D305=\"\",\"\",IF('Terugvordering reiskosten OAH'!$T$36=\"\",\"\",'Terugvordering reiskosten OAH'!$T$36))","v":""},{"$f":"IF(A233=\"\",\"\",'Terugvordering reiskosten OAH'!$T$38)","v":""},{"$f":"IF(A233=\"\",\"\",'gegevensblad samenvatting vord.'!$C$2)","v":""},{"$f":"IF('Terugvordering reiskosten OAH'!D305=\"\",\"\",TEXT('Terugvordering reiskosten OAH'!D305,\"mm-jjjj\"))","v":""},{"$f":"IF('Terugvordering reiskosten OAH'!H305=\"\",\"\",'Terugvordering reiskosten OAH'!H305)","v":""},{"$f":"IF('Terugvordering reiskosten OAH'!R305=\"\",\"\",'Terugvordering reiskosten OAH'!R305)","v":""},{"$f":"IF('Terugvordering reiskosten OAH'!X305=\"\",\"\",'Terugvordering reiskosten OAH'!X305)","v":""},{"$f":"IF('Terugvordering reiskosten OAH'!AJ305=\"\",\"\",'Terugvordering reiskosten OAH'!AJ305)","v":""},{"$f":"IF('Terugvordering reiskosten OAH'!AR305=\"\",\"\",'Terugvordering reiskosten OAH'!AR305)","v":""},{"$f":"IF('Terugvordering reiskosten OAH'!AY305=\"\",\"\",'Terugvordering reiskosten OAH'!AY305)","v":""},{"$f":"IF('Terugvordering reiskosten OAH'!BC305=0,\"\",'Terugvordering reiskosten OAH'!BC305)","v":""},{"$f":"IF('Terugvordering reiskosten OAH'!BK305=0,\"\",'Terugvordering reiskosten OAH'!BK305)","v":""},{"$f":"IF('Terugvordering reiskosten OAH'!BR305=0,\"\",'Terugvordering reiskosten OAH'!BR305)","v":""},{"$f":"IF('Terugvordering reiskosten OAH'!BZ305=0,\"\",'Terugvordering reiskosten OAH'!BZ305)","v":""},{"$f":"IF('Terugvordering reiskosten OAH'!CG305=\"\",\"\",'Terugvordering reiskosten OAH'!CG305)","v":""},{"$f":"IF('Terugvordering reiskosten OAH'!CM305=0,\"\",'Terugvordering reiskosten OAH'!CM305)","v":""}]
[{"$f":"IF('Terugvordering reiskosten OAH'!D306=\"\",\"\",IF('Terugvordering reiskosten OAH'!$T$36=\"\",\"\",'Terugvordering reiskosten OAH'!$T$36))","v":""},{"$f":"IF(A234=\"\",\"\",'Terugvordering reiskosten OAH'!$T$38)","v":""},{"$f":"IF(A234=\"\",\"\",'gegevensblad samenvatting vord.'!$C$2)","v":""},{"$f":"IF('Terugvordering reiskosten OAH'!D306=\"\",\"\",TEXT('Terugvordering reiskosten OAH'!D306,\"mm-jjjj\"))","v":""},{"$f":"IF('Terugvordering reiskosten OAH'!H306=\"\",\"\",'Terugvordering reiskosten OAH'!H306)","v":""},{"$f":"IF('Terugvordering reiskosten OAH'!R306=\"\",\"\",'Terugvordering reiskosten OAH'!R306)","v":""},{"$f":"IF('Terugvordering reiskosten OAH'!X306=\"\",\"\",'Terugvordering reiskosten OAH'!X306)","v":""},{"$f":"IF('Terugvordering reiskosten OAH'!AJ306=\"\",\"\",'Terugvordering reiskosten OAH'!AJ306)","v":""},{"$f":"IF('Terugvordering reiskosten OAH'!AR306=\"\",\"\",'Terugvordering reiskosten OAH'!AR306)","v":""},{"$f":"IF('Terugvordering reiskosten OAH'!AY306=\"\",\"\",'Terugvordering reiskosten OAH'!AY306)","v":""},{"$f":"IF('Terugvordering reiskosten OAH'!BC306=0,\"\",'Terugvordering reiskosten OAH'!BC306)","v":""},{"$f":"IF('Terugvordering reiskosten OAH'!BK306=0,\"\",'Terugvordering reiskosten OAH'!BK306)","v":""},{"$f":"IF('Terugvordering reiskosten OAH'!BR306=0,\"\",'Terugvordering reiskosten OAH'!BR306)","v":""},{"$f":"IF('Terugvordering reiskosten OAH'!BZ306=0,\"\",'Terugvordering reiskosten OAH'!BZ306)","v":""},{"$f":"IF('Terugvordering reiskosten OAH'!CG306=\"\",\"\",'Terugvordering reiskosten OAH'!CG306)","v":""},{"$f":"IF('Terugvordering reiskosten OAH'!CM306=0,\"\",'Terugvordering reiskosten OAH'!CM306)","v":""}]
[{"$f":"IF('Terugvordering reiskosten OAH'!D307=\"\",\"\",IF('Terugvordering reiskosten OAH'!$T$36=\"\",\"\",'Terugvordering reiskosten OAH'!$T$36))","v":""},{"$f":"IF(A235=\"\",\"\",'Terugvordering reiskosten OAH'!$T$38)","v":""},{"$f":"IF(A235=\"\",\"\",'gegevensblad samenvatting vord.'!$C$2)","v":""},{"$f":"IF('Terugvordering reiskosten OAH'!D307=\"\",\"\",TEXT('Terugvordering reiskosten OAH'!D307,\"mm-jjjj\"))","v":""},{"$f":"IF('Terugvordering reiskosten OAH'!H307=\"\",\"\",'Terugvordering reiskosten OAH'!H307)","v":""},{"$f":"IF('Terugvordering reiskosten OAH'!R307=\"\",\"\",'Terugvordering reiskosten OAH'!R307)","v":""},{"$f":"IF('Terugvordering reiskosten OAH'!X307=\"\",\"\",'Terugvordering reiskosten OAH'!X307)","v":""},{"$f":"IF('Terugvordering reiskosten OAH'!AJ307=\"\",\"\",'Terugvordering reiskosten OAH'!AJ307)","v":""},{"$f":"IF('Terugvordering reiskosten OAH'!AR307=\"\",\"\",'Terugvordering reiskosten OAH'!AR307)","v":""},{"$f":"IF('Terugvordering reiskosten OAH'!AY307=\"\",\"\",'Terugvordering reiskosten OAH'!AY307)","v":""},{"$f":"IF('Terugvordering reiskosten OAH'!BC307=0,\"\",'Terugvordering reiskosten OAH'!BC307)","v":""},{"$f":"IF('Terugvordering reiskosten OAH'!BK307=0,\"\",'Terugvordering reiskosten OAH'!BK307)","v":""},{"$f":"IF('Terugvordering reiskosten OAH'!BR307=0,\"\",'Terugvordering reiskosten OAH'!BR307)","v":""},{"$f":"IF('Terugvordering reiskosten OAH'!BZ307=0,\"\",'Terugvordering reiskosten OAH'!BZ307)","v":""},{"$f":"IF('Terugvordering reiskosten OAH'!CG307=\"\",\"\",'Terugvordering reiskosten OAH'!CG307)","v":""},{"$f":"IF('Terugvordering reiskosten OAH'!CM307=0,\"\",'Terugvordering reiskosten OAH'!CM307)","v":""}]
[{"$f":"IF('Terugvordering reiskosten OAH'!D308=\"\",\"\",IF('Terugvordering reiskosten OAH'!$T$36=\"\",\"\",'Terugvordering reiskosten OAH'!$T$36))","v":""},{"$f":"IF(A236=\"\",\"\",'Terugvordering reiskosten OAH'!$T$38)","v":""},{"$f":"IF(A236=\"\",\"\",'gegevensblad samenvatting vord.'!$C$2)","v":""},{"$f":"IF('Terugvordering reiskosten OAH'!D308=\"\",\"\",TEXT('Terugvordering reiskosten OAH'!D308,\"mm-jjjj\"))","v":""},{"$f":"IF('Terugvordering reiskosten OAH'!H308=\"\",\"\",'Terugvordering reiskosten OAH'!H308)","v":""},{"$f":"IF('Terugvordering reiskosten OAH'!R308=\"\",\"\",'Terugvordering reiskosten OAH'!R308)","v":""},{"$f":"IF('Terugvordering reiskosten OAH'!X308=\"\",\"\",'Terugvordering reiskosten OAH'!X308)","v":""},{"$f":"IF('Terugvordering reiskosten OAH'!AJ308=\"\",\"\",'Terugvordering reiskosten OAH'!AJ308)","v":""},{"$f":"IF('Terugvordering reiskosten OAH'!AR308=\"\",\"\",'Terugvordering reiskosten OAH'!AR308)","v":""},{"$f":"IF('Terugvordering reiskosten OAH'!AY308=\"\",\"\",'Terugvordering reiskosten OAH'!AY308)","v":""},{"$f":"IF('Terugvordering reiskosten OAH'!BC308=0,\"\",'Terugvordering reiskosten OAH'!BC308)","v":""},{"$f":"IF('Terugvordering reiskosten OAH'!BK308=0,\"\",'Terugvordering reiskosten OAH'!BK308)","v":""},{"$f":"IF('Terugvordering reiskosten OAH'!BR308=0,\"\",'Terugvordering reiskosten OAH'!BR308)","v":""},{"$f":"IF('Terugvordering reiskosten OAH'!BZ308=0,\"\",'Terugvordering reiskosten OAH'!BZ308)","v":""},{"$f":"IF('Terugvordering reiskosten OAH'!CG308=\"\",\"\",'Terugvordering reiskosten OAH'!CG308)","v":""},{"$f":"IF('Terugvordering reiskosten OAH'!CM308=0,\"\",'Terugvordering reiskosten OAH'!CM308)","v":""}]
[{"$f":"IF('Terugvordering reiskosten OAH'!D309=\"\",\"\",IF('Terugvordering reiskosten OAH'!$T$36=\"\",\"\",'Terugvordering reiskosten OAH'!$T$36))","v":""},{"$f":"IF(A237=\"\",\"\",'Terugvordering reiskosten OAH'!$T$38)","v":""},{"$f":"IF(A237=\"\",\"\",'gegevensblad samenvatting vord.'!$C$2)","v":""},{"$f":"IF('Terugvordering reiskosten OAH'!D309=\"\",\"\",TEXT('Terugvordering reiskosten OAH'!D309,\"mm-jjjj\"))","v":""},{"$f":"IF('Terugvordering reiskosten OAH'!H309=\"\",\"\",'Terugvordering reiskosten OAH'!H309)","v":""},{"$f":"IF('Terugvordering reiskosten OAH'!R309=\"\",\"\",'Terugvordering reiskosten OAH'!R309)","v":""},{"$f":"IF('Terugvordering reiskosten OAH'!X309=\"\",\"\",'Terugvordering reiskosten OAH'!X309)","v":""},{"$f":"IF('Terugvordering reiskosten OAH'!AJ309=\"\",\"\",'Terugvordering reiskosten OAH'!AJ309)","v":""},{"$f":"IF('Terugvordering reiskosten OAH'!AR309=\"\",\"\",'Terugvordering reiskosten OAH'!AR309)","v":""},{"$f":"IF('Terugvordering reiskosten OAH'!AY309=\"\",\"\",'Terugvordering reiskosten OAH'!AY309)","v":""},{"$f":"IF('Terugvordering reiskosten OAH'!BC309=0,\"\",'Terugvordering reiskosten OAH'!BC309)","v":""},{"$f":"IF('Terugvordering reiskosten OAH'!BK309=0,\"\",'Terugvordering reiskosten OAH'!BK309)","v":""},{"$f":"IF('Terugvordering reiskosten OAH'!BR309=0,\"\",'Terugvordering reiskosten OAH'!BR309)","v":""},{"$f":"IF('Terugvordering reiskosten OAH'!BZ309=0,\"\",'Terugvordering reiskosten OAH'!BZ309)","v":""},{"$f":"IF('Terugvordering reiskosten OAH'!CG309=\"\",\"\",'Terugvordering reiskosten OAH'!CG309)","v":""},{"$f":"IF('Terugvordering reiskosten OAH'!CM309=0,\"\",'Terugvordering reiskosten OAH'!CM309)","v":""}]
[{"$f":"IF('Terugvordering reiskosten OAH'!D310=\"\",\"\",IF('Terugvordering reiskosten OAH'!$T$36=\"\",\"\",'Terugvordering reiskosten OAH'!$T$36))","v":""},{"$f":"IF(A238=\"\",\"\",'Terugvordering reiskosten OAH'!$T$38)","v":""},{"$f":"IF(A238=\"\",\"\",'gegevensblad samenvatting vord.'!$C$2)","v":""},{"$f":"IF('Terugvordering reiskosten OAH'!D310=\"\",\"\",TEXT('Terugvordering reiskosten OAH'!D310,\"mm-jjjj\"))","v":""},{"$f":"IF('Terugvordering reiskosten OAH'!H310=\"\",\"\",'Terugvordering reiskosten OAH'!H310)","v":""},{"$f":"IF('Terugvordering reiskosten OAH'!R310=\"\",\"\",'Terugvordering reiskosten OAH'!R310)","v":""},{"$f":"IF('Terugvordering reiskosten OAH'!X310=\"\",\"\",'Terugvordering reiskosten OAH'!X310)","v":""},{"$f":"IF('Terugvordering reiskosten OAH'!AJ310=\"\",\"\",'Terugvordering reiskosten OAH'!AJ310)","v":""},{"$f":"IF('Terugvordering reiskosten OAH'!AR310=\"\",\"\",'Terugvordering reiskosten OAH'!AR310)","v":""},{"$f":"IF('Terugvordering reiskosten OAH'!AY310=\"\",\"\",'Terugvordering reiskosten OAH'!AY310)","v":""},{"$f":"IF('Terugvordering reiskosten OAH'!BC310=0,\"\",'Terugvordering reiskosten OAH'!BC310)","v":""},{"$f":"IF('Terugvordering reiskosten OAH'!BK310=0,\"\",'Terugvordering reiskosten OAH'!BK310)","v":""},{"$f":"IF('Terugvordering reiskosten OAH'!BR310=0,\"\",'Terugvordering reiskosten OAH'!BR310)","v":""},{"$f":"IF('Terugvordering reiskosten OAH'!BZ310=0,\"\",'Terugvordering reiskosten OAH'!BZ310)","v":""},{"$f":"IF('Terugvordering reiskosten OAH'!CG310=\"\",\"\",'Terugvordering reiskosten OAH'!CG310)","v":""},{"$f":"IF('Terugvordering reiskosten OAH'!CM310=0,\"\",'Terugvordering reiskosten OAH'!CM310)","v":""}]
[{"$f":"IF('Terugvordering reiskosten OAH'!D311=\"\",\"\",IF('Terugvordering reiskosten OAH'!$T$36=\"\",\"\",'Terugvordering reiskosten OAH'!$T$36))","v":""},{"$f":"IF(A239=\"\",\"\",'Terugvordering reiskosten OAH'!$T$38)","v":""},{"$f":"IF(A239=\"\",\"\",'gegevensblad samenvatting vord.'!$C$2)","v":""},{"$f":"IF('Terugvordering reiskosten OAH'!D311=\"\",\"\",TEXT('Terugvordering reiskosten OAH'!D311,\"mm-jjjj\"))","v":""},{"$f":"IF('Terugvordering reiskosten OAH'!H311=\"\",\"\",'Terugvordering reiskosten OAH'!H311)","v":""},{"$f":"IF('Terugvordering reiskosten OAH'!R311=\"\",\"\",'Terugvordering reiskosten OAH'!R311)","v":""},{"$f":"IF('Terugvordering reiskosten OAH'!X311=\"\",\"\",'Terugvordering reiskosten OAH'!X311)","v":""},{"$f":"IF('Terugvordering reiskosten OAH'!AJ311=\"\",\"\",'Terugvordering reiskosten OAH'!AJ311)","v":""},{"$f":"IF('Terugvordering reiskosten OAH'!AR311=\"\",\"\",'Terugvordering reiskosten OAH'!AR311)","v":""},{"$f":"IF('Terugvordering reiskosten OAH'!AY311=\"\",\"\",'Terugvordering reiskosten OAH'!AY311)","v":""},{"$f":"IF('Terugvordering reiskosten OAH'!BC311=0,\"\",'Terugvordering reiskosten OAH'!BC311)","v":""},{"$f":"IF('Terugvordering reiskosten OAH'!BK311=0,\"\",'Terugvordering reiskosten OAH'!BK311)","v":""},{"$f":"IF('Terugvordering reiskosten OAH'!BR311=0,\"\",'Terugvordering reiskosten OAH'!BR311)","v":""},{"$f":"IF('Terugvordering reiskosten OAH'!BZ311=0,\"\",'Terugvordering reiskosten OAH'!BZ311)","v":""},{"$f":"IF('Terugvordering reiskosten OAH'!CG311=\"\",\"\",'Terugvordering reiskosten OAH'!CG311)","v":""},{"$f":"IF('Terugvordering reiskosten OAH'!CM311=0,\"\",'Terugvordering reiskosten OAH'!CM311)","v":""}]
[{"$f":"IF('Terugvordering reiskosten OAH'!D312=\"\",\"\",IF('Terugvordering reiskosten OAH'!$T$36=\"\",\"\",'Terugvordering reiskosten OAH'!$T$36))","v":""},{"$f":"IF(A240=\"\",\"\",'Terugvordering reiskosten OAH'!$T$38)","v":""},{"$f":"IF(A240=\"\",\"\",'gegevensblad samenvatting vord.'!$C$2)","v":""},{"$f":"IF('Terugvordering reiskosten OAH'!D312=\"\",\"\",TEXT('Terugvordering reiskosten OAH'!D312,\"mm-jjjj\"))","v":""},{"$f":"IF('Terugvordering reiskosten OAH'!H312=\"\",\"\",'Terugvordering reiskosten OAH'!H312)","v":""},{"$f":"IF('Terugvordering reiskosten OAH'!R312=\"\",\"\",'Terugvordering reiskosten OAH'!R312)","v":""},{"$f":"IF('Terugvordering reiskosten OAH'!X312=\"\",\"\",'Terugvordering reiskosten OAH'!X312)","v":""},{"$f":"IF('Terugvordering reiskosten OAH'!AJ312=\"\",\"\",'Terugvordering reiskosten OAH'!AJ312)","v":""},{"$f":"IF('Terugvordering reiskosten OAH'!AR312=\"\",\"\",'Terugvordering reiskosten OAH'!AR312)","v":""},{"$f":"IF('Terugvordering reiskosten OAH'!AY312=\"\",\"\",'Terugvordering reiskosten OAH'!AY312)","v":""},{"$f":"IF('Terugvordering reiskosten OAH'!BC312=0,\"\",'Terugvordering reiskosten OAH'!BC312)","v":""},{"$f":"IF('Terugvordering reiskosten OAH'!BK312=0,\"\",'Terugvordering reiskosten OAH'!BK312)","v":""},{"$f":"IF('Terugvordering reiskosten OAH'!BR312=0,\"\",'Terugvordering reiskosten OAH'!BR312)","v":""},{"$f":"IF('Terugvordering reiskosten OAH'!BZ312=0,\"\",'Terugvordering reiskosten OAH'!BZ312)","v":""},{"$f":"IF('Terugvordering reiskosten OAH'!CG312=\"\",\"\",'Terugvordering reiskosten OAH'!CG312)","v":""},{"$f":"IF('Terugvordering reiskosten OAH'!CM312=0,\"\",'Terugvordering reiskosten OAH'!CM312)","v":""}]
[{"$f":"IF('Terugvordering reiskosten OAH'!D313=\"\",\"\",IF('Terugvordering reiskosten OAH'!$T$36=\"\",\"\",'Terugvordering reiskosten OAH'!$T$36))","v":""},{"$f":"IF(A241=\"\",\"\",'Terugvordering reiskosten OAH'!$T$38)","v":""},{"$f":"IF(A241=\"\",\"\",'gegevensblad samenvatting vord.'!$C$2)","v":""},{"$f":"IF('Terugvordering reiskosten OAH'!D313=\"\",\"\",TEXT('Terugvordering reiskosten OAH'!D313,\"mm-jjjj\"))","v":""},{"$f":"IF('Terugvordering reiskosten OAH'!H313=\"\",\"\",'Terugvordering reiskosten OAH'!H313)","v":""},{"$f":"IF('Terugvordering reiskosten OAH'!R313=\"\",\"\",'Terugvordering reiskosten OAH'!R313)","v":""},{"$f":"IF('Terugvordering reiskosten OAH'!X313=\"\",\"\",'Terugvordering reiskosten OAH'!X313)","v":""},{"$f":"IF('Terugvordering reiskosten OAH'!AJ313=\"\",\"\",'Terugvordering reiskosten OAH'!AJ313)","v":""},{"$f":"IF('Terugvordering reiskosten OAH'!AR313=\"\",\"\",'Terugvordering reiskosten OAH'!AR313)","v":""},{"$f":"IF('Terugvordering reiskosten OAH'!AY313=\"\",\"\",'Terugvordering reiskosten OAH'!AY313)","v":""},{"$f":"IF('Terugvordering reiskosten OAH'!BC313=0,\"\",'Terugvordering reiskosten OAH'!BC313)","v":""},{"$f":"IF('Terugvordering reiskosten OAH'!BK313=0,\"\",'Terugvordering reiskosten OAH'!BK313)","v":""},{"$f":"IF('Terugvordering reiskosten OAH'!BR313=0,\"\",'Terugvordering reiskosten OAH'!BR313)","v":""},{"$f":"IF('Terugvordering reiskosten OAH'!BZ313=0,\"\",'Terugvordering reiskosten OAH'!BZ313)","v":""},{"$f":"IF('Terugvordering reiskosten OAH'!CG313=\"\",\"\",'Terugvordering reiskosten OAH'!CG313)","v":""},{"$f":"IF('Terugvordering reiskosten OAH'!CM313=0,\"\",'Terugvordering reiskosten OAH'!CM313)","v":""}]
[{"$f":"IF('Terugvordering reiskosten OAH'!D314=\"\",\"\",IF('Terugvordering reiskosten OAH'!$T$36=\"\",\"\",'Terugvordering reiskosten OAH'!$T$36))","v":""},{"$f":"IF(A242=\"\",\"\",'Terugvordering reiskosten OAH'!$T$38)","v":""},{"$f":"IF(A242=\"\",\"\",'gegevensblad samenvatting vord.'!$C$2)","v":""},{"$f":"IF('Terugvordering reiskosten OAH'!D314=\"\",\"\",TEXT('Terugvordering reiskosten OAH'!D314,\"mm-jjjj\"))","v":""},{"$f":"IF('Terugvordering reiskosten OAH'!H314=\"\",\"\",'Terugvordering reiskosten OAH'!H314)","v":""},{"$f":"IF('Terugvordering reiskosten OAH'!R314=\"\",\"\",'Terugvordering reiskosten OAH'!R314)","v":""},{"$f":"IF('Terugvordering reiskosten OAH'!X314=\"\",\"\",'Terugvordering reiskosten OAH'!X314)","v":""},{"$f":"IF('Terugvordering reiskosten OAH'!AJ314=\"\",\"\",'Terugvordering reiskosten OAH'!AJ314)","v":""},{"$f":"IF('Terugvordering reiskosten OAH'!AR314=\"\",\"\",'Terugvordering reiskosten OAH'!AR314)","v":""},{"$f":"IF('Terugvordering reiskosten OAH'!AY314=\"\",\"\",'Terugvordering reiskosten OAH'!AY314)","v":""},{"$f":"IF('Terugvordering reiskosten OAH'!BC314=0,\"\",'Terugvordering reiskosten OAH'!BC314)","v":""},{"$f":"IF('Terugvordering reiskosten OAH'!BK314=0,\"\",'Terugvordering reiskosten OAH'!BK314)","v":""},{"$f":"IF('Terugvordering reiskosten OAH'!BR314=0,\"\",'Terugvordering reiskosten OAH'!BR314)","v":""},{"$f":"IF('Terugvordering reiskosten OAH'!BZ314=0,\"\",'Terugvordering reiskosten OAH'!BZ314)","v":""},{"$f":"IF('Terugvordering reiskosten OAH'!CG314=\"\",\"\",'Terugvordering reiskosten OAH'!CG314)","v":""},{"$f":"IF('Terugvordering reiskosten OAH'!CM314=0,\"\",'Terugvordering reiskosten OAH'!CM314)","v":""}]
[{"$f":"IF('Terugvordering reiskosten OAH'!D315=\"\",\"\",IF('Terugvordering reiskosten OAH'!$T$36=\"\",\"\",'Terugvordering reiskosten OAH'!$T$36))","v":""},{"$f":"IF(A243=\"\",\"\",'Terugvordering reiskosten OAH'!$T$38)","v":""},{"$f":"IF(A243=\"\",\"\",'gegevensblad samenvatting vord.'!$C$2)","v":""},{"$f":"IF('Terugvordering reiskosten OAH'!D315=\"\",\"\",TEXT('Terugvordering reiskosten OAH'!D315,\"mm-jjjj\"))","v":""},{"$f":"IF('Terugvordering reiskosten OAH'!H315=\"\",\"\",'Terugvordering reiskosten OAH'!H315)","v":""},{"$f":"IF('Terugvordering reiskosten OAH'!R315=\"\",\"\",'Terugvordering reiskosten OAH'!R315)","v":""},{"$f":"IF('Terugvordering reiskosten OAH'!X315=\"\",\"\",'Terugvordering reiskosten OAH'!X315)","v":""},{"$f":"IF('Terugvordering reiskosten OAH'!AJ315=\"\",\"\",'Terugvordering reiskosten OAH'!AJ315)","v":""},{"$f":"IF('Terugvordering reiskosten OAH'!AR315=\"\",\"\",'Terugvordering reiskosten OAH'!AR315)","v":""},{"$f":"IF('Terugvordering reiskosten OAH'!AY315=\"\",\"\",'Terugvordering reiskosten OAH'!AY315)","v":""},{"$f":"IF('Terugvordering reiskosten OAH'!BC315=0,\"\",'Terugvordering reiskosten OAH'!BC315)","v":""},{"$f":"IF('Terugvordering reiskosten OAH'!BK315=0,\"\",'Terugvordering reiskosten OAH'!BK315)","v":""},{"$f":"IF('Terugvordering reiskosten OAH'!BR315=0,\"\",'Terugvordering reiskosten OAH'!BR315)","v":""},{"$f":"IF('Terugvordering reiskosten OAH'!BZ315=0,\"\",'Terugvordering reiskosten OAH'!BZ315)","v":""},{"$f":"IF('Terugvordering reiskosten OAH'!CG315=\"\",\"\",'Terugvordering reiskosten OAH'!CG315)","v":""},{"$f":"IF('Terugvordering reiskosten OAH'!CM315=0,\"\",'Terugvordering reiskosten OAH'!CM315)","v":""}]
[{"$f":"IF('Terugvordering reiskosten OAH'!D316=\"\",\"\",IF('Terugvordering reiskosten OAH'!$T$36=\"\",\"\",'Terugvordering reiskosten OAH'!$T$36))","v":""},{"$f":"IF(A244=\"\",\"\",'Terugvordering reiskosten OAH'!$T$38)","v":""},{"$f":"IF(A244=\"\",\"\",'gegevensblad samenvatting vord.'!$C$2)","v":""},{"$f":"IF('Terugvordering reiskosten OAH'!D316=\"\",\"\",TEXT('Terugvordering reiskosten OAH'!D316,\"mm-jjjj\"))","v":""},{"$f":"IF('Terugvordering reiskosten OAH'!H316=\"\",\"\",'Terugvordering reiskosten OAH'!H316)","v":""},{"$f":"IF('Terugvordering reiskosten OAH'!R316=\"\",\"\",'Terugvordering reiskosten OAH'!R316)","v":""},{"$f":"IF('Terugvordering reiskosten OAH'!X316=\"\",\"\",'Terugvordering reiskosten OAH'!X316)","v":""},{"$f":"IF('Terugvordering reiskosten OAH'!AJ316=\"\",\"\",'Terugvordering reiskosten OAH'!AJ316)","v":""},{"$f":"IF('Terugvordering reiskosten OAH'!AR316=\"\",\"\",'Terugvordering reiskosten OAH'!AR316)","v":""},{"$f":"IF('Terugvordering reiskosten OAH'!AY316=\"\",\"\",'Terugvordering reiskosten OAH'!AY316)","v":""},{"$f":"IF('Terugvordering reiskosten OAH'!BC316=0,\"\",'Terugvordering reiskosten OAH'!BC316)","v":""},{"$f":"IF('Terugvordering reiskosten OAH'!BK316=0,\"\",'Terugvordering reiskosten OAH'!BK316)","v":""},{"$f":"IF('Terugvordering reiskosten OAH'!BR316=0,\"\",'Terugvordering reiskosten OAH'!BR316)","v":""},{"$f":"IF('Terugvordering reiskosten OAH'!BZ316=0,\"\",'Terugvordering reiskosten OAH'!BZ316)","v":""},{"$f":"IF('Terugvordering reiskosten OAH'!CG316=\"\",\"\",'Terugvordering reiskosten OAH'!CG316)","v":""},{"$f":"IF('Terugvordering reiskosten OAH'!CM316=0,\"\",'Terugvordering reiskosten OAH'!CM316)","v":""}]
[{"$f":"IF('Terugvordering reiskosten OAH'!D317=\"\",\"\",IF('Terugvordering reiskosten OAH'!$T$36=\"\",\"\",'Terugvordering reiskosten OAH'!$T$36))","v":""},{"$f":"IF(A245=\"\",\"\",'Terugvordering reiskosten OAH'!$T$38)","v":""},{"$f":"IF(A245=\"\",\"\",'gegevensblad samenvatting vord.'!$C$2)","v":""},{"$f":"IF('Terugvordering reiskosten OAH'!D317=\"\",\"\",TEXT('Terugvordering reiskosten OAH'!D317,\"mm-jjjj\"))","v":""},{"$f":"IF('Terugvordering reiskosten OAH'!H317=\"\",\"\",'Terugvordering reiskosten OAH'!H317)","v":""},{"$f":"IF('Terugvordering reiskosten OAH'!R317=\"\",\"\",'Terugvordering reiskosten OAH'!R317)","v":""},{"$f":"IF('Terugvordering reiskosten OAH'!X317=\"\",\"\",'Terugvordering reiskosten OAH'!X317)","v":""},{"$f":"IF('Terugvordering reiskosten OAH'!AJ317=\"\",\"\",'Terugvordering reiskosten OAH'!AJ317)","v":""},{"$f":"IF('Terugvordering reiskosten OAH'!AR317=\"\",\"\",'Terugvordering reiskosten OAH'!AR317)","v":""},{"$f":"IF('Terugvordering reiskosten OAH'!AY317=\"\",\"\",'Terugvordering reiskosten OAH'!AY317)","v":""},{"$f":"IF('Terugvordering reiskosten OAH'!BC317=0,\"\",'Terugvordering reiskosten OAH'!BC317)","v":""},{"$f":"IF('Terugvordering reiskosten OAH'!BK317=0,\"\",'Terugvordering reiskosten OAH'!BK317)","v":""},{"$f":"IF('Terugvordering reiskosten OAH'!BR317=0,\"\",'Terugvordering reiskosten OAH'!BR317)","v":""},{"$f":"IF('Terugvordering reiskosten OAH'!BZ317=0,\"\",'Terugvordering reiskosten OAH'!BZ317)","v":""},{"$f":"IF('Terugvordering reiskosten OAH'!CG317=\"\",\"\",'Terugvordering reiskosten OAH'!CG317)","v":""},{"$f":"IF('Terugvordering reiskosten OAH'!CM317=0,\"\",'Terugvordering reiskosten OAH'!CM317)","v":""}]
[{"$f":"IF('Terugvordering reiskosten OAH'!D318=\"\",\"\",IF('Terugvordering reiskosten OAH'!$T$36=\"\",\"\",'Terugvordering reiskosten OAH'!$T$36))","v":""},{"$f":"IF(A246=\"\",\"\",'Terugvordering reiskosten OAH'!$T$38)","v":""},{"$f":"IF(A246=\"\",\"\",'gegevensblad samenvatting vord.'!$C$2)","v":""},{"$f":"IF('Terugvordering reiskosten OAH'!D318=\"\",\"\",TEXT('Terugvordering reiskosten OAH'!D318,\"mm-jjjj\"))","v":""},{"$f":"IF('Terugvordering reiskosten OAH'!H318=\"\",\"\",'Terugvordering reiskosten OAH'!H318)","v":""},{"$f":"IF('Terugvordering reiskosten OAH'!R318=\"\",\"\",'Terugvordering reiskosten OAH'!R318)","v":""},{"$f":"IF('Terugvordering reiskosten OAH'!X318=\"\",\"\",'Terugvordering reiskosten OAH'!X318)","v":""},{"$f":"IF('Terugvordering reiskosten OAH'!AJ318=\"\",\"\",'Terugvordering reiskosten OAH'!AJ318)","v":""},{"$f":"IF('Terugvordering reiskosten OAH'!AR318=\"\",\"\",'Terugvordering reiskosten OAH'!AR318)","v":""},{"$f":"IF('Terugvordering reiskosten OAH'!AY318=\"\",\"\",'Terugvordering reiskosten OAH'!AY318)","v":""},{"$f":"IF('Terugvordering reiskosten OAH'!BC318=0,\"\",'Terugvordering reiskosten OAH'!BC318)","v":""},{"$f":"IF('Terugvordering reiskosten OAH'!BK318=0,\"\",'Terugvordering reiskosten OAH'!BK318)","v":""},{"$f":"IF('Terugvordering reiskosten OAH'!BR318=0,\"\",'Terugvordering reiskosten OAH'!BR318)","v":""},{"$f":"IF('Terugvordering reiskosten OAH'!BZ318=0,\"\",'Terugvordering reiskosten OAH'!BZ318)","v":""},{"$f":"IF('Terugvordering reiskosten OAH'!CG318=\"\",\"\",'Terugvordering reiskosten OAH'!CG318)","v":""},{"$f":"IF('Terugvordering reiskosten OAH'!CM318=0,\"\",'Terugvordering reiskosten OAH'!CM318)","v":""}]
[{"$f":"IF('Terugvordering reiskosten OAH'!D319=\"\",\"\",IF('Terugvordering reiskosten OAH'!$T$36=\"\",\"\",'Terugvordering reiskosten OAH'!$T$36))","v":""},{"$f":"IF(A247=\"\",\"\",'Terugvordering reiskosten OAH'!$T$38)","v":""},{"$f":"IF(A247=\"\",\"\",'gegevensblad samenvatting vord.'!$C$2)","v":""},{"$f":"IF('Terugvordering reiskosten OAH'!D319=\"\",\"\",TEXT('Terugvordering reiskosten OAH'!D319,\"mm-jjjj\"))","v":""},{"$f":"IF('Terugvordering reiskosten OAH'!H319=\"\",\"\",'Terugvordering reiskosten OAH'!H319)","v":""},{"$f":"IF('Terugvordering reiskosten OAH'!R319=\"\",\"\",'Terugvordering reiskosten OAH'!R319)","v":""},{"$f":"IF('Terugvordering reiskosten OAH'!X319=\"\",\"\",'Terugvordering reiskosten OAH'!X319)","v":""},{"$f":"IF('Terugvordering reiskosten OAH'!AJ319=\"\",\"\",'Terugvordering reiskosten OAH'!AJ319)","v":""},{"$f":"IF('Terugvordering reiskosten OAH'!AR319=\"\",\"\",'Terugvordering reiskosten OAH'!AR319)","v":""},{"$f":"IF('Terugvordering reiskosten OAH'!AY319=\"\",\"\",'Terugvordering reiskosten OAH'!AY319)","v":""},{"$f":"IF('Terugvordering reiskosten OAH'!BC319=0,\"\",'Terugvordering reiskosten OAH'!BC319)","v":""},{"$f":"IF('Terugvordering reiskosten OAH'!BK319=0,\"\",'Terugvordering reiskosten OAH'!BK319)","v":""},{"$f":"IF('Terugvordering reiskosten OAH'!BR319=0,\"\",'Terugvordering reiskosten OAH'!BR319)","v":""},{"$f":"IF('Terugvordering reiskosten OAH'!BZ319=0,\"\",'Terugvordering reiskosten OAH'!BZ319)","v":""},{"$f":"IF('Terugvordering reiskosten OAH'!CG319=\"\",\"\",'Terugvordering reiskosten OAH'!CG319)","v":""},{"$f":"IF('Terugvordering reiskosten OAH'!CM319=0,\"\",'Terugvordering reiskosten OAH'!CM319)","v":""}]
[{"$f":"IF('Terugvordering reiskosten OAH'!D320=\"\",\"\",IF('Terugvordering reiskosten OAH'!$T$36=\"\",\"\",'Terugvordering reiskosten OAH'!$T$36))","v":""},{"$f":"IF(A248=\"\",\"\",'Terugvordering reiskosten OAH'!$T$38)","v":""},{"$f":"IF(A248=\"\",\"\",'gegevensblad samenvatting vord.'!$C$2)","v":""},{"$f":"IF('Terugvordering reiskosten OAH'!D320=\"\",\"\",TEXT('Terugvordering reiskosten OAH'!D320,\"mm-jjjj\"))","v":""},{"$f":"IF('Terugvordering reiskosten OAH'!H320=\"\",\"\",'Terugvordering reiskosten OAH'!H320)","v":""},{"$f":"IF('Terugvordering reiskosten OAH'!R320=\"\",\"\",'Terugvordering reiskosten OAH'!R320)","v":""},{"$f":"IF('Terugvordering reiskosten OAH'!X320=\"\",\"\",'Terugvordering reiskosten OAH'!X320)","v":""},{"$f":"IF('Terugvordering reiskosten OAH'!AJ320=\"\",\"\",'Terugvordering reiskosten OAH'!AJ320)","v":""},{"$f":"IF('Terugvordering reiskosten OAH'!AR320=\"\",\"\",'Terugvordering reiskosten OAH'!AR320)","v":""},{"$f":"IF('Terugvordering reiskosten OAH'!AY320=\"\",\"\",'Terugvordering reiskosten OAH'!AY320)","v":""},{"$f":"IF('Terugvordering reiskosten OAH'!BC320=0,\"\",'Terugvordering reiskosten OAH'!BC320)","v":""},{"$f":"IF('Terugvordering reiskosten OAH'!BK320=0,\"\",'Terugvordering reiskosten OAH'!BK320)","v":""},{"$f":"IF('Terugvordering reiskosten OAH'!BR320=0,\"\",'Terugvordering reiskosten OAH'!BR320)","v":""},{"$f":"IF('Terugvordering reiskosten OAH'!BZ320=0,\"\",'Terugvordering reiskosten OAH'!BZ320)","v":""},{"$f":"IF('Terugvordering reiskosten OAH'!CG320=\"\",\"\",'Terugvordering reiskosten OAH'!CG320)","v":""},{"$f":"IF('Terugvordering reiskosten OAH'!CM320=0,\"\",'Terugvordering reiskosten OAH'!CM320)","v":""}]
[{"$f":"IF('Terugvordering reiskosten OAH'!D321=\"\",\"\",IF('Terugvordering reiskosten OAH'!$T$36=\"\",\"\",'Terugvordering reiskosten OAH'!$T$36))","v":""},{"$f":"IF(A249=\"\",\"\",'Terugvordering reiskosten OAH'!$T$38)","v":""},{"$f":"IF(A249=\"\",\"\",'gegevensblad samenvatting vord.'!$C$2)","v":""},{"$f":"IF('Terugvordering reiskosten OAH'!D321=\"\",\"\",TEXT('Terugvordering reiskosten OAH'!D321,\"mm-jjjj\"))","v":""},{"$f":"IF('Terugvordering reiskosten OAH'!H321=\"\",\"\",'Terugvordering reiskosten OAH'!H321)","v":""},{"$f":"IF('Terugvordering reiskosten OAH'!R321=\"\",\"\",'Terugvordering reiskosten OAH'!R321)","v":""},{"$f":"IF('Terugvordering reiskosten OAH'!X321=\"\",\"\",'Terugvordering reiskosten OAH'!X321)","v":""},{"$f":"IF('Terugvordering reiskosten OAH'!AJ321=\"\",\"\",'Terugvordering reiskosten OAH'!AJ321)","v":""},{"$f":"IF('Terugvordering reiskosten OAH'!AR321=\"\",\"\",'Terugvordering reiskosten OAH'!AR321)","v":""},{"$f":"IF('Terugvordering reiskosten OAH'!AY321=\"\",\"\",'Terugvordering reiskosten OAH'!AY321)","v":""},{"$f":"IF('Terugvordering reiskosten OAH'!BC321=0,\"\",'Terugvordering reiskosten OAH'!BC321)","v":""},{"$f":"IF('Terugvordering reiskosten OAH'!BK321=0,\"\",'Terugvordering reiskosten OAH'!BK321)","v":""},{"$f":"IF('Terugvordering reiskosten OAH'!BR321=0,\"\",'Terugvordering reiskosten OAH'!BR321)","v":""},{"$f":"IF('Terugvordering reiskosten OAH'!BZ321=0,\"\",'Terugvordering reiskosten OAH'!BZ321)","v":""},{"$f":"IF('Terugvordering reiskosten OAH'!CG321=\"\",\"\",'Terugvordering reiskosten OAH'!CG321)","v":""},{"$f":"IF('Terugvordering reiskosten OAH'!CM321=0,\"\",'Terugvordering reiskosten OAH'!CM321)","v":""}]
[{"$f":"IF('Terugvordering reiskosten OAH'!D322=\"\",\"\",IF('Terugvordering reiskosten OAH'!$T$36=\"\",\"\",'Terugvordering reiskosten OAH'!$T$36))","v":""},{"$f":"IF(A250=\"\",\"\",'Terugvordering reiskosten OAH'!$T$38)","v":""},{"$f":"IF(A250=\"\",\"\",'gegevensblad samenvatting vord.'!$C$2)","v":""},{"$f":"IF('Terugvordering reiskosten OAH'!D322=\"\",\"\",TEXT('Terugvordering reiskosten OAH'!D322,\"mm-jjjj\"))","v":""},{"$f":"IF('Terugvordering reiskosten OAH'!H322=\"\",\"\",'Terugvordering reiskosten OAH'!H322)","v":""},{"$f":"IF('Terugvordering reiskosten OAH'!R322=\"\",\"\",'Terugvordering reiskosten OAH'!R322)","v":""},{"$f":"IF('Terugvordering reiskosten OAH'!X322=\"\",\"\",'Terugvordering reiskosten OAH'!X322)","v":""},{"$f":"IF('Terugvordering reiskosten OAH'!AJ322=\"\",\"\",'Terugvordering reiskosten OAH'!AJ322)","v":""},{"$f":"IF('Terugvordering reiskosten OAH'!AR322=\"\",\"\",'Terugvordering reiskosten OAH'!AR322)","v":""},{"$f":"IF('Terugvordering reiskosten OAH'!AY322=\"\",\"\",'Terugvordering reiskosten OAH'!AY322)","v":""},{"$f":"IF('Terugvordering reiskosten OAH'!BC322=0,\"\",'Terugvordering reiskosten OAH'!BC322)","v":""},{"$f":"IF('Terugvordering reiskosten OAH'!BK322=0,\"\",'Terugvordering reiskosten OAH'!BK322)","v":""},{"$f":"IF('Terugvordering reiskosten OAH'!BR322=0,\"\",'Terugvordering reiskosten OAH'!BR322)","v":""},{"$f":"IF('Terugvordering reiskosten OAH'!BZ322=0,\"\",'Terugvordering reiskosten OAH'!BZ322)","v":""},{"$f":"IF('Terugvordering reiskosten OAH'!CG322=\"\",\"\",'Terugvordering reiskosten OAH'!CG322)","v":""},{"$f":"IF('Terugvordering reiskosten OAH'!CM322=0,\"\",'Terugvordering reiskosten OAH'!CM322)","v":""}]
[{"$f":"IF('Terugvordering reiskosten OAH'!D323=\"\",\"\",IF('Terugvordering reiskosten OAH'!$T$36=\"\",\"\",'Terugvordering reiskosten OAH'!$T$36))","v":""},{"$f":"IF(A251=\"\",\"\",'Terugvordering reiskosten OAH'!$T$38)","v":""},{"$f":"IF(A251=\"\",\"\",'gegevensblad samenvatting vord.'!$C$2)","v":""},{"$f":"IF('Terugvordering reiskosten OAH'!D323=\"\",\"\",TEXT('Terugvordering reiskosten OAH'!D323,\"mm-jjjj\"))","v":""},{"$f":"IF('Terugvordering reiskosten OAH'!H323=\"\",\"\",'Terugvordering reiskosten OAH'!H323)","v":""},{"$f":"IF('Terugvordering reiskosten OAH'!R323=\"\",\"\",'Terugvordering reiskosten OAH'!R323)","v":""},{"$f":"IF('Terugvordering reiskosten OAH'!X323=\"\",\"\",'Terugvordering reiskosten OAH'!X323)","v":""},{"$f":"IF('Terugvordering reiskosten OAH'!AJ323=\"\",\"\",'Terugvordering reiskosten OAH'!AJ323)","v":""},{"$f":"IF('Terugvordering reiskosten OAH'!AR323=\"\",\"\",'Terugvordering reiskosten OAH'!AR323)","v":""},{"$f":"IF('Terugvordering reiskosten OAH'!AY323=\"\",\"\",'Terugvordering reiskosten OAH'!AY323)","v":""},{"$f":"IF('Terugvordering reiskosten OAH'!BC323=0,\"\",'Terugvordering reiskosten OAH'!BC323)","v":""},{"$f":"IF('Terugvordering reiskosten OAH'!BK323=0,\"\",'Terugvordering reiskosten OAH'!BK323)","v":""},{"$f":"IF('Terugvordering reiskosten OAH'!BR323=0,\"\",'Terugvordering reiskosten OAH'!BR323)","v":""},{"$f":"IF('Terugvordering reiskosten OAH'!BZ323=0,\"\",'Terugvordering reiskosten OAH'!BZ323)","v":""},{"$f":"IF('Terugvordering reiskosten OAH'!CG323=\"\",\"\",'Terugvordering reiskosten OAH'!CG323)","v":""},{"$f":"IF('Terugvordering reiskosten OAH'!CM323=0,\"\",'Terugvordering reiskosten OAH'!CM323)","v":""}]
[{"$f":"IF('Terugvordering reiskosten OAH'!D324=\"\",\"\",IF('Terugvordering reiskosten OAH'!$T$36=\"\",\"\",'Terugvordering reiskosten OAH'!$T$36))","v":""},{"$f":"IF(A252=\"\",\"\",'Terugvordering reiskosten OAH'!$T$38)","v":""},{"$f":"IF(A252=\"\",\"\",'gegevensblad samenvatting vord.'!$C$2)","v":""},{"$f":"IF('Terugvordering reiskosten OAH'!D324=\"\",\"\",TEXT('Terugvordering reiskosten OAH'!D324,\"mm-jjjj\"))","v":""},{"$f":"IF('Terugvordering reiskosten OAH'!H324=\"\",\"\",'Terugvordering reiskosten OAH'!H324)","v":""},{"$f":"IF('Terugvordering reiskosten OAH'!R324=\"\",\"\",'Terugvordering reiskosten OAH'!R324)","v":""},{"$f":"IF('Terugvordering reiskosten OAH'!X324=\"\",\"\",'Terugvordering reiskosten OAH'!X324)","v":""},{"$f":"IF('Terugvordering reiskosten OAH'!AJ324=\"\",\"\",'Terugvordering reiskosten OAH'!AJ324)","v":""},{"$f":"IF('Terugvordering reiskosten OAH'!AR324=\"\",\"\",'Terugvordering reiskosten OAH'!AR324)","v":""},{"$f":"IF('Terugvordering reiskosten OAH'!AY324=\"\",\"\",'Terugvordering reiskosten OAH'!AY324)","v":""},{"$f":"IF('Terugvordering reiskosten OAH'!BC324=0,\"\",'Terugvordering reiskosten OAH'!BC324)","v":""},{"$f":"IF('Terugvordering reiskosten OAH'!BK324=0,\"\",'Terugvordering reiskosten OAH'!BK324)","v":""},{"$f":"IF('Terugvordering reiskosten OAH'!BR324=0,\"\",'Terugvordering reiskosten OAH'!BR324)","v":""},{"$f":"IF('Terugvordering reiskosten OAH'!BZ324=0,\"\",'Terugvordering reiskosten OAH'!BZ324)","v":""},{"$f":"IF('Terugvordering reiskosten OAH'!CG324=\"\",\"\",'Terugvordering reiskosten OAH'!CG324)","v":""},{"$f":"IF('Terugvordering reiskosten OAH'!CM324=0,\"\",'Terugvordering reiskosten OAH'!CM324)","v":""}]
[{"$f":"IF('Terugvordering reiskosten OAH'!D325=\"\",\"\",IF('Terugvordering reiskosten OAH'!$T$36=\"\",\"\",'Terugvordering reiskosten OAH'!$T$36))","v":""},{"$f":"IF(A253=\"\",\"\",'Terugvordering reiskosten OAH'!$T$38)","v":""},{"$f":"IF(A253=\"\",\"\",'gegevensblad samenvatting vord.'!$C$2)","v":""},{"$f":"IF('Terugvordering reiskosten OAH'!D325=\"\",\"\",TEXT('Terugvordering reiskosten OAH'!D325,\"mm-jjjj\"))","v":""},{"$f":"IF('Terugvordering reiskosten OAH'!H325=\"\",\"\",'Terugvordering reiskosten OAH'!H325)","v":""},{"$f":"IF('Terugvordering reiskosten OAH'!R325=\"\",\"\",'Terugvordering reiskosten OAH'!R325)","v":""},{"$f":"IF('Terugvordering reiskosten OAH'!X325=\"\",\"\",'Terugvordering reiskosten OAH'!X325)","v":""},{"$f":"IF('Terugvordering reiskosten OAH'!AJ325=\"\",\"\",'Terugvordering reiskosten OAH'!AJ325)","v":""},{"$f":"IF('Terugvordering reiskosten OAH'!AR325=\"\",\"\",'Terugvordering reiskosten OAH'!AR325)","v":""},{"$f":"IF('Terugvordering reiskosten OAH'!AY325=\"\",\"\",'Terugvordering reiskosten OAH'!AY325)","v":""},{"$f":"IF('Terugvordering reiskosten OAH'!BC325=0,\"\",'Terugvordering reiskosten OAH'!BC325)","v":""},{"$f":"IF('Terugvordering reiskosten OAH'!BK325=0,\"\",'Terugvordering reiskosten OAH'!BK325)","v":""},{"$f":"IF('Terugvordering reiskosten OAH'!BR325=0,\"\",'Terugvordering reiskosten OAH'!BR325)","v":""},{"$f":"IF('Terugvordering reiskosten OAH'!BZ325=0,\"\",'Terugvordering reiskosten OAH'!BZ325)","v":""},{"$f":"IF('Terugvordering reiskosten OAH'!CG325=\"\",\"\",'Terugvordering reiskosten OAH'!CG325)","v":""},{"$f":"IF('Terugvordering reiskosten OAH'!CM325=0,\"\",'Terugvordering reiskosten OAH'!CM325)","v":""}]
[{"$f":"IF('Terugvordering reiskosten OAH'!D326=\"\",\"\",IF('Terugvordering reiskosten OAH'!$T$36=\"\",\"\",'Terugvordering reiskosten OAH'!$T$36))","v":""},{"$f":"IF(A254=\"\",\"\",'Terugvordering reiskosten OAH'!$T$38)","v":""},{"$f":"IF(A254=\"\",\"\",'gegevensblad samenvatting vord.'!$C$2)","v":""},{"$f":"IF('Terugvordering reiskosten OAH'!D326=\"\",\"\",TEXT('Terugvordering reiskosten OAH'!D326,\"mm-jjjj\"))","v":""},{"$f":"IF('Terugvordering reiskosten OAH'!H326=\"\",\"\",'Terugvordering reiskosten OAH'!H326)","v":""},{"$f":"IF('Terugvordering reiskosten OAH'!R326=\"\",\"\",'Terugvordering reiskosten OAH'!R326)","v":""},{"$f":"IF('Terugvordering reiskosten OAH'!X326=\"\",\"\",'Terugvordering reiskosten OAH'!X326)","v":""},{"$f":"IF('Terugvordering reiskosten OAH'!AJ326=\"\",\"\",'Terugvordering reiskosten OAH'!AJ326)","v":""},{"$f":"IF('Terugvordering reiskosten OAH'!AR326=\"\",\"\",'Terugvordering reiskosten OAH'!AR326)","v":""},{"$f":"IF('Terugvordering reiskosten OAH'!AY326=\"\",\"\",'Terugvordering reiskosten OAH'!AY326)","v":""},{"$f":"IF('Terugvordering reiskosten OAH'!BC326=0,\"\",'Terugvordering reiskosten OAH'!BC326)","v":""},{"$f":"IF('Terugvordering reiskosten OAH'!BK326=0,\"\",'Terugvordering reiskosten OAH'!BK326)","v":""},{"$f":"IF('Terugvordering reiskosten OAH'!BR326=0,\"\",'Terugvordering reiskosten OAH'!BR326)","v":""},{"$f":"IF('Terugvordering reiskosten OAH'!BZ326=0,\"\",'Terugvordering reiskosten OAH'!BZ326)","v":""},{"$f":"IF('Terugvordering reiskosten OAH'!CG326=\"\",\"\",'Terugvordering reiskosten OAH'!CG326)","v":""},{"$f":"IF('Terugvordering reiskosten OAH'!CM326=0,\"\",'Terugvordering reiskosten OAH'!CM326)","v":""}]
[{"$f":"IF('Terugvordering reiskosten OAH'!D327=\"\",\"\",IF('Terugvordering reiskosten OAH'!$T$36=\"\",\"\",'Terugvordering reiskosten OAH'!$T$36))","v":""},{"$f":"IF(A255=\"\",\"\",'Terugvordering reiskosten OAH'!$T$38)","v":""},{"$f":"IF(A255=\"\",\"\",'gegevensblad samenvatting vord.'!$C$2)","v":""},{"$f":"IF('Terugvordering reiskosten OAH'!D327=\"\",\"\",TEXT('Terugvordering reiskosten OAH'!D327,\"mm-jjjj\"))","v":""},{"$f":"IF('Terugvordering reiskosten OAH'!H327=\"\",\"\",'Terugvordering reiskosten OAH'!H327)","v":""},{"$f":"IF('Terugvordering reiskosten OAH'!R327=\"\",\"\",'Terugvordering reiskosten OAH'!R327)","v":""},{"$f":"IF('Terugvordering reiskosten OAH'!X327=\"\",\"\",'Terugvordering reiskosten OAH'!X327)","v":""},{"$f":"IF('Terugvordering reiskosten OAH'!AJ327=\"\",\"\",'Terugvordering reiskosten OAH'!AJ327)","v":""},{"$f":"IF('Terugvordering reiskosten OAH'!AR327=\"\",\"\",'Terugvordering reiskosten OAH'!AR327)","v":""},{"$f":"IF('Terugvordering reiskosten OAH'!AY327=\"\",\"\",'Terugvordering reiskosten OAH'!AY327)","v":""},{"$f":"IF('Terugvordering reiskosten OAH'!BC327=0,\"\",'Terugvordering reiskosten OAH'!BC327)","v":""},{"$f":"IF('Terugvordering reiskosten OAH'!BK327=0,\"\",'Terugvordering reiskosten OAH'!BK327)","v":""},{"$f":"IF('Terugvordering reiskosten OAH'!BR327=0,\"\",'Terugvordering reiskosten OAH'!BR327)","v":""},{"$f":"IF('Terugvordering reiskosten OAH'!BZ327=0,\"\",'Terugvordering reiskosten OAH'!BZ327)","v":""},{"$f":"IF('Terugvordering reiskosten OAH'!CG327=\"\",\"\",'Terugvordering reiskosten OAH'!CG327)","v":""},{"$f":"IF('Terugvordering reiskosten OAH'!CM327=0,\"\",'Terugvordering reiskosten OAH'!CM327)","v":""}]
[{"$f":"IF('Terugvordering reiskosten OAH'!D328=\"\",\"\",IF('Terugvordering reiskosten OAH'!$T$36=\"\",\"\",'Terugvordering reiskosten OAH'!$T$36))","v":""},{"$f":"IF(A256=\"\",\"\",'Terugvordering reiskosten OAH'!$T$38)","v":""},{"$f":"IF(A256=\"\",\"\",'gegevensblad samenvatting vord.'!$C$2)","v":""},{"$f":"IF('Terugvordering reiskosten OAH'!D328=\"\",\"\",TEXT('Terugvordering reiskosten OAH'!D328,\"mm-jjjj\"))","v":""},{"$f":"IF('Terugvordering reiskosten OAH'!H328=\"\",\"\",'Terugvordering reiskosten OAH'!H328)","v":""},{"$f":"IF('Terugvordering reiskosten OAH'!R328=\"\",\"\",'Terugvordering reiskosten OAH'!R328)","v":""},{"$f":"IF('Terugvordering reiskosten OAH'!X328=\"\",\"\",'Terugvordering reiskosten OAH'!X328)","v":""},{"$f":"IF('Terugvordering reiskosten OAH'!AJ328=\"\",\"\",'Terugvordering reiskosten OAH'!AJ328)","v":""},{"$f":"IF('Terugvordering reiskosten OAH'!AR328=\"\",\"\",'Terugvordering reiskosten OAH'!AR328)","v":""},{"$f":"IF('Terugvordering reiskosten OAH'!AY328=\"\",\"\",'Terugvordering reiskosten OAH'!AY328)","v":""},{"$f":"IF('Terugvordering reiskosten OAH'!BC328=0,\"\",'Terugvordering reiskosten OAH'!BC328)","v":""},{"$f":"IF('Terugvordering reiskosten OAH'!BK328=0,\"\",'Terugvordering reiskosten OAH'!BK328)","v":""},{"$f":"IF('Terugvordering reiskosten OAH'!BR328=0,\"\",'Terugvordering reiskosten OAH'!BR328)","v":""},{"$f":"IF('Terugvordering reiskosten OAH'!BZ328=0,\"\",'Terugvordering reiskosten OAH'!BZ328)","v":""},{"$f":"IF('Terugvordering reiskosten OAH'!CG328=\"\",\"\",'Terugvordering reiskosten OAH'!CG328)","v":""},{"$f":"IF('Terugvordering reiskosten OAH'!CM328=0,\"\",'Terugvordering reiskosten OAH'!CM328)","v":""}]
[{"$f":"IF('Terugvordering reiskosten OAH'!D329=\"\",\"\",IF('Terugvordering reiskosten OAH'!$T$36=\"\",\"\",'Terugvordering reiskosten OAH'!$T$36))","v":""},{"$f":"IF(A257=\"\",\"\",'Terugvordering reiskosten OAH'!$T$38)","v":""},{"$f":"IF(A257=\"\",\"\",'gegevensblad samenvatting vord.'!$C$2)","v":""},{"$f":"IF('Terugvordering reiskosten OAH'!D329=\"\",\"\",TEXT('Terugvordering reiskosten OAH'!D329,\"mm-jjjj\"))","v":""},{"$f":"IF('Terugvordering reiskosten OAH'!H329=\"\",\"\",'Terugvordering reiskosten OAH'!H329)","v":""},{"$f":"IF('Terugvordering reiskosten OAH'!R329=\"\",\"\",'Terugvordering reiskosten OAH'!R329)","v":""},{"$f":"IF('Terugvordering reiskosten OAH'!X329=\"\",\"\",'Terugvordering reiskosten OAH'!X329)","v":""},{"$f":"IF('Terugvordering reiskosten OAH'!AJ329=\"\",\"\",'Terugvordering reiskosten OAH'!AJ329)","v":""},{"$f":"IF('Terugvordering reiskosten OAH'!AR329=\"\",\"\",'Terugvordering reiskosten OAH'!AR329)","v":""},{"$f":"IF('Terugvordering reiskosten OAH'!AY329=\"\",\"\",'Terugvordering reiskosten OAH'!AY329)","v":""},{"$f":"IF('Terugvordering reiskosten OAH'!BC329=0,\"\",'Terugvordering reiskosten OAH'!BC329)","v":""},{"$f":"IF('Terugvordering reiskosten OAH'!BK329=0,\"\",'Terugvordering reiskosten OAH'!BK329)","v":""},{"$f":"IF('Terugvordering reiskosten OAH'!BR329=0,\"\",'Terugvordering reiskosten OAH'!BR329)","v":""},{"$f":"IF('Terugvordering reiskosten OAH'!BZ329=0,\"\",'Terugvordering reiskosten OAH'!BZ329)","v":""},{"$f":"IF('Terugvordering reiskosten OAH'!CG329=\"\",\"\",'Terugvordering reiskosten OAH'!CG329)","v":""},{"$f":"IF('Terugvordering reiskosten OAH'!CM329=0,\"\",'Terugvordering reiskosten OAH'!CM329)","v":""}]
[{"$f":"IF('Terugvordering reiskosten OAH'!D330=\"\",\"\",IF('Terugvordering reiskosten OAH'!$T$36=\"\",\"\",'Terugvordering reiskosten OAH'!$T$36))","v":""},{"$f":"IF(A258=\"\",\"\",'Terugvordering reiskosten OAH'!$T$38)","v":""},{"$f":"IF(A258=\"\",\"\",'gegevensblad samenvatting vord.'!$C$2)","v":""},{"$f":"IF('Terugvordering reiskosten OAH'!D330=\"\",\"\",TEXT('Terugvordering reiskosten OAH'!D330,\"mm-jjjj\"))","v":""},{"$f":"IF('Terugvordering reiskosten OAH'!H330=\"\",\"\",'Terugvordering reiskosten OAH'!H330)","v":""},{"$f":"IF('Terugvordering reiskosten OAH'!R330=\"\",\"\",'Terugvordering reiskosten OAH'!R330)","v":""},{"$f":"IF('Terugvordering reiskosten OAH'!X330=\"\",\"\",'Terugvordering reiskosten OAH'!X330)","v":""},{"$f":"IF('Terugvordering reiskosten OAH'!AJ330=\"\",\"\",'Terugvordering reiskosten OAH'!AJ330)","v":""},{"$f":"IF('Terugvordering reiskosten OAH'!AR330=\"\",\"\",'Terugvordering reiskosten OAH'!AR330)","v":""},{"$f":"IF('Terugvordering reiskosten OAH'!AY330=\"\",\"\",'Terugvordering reiskosten OAH'!AY330)","v":""},{"$f":"IF('Terugvordering reiskosten OAH'!BC330=0,\"\",'Terugvordering reiskosten OAH'!BC330)","v":""},{"$f":"IF('Terugvordering reiskosten OAH'!BK330=0,\"\",'Terugvordering reiskosten OAH'!BK330)","v":""},{"$f":"IF('Terugvordering reiskosten OAH'!BR330=0,\"\",'Terugvordering reiskosten OAH'!BR330)","v":""},{"$f":"IF('Terugvordering reiskosten OAH'!BZ330=0,\"\",'Terugvordering reiskosten OAH'!BZ330)","v":""},{"$f":"IF('Terugvordering reiskosten OAH'!CG330=\"\",\"\",'Terugvordering reiskosten OAH'!CG330)","v":""},{"$f":"IF('Terugvordering reiskosten OAH'!CM330=0,\"\",'Terugvordering reiskosten OAH'!CM330)","v":""}]
[{"$f":"IF('Terugvordering reiskosten OAH'!D331=\"\",\"\",IF('Terugvordering reiskosten OAH'!$T$36=\"\",\"\",'Terugvordering reiskosten OAH'!$T$36))","v":""},{"$f":"IF(A259=\"\",\"\",'Terugvordering reiskosten OAH'!$T$38)","v":""},{"$f":"IF(A259=\"\",\"\",'gegevensblad samenvatting vord.'!$C$2)","v":""},{"$f":"IF('Terugvordering reiskosten OAH'!D331=\"\",\"\",TEXT('Terugvordering reiskosten OAH'!D331,\"mm-jjjj\"))","v":""},{"$f":"IF('Terugvordering reiskosten OAH'!H331=\"\",\"\",'Terugvordering reiskosten OAH'!H331)","v":""},{"$f":"IF('Terugvordering reiskosten OAH'!R331=\"\",\"\",'Terugvordering reiskosten OAH'!R331)","v":""},{"$f":"IF('Terugvordering reiskosten OAH'!X331=\"\",\"\",'Terugvordering reiskosten OAH'!X331)","v":""},{"$f":"IF('Terugvordering reiskosten OAH'!AJ331=\"\",\"\",'Terugvordering reiskosten OAH'!AJ331)","v":""},{"$f":"IF('Terugvordering reiskosten OAH'!AR331=\"\",\"\",'Terugvordering reiskosten OAH'!AR331)","v":""},{"$f":"IF('Terugvordering reiskosten OAH'!AY331=\"\",\"\",'Terugvordering reiskosten OAH'!AY331)","v":""},{"$f":"IF('Terugvordering reiskosten OAH'!BC331=0,\"\",'Terugvordering reiskosten OAH'!BC331)","v":""},{"$f":"IF('Terugvordering reiskosten OAH'!BK331=0,\"\",'Terugvordering reiskosten OAH'!BK331)","v":""},{"$f":"IF('Terugvordering reiskosten OAH'!BR331=0,\"\",'Terugvordering reiskosten OAH'!BR331)","v":""},{"$f":"IF('Terugvordering reiskosten OAH'!BZ331=0,\"\",'Terugvordering reiskosten OAH'!BZ331)","v":""},{"$f":"IF('Terugvordering reiskosten OAH'!CG331=\"\",\"\",'Terugvordering reiskosten OAH'!CG331)","v":""},{"$f":"IF('Terugvordering reiskosten OAH'!CM331=0,\"\",'Terugvordering reiskosten OAH'!CM331)","v":""}]
[{"$f":"IF('Terugvordering reiskosten OAH'!D332=\"\",\"\",IF('Terugvordering reiskosten OAH'!$T$36=\"\",\"\",'Terugvordering reiskosten OAH'!$T$36))","v":""},{"$f":"IF(A260=\"\",\"\",'Terugvordering reiskosten OAH'!$T$38)","v":""},{"$f":"IF(A260=\"\",\"\",'gegevensblad samenvatting vord.'!$C$2)","v":""},{"$f":"IF('Terugvordering reiskosten OAH'!D332=\"\",\"\",TEXT('Terugvordering reiskosten OAH'!D332,\"mm-jjjj\"))","v":""},{"$f":"IF('Terugvordering reiskosten OAH'!H332=\"\",\"\",'Terugvordering reiskosten OAH'!H332)","v":""},{"$f":"IF('Terugvordering reiskosten OAH'!R332=\"\",\"\",'Terugvordering reiskosten OAH'!R332)","v":""},{"$f":"IF('Terugvordering reiskosten OAH'!X332=\"\",\"\",'Terugvordering reiskosten OAH'!X332)","v":""},{"$f":"IF('Terugvordering reiskosten OAH'!AJ332=\"\",\"\",'Terugvordering reiskosten OAH'!AJ332)","v":""},{"$f":"IF('Terugvordering reiskosten OAH'!AR332=\"\",\"\",'Terugvordering reiskosten OAH'!AR332)","v":""},{"$f":"IF('Terugvordering reiskosten OAH'!AY332=\"\",\"\",'Terugvordering reiskosten OAH'!AY332)","v":""},{"$f":"IF('Terugvordering reiskosten OAH'!BC332=0,\"\",'Terugvordering reiskosten OAH'!BC332)","v":""},{"$f":"IF('Terugvordering reiskosten OAH'!BK332=0,\"\",'Terugvordering reiskosten OAH'!BK332)","v":""},{"$f":"IF('Terugvordering reiskosten OAH'!BR332=0,\"\",'Terugvordering reiskosten OAH'!BR332)","v":""},{"$f":"IF('Terugvordering reiskosten OAH'!BZ332=0,\"\",'Terugvordering reiskosten OAH'!BZ332)","v":""},{"$f":"IF('Terugvordering reiskosten OAH'!CG332=\"\",\"\",'Terugvordering reiskosten OAH'!CG332)","v":""},{"$f":"IF('Terugvordering reiskosten OAH'!CM332=0,\"\",'Terugvordering reiskosten OAH'!CM332)","v":""}]
[{"$f":"IF('Terugvordering reiskosten OAH'!D333=\"\",\"\",IF('Terugvordering reiskosten OAH'!$T$36=\"\",\"\",'Terugvordering reiskosten OAH'!$T$36))","v":""},{"$f":"IF(A261=\"\",\"\",'Terugvordering reiskosten OAH'!$T$38)","v":""},{"$f":"IF(A261=\"\",\"\",'gegevensblad samenvatting vord.'!$C$2)","v":""},{"$f":"IF('Terugvordering reiskosten OAH'!D333=\"\",\"\",TEXT('Terugvordering reiskosten OAH'!D333,\"mm-jjjj\"))","v":""},{"$f":"IF('Terugvordering reiskosten OAH'!H333=\"\",\"\",'Terugvordering reiskosten OAH'!H333)","v":""},{"$f":"IF('Terugvordering reiskosten OAH'!R333=\"\",\"\",'Terugvordering reiskosten OAH'!R333)","v":""},{"$f":"IF('Terugvordering reiskosten OAH'!X333=\"\",\"\",'Terugvordering reiskosten OAH'!X333)","v":""},{"$f":"IF('Terugvordering reiskosten OAH'!AJ333=\"\",\"\",'Terugvordering reiskosten OAH'!AJ333)","v":""},{"$f":"IF('Terugvordering reiskosten OAH'!AR333=\"\",\"\",'Terugvordering reiskosten OAH'!AR333)","v":""},{"$f":"IF('Terugvordering reiskosten OAH'!AY333=\"\",\"\",'Terugvordering reiskosten OAH'!AY333)","v":""},{"$f":"IF('Terugvordering reiskosten OAH'!BC333=0,\"\",'Terugvordering reiskosten OAH'!BC333)","v":""},{"$f":"IF('Terugvordering reiskosten OAH'!BK333=0,\"\",'Terugvordering reiskosten OAH'!BK333)","v":""},{"$f":"IF('Terugvordering reiskosten OAH'!BR333=0,\"\",'Terugvordering reiskosten OAH'!BR333)","v":""},{"$f":"IF('Terugvordering reiskosten OAH'!BZ333=0,\"\",'Terugvordering reiskosten OAH'!BZ333)","v":""},{"$f":"IF('Terugvordering reiskosten OAH'!CG333=\"\",\"\",'Terugvordering reiskosten OAH'!CG333)","v":""},{"$f":"IF('Terugvordering reiskosten OAH'!CM333=0,\"\",'Terugvordering reiskosten OAH'!CM333)","v":""}]
[{"$f":"IF('Terugvordering reiskosten OAH'!D334=\"\",\"\",IF('Terugvordering reiskosten OAH'!$T$36=\"\",\"\",'Terugvordering reiskosten OAH'!$T$36))","v":""},{"$f":"IF(A262=\"\",\"\",'Terugvordering reiskosten OAH'!$T$38)","v":""},{"$f":"IF(A262=\"\",\"\",'gegevensblad samenvatting vord.'!$C$2)","v":""},{"$f":"IF('Terugvordering reiskosten OAH'!D334=\"\",\"\",TEXT('Terugvordering reiskosten OAH'!D334,\"mm-jjjj\"))","v":""},{"$f":"IF('Terugvordering reiskosten OAH'!H334=\"\",\"\",'Terugvordering reiskosten OAH'!H334)","v":""},{"$f":"IF('Terugvordering reiskosten OAH'!R334=\"\",\"\",'Terugvordering reiskosten OAH'!R334)","v":""},{"$f":"IF('Terugvordering reiskosten OAH'!X334=\"\",\"\",'Terugvordering reiskosten OAH'!X334)","v":""},{"$f":"IF('Terugvordering reiskosten OAH'!AJ334=\"\",\"\",'Terugvordering reiskosten OAH'!AJ334)","v":""},{"$f":"IF('Terugvordering reiskosten OAH'!AR334=\"\",\"\",'Terugvordering reiskosten OAH'!AR334)","v":""},{"$f":"IF('Terugvordering reiskosten OAH'!AY334=\"\",\"\",'Terugvordering reiskosten OAH'!AY334)","v":""},{"$f":"IF('Terugvordering reiskosten OAH'!BC334=0,\"\",'Terugvordering reiskosten OAH'!BC334)","v":""},{"$f":"IF('Terugvordering reiskosten OAH'!BK334=0,\"\",'Terugvordering reiskosten OAH'!BK334)","v":""},{"$f":"IF('Terugvordering reiskosten OAH'!BR334=0,\"\",'Terugvordering reiskosten OAH'!BR334)","v":""},{"$f":"IF('Terugvordering reiskosten OAH'!BZ334=0,\"\",'Terugvordering reiskosten OAH'!BZ334)","v":""},{"$f":"IF('Terugvordering reiskosten OAH'!CG334=\"\",\"\",'Terugvordering reiskosten OAH'!CG334)","v":""},{"$f":"IF('Terugvordering reiskosten OAH'!CM334=0,\"\",'Terugvordering reiskosten OAH'!CM334)","v":""}]
[{"$f":"IF('Terugvordering reiskosten OAH'!D335=\"\",\"\",IF('Terugvordering reiskosten OAH'!$T$36=\"\",\"\",'Terugvordering reiskosten OAH'!$T$36))","v":""},{"$f":"IF(A263=\"\",\"\",'Terugvordering reiskosten OAH'!$T$38)","v":""},{"$f":"IF(A263=\"\",\"\",'gegevensblad samenvatting vord.'!$C$2)","v":""},{"$f":"IF('Terugvordering reiskosten OAH'!D335=\"\",\"\",TEXT('Terugvordering reiskosten OAH'!D335,\"mm-jjjj\"))","v":""},{"$f":"IF('Terugvordering reiskosten OAH'!H335=\"\",\"\",'Terugvordering reiskosten OAH'!H335)","v":""},{"$f":"IF('Terugvordering reiskosten OAH'!R335=\"\",\"\",'Terugvordering reiskosten OAH'!R335)","v":""},{"$f":"IF('Terugvordering reiskosten OAH'!X335=\"\",\"\",'Terugvordering reiskosten OAH'!X335)","v":""},{"$f":"IF('Terugvordering reiskosten OAH'!AJ335=\"\",\"\",'Terugvordering reiskosten OAH'!AJ335)","v":""},{"$f":"IF('Terugvordering reiskosten OAH'!AR335=\"\",\"\",'Terugvordering reiskosten OAH'!AR335)","v":""},{"$f":"IF('Terugvordering reiskosten OAH'!AY335=\"\",\"\",'Terugvordering reiskosten OAH'!AY335)","v":""},{"$f":"IF('Terugvordering reiskosten OAH'!BC335=0,\"\",'Terugvordering reiskosten OAH'!BC335)","v":""},{"$f":"IF('Terugvordering reiskosten OAH'!BK335=0,\"\",'Terugvordering reiskosten OAH'!BK335)","v":""},{"$f":"IF('Terugvordering reiskosten OAH'!BR335=0,\"\",'Terugvordering reiskosten OAH'!BR335)","v":""},{"$f":"IF('Terugvordering reiskosten OAH'!BZ335=0,\"\",'Terugvordering reiskosten OAH'!BZ335)","v":""},{"$f":"IF('Terugvordering reiskosten OAH'!CG335=\"\",\"\",'Terugvordering reiskosten OAH'!CG335)","v":""},{"$f":"IF('Terugvordering reiskosten OAH'!CM335=0,\"\",'Terugvordering reiskosten OAH'!CM335)","v":""}]
[{"$f":"IF('Terugvordering reiskosten OAH'!D336=\"\",\"\",IF('Terugvordering reiskosten OAH'!$T$36=\"\",\"\",'Terugvordering reiskosten OAH'!$T$36))","v":""},{"$f":"IF(A264=\"\",\"\",'Terugvordering reiskosten OAH'!$T$38)","v":""},{"$f":"IF(A264=\"\",\"\",'gegevensblad samenvatting vord.'!$C$2)","v":""},{"$f":"IF('Terugvordering reiskosten OAH'!D336=\"\",\"\",TEXT('Terugvordering reiskosten OAH'!D336,\"mm-jjjj\"))","v":""},{"$f":"IF('Terugvordering reiskosten OAH'!H336=\"\",\"\",'Terugvordering reiskosten OAH'!H336)","v":""},{"$f":"IF('Terugvordering reiskosten OAH'!R336=\"\",\"\",'Terugvordering reiskosten OAH'!R336)","v":""},{"$f":"IF('Terugvordering reiskosten OAH'!X336=\"\",\"\",'Terugvordering reiskosten OAH'!X336)","v":""},{"$f":"IF('Terugvordering reiskosten OAH'!AJ336=\"\",\"\",'Terugvordering reiskosten OAH'!AJ336)","v":""},{"$f":"IF('Terugvordering reiskosten OAH'!AR336=\"\",\"\",'Terugvordering reiskosten OAH'!AR336)","v":""},{"$f":"IF('Terugvordering reiskosten OAH'!AY336=\"\",\"\",'Terugvordering reiskosten OAH'!AY336)","v":""},{"$f":"IF('Terugvordering reiskosten OAH'!BC336=0,\"\",'Terugvordering reiskosten OAH'!BC336)","v":""},{"$f":"IF('Terugvordering reiskosten OAH'!BK336=0,\"\",'Terugvordering reiskosten OAH'!BK336)","v":""},{"$f":"IF('Terugvordering reiskosten OAH'!BR336=0,\"\",'Terugvordering reiskosten OAH'!BR336)","v":""},{"$f":"IF('Terugvordering reiskosten OAH'!BZ336=0,\"\",'Terugvordering reiskosten OAH'!BZ336)","v":""},{"$f":"IF('Terugvordering reiskosten OAH'!CG336=\"\",\"\",'Terugvordering reiskosten OAH'!CG336)","v":""},{"$f":"IF('Terugvordering reiskosten OAH'!CM336=0,\"\",'Terugvordering reiskosten OAH'!CM336)","v":""}]
[{"$f":"IF('Terugvordering reiskosten OAH'!D337=\"\",\"\",IF('Terugvordering reiskosten OAH'!$T$36=\"\",\"\",'Terugvordering reiskosten OAH'!$T$36))","v":""},{"$f":"IF(A265=\"\",\"\",'Terugvordering reiskosten OAH'!$T$38)","v":""},{"$f":"IF(A265=\"\",\"\",'gegevensblad samenvatting vord.'!$C$2)","v":""},{"$f":"IF('Terugvordering reiskosten OAH'!D337=\"\",\"\",TEXT('Terugvordering reiskosten OAH'!D337,\"mm-jjjj\"))","v":""},{"$f":"IF('Terugvordering reiskosten OAH'!H337=\"\",\"\",'Terugvordering reiskosten OAH'!H337)","v":""},{"$f":"IF('Terugvordering reiskosten OAH'!R337=\"\",\"\",'Terugvordering reiskosten OAH'!R337)","v":""},{"$f":"IF('Terugvordering reiskosten OAH'!X337=\"\",\"\",'Terugvordering reiskosten OAH'!X337)","v":""},{"$f":"IF('Terugvordering reiskosten OAH'!AJ337=\"\",\"\",'Terugvordering reiskosten OAH'!AJ337)","v":""},{"$f":"IF('Terugvordering reiskosten OAH'!AR337=\"\",\"\",'Terugvordering reiskosten OAH'!AR337)","v":""},{"$f":"IF('Terugvordering reiskosten OAH'!AY337=\"\",\"\",'Terugvordering reiskosten OAH'!AY337)","v":""},{"$f":"IF('Terugvordering reiskosten OAH'!BC337=0,\"\",'Terugvordering reiskosten OAH'!BC337)","v":""},{"$f":"IF('Terugvordering reiskosten OAH'!BK337=0,\"\",'Terugvordering reiskosten OAH'!BK337)","v":""},{"$f":"IF('Terugvordering reiskosten OAH'!BR337=0,\"\",'Terugvordering reiskosten OAH'!BR337)","v":""},{"$f":"IF('Terugvordering reiskosten OAH'!BZ337=0,\"\",'Terugvordering reiskosten OAH'!BZ337)","v":""},{"$f":"IF('Terugvordering reiskosten OAH'!CG337=\"\",\"\",'Terugvordering reiskosten OAH'!CG337)","v":""},{"$f":"IF('Terugvordering reiskosten OAH'!CM337=0,\"\",'Terugvordering reiskosten OAH'!CM337)","v":""}]
[{"$f":"IF('Terugvordering reiskosten OAH'!D338=\"\",\"\",IF('Terugvordering reiskosten OAH'!$T$36=\"\",\"\",'Terugvordering reiskosten OAH'!$T$36))","v":""},{"$f":"IF(A266=\"\",\"\",'Terugvordering reiskosten OAH'!$T$38)","v":""},{"$f":"IF(A266=\"\",\"\",'gegevensblad samenvatting vord.'!$C$2)","v":""},{"$f":"IF('Terugvordering reiskosten OAH'!D338=\"\",\"\",TEXT('Terugvordering reiskosten OAH'!D338,\"mm-jjjj\"))","v":""},{"$f":"IF('Terugvordering reiskosten OAH'!H338=\"\",\"\",'Terugvordering reiskosten OAH'!H338)","v":""},{"$f":"IF('Terugvordering reiskosten OAH'!R338=\"\",\"\",'Terugvordering reiskosten OAH'!R338)","v":""},{"$f":"IF('Terugvordering reiskosten OAH'!X338=\"\",\"\",'Terugvordering reiskosten OAH'!X338)","v":""},{"$f":"IF('Terugvordering reiskosten OAH'!AJ338=\"\",\"\",'Terugvordering reiskosten OAH'!AJ338)","v":""},{"$f":"IF('Terugvordering reiskosten OAH'!AR338=\"\",\"\",'Terugvordering reiskosten OAH'!AR338)","v":""},{"$f":"IF('Terugvordering reiskosten OAH'!AY338=\"\",\"\",'Terugvordering reiskosten OAH'!AY338)","v":""},{"$f":"IF('Terugvordering reiskosten OAH'!BC338=0,\"\",'Terugvordering reiskosten OAH'!BC338)","v":""},{"$f":"IF('Terugvordering reiskosten OAH'!BK338=0,\"\",'Terugvordering reiskosten OAH'!BK338)","v":""},{"$f":"IF('Terugvordering reiskosten OAH'!BR338=0,\"\",'Terugvordering reiskosten OAH'!BR338)","v":""},{"$f":"IF('Terugvordering reiskosten OAH'!BZ338=0,\"\",'Terugvordering reiskosten OAH'!BZ338)","v":""},{"$f":"IF('Terugvordering reiskosten OAH'!CG338=\"\",\"\",'Terugvordering reiskosten OAH'!CG338)","v":""},{"$f":"IF('Terugvordering reiskosten OAH'!CM338=0,\"\",'Terugvordering reiskosten OAH'!CM338)","v":""}]
[{"$f":"IF('Terugvordering reiskosten OAH'!D339=\"\",\"\",IF('Terugvordering reiskosten OAH'!$T$36=\"\",\"\",'Terugvordering reiskosten OAH'!$T$36))","v":""},{"$f":"IF(A267=\"\",\"\",'Terugvordering reiskosten OAH'!$T$38)","v":""},{"$f":"IF(A267=\"\",\"\",'gegevensblad samenvatting vord.'!$C$2)","v":""},{"$f":"IF('Terugvordering reiskosten OAH'!D339=\"\",\"\",TEXT('Terugvordering reiskosten OAH'!D339,\"mm-jjjj\"))","v":""},{"$f":"IF('Terugvordering reiskosten OAH'!H339=\"\",\"\",'Terugvordering reiskosten OAH'!H339)","v":""},{"$f":"IF('Terugvordering reiskosten OAH'!R339=\"\",\"\",'Terugvordering reiskosten OAH'!R339)","v":""},{"$f":"IF('Terugvordering reiskosten OAH'!X339=\"\",\"\",'Terugvordering reiskosten OAH'!X339)","v":""},{"$f":"IF('Terugvordering reiskosten OAH'!AJ339=\"\",\"\",'Terugvordering reiskosten OAH'!AJ339)","v":""},{"$f":"IF('Terugvordering reiskosten OAH'!AR339=\"\",\"\",'Terugvordering reiskosten OAH'!AR339)","v":""},{"$f":"IF('Terugvordering reiskosten OAH'!AY339=\"\",\"\",'Terugvordering reiskosten OAH'!AY339)","v":""},{"$f":"IF('Terugvordering reiskosten OAH'!BC339=0,\"\",'Terugvordering reiskosten OAH'!BC339)","v":""},{"$f":"IF('Terugvordering reiskosten OAH'!BK339=0,\"\",'Terugvordering reiskosten OAH'!BK339)","v":""},{"$f":"IF('Terugvordering reiskosten OAH'!BR339=0,\"\",'Terugvordering reiskosten OAH'!BR339)","v":""},{"$f":"IF('Terugvordering reiskosten OAH'!BZ339=0,\"\",'Terugvordering reiskosten OAH'!BZ339)","v":""},{"$f":"IF('Terugvordering reiskosten OAH'!CG339=\"\",\"\",'Terugvordering reiskosten OAH'!CG339)","v":""},{"$f":"IF('Terugvordering reiskosten OAH'!CM339=0,\"\",'Terugvordering reiskosten OAH'!CM339)","v":""}]
[{"$f":"IF('Terugvordering reiskosten OAH'!D340=\"\",\"\",IF('Terugvordering reiskosten OAH'!$T$36=\"\",\"\",'Terugvordering reiskosten OAH'!$T$36))","v":""},{"$f":"IF(A268=\"\",\"\",'Terugvordering reiskosten OAH'!$T$38)","v":""},{"$f":"IF(A268=\"\",\"\",'gegevensblad samenvatting vord.'!$C$2)","v":""},{"$f":"IF('Terugvordering reiskosten OAH'!D340=\"\",\"\",TEXT('Terugvordering reiskosten OAH'!D340,\"mm-jjjj\"))","v":""},{"$f":"IF('Terugvordering reiskosten OAH'!H340=\"\",\"\",'Terugvordering reiskosten OAH'!H340)","v":""},{"$f":"IF('Terugvordering reiskosten OAH'!R340=\"\",\"\",'Terugvordering reiskosten OAH'!R340)","v":""},{"$f":"IF('Terugvordering reiskosten OAH'!X340=\"\",\"\",'Terugvordering reiskosten OAH'!X340)","v":""},{"$f":"IF('Terugvordering reiskosten OAH'!AJ340=\"\",\"\",'Terugvordering reiskosten OAH'!AJ340)","v":""},{"$f":"IF('Terugvordering reiskosten OAH'!AR340=\"\",\"\",'Terugvordering reiskosten OAH'!AR340)","v":""},{"$f":"IF('Terugvordering reiskosten OAH'!AY340=\"\",\"\",'Terugvordering reiskosten OAH'!AY340)","v":""},{"$f":"IF('Terugvordering reiskosten OAH'!BC340=0,\"\",'Terugvordering reiskosten OAH'!BC340)","v":""},{"$f":"IF('Terugvordering reiskosten OAH'!BK340=0,\"\",'Terugvordering reiskosten OAH'!BK340)","v":""},{"$f":"IF('Terugvordering reiskosten OAH'!BR340=0,\"\",'Terugvordering reiskosten OAH'!BR340)","v":""},{"$f":"IF('Terugvordering reiskosten OAH'!BZ340=0,\"\",'Terugvordering reiskosten OAH'!BZ340)","v":""},{"$f":"IF('Terugvordering reiskosten OAH'!CG340=\"\",\"\",'Terugvordering reiskosten OAH'!CG340)","v":""},{"$f":"IF('Terugvordering reiskosten OAH'!CM340=0,\"\",'Terugvordering reiskosten OAH'!CM340)","v":""}]
[{"$f":"IF('Terugvordering reiskosten OAH'!D341=\"\",\"\",IF('Terugvordering reiskosten OAH'!$T$36=\"\",\"\",'Terugvordering reiskosten OAH'!$T$36))","v":""},{"$f":"IF(A269=\"\",\"\",'Terugvordering reiskosten OAH'!$T$38)","v":""},{"$f":"IF(A269=\"\",\"\",'gegevensblad samenvatting vord.'!$C$2)","v":""},{"$f":"IF('Terugvordering reiskosten OAH'!D341=\"\",\"\",TEXT('Terugvordering reiskosten OAH'!D341,\"mm-jjjj\"))","v":""},{"$f":"IF('Terugvordering reiskosten OAH'!H341=\"\",\"\",'Terugvordering reiskosten OAH'!H341)","v":""},{"$f":"IF('Terugvordering reiskosten OAH'!R341=\"\",\"\",'Terugvordering reiskosten OAH'!R341)","v":""},{"$f":"IF('Terugvordering reiskosten OAH'!X341=\"\",\"\",'Terugvordering reiskosten OAH'!X341)","v":""},{"$f":"IF('Terugvordering reiskosten OAH'!AJ341=\"\",\"\",'Terugvordering reiskosten OAH'!AJ341)","v":""},{"$f":"IF('Terugvordering reiskosten OAH'!AR341=\"\",\"\",'Terugvordering reiskosten OAH'!AR341)","v":""},{"$f":"IF('Terugvordering reiskosten OAH'!AY341=\"\",\"\",'Terugvordering reiskosten OAH'!AY341)","v":""},{"$f":"IF('Terugvordering reiskosten OAH'!BC341=0,\"\",'Terugvordering reiskosten OAH'!BC341)","v":""},{"$f":"IF('Terugvordering reiskosten OAH'!BK341=0,\"\",'Terugvordering reiskosten OAH'!BK341)","v":""},{"$f":"IF('Terugvordering reiskosten OAH'!BR341=0,\"\",'Terugvordering reiskosten OAH'!BR341)","v":""},{"$f":"IF('Terugvordering reiskosten OAH'!BZ341=0,\"\",'Terugvordering reiskosten OAH'!BZ341)","v":""},{"$f":"IF('Terugvordering reiskosten OAH'!CG341=\"\",\"\",'Terugvordering reiskosten OAH'!CG341)","v":""},{"$f":"IF('Terugvordering reiskosten OAH'!CM341=0,\"\",'Terugvordering reiskosten OAH'!CM341)","v":""}]
[{"$f":"IF('Terugvordering reiskosten OAH'!D342=\"\",\"\",IF('Terugvordering reiskosten OAH'!$T$36=\"\",\"\",'Terugvordering reiskosten OAH'!$T$36))","v":""},{"$f":"IF(A270=\"\",\"\",'Terugvordering reiskosten OAH'!$T$38)","v":""},{"$f":"IF(A270=\"\",\"\",'gegevensblad samenvatting vord.'!$C$2)","v":""},{"$f":"IF('Terugvordering reiskosten OAH'!D342=\"\",\"\",TEXT('Terugvordering reiskosten OAH'!D342,\"mm-jjjj\"))","v":""},{"$f":"IF('Terugvordering reiskosten OAH'!H342=\"\",\"\",'Terugvordering reiskosten OAH'!H342)","v":""},{"$f":"IF('Terugvordering reiskosten OAH'!R342=\"\",\"\",'Terugvordering reiskosten OAH'!R342)","v":""},{"$f":"IF('Terugvordering reiskosten OAH'!X342=\"\",\"\",'Terugvordering reiskosten OAH'!X342)","v":""},{"$f":"IF('Terugvordering reiskosten OAH'!AJ342=\"\",\"\",'Terugvordering reiskosten OAH'!AJ342)","v":""},{"$f":"IF('Terugvordering reiskosten OAH'!AR342=\"\",\"\",'Terugvordering reiskosten OAH'!AR342)","v":""},{"$f":"IF('Terugvordering reiskosten OAH'!AY342=\"\",\"\",'Terugvordering reiskosten OAH'!AY342)","v":""},{"$f":"IF('Terugvordering reiskosten OAH'!BC342=0,\"\",'Terugvordering reiskosten OAH'!BC342)","v":""},{"$f":"IF('Terugvordering reiskosten OAH'!BK342=0,\"\",'Terugvordering reiskosten OAH'!BK342)","v":""},{"$f":"IF('Terugvordering reiskosten OAH'!BR342=0,\"\",'Terugvordering reiskosten OAH'!BR342)","v":""},{"$f":"IF('Terugvordering reiskosten OAH'!BZ342=0,\"\",'Terugvordering reiskosten OAH'!BZ342)","v":""},{"$f":"IF('Terugvordering reiskosten OAH'!CG342=\"\",\"\",'Terugvordering reiskosten OAH'!CG342)","v":""},{"$f":"IF('Terugvordering reiskosten OAH'!CM342=0,\"\",'Terugvordering reiskosten OAH'!CM342)","v":""}]
[{"$f":"IF('Terugvordering reiskosten OAH'!D343=\"\",\"\",IF('Terugvordering reiskosten OAH'!$T$36=\"\",\"\",'Terugvordering reiskosten OAH'!$T$36))","v":""},{"$f":"IF(A271=\"\",\"\",'Terugvordering reiskosten OAH'!$T$38)","v":""},{"$f":"IF(A271=\"\",\"\",'gegevensblad samenvatting vord.'!$C$2)","v":""},{"$f":"IF('Terugvordering reiskosten OAH'!D343=\"\",\"\",TEXT('Terugvordering reiskosten OAH'!D343,\"mm-jjjj\"))","v":""},{"$f":"IF('Terugvordering reiskosten OAH'!H343=\"\",\"\",'Terugvordering reiskosten OAH'!H343)","v":""},{"$f":"IF('Terugvordering reiskosten OAH'!R343=\"\",\"\",'Terugvordering reiskosten OAH'!R343)","v":""},{"$f":"IF('Terugvordering reiskosten OAH'!X343=\"\",\"\",'Terugvordering reiskosten OAH'!X343)","v":""},{"$f":"IF('Terugvordering reiskosten OAH'!AJ343=\"\",\"\",'Terugvordering reiskosten OAH'!AJ343)","v":""},{"$f":"IF('Terugvordering reiskosten OAH'!AR343=\"\",\"\",'Terugvordering reiskosten OAH'!AR343)","v":""},{"$f":"IF('Terugvordering reiskosten OAH'!AY343=\"\",\"\",'Terugvordering reiskosten OAH'!AY343)","v":""},{"$f":"IF('Terugvordering reiskosten OAH'!BC343=0,\"\",'Terugvordering reiskosten OAH'!BC343)","v":""},{"$f":"IF('Terugvordering reiskosten OAH'!BK343=0,\"\",'Terugvordering reiskosten OAH'!BK343)","v":""},{"$f":"IF('Terugvordering reiskosten OAH'!BR343=0,\"\",'Terugvordering reiskosten OAH'!BR343)","v":""},{"$f":"IF('Terugvordering reiskosten OAH'!BZ343=0,\"\",'Terugvordering reiskosten OAH'!BZ343)","v":""},{"$f":"IF('Terugvordering reiskosten OAH'!CG343=\"\",\"\",'Terugvordering reiskosten OAH'!CG343)","v":""},{"$f":"IF('Terugvordering reiskosten OAH'!CM343=0,\"\",'Terugvordering reiskosten OAH'!CM343)","v":""}]
[{"$f":"IF('Terugvordering reiskosten OAH'!D344=\"\",\"\",IF('Terugvordering reiskosten OAH'!$T$36=\"\",\"\",'Terugvordering reiskosten OAH'!$T$36))","v":""},{"$f":"IF(A272=\"\",\"\",'Terugvordering reiskosten OAH'!$T$38)","v":""},{"$f":"IF(A272=\"\",\"\",'gegevensblad samenvatting vord.'!$C$2)","v":""},{"$f":"IF('Terugvordering reiskosten OAH'!D344=\"\",\"\",TEXT('Terugvordering reiskosten OAH'!D344,\"mm-jjjj\"))","v":""},{"$f":"IF('Terugvordering reiskosten OAH'!H344=\"\",\"\",'Terugvordering reiskosten OAH'!H344)","v":""},{"$f":"IF('Terugvordering reiskosten OAH'!R344=\"\",\"\",'Terugvordering reiskosten OAH'!R344)","v":""},{"$f":"IF('Terugvordering reiskosten OAH'!X344=\"\",\"\",'Terugvordering reiskosten OAH'!X344)","v":""},{"$f":"IF('Terugvordering reiskosten OAH'!AJ344=\"\",\"\",'Terugvordering reiskosten OAH'!AJ344)","v":""},{"$f":"IF('Terugvordering reiskosten OAH'!AR344=\"\",\"\",'Terugvordering reiskosten OAH'!AR344)","v":""},{"$f":"IF('Terugvordering reiskosten OAH'!AY344=\"\",\"\",'Terugvordering reiskosten OAH'!AY344)","v":""},{"$f":"IF('Terugvordering reiskosten OAH'!BC344=0,\"\",'Terugvordering reiskosten OAH'!BC344)","v":""},{"$f":"IF('Terugvordering reiskosten OAH'!BK344=0,\"\",'Terugvordering reiskosten OAH'!BK344)","v":""},{"$f":"IF('Terugvordering reiskosten OAH'!BR344=0,\"\",'Terugvordering reiskosten OAH'!BR344)","v":""},{"$f":"IF('Terugvordering reiskosten OAH'!BZ344=0,\"\",'Terugvordering reiskosten OAH'!BZ344)","v":""},{"$f":"IF('Terugvordering reiskosten OAH'!CG344=\"\",\"\",'Terugvordering reiskosten OAH'!CG344)","v":""},{"$f":"IF('Terugvordering reiskosten OAH'!CM344=0,\"\",'Terugvordering reiskosten OAH'!CM344)","v":""}]
[{"$f":"IF('Terugvordering reiskosten OAH'!D345=\"\",\"\",IF('Terugvordering reiskosten OAH'!$T$36=\"\",\"\",'Terugvordering reiskosten OAH'!$T$36))","v":""},{"$f":"IF(A273=\"\",\"\",'Terugvordering reiskosten OAH'!$T$38)","v":""},{"$f":"IF(A273=\"\",\"\",'gegevensblad samenvatting vord.'!$C$2)","v":""},{"$f":"IF('Terugvordering reiskosten OAH'!D345=\"\",\"\",TEXT('Terugvordering reiskosten OAH'!D345,\"mm-jjjj\"))","v":""},{"$f":"IF('Terugvordering reiskosten OAH'!H345=\"\",\"\",'Terugvordering reiskosten OAH'!H345)","v":""},{"$f":"IF('Terugvordering reiskosten OAH'!R345=\"\",\"\",'Terugvordering reiskosten OAH'!R345)","v":""},{"$f":"IF('Terugvordering reiskosten OAH'!X345=\"\",\"\",'Terugvordering reiskosten OAH'!X345)","v":""},{"$f":"IF('Terugvordering reiskosten OAH'!AJ345=\"\",\"\",'Terugvordering reiskosten OAH'!AJ345)","v":""},{"$f":"IF('Terugvordering reiskosten OAH'!AR345=\"\",\"\",'Terugvordering reiskosten OAH'!AR345)","v":""},{"$f":"IF('Terugvordering reiskosten OAH'!AY345=\"\",\"\",'Terugvordering reiskosten OAH'!AY345)","v":""},{"$f":"IF('Terugvordering reiskosten OAH'!BC345=0,\"\",'Terugvordering reiskosten OAH'!BC345)","v":""},{"$f":"IF('Terugvordering reiskosten OAH'!BK345=0,\"\",'Terugvordering reiskosten OAH'!BK345)","v":""},{"$f":"IF('Terugvordering reiskosten OAH'!BR345=0,\"\",'Terugvordering reiskosten OAH'!BR345)","v":""},{"$f":"IF('Terugvordering reiskosten OAH'!BZ345=0,\"\",'Terugvordering reiskosten OAH'!BZ345)","v":""},{"$f":"IF('Terugvordering reiskosten OAH'!CG345=\"\",\"\",'Terugvordering reiskosten OAH'!CG345)","v":""},{"$f":"IF('Terugvordering reiskosten OAH'!CM345=0,\"\",'Terugvordering reiskosten OAH'!CM345)","v":""}]
[{"$f":"IF('Terugvordering reiskosten OAH'!D346=\"\",\"\",IF('Terugvordering reiskosten OAH'!$T$36=\"\",\"\",'Terugvordering reiskosten OAH'!$T$36))","v":""},{"$f":"IF(A274=\"\",\"\",'Terugvordering reiskosten OAH'!$T$38)","v":""},{"$f":"IF(A274=\"\",\"\",'gegevensblad samenvatting vord.'!$C$2)","v":""},{"$f":"IF('Terugvordering reiskosten OAH'!D346=\"\",\"\",TEXT('Terugvordering reiskosten OAH'!D346,\"mm-jjjj\"))","v":""},{"$f":"IF('Terugvordering reiskosten OAH'!H346=\"\",\"\",'Terugvordering reiskosten OAH'!H346)","v":""},{"$f":"IF('Terugvordering reiskosten OAH'!R346=\"\",\"\",'Terugvordering reiskosten OAH'!R346)","v":""},{"$f":"IF('Terugvordering reiskosten OAH'!X346=\"\",\"\",'Terugvordering reiskosten OAH'!X346)","v":""},{"$f":"IF('Terugvordering reiskosten OAH'!AJ346=\"\",\"\",'Terugvordering reiskosten OAH'!AJ346)","v":""},{"$f":"IF('Terugvordering reiskosten OAH'!AR346=\"\",\"\",'Terugvordering reiskosten OAH'!AR346)","v":""},{"$f":"IF('Terugvordering reiskosten OAH'!AY346=\"\",\"\",'Terugvordering reiskosten OAH'!AY346)","v":""},{"$f":"IF('Terugvordering reiskosten OAH'!BC346=0,\"\",'Terugvordering reiskosten OAH'!BC346)","v":""},{"$f":"IF('Terugvordering reiskosten OAH'!BK346=0,\"\",'Terugvordering reiskosten OAH'!BK346)","v":""},{"$f":"IF('Terugvordering reiskosten OAH'!BR346=0,\"\",'Terugvordering reiskosten OAH'!BR346)","v":""},{"$f":"IF('Terugvordering reiskosten OAH'!BZ346=0,\"\",'Terugvordering reiskosten OAH'!BZ346)","v":""},{"$f":"IF('Terugvordering reiskosten OAH'!CG346=\"\",\"\",'Terugvordering reiskosten OAH'!CG346)","v":""},{"$f":"IF('Terugvordering reiskosten OAH'!CM346=0,\"\",'Terugvordering reiskosten OAH'!CM346)","v":""}]
[{"$f":"IF('Terugvordering reiskosten OAH'!D347=\"\",\"\",IF('Terugvordering reiskosten OAH'!$T$36=\"\",\"\",'Terugvordering reiskosten OAH'!$T$36))","v":""},{"$f":"IF(A275=\"\",\"\",'Terugvordering reiskosten OAH'!$T$38)","v":""},{"$f":"IF(A275=\"\",\"\",'gegevensblad samenvatting vord.'!$C$2)","v":""},{"$f":"IF('Terugvordering reiskosten OAH'!D347=\"\",\"\",TEXT('Terugvordering reiskosten OAH'!D347,\"mm-jjjj\"))","v":""},{"$f":"IF('Terugvordering reiskosten OAH'!H347=\"\",\"\",'Terugvordering reiskosten OAH'!H347)","v":""},{"$f":"IF('Terugvordering reiskosten OAH'!R347=\"\",\"\",'Terugvordering reiskosten OAH'!R347)","v":""},{"$f":"IF('Terugvordering reiskosten OAH'!X347=\"\",\"\",'Terugvordering reiskosten OAH'!X347)","v":""},{"$f":"IF('Terugvordering reiskosten OAH'!AJ347=\"\",\"\",'Terugvordering reiskosten OAH'!AJ347)","v":""},{"$f":"IF('Terugvordering reiskosten OAH'!AR347=\"\",\"\",'Terugvordering reiskosten OAH'!AR347)","v":""},{"$f":"IF('Terugvordering reiskosten OAH'!AY347=\"\",\"\",'Terugvordering reiskosten OAH'!AY347)","v":""},{"$f":"IF('Terugvordering reiskosten OAH'!BC347=0,\"\",'Terugvordering reiskosten OAH'!BC347)","v":""},{"$f":"IF('Terugvordering reiskosten OAH'!BK347=0,\"\",'Terugvordering reiskosten OAH'!BK347)","v":""},{"$f":"IF('Terugvordering reiskosten OAH'!BR347=0,\"\",'Terugvordering reiskosten OAH'!BR347)","v":""},{"$f":"IF('Terugvordering reiskosten OAH'!BZ347=0,\"\",'Terugvordering reiskosten OAH'!BZ347)","v":""},{"$f":"IF('Terugvordering reiskosten OAH'!CG347=\"\",\"\",'Terugvordering reiskosten OAH'!CG347)","v":""},{"$f":"IF('Terugvordering reiskosten OAH'!CM347=0,\"\",'Terugvordering reiskosten OAH'!CM347)","v":""}]
[{"$f":"IF('Terugvordering reiskosten OAH'!D348=\"\",\"\",IF('Terugvordering reiskosten OAH'!$T$36=\"\",\"\",'Terugvordering reiskosten OAH'!$T$36))","v":""},{"$f":"IF(A276=\"\",\"\",'Terugvordering reiskosten OAH'!$T$38)","v":""},{"$f":"IF(A276=\"\",\"\",'gegevensblad samenvatting vord.'!$C$2)","v":""},{"$f":"IF('Terugvordering reiskosten OAH'!D348=\"\",\"\",TEXT('Terugvordering reiskosten OAH'!D348,\"mm-jjjj\"))","v":""},{"$f":"IF('Terugvordering reiskosten OAH'!H348=\"\",\"\",'Terugvordering reiskosten OAH'!H348)","v":""},{"$f":"IF('Terugvordering reiskosten OAH'!R348=\"\",\"\",'Terugvordering reiskosten OAH'!R348)","v":""},{"$f":"IF('Terugvordering reiskosten OAH'!X348=\"\",\"\",'Terugvordering reiskosten OAH'!X348)","v":""},{"$f":"IF('Terugvordering reiskosten OAH'!AJ348=\"\",\"\",'Terugvordering reiskosten OAH'!AJ348)","v":""},{"$f":"IF('Terugvordering reiskosten OAH'!AR348=\"\",\"\",'Terugvordering reiskosten OAH'!AR348)","v":""},{"$f":"IF('Terugvordering reiskosten OAH'!AY348=\"\",\"\",'Terugvordering reiskosten OAH'!AY348)","v":""},{"$f":"IF('Terugvordering reiskosten OAH'!BC348=0,\"\",'Terugvordering reiskosten OAH'!BC348)","v":""},{"$f":"IF('Terugvordering reiskosten OAH'!BK348=0,\"\",'Terugvordering reiskosten OAH'!BK348)","v":""},{"$f":"IF('Terugvordering reiskosten OAH'!BR348=0,\"\",'Terugvordering reiskosten OAH'!BR348)","v":""},{"$f":"IF('Terugvordering reiskosten OAH'!BZ348=0,\"\",'Terugvordering reiskosten OAH'!BZ348)","v":""},{"$f":"IF('Terugvordering reiskosten OAH'!CG348=\"\",\"\",'Terugvordering reiskosten OAH'!CG348)","v":""},{"$f":"IF('Terugvordering reiskosten OAH'!CM348=0,\"\",'Terugvordering reiskosten OAH'!CM348)","v":""}]
[{"$f":"IF('Terugvordering reiskosten OAH'!D349=\"\",\"\",IF('Terugvordering reiskosten OAH'!$T$36=\"\",\"\",'Terugvordering reiskosten OAH'!$T$36))","v":""},{"$f":"IF(A277=\"\",\"\",'Terugvordering reiskosten OAH'!$T$38)","v":""},{"$f":"IF(A277=\"\",\"\",'gegevensblad samenvatting vord.'!$C$2)","v":""},{"$f":"IF('Terugvordering reiskosten OAH'!D349=\"\",\"\",TEXT('Terugvordering reiskosten OAH'!D349,\"mm-jjjj\"))","v":""},{"$f":"IF('Terugvordering reiskosten OAH'!H349=\"\",\"\",'Terugvordering reiskosten OAH'!H349)","v":""},{"$f":"IF('Terugvordering reiskosten OAH'!R349=\"\",\"\",'Terugvordering reiskosten OAH'!R349)","v":""},{"$f":"IF('Terugvordering reiskosten OAH'!X349=\"\",\"\",'Terugvordering reiskosten OAH'!X349)","v":""},{"$f":"IF('Terugvordering reiskosten OAH'!AJ349=\"\",\"\",'Terugvordering reiskosten OAH'!AJ349)","v":""},{"$f":"IF('Terugvordering reiskosten OAH'!AR349=\"\",\"\",'Terugvordering reiskosten OAH'!AR349)","v":""},{"$f":"IF('Terugvordering reiskosten OAH'!AY349=\"\",\"\",'Terugvordering reiskosten OAH'!AY349)","v":""},{"$f":"IF('Terugvordering reiskosten OAH'!BC349=0,\"\",'Terugvordering reiskosten OAH'!BC349)","v":""},{"$f":"IF('Terugvordering reiskosten OAH'!BK349=0,\"\",'Terugvordering reiskosten OAH'!BK349)","v":""},{"$f":"IF('Terugvordering reiskosten OAH'!BR349=0,\"\",'Terugvordering reiskosten OAH'!BR349)","v":""},{"$f":"IF('Terugvordering reiskosten OAH'!BZ349=0,\"\",'Terugvordering reiskosten OAH'!BZ349)","v":""},{"$f":"IF('Terugvordering reiskosten OAH'!CG349=\"\",\"\",'Terugvordering reiskosten OAH'!CG349)","v":""},{"$f":"IF('Terugvordering reiskosten OAH'!CM349=0,\"\",'Terugvordering reiskosten OAH'!CM349)","v":""}]
[{"$f":"IF('Terugvordering reiskosten OAH'!D350=\"\",\"\",IF('Terugvordering reiskosten OAH'!$T$36=\"\",\"\",'Terugvordering reiskosten OAH'!$T$36))","v":""},{"$f":"IF(A278=\"\",\"\",'Terugvordering reiskosten OAH'!$T$38)","v":""},{"$f":"IF(A278=\"\",\"\",'gegevensblad samenvatting vord.'!$C$2)","v":""},{"$f":"IF('Terugvordering reiskosten OAH'!D350=\"\",\"\",TEXT('Terugvordering reiskosten OAH'!D350,\"mm-jjjj\"))","v":""},{"$f":"IF('Terugvordering reiskosten OAH'!H350=\"\",\"\",'Terugvordering reiskosten OAH'!H350)","v":""},{"$f":"IF('Terugvordering reiskosten OAH'!R350=\"\",\"\",'Terugvordering reiskosten OAH'!R350)","v":""},{"$f":"IF('Terugvordering reiskosten OAH'!X350=\"\",\"\",'Terugvordering reiskosten OAH'!X350)","v":""},{"$f":"IF('Terugvordering reiskosten OAH'!AJ350=\"\",\"\",'Terugvordering reiskosten OAH'!AJ350)","v":""},{"$f":"IF('Terugvordering reiskosten OAH'!AR350=\"\",\"\",'Terugvordering reiskosten OAH'!AR350)","v":""},{"$f":"IF('Terugvordering reiskosten OAH'!AY350=\"\",\"\",'Terugvordering reiskosten OAH'!AY350)","v":""},{"$f":"IF('Terugvordering reiskosten OAH'!BC350=0,\"\",'Terugvordering reiskosten OAH'!BC350)","v":""},{"$f":"IF('Terugvordering reiskosten OAH'!BK350=0,\"\",'Terugvordering reiskosten OAH'!BK350)","v":""},{"$f":"IF('Terugvordering reiskosten OAH'!BR350=0,\"\",'Terugvordering reiskosten OAH'!BR350)","v":""},{"$f":"IF('Terugvordering reiskosten OAH'!BZ350=0,\"\",'Terugvordering reiskosten OAH'!BZ350)","v":""},{"$f":"IF('Terugvordering reiskosten OAH'!CG350=\"\",\"\",'Terugvordering reiskosten OAH'!CG350)","v":""},{"$f":"IF('Terugvordering reiskosten OAH'!CM350=0,\"\",'Terugvordering reiskosten OAH'!CM350)","v":""}]
[{"$f":"IF('Terugvordering reiskosten OAH'!D351=\"\",\"\",IF('Terugvordering reiskosten OAH'!$T$36=\"\",\"\",'Terugvordering reiskosten OAH'!$T$36))","v":""},{"$f":"IF(A279=\"\",\"\",'Terugvordering reiskosten OAH'!$T$38)","v":""},{"$f":"IF(A279=\"\",\"\",'gegevensblad samenvatting vord.'!$C$2)","v":""},{"$f":"IF('Terugvordering reiskosten OAH'!D351=\"\",\"\",TEXT('Terugvordering reiskosten OAH'!D351,\"mm-jjjj\"))","v":""},{"$f":"IF('Terugvordering reiskosten OAH'!H351=\"\",\"\",'Terugvordering reiskosten OAH'!H351)","v":""},{"$f":"IF('Terugvordering reiskosten OAH'!R351=\"\",\"\",'Terugvordering reiskosten OAH'!R351)","v":""},{"$f":"IF('Terugvordering reiskosten OAH'!X351=\"\",\"\",'Terugvordering reiskosten OAH'!X351)","v":""},{"$f":"IF('Terugvordering reiskosten OAH'!AJ351=\"\",\"\",'Terugvordering reiskosten OAH'!AJ351)","v":""},{"$f":"IF('Terugvordering reiskosten OAH'!AR351=\"\",\"\",'Terugvordering reiskosten OAH'!AR351)","v":""},{"$f":"IF('Terugvordering reiskosten OAH'!AY351=\"\",\"\",'Terugvordering reiskosten OAH'!AY351)","v":""},{"$f":"IF('Terugvordering reiskosten OAH'!BC351=0,\"\",'Terugvordering reiskosten OAH'!BC351)","v":""},{"$f":"IF('Terugvordering reiskosten OAH'!BK351=0,\"\",'Terugvordering reiskosten OAH'!BK351)","v":""},{"$f":"IF('Terugvordering reiskosten OAH'!BR351=0,\"\",'Terugvordering reiskosten OAH'!BR351)","v":""},{"$f":"IF('Terugvordering reiskosten OAH'!BZ351=0,\"\",'Terugvordering reiskosten OAH'!BZ351)","v":""},{"$f":"IF('Terugvordering reiskosten OAH'!CG351=\"\",\"\",'Terugvordering reiskosten OAH'!CG351)","v":""},{"$f":"IF('Terugvordering reiskosten OAH'!CM351=0,\"\",'Terugvordering reiskosten OAH'!CM351)","v":""}]
[{"$f":"IF('Terugvordering reiskosten OAH'!D352=\"\",\"\",IF('Terugvordering reiskosten OAH'!$T$36=\"\",\"\",'Terugvordering reiskosten OAH'!$T$36))","v":""},{"$f":"IF(A280=\"\",\"\",'Terugvordering reiskosten OAH'!$T$38)","v":""},{"$f":"IF(A280=\"\",\"\",'gegevensblad samenvatting vord.'!$C$2)","v":""},{"$f":"IF('Terugvordering reiskosten OAH'!D352=\"\",\"\",TEXT('Terugvordering reiskosten OAH'!D352,\"mm-jjjj\"))","v":""},{"$f":"IF('Terugvordering reiskosten OAH'!H352=\"\",\"\",'Terugvordering reiskosten OAH'!H352)","v":""},{"$f":"IF('Terugvordering reiskosten OAH'!R352=\"\",\"\",'Terugvordering reiskosten OAH'!R352)","v":""},{"$f":"IF('Terugvordering reiskosten OAH'!X352=\"\",\"\",'Terugvordering reiskosten OAH'!X352)","v":""},{"$f":"IF('Terugvordering reiskosten OAH'!AJ352=\"\",\"\",'Terugvordering reiskosten OAH'!AJ352)","v":""},{"$f":"IF('Terugvordering reiskosten OAH'!AR352=\"\",\"\",'Terugvordering reiskosten OAH'!AR352)","v":""},{"$f":"IF('Terugvordering reiskosten OAH'!AY352=\"\",\"\",'Terugvordering reiskosten OAH'!AY352)","v":""},{"$f":"IF('Terugvordering reiskosten OAH'!BC352=0,\"\",'Terugvordering reiskosten OAH'!BC352)","v":""},{"$f":"IF('Terugvordering reiskosten OAH'!BK352=0,\"\",'Terugvordering reiskosten OAH'!BK352)","v":""},{"$f":"IF('Terugvordering reiskosten OAH'!BR352=0,\"\",'Terugvordering reiskosten OAH'!BR352)","v":""},{"$f":"IF('Terugvordering reiskosten OAH'!BZ352=0,\"\",'Terugvordering reiskosten OAH'!BZ352)","v":""},{"$f":"IF('Terugvordering reiskosten OAH'!CG352=\"\",\"\",'Terugvordering reiskosten OAH'!CG352)","v":""},{"$f":"IF('Terugvordering reiskosten OAH'!CM352=0,\"\",'Terugvordering reiskosten OAH'!CM352)","v":""}]
[{"$f":"IF('Terugvordering reiskosten OAH'!D353=\"\",\"\",IF('Terugvordering reiskosten OAH'!$T$36=\"\",\"\",'Terugvordering reiskosten OAH'!$T$36))","v":""},{"$f":"IF(A281=\"\",\"\",'Terugvordering reiskosten OAH'!$T$38)","v":""},{"$f":"IF(A281=\"\",\"\",'gegevensblad samenvatting vord.'!$C$2)","v":""},{"$f":"IF('Terugvordering reiskosten OAH'!D353=\"\",\"\",TEXT('Terugvordering reiskosten OAH'!D353,\"mm-jjjj\"))","v":""},{"$f":"IF('Terugvordering reiskosten OAH'!H353=\"\",\"\",'Terugvordering reiskosten OAH'!H353)","v":""},{"$f":"IF('Terugvordering reiskosten OAH'!R353=\"\",\"\",'Terugvordering reiskosten OAH'!R353)","v":""},{"$f":"IF('Terugvordering reiskosten OAH'!X353=\"\",\"\",'Terugvordering reiskosten OAH'!X353)","v":""},{"$f":"IF('Terugvordering reiskosten OAH'!AJ353=\"\",\"\",'Terugvordering reiskosten OAH'!AJ353)","v":""},{"$f":"IF('Terugvordering reiskosten OAH'!AR353=\"\",\"\",'Terugvordering reiskosten OAH'!AR353)","v":""},{"$f":"IF('Terugvordering reiskosten OAH'!AY353=\"\",\"\",'Terugvordering reiskosten OAH'!AY353)","v":""},{"$f":"IF('Terugvordering reiskosten OAH'!BC353=0,\"\",'Terugvordering reiskosten OAH'!BC353)","v":""},{"$f":"IF('Terugvordering reiskosten OAH'!BK353=0,\"\",'Terugvordering reiskosten OAH'!BK353)","v":""},{"$f":"IF('Terugvordering reiskosten OAH'!BR353=0,\"\",'Terugvordering reiskosten OAH'!BR353)","v":""},{"$f":"IF('Terugvordering reiskosten OAH'!BZ353=0,\"\",'Terugvordering reiskosten OAH'!BZ353)","v":""},{"$f":"IF('Terugvordering reiskosten OAH'!CG353=\"\",\"\",'Terugvordering reiskosten OAH'!CG353)","v":""},{"$f":"IF('Terugvordering reiskosten OAH'!CM353=0,\"\",'Terugvordering reiskosten OAH'!CM353)","v":""}]
[{"$f":"IF('Terugvordering reiskosten OAH'!D354=\"\",\"\",IF('Terugvordering reiskosten OAH'!$T$36=\"\",\"\",'Terugvordering reiskosten OAH'!$T$36))","v":""},{"$f":"IF(A282=\"\",\"\",'Terugvordering reiskosten OAH'!$T$38)","v":""},{"$f":"IF(A282=\"\",\"\",'gegevensblad samenvatting vord.'!$C$2)","v":""},{"$f":"IF('Terugvordering reiskosten OAH'!D354=\"\",\"\",TEXT('Terugvordering reiskosten OAH'!D354,\"mm-jjjj\"))","v":""},{"$f":"IF('Terugvordering reiskosten OAH'!H354=\"\",\"\",'Terugvordering reiskosten OAH'!H354)","v":""},{"$f":"IF('Terugvordering reiskosten OAH'!R354=\"\",\"\",'Terugvordering reiskosten OAH'!R354)","v":""},{"$f":"IF('Terugvordering reiskosten OAH'!X354=\"\",\"\",'Terugvordering reiskosten OAH'!X354)","v":""},{"$f":"IF('Terugvordering reiskosten OAH'!AJ354=\"\",\"\",'Terugvordering reiskosten OAH'!AJ354)","v":""},{"$f":"IF('Terugvordering reiskosten OAH'!AR354=\"\",\"\",'Terugvordering reiskosten OAH'!AR354)","v":""},{"$f":"IF('Terugvordering reiskosten OAH'!AY354=\"\",\"\",'Terugvordering reiskosten OAH'!AY354)","v":""},{"$f":"IF('Terugvordering reiskosten OAH'!BC354=0,\"\",'Terugvordering reiskosten OAH'!BC354)","v":""},{"$f":"IF('Terugvordering reiskosten OAH'!BK354=0,\"\",'Terugvordering reiskosten OAH'!BK354)","v":""},{"$f":"IF('Terugvordering reiskosten OAH'!BR354=0,\"\",'Terugvordering reiskosten OAH'!BR354)","v":""},{"$f":"IF('Terugvordering reiskosten OAH'!BZ354=0,\"\",'Terugvordering reiskosten OAH'!BZ354)","v":""},{"$f":"IF('Terugvordering reiskosten OAH'!CG354=\"\",\"\",'Terugvordering reiskosten OAH'!CG354)","v":""},{"$f":"IF('Terugvordering reiskosten OAH'!CM354=0,\"\",'Terugvordering reiskosten OAH'!CM354)","v":""}]
[{"$f":"IF('Terugvordering reiskosten OAH'!D355=\"\",\"\",IF('Terugvordering reiskosten OAH'!$T$36=\"\",\"\",'Terugvordering reiskosten OAH'!$T$36))","v":""},{"$f":"IF(A283=\"\",\"\",'Terugvordering reiskosten OAH'!$T$38)","v":""},{"$f":"IF(A283=\"\",\"\",'gegevensblad samenvatting vord.'!$C$2)","v":""},{"$f":"IF('Terugvordering reiskosten OAH'!D355=\"\",\"\",TEXT('Terugvordering reiskosten OAH'!D355,\"mm-jjjj\"))","v":""},{"$f":"IF('Terugvordering reiskosten OAH'!H355=\"\",\"\",'Terugvordering reiskosten OAH'!H355)","v":""},{"$f":"IF('Terugvordering reiskosten OAH'!R355=\"\",\"\",'Terugvordering reiskosten OAH'!R355)","v":""},{"$f":"IF('Terugvordering reiskosten OAH'!X355=\"\",\"\",'Terugvordering reiskosten OAH'!X355)","v":""},{"$f":"IF('Terugvordering reiskosten OAH'!AJ355=\"\",\"\",'Terugvordering reiskosten OAH'!AJ355)","v":""},{"$f":"IF('Terugvordering reiskosten OAH'!AR355=\"\",\"\",'Terugvordering reiskosten OAH'!AR355)","v":""},{"$f":"IF('Terugvordering reiskosten OAH'!AY355=\"\",\"\",'Terugvordering reiskosten OAH'!AY355)","v":""},{"$f":"IF('Terugvordering reiskosten OAH'!BC355=0,\"\",'Terugvordering reiskosten OAH'!BC355)","v":""},{"$f":"IF('Terugvordering reiskosten OAH'!BK355=0,\"\",'Terugvordering reiskosten OAH'!BK355)","v":""},{"$f":"IF('Terugvordering reiskosten OAH'!BR355=0,\"\",'Terugvordering reiskosten OAH'!BR355)","v":""},{"$f":"IF('Terugvordering reiskosten OAH'!BZ355=0,\"\",'Terugvordering reiskosten OAH'!BZ355)","v":""},{"$f":"IF('Terugvordering reiskosten OAH'!CG355=\"\",\"\",'Terugvordering reiskosten OAH'!CG355)","v":""},{"$f":"IF('Terugvordering reiskosten OAH'!CM355=0,\"\",'Terugvordering reiskosten OAH'!CM355)","v":""}]
[{"$f":"IF('Terugvordering reiskosten OAH'!D356=\"\",\"\",IF('Terugvordering reiskosten OAH'!$T$36=\"\",\"\",'Terugvordering reiskosten OAH'!$T$36))","v":""},{"$f":"IF(A284=\"\",\"\",'Terugvordering reiskosten OAH'!$T$38)","v":""},{"$f":"IF(A284=\"\",\"\",'gegevensblad samenvatting vord.'!$C$2)","v":""},{"$f":"IF('Terugvordering reiskosten OAH'!D356=\"\",\"\",TEXT('Terugvordering reiskosten OAH'!D356,\"mm-jjjj\"))","v":""},{"$f":"IF('Terugvordering reiskosten OAH'!H356=\"\",\"\",'Terugvordering reiskosten OAH'!H356)","v":""},{"$f":"IF('Terugvordering reiskosten OAH'!R356=\"\",\"\",'Terugvordering reiskosten OAH'!R356)","v":""},{"$f":"IF('Terugvordering reiskosten OAH'!X356=\"\",\"\",'Terugvordering reiskosten OAH'!X356)","v":""},{"$f":"IF('Terugvordering reiskosten OAH'!AJ356=\"\",\"\",'Terugvordering reiskosten OAH'!AJ356)","v":""},{"$f":"IF('Terugvordering reiskosten OAH'!AR356=\"\",\"\",'Terugvordering reiskosten OAH'!AR356)","v":""},{"$f":"IF('Terugvordering reiskosten OAH'!AY356=\"\",\"\",'Terugvordering reiskosten OAH'!AY356)","v":""},{"$f":"IF('Terugvordering reiskosten OAH'!BC356=0,\"\",'Terugvordering reiskosten OAH'!BC356)","v":""},{"$f":"IF('Terugvordering reiskosten OAH'!BK356=0,\"\",'Terugvordering reiskosten OAH'!BK356)","v":""},{"$f":"IF('Terugvordering reiskosten OAH'!BR356=0,\"\",'Terugvordering reiskosten OAH'!BR356)","v":""},{"$f":"IF('Terugvordering reiskosten OAH'!BZ356=0,\"\",'Terugvordering reiskosten OAH'!BZ356)","v":""},{"$f":"IF('Terugvordering reiskosten OAH'!CG356=\"\",\"\",'Terugvordering reiskosten OAH'!CG356)","v":""},{"$f":"IF('Terugvordering reiskosten OAH'!CM356=0,\"\",'Terugvordering reiskosten OAH'!CM356)","v":""}]
[{"$f":"IF('Terugvordering reiskosten OAH'!D357=\"\",\"\",IF('Terugvordering reiskosten OAH'!$T$36=\"\",\"\",'Terugvordering reiskosten OAH'!$T$36))","v":""},{"$f":"IF(A285=\"\",\"\",'Terugvordering reiskosten OAH'!$T$38)","v":""},{"$f":"IF(A285=\"\",\"\",'gegevensblad samenvatting vord.'!$C$2)","v":""},{"$f":"IF('Terugvordering reiskosten OAH'!D357=\"\",\"\",TEXT('Terugvordering reiskosten OAH'!D357,\"mm-jjjj\"))","v":""},{"$f":"IF('Terugvordering reiskosten OAH'!H357=\"\",\"\",'Terugvordering reiskosten OAH'!H357)","v":""},{"$f":"IF('Terugvordering reiskosten OAH'!R357=\"\",\"\",'Terugvordering reiskosten OAH'!R357)","v":""},{"$f":"IF('Terugvordering reiskosten OAH'!X357=\"\",\"\",'Terugvordering reiskosten OAH'!X357)","v":""},{"$f":"IF('Terugvordering reiskosten OAH'!AJ357=\"\",\"\",'Terugvordering reiskosten OAH'!AJ357)","v":""},{"$f":"IF('Terugvordering reiskosten OAH'!AR357=\"\",\"\",'Terugvordering reiskosten OAH'!AR357)","v":""},{"$f":"IF('Terugvordering reiskosten OAH'!AY357=\"\",\"\",'Terugvordering reiskosten OAH'!AY357)","v":""},{"$f":"IF('Terugvordering reiskosten OAH'!BC357=0,\"\",'Terugvordering reiskosten OAH'!BC357)","v":""},{"$f":"IF('Terugvordering reiskosten OAH'!BK357=0,\"\",'Terugvordering reiskosten OAH'!BK357)","v":""},{"$f":"IF('Terugvordering reiskosten OAH'!BR357=0,\"\",'Terugvordering reiskosten OAH'!BR357)","v":""},{"$f":"IF('Terugvordering reiskosten OAH'!BZ357=0,\"\",'Terugvordering reiskosten OAH'!BZ357)","v":""},{"$f":"IF('Terugvordering reiskosten OAH'!CG357=\"\",\"\",'Terugvordering reiskosten OAH'!CG357)","v":""},{"$f":"IF('Terugvordering reiskosten OAH'!CM357=0,\"\",'Terugvordering reiskosten OAH'!CM357)","v":""}]
[{"$f":"IF('Terugvordering reiskosten OAH'!D358=\"\",\"\",IF('Terugvordering reiskosten OAH'!$T$36=\"\",\"\",'Terugvordering reiskosten OAH'!$T$36))","v":""},{"$f":"IF(A286=\"\",\"\",'Terugvordering reiskosten OAH'!$T$38)","v":""},{"$f":"IF(A286=\"\",\"\",'gegevensblad samenvatting vord.'!$C$2)","v":""},{"$f":"IF('Terugvordering reiskosten OAH'!D358=\"\",\"\",TEXT('Terugvordering reiskosten OAH'!D358,\"mm-jjjj\"))","v":""},{"$f":"IF('Terugvordering reiskosten OAH'!H358=\"\",\"\",'Terugvordering reiskosten OAH'!H358)","v":""},{"$f":"IF('Terugvordering reiskosten OAH'!R358=\"\",\"\",'Terugvordering reiskosten OAH'!R358)","v":""},{"$f":"IF('Terugvordering reiskosten OAH'!X358=\"\",\"\",'Terugvordering reiskosten OAH'!X358)","v":""},{"$f":"IF('Terugvordering reiskosten OAH'!AJ358=\"\",\"\",'Terugvordering reiskosten OAH'!AJ358)","v":""},{"$f":"IF('Terugvordering reiskosten OAH'!AR358=\"\",\"\",'Terugvordering reiskosten OAH'!AR358)","v":""},{"$f":"IF('Terugvordering reiskosten OAH'!AY358=\"\",\"\",'Terugvordering reiskosten OAH'!AY358)","v":""},{"$f":"IF('Terugvordering reiskosten OAH'!BC358=0,\"\",'Terugvordering reiskosten OAH'!BC358)","v":""},{"$f":"IF('Terugvordering reiskosten OAH'!BK358=0,\"\",'Terugvordering reiskosten OAH'!BK358)","v":""},{"$f":"IF('Terugvordering reiskosten OAH'!BR358=0,\"\",'Terugvordering reiskosten OAH'!BR358)","v":""},{"$f":"IF('Terugvordering reiskosten OAH'!BZ358=0,\"\",'Terugvordering reiskosten OAH'!BZ358)","v":""},{"$f":"IF('Terugvordering reiskosten OAH'!CG358=\"\",\"\",'Terugvordering reiskosten OAH'!CG358)","v":""},{"$f":"IF('Terugvordering reiskosten OAH'!CM358=0,\"\",'Terugvordering reiskosten OAH'!CM358)","v":""}]
[{"$f":"IF('Terugvordering reiskosten OAH'!D359=\"\",\"\",IF('Terugvordering reiskosten OAH'!$T$36=\"\",\"\",'Terugvordering reiskosten OAH'!$T$36))","v":""},{"$f":"IF(A287=\"\",\"\",'Terugvordering reiskosten OAH'!$T$38)","v":""},{"$f":"IF(A287=\"\",\"\",'gegevensblad samenvatting vord.'!$C$2)","v":""},{"$f":"IF('Terugvordering reiskosten OAH'!D359=\"\",\"\",TEXT('Terugvordering reiskosten OAH'!D359,\"mm-jjjj\"))","v":""},{"$f":"IF('Terugvordering reiskosten OAH'!H359=\"\",\"\",'Terugvordering reiskosten OAH'!H359)","v":""},{"$f":"IF('Terugvordering reiskosten OAH'!R359=\"\",\"\",'Terugvordering reiskosten OAH'!R359)","v":""},{"$f":"IF('Terugvordering reiskosten OAH'!X359=\"\",\"\",'Terugvordering reiskosten OAH'!X359)","v":""},{"$f":"IF('Terugvordering reiskosten OAH'!AJ359=\"\",\"\",'Terugvordering reiskosten OAH'!AJ359)","v":""},{"$f":"IF('Terugvordering reiskosten OAH'!AR359=\"\",\"\",'Terugvordering reiskosten OAH'!AR359)","v":""},{"$f":"IF('Terugvordering reiskosten OAH'!AY359=\"\",\"\",'Terugvordering reiskosten OAH'!AY359)","v":""},{"$f":"IF('Terugvordering reiskosten OAH'!BC359=0,\"\",'Terugvordering reiskosten OAH'!BC359)","v":""},{"$f":"IF('Terugvordering reiskosten OAH'!BK359=0,\"\",'Terugvordering reiskosten OAH'!BK359)","v":""},{"$f":"IF('Terugvordering reiskosten OAH'!BR359=0,\"\",'Terugvordering reiskosten OAH'!BR359)","v":""},{"$f":"IF('Terugvordering reiskosten OAH'!BZ359=0,\"\",'Terugvordering reiskosten OAH'!BZ359)","v":""},{"$f":"IF('Terugvordering reiskosten OAH'!CG359=\"\",\"\",'Terugvordering reiskosten OAH'!CG359)","v":""},{"$f":"IF('Terugvordering reiskosten OAH'!CM359=0,\"\",'Terugvordering reiskosten OAH'!CM359)","v":""}]
[{"$f":"IF('Terugvordering reiskosten OAH'!D360=\"\",\"\",IF('Terugvordering reiskosten OAH'!$T$36=\"\",\"\",'Terugvordering reiskosten OAH'!$T$36))","v":""},{"$f":"IF(A288=\"\",\"\",'Terugvordering reiskosten OAH'!$T$38)","v":""},{"$f":"IF(A288=\"\",\"\",'gegevensblad samenvatting vord.'!$C$2)","v":""},{"$f":"IF('Terugvordering reiskosten OAH'!D360=\"\",\"\",TEXT('Terugvordering reiskosten OAH'!D360,\"mm-jjjj\"))","v":""},{"$f":"IF('Terugvordering reiskosten OAH'!H360=\"\",\"\",'Terugvordering reiskosten OAH'!H360)","v":""},{"$f":"IF('Terugvordering reiskosten OAH'!R360=\"\",\"\",'Terugvordering reiskosten OAH'!R360)","v":""},{"$f":"IF('Terugvordering reiskosten OAH'!X360=\"\",\"\",'Terugvordering reiskosten OAH'!X360)","v":""},{"$f":"IF('Terugvordering reiskosten OAH'!AJ360=\"\",\"\",'Terugvordering reiskosten OAH'!AJ360)","v":""},{"$f":"IF('Terugvordering reiskosten OAH'!AR360=\"\",\"\",'Terugvordering reiskosten OAH'!AR360)","v":""},{"$f":"IF('Terugvordering reiskosten OAH'!AY360=\"\",\"\",'Terugvordering reiskosten OAH'!AY360)","v":""},{"$f":"IF('Terugvordering reiskosten OAH'!BC360=0,\"\",'Terugvordering reiskosten OAH'!BC360)","v":""},{"$f":"IF('Terugvordering reiskosten OAH'!BK360=0,\"\",'Terugvordering reiskosten OAH'!BK360)","v":""},{"$f":"IF('Terugvordering reiskosten OAH'!BR360=0,\"\",'Terugvordering reiskosten OAH'!BR360)","v":""},{"$f":"IF('Terugvordering reiskosten OAH'!BZ360=0,\"\",'Terugvordering reiskosten OAH'!BZ360)","v":""},{"$f":"IF('Terugvordering reiskosten OAH'!CG360=\"\",\"\",'Terugvordering reiskosten OAH'!CG360)","v":""},{"$f":"IF('Terugvordering reiskosten OAH'!CM360=0,\"\",'Terugvordering reiskosten OAH'!CM360)","v":""}]
[{"$f":"IF('Terugvordering reiskosten OAH'!D361=\"\",\"\",IF('Terugvordering reiskosten OAH'!$T$36=\"\",\"\",'Terugvordering reiskosten OAH'!$T$36))","v":""},{"$f":"IF(A289=\"\",\"\",'Terugvordering reiskosten OAH'!$T$38)","v":""},{"$f":"IF(A289=\"\",\"\",'gegevensblad samenvatting vord.'!$C$2)","v":""},{"$f":"IF('Terugvordering reiskosten OAH'!D361=\"\",\"\",TEXT('Terugvordering reiskosten OAH'!D361,\"mm-jjjj\"))","v":""},{"$f":"IF('Terugvordering reiskosten OAH'!H361=\"\",\"\",'Terugvordering reiskosten OAH'!H361)","v":""},{"$f":"IF('Terugvordering reiskosten OAH'!R361=\"\",\"\",'Terugvordering reiskosten OAH'!R361)","v":""},{"$f":"IF('Terugvordering reiskosten OAH'!X361=\"\",\"\",'Terugvordering reiskosten OAH'!X361)","v":""},{"$f":"IF('Terugvordering reiskosten OAH'!AJ361=\"\",\"\",'Terugvordering reiskosten OAH'!AJ361)","v":""},{"$f":"IF('Terugvordering reiskosten OAH'!AR361=\"\",\"\",'Terugvordering reiskosten OAH'!AR361)","v":""},{"$f":"IF('Terugvordering reiskosten OAH'!AY361=\"\",\"\",'Terugvordering reiskosten OAH'!AY361)","v":""},{"$f":"IF('Terugvordering reiskosten OAH'!BC361=0,\"\",'Terugvordering reiskosten OAH'!BC361)","v":""},{"$f":"IF('Terugvordering reiskosten OAH'!BK361=0,\"\",'Terugvordering reiskosten OAH'!BK361)","v":""},{"$f":"IF('Terugvordering reiskosten OAH'!BR361=0,\"\",'Terugvordering reiskosten OAH'!BR361)","v":""},{"$f":"IF('Terugvordering reiskosten OAH'!BZ361=0,\"\",'Terugvordering reiskosten OAH'!BZ361)","v":""},{"$f":"IF('Terugvordering reiskosten OAH'!CG361=\"\",\"\",'Terugvordering reiskosten OAH'!CG361)","v":""},{"$f":"IF('Terugvordering reiskosten OAH'!CM361=0,\"\",'Terugvordering reiskosten OAH'!CM361)","v":""}]
[{"$f":"IF('Terugvordering reiskosten OAH'!D362=\"\",\"\",IF('Terugvordering reiskosten OAH'!$T$36=\"\",\"\",'Terugvordering reiskosten OAH'!$T$36))","v":""},{"$f":"IF(A290=\"\",\"\",'Terugvordering reiskosten OAH'!$T$38)","v":""},{"$f":"IF(A290=\"\",\"\",'gegevensblad samenvatting vord.'!$C$2)","v":""},{"$f":"IF('Terugvordering reiskosten OAH'!D362=\"\",\"\",TEXT('Terugvordering reiskosten OAH'!D362,\"mm-jjjj\"))","v":""},{"$f":"IF('Terugvordering reiskosten OAH'!H362=\"\",\"\",'Terugvordering reiskosten OAH'!H362)","v":""},{"$f":"IF('Terugvordering reiskosten OAH'!R362=\"\",\"\",'Terugvordering reiskosten OAH'!R362)","v":""},{"$f":"IF('Terugvordering reiskosten OAH'!X362=\"\",\"\",'Terugvordering reiskosten OAH'!X362)","v":""},{"$f":"IF('Terugvordering reiskosten OAH'!AJ362=\"\",\"\",'Terugvordering reiskosten OAH'!AJ362)","v":""},{"$f":"IF('Terugvordering reiskosten OAH'!AR362=\"\",\"\",'Terugvordering reiskosten OAH'!AR362)","v":""},{"$f":"IF('Terugvordering reiskosten OAH'!AY362=\"\",\"\",'Terugvordering reiskosten OAH'!AY362)","v":""},{"$f":"IF('Terugvordering reiskosten OAH'!BC362=0,\"\",'Terugvordering reiskosten OAH'!BC362)","v":""},{"$f":"IF('Terugvordering reiskosten OAH'!BK362=0,\"\",'Terugvordering reiskosten OAH'!BK362)","v":""},{"$f":"IF('Terugvordering reiskosten OAH'!BR362=0,\"\",'Terugvordering reiskosten OAH'!BR362)","v":""},{"$f":"IF('Terugvordering reiskosten OAH'!BZ362=0,\"\",'Terugvordering reiskosten OAH'!BZ362)","v":""},{"$f":"IF('Terugvordering reiskosten OAH'!CG362=\"\",\"\",'Terugvordering reiskosten OAH'!CG362)","v":""},{"$f":"IF('Terugvordering reiskosten OAH'!CM362=0,\"\",'Terugvordering reiskosten OAH'!CM362)","v":""}]
[{"$f":"IF('Terugvordering reiskosten OAH'!D363=\"\",\"\",IF('Terugvordering reiskosten OAH'!$T$36=\"\",\"\",'Terugvordering reiskosten OAH'!$T$36))","v":""},{"$f":"IF(A291=\"\",\"\",'Terugvordering reiskosten OAH'!$T$38)","v":""},{"$f":"IF(A291=\"\",\"\",'gegevensblad samenvatting vord.'!$C$2)","v":""},{"$f":"IF('Terugvordering reiskosten OAH'!D363=\"\",\"\",TEXT('Terugvordering reiskosten OAH'!D363,\"mm-jjjj\"))","v":""},{"$f":"IF('Terugvordering reiskosten OAH'!H363=\"\",\"\",'Terugvordering reiskosten OAH'!H363)","v":""},{"$f":"IF('Terugvordering reiskosten OAH'!R363=\"\",\"\",'Terugvordering reiskosten OAH'!R363)","v":""},{"$f":"IF('Terugvordering reiskosten OAH'!X363=\"\",\"\",'Terugvordering reiskosten OAH'!X363)","v":""},{"$f":"IF('Terugvordering reiskosten OAH'!AJ363=\"\",\"\",'Terugvordering reiskosten OAH'!AJ363)","v":""},{"$f":"IF('Terugvordering reiskosten OAH'!AR363=\"\",\"\",'Terugvordering reiskosten OAH'!AR363)","v":""},{"$f":"IF('Terugvordering reiskosten OAH'!AY363=\"\",\"\",'Terugvordering reiskosten OAH'!AY363)","v":""},{"$f":"IF('Terugvordering reiskosten OAH'!BC363=0,\"\",'Terugvordering reiskosten OAH'!BC363)","v":""},{"$f":"IF('Terugvordering reiskosten OAH'!BK363=0,\"\",'Terugvordering reiskosten OAH'!BK363)","v":""},{"$f":"IF('Terugvordering reiskosten OAH'!BR363=0,\"\",'Terugvordering reiskosten OAH'!BR363)","v":""},{"$f":"IF('Terugvordering reiskosten OAH'!BZ363=0,\"\",'Terugvordering reiskosten OAH'!BZ363)","v":""},{"$f":"IF('Terugvordering reiskosten OAH'!CG363=\"\",\"\",'Terugvordering reiskosten OAH'!CG363)","v":""},{"$f":"IF('Terugvordering reiskosten OAH'!CM363=0,\"\",'Terugvordering reiskosten OAH'!CM363)","v":""}]
[{"$f":"IF('Terugvordering reiskosten OAH'!D364=\"\",\"\",IF('Terugvordering reiskosten OAH'!$T$36=\"\",\"\",'Terugvordering reiskosten OAH'!$T$36))","v":""},{"$f":"IF(A292=\"\",\"\",'Terugvordering reiskosten OAH'!$T$38)","v":""},{"$f":"IF(A292=\"\",\"\",'gegevensblad samenvatting vord.'!$C$2)","v":""},{"$f":"IF('Terugvordering reiskosten OAH'!D364=\"\",\"\",TEXT('Terugvordering reiskosten OAH'!D364,\"mm-jjjj\"))","v":""},{"$f":"IF('Terugvordering reiskosten OAH'!H364=\"\",\"\",'Terugvordering reiskosten OAH'!H364)","v":""},{"$f":"IF('Terugvordering reiskosten OAH'!R364=\"\",\"\",'Terugvordering reiskosten OAH'!R364)","v":""},{"$f":"IF('Terugvordering reiskosten OAH'!X364=\"\",\"\",'Terugvordering reiskosten OAH'!X364)","v":""},{"$f":"IF('Terugvordering reiskosten OAH'!AJ364=\"\",\"\",'Terugvordering reiskosten OAH'!AJ364)","v":""},{"$f":"IF('Terugvordering reiskosten OAH'!AR364=\"\",\"\",'Terugvordering reiskosten OAH'!AR364)","v":""},{"$f":"IF('Terugvordering reiskosten OAH'!AY364=\"\",\"\",'Terugvordering reiskosten OAH'!AY364)","v":""},{"$f":"IF('Terugvordering reiskosten OAH'!BC364=0,\"\",'Terugvordering reiskosten OAH'!BC364)","v":""},{"$f":"IF('Terugvordering reiskosten OAH'!BK364=0,\"\",'Terugvordering reiskosten OAH'!BK364)","v":""},{"$f":"IF('Terugvordering reiskosten OAH'!BR364=0,\"\",'Terugvordering reiskosten OAH'!BR364)","v":""},{"$f":"IF('Terugvordering reiskosten OAH'!BZ364=0,\"\",'Terugvordering reiskosten OAH'!BZ364)","v":""},{"$f":"IF('Terugvordering reiskosten OAH'!CG364=\"\",\"\",'Terugvordering reiskosten OAH'!CG364)","v":""},{"$f":"IF('Terugvordering reiskosten OAH'!CM364=0,\"\",'Terugvordering reiskosten OAH'!CM364)","v":""}]
[{"$f":"IF('Terugvordering reiskosten OAH'!D365=\"\",\"\",IF('Terugvordering reiskosten OAH'!$T$36=\"\",\"\",'Terugvordering reiskosten OAH'!$T$36))","v":""},{"$f":"IF(A293=\"\",\"\",'Terugvordering reiskosten OAH'!$T$38)","v":""},{"$f":"IF(A293=\"\",\"\",'gegevensblad samenvatting vord.'!$C$2)","v":""},{"$f":"IF('Terugvordering reiskosten OAH'!D365=\"\",\"\",TEXT('Terugvordering reiskosten OAH'!D365,\"mm-jjjj\"))","v":""},{"$f":"IF('Terugvordering reiskosten OAH'!H365=\"\",\"\",'Terugvordering reiskosten OAH'!H365)","v":""},{"$f":"IF('Terugvordering reiskosten OAH'!R365=\"\",\"\",'Terugvordering reiskosten OAH'!R365)","v":""},{"$f":"IF('Terugvordering reiskosten OAH'!X365=\"\",\"\",'Terugvordering reiskosten OAH'!X365)","v":""},{"$f":"IF('Terugvordering reiskosten OAH'!AJ365=\"\",\"\",'Terugvordering reiskosten OAH'!AJ365)","v":""},{"$f":"IF('Terugvordering reiskosten OAH'!AR365=\"\",\"\",'Terugvordering reiskosten OAH'!AR365)","v":""},{"$f":"IF('Terugvordering reiskosten OAH'!AY365=\"\",\"\",'Terugvordering reiskosten OAH'!AY365)","v":""},{"$f":"IF('Terugvordering reiskosten OAH'!BC365=0,\"\",'Terugvordering reiskosten OAH'!BC365)","v":""},{"$f":"IF('Terugvordering reiskosten OAH'!BK365=0,\"\",'Terugvordering reiskosten OAH'!BK365)","v":""},{"$f":"IF('Terugvordering reiskosten OAH'!BR365=0,\"\",'Terugvordering reiskosten OAH'!BR365)","v":""},{"$f":"IF('Terugvordering reiskosten OAH'!BZ365=0,\"\",'Terugvordering reiskosten OAH'!BZ365)","v":""},{"$f":"IF('Terugvordering reiskosten OAH'!CG365=\"\",\"\",'Terugvordering reiskosten OAH'!CG365)","v":""},{"$f":"IF('Terugvordering reiskosten OAH'!CM365=0,\"\",'Terugvordering reiskosten OAH'!CM365)","v":""}]
[{"$f":"IF('Terugvordering reiskosten OAH'!D366=\"\",\"\",IF('Terugvordering reiskosten OAH'!$T$36=\"\",\"\",'Terugvordering reiskosten OAH'!$T$36))","v":""},{"$f":"IF(A294=\"\",\"\",'Terugvordering reiskosten OAH'!$T$38)","v":""},{"$f":"IF(A294=\"\",\"\",'gegevensblad samenvatting vord.'!$C$2)","v":""},{"$f":"IF('Terugvordering reiskosten OAH'!D366=\"\",\"\",TEXT('Terugvordering reiskosten OAH'!D366,\"mm-jjjj\"))","v":""},{"$f":"IF('Terugvordering reiskosten OAH'!H366=\"\",\"\",'Terugvordering reiskosten OAH'!H366)","v":""},{"$f":"IF('Terugvordering reiskosten OAH'!R366=\"\",\"\",'Terugvordering reiskosten OAH'!R366)","v":""},{"$f":"IF('Terugvordering reiskosten OAH'!X366=\"\",\"\",'Terugvordering reiskosten OAH'!X366)","v":""},{"$f":"IF('Terugvordering reiskosten OAH'!AJ366=\"\",\"\",'Terugvordering reiskosten OAH'!AJ366)","v":""},{"$f":"IF('Terugvordering reiskosten OAH'!AR366=\"\",\"\",'Terugvordering reiskosten OAH'!AR366)","v":""},{"$f":"IF('Terugvordering reiskosten OAH'!AY366=\"\",\"\",'Terugvordering reiskosten OAH'!AY366)","v":""},{"$f":"IF('Terugvordering reiskosten OAH'!BC366=0,\"\",'Terugvordering reiskosten OAH'!BC366)","v":""},{"$f":"IF('Terugvordering reiskosten OAH'!BK366=0,\"\",'Terugvordering reiskosten OAH'!BK366)","v":""},{"$f":"IF('Terugvordering reiskosten OAH'!BR366=0,\"\",'Terugvordering reiskosten OAH'!BR366)","v":""},{"$f":"IF('Terugvordering reiskosten OAH'!BZ366=0,\"\",'Terugvordering reiskosten OAH'!BZ366)","v":""},{"$f":"IF('Terugvordering reiskosten OAH'!CG366=\"\",\"\",'Terugvordering reiskosten OAH'!CG366)","v":""},{"$f":"IF('Terugvordering reiskosten OAH'!CM366=0,\"\",'Terugvordering reiskosten OAH'!CM366)","v":""}]
[{"$f":"IF('Terugvordering reiskosten OAH'!D367=\"\",\"\",IF('Terugvordering reiskosten OAH'!$T$36=\"\",\"\",'Terugvordering reiskosten OAH'!$T$36))","v":""},{"$f":"IF(A295=\"\",\"\",'Terugvordering reiskosten OAH'!$T$38)","v":""},{"$f":"IF(A295=\"\",\"\",'gegevensblad samenvatting vord.'!$C$2)","v":""},{"$f":"IF('Terugvordering reiskosten OAH'!D367=\"\",\"\",TEXT('Terugvordering reiskosten OAH'!D367,\"mm-jjjj\"))","v":""},{"$f":"IF('Terugvordering reiskosten OAH'!H367=\"\",\"\",'Terugvordering reiskosten OAH'!H367)","v":""},{"$f":"IF('Terugvordering reiskosten OAH'!R367=\"\",\"\",'Terugvordering reiskosten OAH'!R367)","v":""},{"$f":"IF('Terugvordering reiskosten OAH'!X367=\"\",\"\",'Terugvordering reiskosten OAH'!X367)","v":""},{"$f":"IF('Terugvordering reiskosten OAH'!AJ367=\"\",\"\",'Terugvordering reiskosten OAH'!AJ367)","v":""},{"$f":"IF('Terugvordering reiskosten OAH'!AR367=\"\",\"\",'Terugvordering reiskosten OAH'!AR367)","v":""},{"$f":"IF('Terugvordering reiskosten OAH'!AY367=\"\",\"\",'Terugvordering reiskosten OAH'!AY367)","v":""},{"$f":"IF('Terugvordering reiskosten OAH'!BC367=0,\"\",'Terugvordering reiskosten OAH'!BC367)","v":""},{"$f":"IF('Terugvordering reiskosten OAH'!BK367=0,\"\",'Terugvordering reiskosten OAH'!BK367)","v":""},{"$f":"IF('Terugvordering reiskosten OAH'!BR367=0,\"\",'Terugvordering reiskosten OAH'!BR367)","v":""},{"$f":"IF('Terugvordering reiskosten OAH'!BZ367=0,\"\",'Terugvordering reiskosten OAH'!BZ367)","v":""},{"$f":"IF('Terugvordering reiskosten OAH'!CG367=\"\",\"\",'Terugvordering reiskosten OAH'!CG367)","v":""},{"$f":"IF('Terugvordering reiskosten OAH'!CM367=0,\"\",'Terugvordering reiskosten OAH'!CM367)","v":""}]
[{"$f":"IF('Terugvordering reiskosten OAH'!D368=\"\",\"\",IF('Terugvordering reiskosten OAH'!$T$36=\"\",\"\",'Terugvordering reiskosten OAH'!$T$36))","v":""},{"$f":"IF(A296=\"\",\"\",'Terugvordering reiskosten OAH'!$T$38)","v":""},{"$f":"IF(A296=\"\",\"\",'gegevensblad samenvatting vord.'!$C$2)","v":""},{"$f":"IF('Terugvordering reiskosten OAH'!D368=\"\",\"\",TEXT('Terugvordering reiskosten OAH'!D368,\"mm-jjjj\"))","v":""},{"$f":"IF('Terugvordering reiskosten OAH'!H368=\"\",\"\",'Terugvordering reiskosten OAH'!H368)","v":""},{"$f":"IF('Terugvordering reiskosten OAH'!R368=\"\",\"\",'Terugvordering reiskosten OAH'!R368)","v":""},{"$f":"IF('Terugvordering reiskosten OAH'!X368=\"\",\"\",'Terugvordering reiskosten OAH'!X368)","v":""},{"$f":"IF('Terugvordering reiskosten OAH'!AJ368=\"\",\"\",'Terugvordering reiskosten OAH'!AJ368)","v":""},{"$f":"IF('Terugvordering reiskosten OAH'!AR368=\"\",\"\",'Terugvordering reiskosten OAH'!AR368)","v":""},{"$f":"IF('Terugvordering reiskosten OAH'!AY368=\"\",\"\",'Terugvordering reiskosten OAH'!AY368)","v":""},{"$f":"IF('Terugvordering reiskosten OAH'!BC368=0,\"\",'Terugvordering reiskosten OAH'!BC368)","v":""},{"$f":"IF('Terugvordering reiskosten OAH'!BK368=0,\"\",'Terugvordering reiskosten OAH'!BK368)","v":""},{"$f":"IF('Terugvordering reiskosten OAH'!BR368=0,\"\",'Terugvordering reiskosten OAH'!BR368)","v":""},{"$f":"IF('Terugvordering reiskosten OAH'!BZ368=0,\"\",'Terugvordering reiskosten OAH'!BZ368)","v":""},{"$f":"IF('Terugvordering reiskosten OAH'!CG368=\"\",\"\",'Terugvordering reiskosten OAH'!CG368)","v":""},{"$f":"IF('Terugvordering reiskosten OAH'!CM368=0,\"\",'Terugvordering reiskosten OAH'!CM368)","v":""}]
[{"$f":"IF('Terugvordering reiskosten OAH'!D369=\"\",\"\",IF('Terugvordering reiskosten OAH'!$T$36=\"\",\"\",'Terugvordering reiskosten OAH'!$T$36))","v":""},{"$f":"IF(A297=\"\",\"\",'Terugvordering reiskosten OAH'!$T$38)","v":""},{"$f":"IF(A297=\"\",\"\",'gegevensblad samenvatting vord.'!$C$2)","v":""},{"$f":"IF('Terugvordering reiskosten OAH'!D369=\"\",\"\",TEXT('Terugvordering reiskosten OAH'!D369,\"mm-jjjj\"))","v":""},{"$f":"IF('Terugvordering reiskosten OAH'!H369=\"\",\"\",'Terugvordering reiskosten OAH'!H369)","v":""},{"$f":"IF('Terugvordering reiskosten OAH'!R369=\"\",\"\",'Terugvordering reiskosten OAH'!R369)","v":""},{"$f":"IF('Terugvordering reiskosten OAH'!X369=\"\",\"\",'Terugvordering reiskosten OAH'!X369)","v":""},{"$f":"IF('Terugvordering reiskosten OAH'!AJ369=\"\",\"\",'Terugvordering reiskosten OAH'!AJ369)","v":""},{"$f":"IF('Terugvordering reiskosten OAH'!AR369=\"\",\"\",'Terugvordering reiskosten OAH'!AR369)","v":""},{"$f":"IF('Terugvordering reiskosten OAH'!AY369=\"\",\"\",'Terugvordering reiskosten OAH'!AY369)","v":""},{"$f":"IF('Terugvordering reiskosten OAH'!BC369=0,\"\",'Terugvordering reiskosten OAH'!BC369)","v":""},{"$f":"IF('Terugvordering reiskosten OAH'!BK369=0,\"\",'Terugvordering reiskosten OAH'!BK369)","v":""},{"$f":"IF('Terugvordering reiskosten OAH'!BR369=0,\"\",'Terugvordering reiskosten OAH'!BR369)","v":""},{"$f":"IF('Terugvordering reiskosten OAH'!BZ369=0,\"\",'Terugvordering reiskosten OAH'!BZ369)","v":""},{"$f":"IF('Terugvordering reiskosten OAH'!CG369=\"\",\"\",'Terugvordering reiskosten OAH'!CG369)","v":""},{"$f":"IF('Terugvordering reiskosten OAH'!CM369=0,\"\",'Terugvordering reiskosten OAH'!CM369)","v":""}]
[{"$f":"IF('Terugvordering reiskosten OAH'!D370=\"\",\"\",IF('Terugvordering reiskosten OAH'!$T$36=\"\",\"\",'Terugvordering reiskosten OAH'!$T$36))","v":""},{"$f":"IF(A298=\"\",\"\",'Terugvordering reiskosten OAH'!$T$38)","v":""},{"$f":"IF(A298=\"\",\"\",'gegevensblad samenvatting vord.'!$C$2)","v":""},{"$f":"IF('Terugvordering reiskosten OAH'!D370=\"\",\"\",TEXT('Terugvordering reiskosten OAH'!D370,\"mm-jjjj\"))","v":""},{"$f":"IF('Terugvordering reiskosten OAH'!H370=\"\",\"\",'Terugvordering reiskosten OAH'!H370)","v":""},{"$f":"IF('Terugvordering reiskosten OAH'!R370=\"\",\"\",'Terugvordering reiskosten OAH'!R370)","v":""},{"$f":"IF('Terugvordering reiskosten OAH'!X370=\"\",\"\",'Terugvordering reiskosten OAH'!X370)","v":""},{"$f":"IF('Terugvordering reiskosten OAH'!AJ370=\"\",\"\",'Terugvordering reiskosten OAH'!AJ370)","v":""},{"$f":"IF('Terugvordering reiskosten OAH'!AR370=\"\",\"\",'Terugvordering reiskosten OAH'!AR370)","v":""},{"$f":"IF('Terugvordering reiskosten OAH'!AY370=\"\",\"\",'Terugvordering reiskosten OAH'!AY370)","v":""},{"$f":"IF('Terugvordering reiskosten OAH'!BC370=0,\"\",'Terugvordering reiskosten OAH'!BC370)","v":""},{"$f":"IF('Terugvordering reiskosten OAH'!BK370=0,\"\",'Terugvordering reiskosten OAH'!BK370)","v":""},{"$f":"IF('Terugvordering reiskosten OAH'!BR370=0,\"\",'Terugvordering reiskosten OAH'!BR370)","v":""},{"$f":"IF('Terugvordering reiskosten OAH'!BZ370=0,\"\",'Terugvordering reiskosten OAH'!BZ370)","v":""},{"$f":"IF('Terugvordering reiskosten OAH'!CG370=\"\",\"\",'Terugvordering reiskosten OAH'!CG370)","v":""},{"$f":"IF('Terugvordering reiskosten OAH'!CM370=0,\"\",'Terugvordering reiskosten OAH'!CM370)","v":""}]
[{"$f":"IF('Terugvordering reiskosten OAH'!D371=\"\",\"\",IF('Terugvordering reiskosten OAH'!$T$36=\"\",\"\",'Terugvordering reiskosten OAH'!$T$36))","v":""},{"$f":"IF(A299=\"\",\"\",'Terugvordering reiskosten OAH'!$T$38)","v":""},{"$f":"IF(A299=\"\",\"\",'gegevensblad samenvatting vord.'!$C$2)","v":""},{"$f":"IF('Terugvordering reiskosten OAH'!D371=\"\",\"\",TEXT('Terugvordering reiskosten OAH'!D371,\"mm-jjjj\"))","v":""},{"$f":"IF('Terugvordering reiskosten OAH'!H371=\"\",\"\",'Terugvordering reiskosten OAH'!H371)","v":""},{"$f":"IF('Terugvordering reiskosten OAH'!R371=\"\",\"\",'Terugvordering reiskosten OAH'!R371)","v":""},{"$f":"IF('Terugvordering reiskosten OAH'!X371=\"\",\"\",'Terugvordering reiskosten OAH'!X371)","v":""},{"$f":"IF('Terugvordering reiskosten OAH'!AJ371=\"\",\"\",'Terugvordering reiskosten OAH'!AJ371)","v":""},{"$f":"IF('Terugvordering reiskosten OAH'!AR371=\"\",\"\",'Terugvordering reiskosten OAH'!AR371)","v":""},{"$f":"IF('Terugvordering reiskosten OAH'!AY371=\"\",\"\",'Terugvordering reiskosten OAH'!AY371)","v":""},{"$f":"IF('Terugvordering reiskosten OAH'!BC371=0,\"\",'Terugvordering reiskosten OAH'!BC371)","v":""},{"$f":"IF('Terugvordering reiskosten OAH'!BK371=0,\"\",'Terugvordering reiskosten OAH'!BK371)","v":""},{"$f":"IF('Terugvordering reiskosten OAH'!BR371=0,\"\",'Terugvordering reiskosten OAH'!BR371)","v":""},{"$f":"IF('Terugvordering reiskosten OAH'!BZ371=0,\"\",'Terugvordering reiskosten OAH'!BZ371)","v":""},{"$f":"IF('Terugvordering reiskosten OAH'!CG371=\"\",\"\",'Terugvordering reiskosten OAH'!CG371)","v":""},{"$f":"IF('Terugvordering reiskosten OAH'!CM371=0,\"\",'Terugvordering reiskosten OAH'!CM371)","v":""}]
[{"$f":"IF('Terugvordering reiskosten OAH'!D372=\"\",\"\",IF('Terugvordering reiskosten OAH'!$T$36=\"\",\"\",'Terugvordering reiskosten OAH'!$T$36))","v":""},{"$f":"IF(A300=\"\",\"\",'Terugvordering reiskosten OAH'!$T$38)","v":""},{"$f":"IF(A300=\"\",\"\",'gegevensblad samenvatting vord.'!$C$2)","v":""},{"$f":"IF('Terugvordering reiskosten OAH'!D372=\"\",\"\",TEXT('Terugvordering reiskosten OAH'!D372,\"mm-jjjj\"))","v":""},{"$f":"IF('Terugvordering reiskosten OAH'!H372=\"\",\"\",'Terugvordering reiskosten OAH'!H372)","v":""},{"$f":"IF('Terugvordering reiskosten OAH'!R372=\"\",\"\",'Terugvordering reiskosten OAH'!R372)","v":""},{"$f":"IF('Terugvordering reiskosten OAH'!X372=\"\",\"\",'Terugvordering reiskosten OAH'!X372)","v":""},{"$f":"IF('Terugvordering reiskosten OAH'!AJ372=\"\",\"\",'Terugvordering reiskosten OAH'!AJ372)","v":""},{"$f":"IF('Terugvordering reiskosten OAH'!AR372=\"\",\"\",'Terugvordering reiskosten OAH'!AR372)","v":""},{"$f":"IF('Terugvordering reiskosten OAH'!AY372=\"\",\"\",'Terugvordering reiskosten OAH'!AY372)","v":""},{"$f":"IF('Terugvordering reiskosten OAH'!BC372=0,\"\",'Terugvordering reiskosten OAH'!BC372)","v":""},{"$f":"IF('Terugvordering reiskosten OAH'!BK372=0,\"\",'Terugvordering reiskosten OAH'!BK372)","v":""},{"$f":"IF('Terugvordering reiskosten OAH'!BR372=0,\"\",'Terugvordering reiskosten OAH'!BR372)","v":""},{"$f":"IF('Terugvordering reiskosten OAH'!BZ372=0,\"\",'Terugvordering reiskosten OAH'!BZ372)","v":""},{"$f":"IF('Terugvordering reiskosten OAH'!CG372=\"\",\"\",'Terugvordering reiskosten OAH'!CG372)","v":""},{"$f":"IF('Terugvordering reiskosten OAH'!CM372=0,\"\",'Terugvordering reiskosten OAH'!CM372)","v":""}]
[{"$f":"IF('Terugvordering reiskosten OAH'!D373=\"\",\"\",IF('Terugvordering reiskosten OAH'!$T$36=\"\",\"\",'Terugvordering reiskosten OAH'!$T$36))","v":""},{"$f":"IF(A301=\"\",\"\",'Terugvordering reiskosten OAH'!$T$38)","v":""},{"$f":"IF(A301=\"\",\"\",'gegevensblad samenvatting vord.'!$C$2)","v":""},{"$f":"IF('Terugvordering reiskosten OAH'!D373=\"\",\"\",TEXT('Terugvordering reiskosten OAH'!D373,\"mm-jjjj\"))","v":""},{"$f":"IF('Terugvordering reiskosten OAH'!H373=\"\",\"\",'Terugvordering reiskosten OAH'!H373)","v":""},{"$f":"IF('Terugvordering reiskosten OAH'!R373=\"\",\"\",'Terugvordering reiskosten OAH'!R373)","v":""},{"$f":"IF('Terugvordering reiskosten OAH'!X373=\"\",\"\",'Terugvordering reiskosten OAH'!X373)","v":""},{"$f":"IF('Terugvordering reiskosten OAH'!AJ373=\"\",\"\",'Terugvordering reiskosten OAH'!AJ373)","v":""},{"$f":"IF('Terugvordering reiskosten OAH'!AR373=\"\",\"\",'Terugvordering reiskosten OAH'!AR373)","v":""},{"$f":"IF('Terugvordering reiskosten OAH'!AY373=\"\",\"\",'Terugvordering reiskosten OAH'!AY373)","v":""},{"$f":"IF('Terugvordering reiskosten OAH'!BC373=0,\"\",'Terugvordering reiskosten OAH'!BC373)","v":""},{"$f":"IF('Terugvordering reiskosten OAH'!BK373=0,\"\",'Terugvordering reiskosten OAH'!BK373)","v":""},{"$f":"IF('Terugvordering reiskosten OAH'!BR373=0,\"\",'Terugvordering reiskosten OAH'!BR373)","v":""},{"$f":"IF('Terugvordering reiskosten OAH'!BZ373=0,\"\",'Terugvordering reiskosten OAH'!BZ373)","v":""},{"$f":"IF('Terugvordering reiskosten OAH'!CG373=\"\",\"\",'Terugvordering reiskosten OAH'!CG373)","v":""},{"$f":"IF('Terugvordering reiskosten OAH'!CM373=0,\"\",'Terugvordering reiskosten OAH'!CM373)","v":""}]

{"sheet":"instellingsgegevens","index":26,"n_rows":1142,"n_cols":7,"rows_kept":1142,"hidden":true}
["nummer_instelling","korte_naam_instell","Adres","postnummer","naam_gemeente","telefoonnr","e_mail"]
[27193,"GO! SBSO Campus Heemschool","Beizegemstraat 132",1120,"NEDER-OVER-HEEMBEEK","02-262.03.20","info.buso@campusheemschool.be"]
[27201,"GO! SBSO Zonnebos","Moerstraat 50",2970,"'S GRAVENWEZEL","03-680.12.50","machteld.aerts@zonnebos.eu"]
[27219,"GO! SBSO De 3master","Kempenstraat 32",2460,"KASTERLEE","014-85.00.52","secundair.onderwijs@de3master.be"]
[27227,"GO! SBSO Groenlaar","Predikherenhoevestraat 31",2840,"REET","03-888.38.64","directeur@sbso.groenlaar.be"]
[27235,"GO! SBSO Baken","Bellestraat 89",9100,"SINT-NIKLAAS","03-776.46.65","info@sbsobaken.be"]
[27243,"GO! IBSO Woudlucht","Prosperdreef 3",3001,"HEVERLEE","016-38.06.66","fme.buso@woudlucht.be"]
[27251,"GO! SSBO De Richter","Richter 27",3600,"GENK","089-35.90.25","info.buso@derichter.be"]
[27268,"GO! Next SBSO De Dageraad","Tapstraat 12",3720,"KORTESSEM","011-34.34.47","secretariaat@busodedageraad.be"]
[27276,"GO! SBSO Helix","Speelpleinstraat 77",3920,"LOMMEL","011-55.02.10","info@sbsohelix.be"]
[27284,"GO! SBSO De Varens","Nieuwe St.-Annadreef 27",8200,"SINT-ANDRIES","050-38.86.60","info@devarens.be"]
[27292,"GO! SBSO Aan Zee","Maurits Sabbestraat 8",8400,"OOSTENDE","059-70.34.68","ann.van.riet@busoaanzee.be"]
[27301,"GO! athena-campus Ter Bruyninge BuSO","Bruyningstraat 52",8510,"MARKE","056-22.59.20","info@athena-terbruyninge.be"]
[27318,"GO! SBSO Sterrebos","Bornstraat 52",8800,"RUMBEKE","051-22.74.11","sbso@campussterrebos.be"]
[27326,"GO! SBSO Campus Impuls","Wolfputstraat 42",9041,"OOSTAKKER","09 251 23 02","marijke.eeckhout@scholengroep.gent"]
[27334,"GO! SBSO t Vurstjen","Vurstjen 27",9940,"EVERGEM","09-253.13.57","info@buso-evergem.be"]
[27342,"GO! IBSO De Horizon","Molendreef 57",9300,"AALST","053-78.89.59","info@ibsodehorizon.be"]
[27359,"Buso Zaveldal","Nieuwland 198",1000,"BRUSSEL","02-512.14.75","info@zaveldal-vgc.be"]
[27367,"Buso Cardijnschool","Inkendaalstraat 1",1602,"VLEZENBEEK","02-478.03.33","administratie@cardijnschool.be"]
[27383,"Buso Kasterlinden","Groot-Bijgaardenstraat 434",1082,"SINT-AGATHA-BERCHEM","02 430 67 00","secretariaat@kasterlinden-vgc.be"]
[27391,"Koninklijk Instituut Woluwe - Buso","Georges Henrilaan 278",1200,"SINT-LAMBRECHTS-WOLUWE","02-735.40.85","buso.woluwe@kiwoluwe.be"]
[27409,"Buso Don Bosco","Lenniksesteenweg 2",1500,"HALLE","02-363.09.85","info@donboscobuso.be"]
[27417,"Buso Levenslust","Scheestraat 74",1750,"SINT-MARTENS-LENNIK","02-568.11.08","filip.helleputte@levenslustvzw.be"]
[27425,"Buso Sint-Franciscus","Lostraat 175",1760,"ROOSDAAL","053-64.66.40","info.buso@sintfranciscus.be"]
[27433,"Stedelijke Buso De Vest","Vestenstraat 14",1800,"VILVOORDE","02-251.27.03","directie.devest@sovilvoorde.be"]
[27441,"Buso Maria Assumpta","Heiveld 15",1745,"OPWIJK","052-35.65.64","info@mai.vko.be"]
[27458,"GO! BuSO Schoolhuis","Schoolstraat 11",1745,"OPWIJK","052-35.71.16","info@schoolhuis.be"]
[27474,"Buso - Parcival-Steinerschool","Lamorinièrestraat 77",2018,"ANTWERPEN","03-230.24.44","parcivalschool@parcivalschool.be"]
[27482,"BuSO KOCA Secundair Onderwijs(OV1t7&OV3)","Van Schoonbekestraat 131",2018,"ANTWERPEN","03-240.01.33","secundaironderwijs@koca.be"]
[27491,"Buso De Markgrave","Markgravelei 81",2018,"ANTWERPEN","03-237.71.82","farnoush.moradi@demarkgrave.be"]
[27508,"Buso Sint-Jozefinstituut","Kerkstraat 153",2060,"ANTWERPEN","03-235.40.00","info@sjikerkstraat.be"]
[27516,"Buso Katrinahof","Peter Benoitstraat 44",2018,"ANTWERPEN","03-248.53.54","buso@katrinahofscholen.be"]
[27524,"De Leerexpert","Begijnenvest 35",2000,"ANTWERPEN","03-201.67.60","begijnenvest@leerexpert.be"]
[27532,"De Leerexpert","Schoolstraat 2",2060,"ANTWERPEN","03-292.31.40","schoolstraat@leerexpert.be"]
[27541,"Buso Sint-Jozefinstituut","Sint-Jacobsmarkt 38",2000,"ANTWERPEN","03-432.02.20","info@sintjozefov4.be"]
[27557,"De Leerexpert_Burchtse Weel","Burchtse Weel 102",2050,"ANTWERPEN","03-250.16.40","burchtseweel.secundair@leerexpert.be"]
[27565,"De Leerexpert Schotensestnwg 252","Schotensesteenweg 252",2100,"DEURNE","03-328.05.70","schotensesteenweg252@leerexpert.be"]
[27573,"Buso t Lommert","Botermelkbaan 75",2900,"SCHOTEN","03-658.65.56","mail@lommert.be"]
[27581,"Buso Kristus-Koning","Bethaniënlei 5",2960,"SINT-JOB-IN-'T-GOOR","03-217.03.50","info@busokristuskoning.be"]
[27599,"De Leerexpert Dullingen","Dullingen 46",2930,"BRASSCHAAT","03-217.26.30","dullingen.secundair@leerexpert.be"]
[27607,"Buso Berkenbeek","Nieuwmoerse Steenweg 113_C",2990,"WUUSTWEZEL","03-669.67.73","secundaireschool@berkenbeek.be"]
[27615,"Buso VIBO De Brem","Oude Arendonkse Baan 36",2360,"OUD-TURNHOUT","014-45.07.92","directieov2-3@vibo-dering.be"]
[27623,"Pulderbos Secundair Onderwijs (BuSO)","Reebergenlaan 4",2242,"PULDERBOS","03-466.06.30","so@revapulderbos.be"]
[27631,"Gemeentelijke Buso Galbergen","Don Boscostraat 39",2400,"MOL","014-31.87.42","info.gibbo@gemeentemol.be"]
[27649,"Buso Oosterlo","Eindhoutseweg 25",2440,"GEEL","014-86.11.47","info@buso-oosterlo.be"]
[27656,"Buso De Regenboog","Kapelstraat 33",2500,"LIER","03-480.23.11","info@busoderegenboog.com"]
[27664,"Buso Sint-Jan Berchmansinstituut","Hof-ten-Berglaan 8",2870,"PUURS-SINT-AMANDS","03-897.96.70","buso@sjabi.be"]
[27681,"Buso VTS 3 - OV 3","Breedstraat 104",9100,"SINT-NIKLAAS","03-780.53.61","ov3@vts3.be"]
[27698,"GO! Busleyden Ath. De Beemden","Stuivenbergbaan 135",2800,"MECHELEN","015-41.48.70","info@BAdebeemden.be"]
[27706,"Buso Sint-Janshof","Nekkerspoelstraat 358_B",2800,"MECHELEN","015-20.27.61","info@sint-janshof.be"]
[27722,"Buso Windekind","Schapenstraat 98",3000,"LEUVEN","016-24.11.10","buso.directie@windekindleuven.be"]
[27731,"Buso Ter Bank","Tervuursesteenweg 295",3001,"HEVERLEE","016-29.01.81","damiaan.ovaere@teb.ksleuven.be"]
[27755,"Buso Mevrouw Govaerts instituut","Kastanjedreef 12",2220,"HEIST-OP-DEN-BERG","015-24.07.24","info.ov3@img-heist.be"]
[27763,"Tongelsbos BuSO","Oevelse dreef 20",2260,"WESTERLO","014-53.81.81","info@buso.tongelsbos.be"]
[27771,"Stedelijke Buso De Brug","Amerstraat 3",3200,"AARSCHOT","016-56.74.15","directeur@debrug-aarschot.be"]
[27789,"Buso De Bremberg","Groenstraat 16",3294,"MOLENSTEDE","013-33.38.86","secretariaat@busodebremberg.com"]
[27805,"Buso Mariadal","Klein Overlaar 3",3320,"HOEGAARDEN","016-76.75.21","sven.lambrecht@busomariadal.be"]
[27821,"Buso - KIDS","Borggravevijversstraat 9",3500,"HASSELT","011-22.25.93","buso@kids.be"]
[27839,"Buso Sint-Elisabeth (OV2 & OV4)","Steenovenstraat 20",3990,"WIJCHMAAL","011-52.03.60","info@elisa.be"]
[27847,"Buso Sint-Jozef","Dorpsstraat 91",3900,"PELT","011-60.91.60","info@bbo.wico.be"]
[27854,"Provinciale BuSO De Wissel","Arbeidsstraat 66",3600,"GENK","089-38.03.49","sandra.simons@limburg.be"]
[27862,"Buso Sint-Gerardus","Sint-Gerardusdreef 1",3590,"DIEPENBEEK","011-35.01.42","buso@sintgerardus.be"]
[27871,"STEBO Dilsen","Rijksweg 454",3650,"DILSEN-STOKKEM","089-79.08.76","stebo@dilsen-stokkem.be"]
[27888,"Buso De Garve","Langs de Graaf 11",3650,"DILSEN-STOKKEM","089-50.28.22","info@degarve.be"]
[27896,"Buso Ter Engelen","Burgemeester Philipslaan 15_A",3680,"MAASEIK","089-56.69.86","info@busoterengelen.be"]
[27904,"Buso Sint-Jansberg","Weertersteenweg 135",3680,"MAASEIK","089-56.49.83","info@buso-sintjansberg.be"]
[27912,"GO! SBSO Sibbo","Corversstraat 33",3700,"TONGEREN","012-26.03.70","info@sibbo.be"]
[27938,"Provinciale Buso PROVIL ION","Duinenstraat 1",3920,"LOMMEL","011-79.93.30","info@provilion.be"]
[27946,"Secundaire scholen St-Ferdinand OV3","St.-Ferdinandstraat 1",3560,"LUMMEN","013-53.06.30","secundairescholen@ferdinand.broedersvanliefde.be"]
[27961,"Buso Sint-Barbara","Mijnschoolstraat 63",3580,"BERINGEN","011-42.13.88","info@vibosintbarbara.be"]
[27995,"Buso Sint-Rafael","Maagdestraat 56",9000,"GENT","09-292.40.89","i.dehondt@sintrafael.be"]
[28019,"Buso Huize Tordale","Bruggestraat 39",8820,"TORHOUT","050-23.13.65","dewissel@tordale.be"]
[28027,"Buso Heuvelzicht","Stokstraat 1_A",8650,"KLERKEN","051-50.55.58","buo@heuvelzicht.be"]
[28035,"Buso Ravelijn","Barrièrestraat 4_A",8200,"SINT-MICHIELS","050-38.07.03","buso@ravelijn.be"]
[28043,"Buso Haverlo","Weidestraat 156",8310,"ASSEBROEK","050-35.57.00","info@haverlo.be"]
[28051,"Buso Ter Strepe","Westendelaan 39",8430,"MIDDELKERKE","059-31.99.30","buso@terstrepe.be"]
[28068,"GO! SBSO Zeelyceum","Koninklijke Baan 5",8420,"DE HAAN","059-23.40.85","info@zeelyceum.be"]
[28076,"Buso Inspirant aan zee","Albert I Laan 56",8670,"OOSTDUINKERKE","058-53.20.80","info@derozenkransbuso.be"]
[28101,"Sint-Paulusschool campus VTI/VIBSO","Toekomststraat 75",8790,"WAREGEM","056-60.01.35","info.campusvti-vibso@sintpaulus.eu"]
[28118,"Buso Sint-Idesbald","De Zilten 52",8800,"ROESELARE","051-26.43.26","buso.st.idesbald@fracarita.org"]
[28126,"Buso Onze Jeugd","Iepersestraat 245",8800,"ROESELARE","051-20.58.86","directie.onzejeugd@sint-michiel.be"]
[28134,"Secundair Onderwijs Dominiek Savio(Buso)","Koolskampstraat 24",8830,"GITS","051-23.07.15","pieter.stock@dominiek-savio.be"]
[28142,"Buso De Ster","Steenstraat 42",8700,"TIELT","051-42.75.10","dester@molenland.be"]
[28159,"Buso De Ast","Boeschepestraat 46",8970,"POPERINGE","057-34.65.51","deast@bertinuscollectief.be"]
[28167,"Buso De Pinker","Krombeekseweg 82",8970,"POPERINGE","057-33.49.69","info@depinker.be"]
[28175,"Buso Styrka Sec. Ond. @ Waterkant","Stropkaai 38_A",9000,"GENT","09-222.15.84","kika.carpentier@waterkant.be"]
[28183,"IVIO Binnenhof","Peperstraat 27",9000,"GENT","09-223.98.71","directie@ivio-binnenhof.be"]
[28191,"Stedelijke Buso Bert Carlier","Oudenaardsesteenweg 74",9000,"GENT","09-222.86.23","ibc.dir@onderwijs.gent.be"]
[28209,"Buso Styrka Sec. Ond.","Ebergiste De Deynestraat 1",9000,"GENT","09-240.13.73","buso@sint-jozef.org"]
[28217,"Buso De Karwij","Durmelaan 118",9160,"LOKEREN","09-348.67.86","info@de-karwij.be"]
[28225,"Buso Broederschool Lokeren","Molenstraat 38",9160,"LOKEREN","09-348.37.96","dir@buso.broeders.be"]
[28233,"Buso Sint-Lodewijk","Kwatrechtsteenweg 168",9230,"WETTEREN","09-272.53.00","buso@sintlodewijk.be"]
[28241,"Buso Sint-Gregorius","Jules Destréelaan 67",9050,"GENTBRUGGE","09-210.01.50","info@sintgregorius.be"]
[28258,"Buso Levensvreugde","Botermelkstraat 201",9300,"AALST","053-38.28.28","directeur@busolevensvreugde.be"]
[28266,"Buso Don Bosco","Bergemeersenstraat 106",9300,"AALST","053-78.85.25","donboscoaalst.buso@telenet.be"]
[28274,"Buso Capelderij","Vekenstraat 1_A",9255,"BUGGENHOUT","052-33.68.60","buso@capelderij.be"]
[28308,"Buso Sint-Franciscusschool","Penitentenlaan 1",9620,"ZOTTEGEM","09-360.58.43","directie@sfsvelzeke.be"]
[28316,"BuSO Bernardusscholen 7","Vlaanderenstraat 6",9700,"OUDENAARDE","055-30.19.99","frank.pieters@bernardusscholen.be"]
[28324,"GO! SBSO Wagenschot","Steenweg 2",9810,"EKE","09-280.89.60","school@wagenschot.be"]
[28332,"Buso Ten Dries","Dennendreef 60",9850,"LANDEGEM","09-371.98.66","buso@tendries.be"]
[28341,"Buso Emmaüs","Leihoekstraat 7_B",9870,"MACHELEN","09-386.60.08","krista.verniest@op-weg.net"]
[28357,"Buso De Triangel","Molendreef 16_C",9920,"LIEVEGEM","09-370.72.15","evelyn.quintyn@dvcdetriangel.be"]
[28514,"Provinciaal Instituut PIVA","Desguinlei 244",2018,"ANTWERPEN","03-242.26.00","info.piva@provincieantwerpen.be"]
[28589,"Instituut Sint-Maria","Lovelingstraat 8",2060,"ANTWERPEN","03-235.37.35","sintmaria@ismo.be"]
[28613,"Stedelijk Lyceum Olympiade","VIIde-Olympiadelaan 2",2020,"ANTWERPEN","03-242.90.60","bram.wellens@so.antwerpen.be"]
[28639,"Stedelijk Lyceum Lamorinière","Lamorinièrestraat 248",2018,"ANTWERPEN","03-285.94.00","bob.beuckels@so.antwerpen.be"]
[28721,"Stedelijk Lyceum Cadix","Cadixstraat 2",2000,"ANTWERPEN","03-432.70.00","inge.vandevelde@so.antwerpen.be"]
[28845,"Sint-Norbertusinstituut","Amerikalei 47",2000,"ANTWERPEN","03-237.71.95","secretariaat@sint-norbertus.be"]
[28852,"Onze-Lieve-Vrouwecollege_Plus","Frankrijklei 91",2000,"ANTWERPEN","03-232.88.28","info@olvcplus.be"]
[28878,"Onze-Lieve-Vrouwecollege Plus","Louiza-Marialei 5",2018,"ANTWERPEN","03-232.88.28","info@olvcplus.be"]
[28951,"Tachkemoni Secundair","Lange Leemstraat 313",2018,"ANTWERPEN","03-287.00.70","atheneum@tachkemoni.be"]
[29017,"Stedelijk Lyceum Pestalozzi I","Jan De Voslei 6",2020,"ANTWERPEN","03-293.24.00","annick.liesenborghs@so.antwerpen.be"]
[29041,"Israelitisch Atheneum Jesode-Hatora-B-J","Steenbokstraat 14",2018,"ANTWERPEN","03-239.25.35","info@jhbj.be"]
[29058,"Sint-Lucas Kunstsecundair","Sint-Jozefstraat 35",2018,"ANTWERPEN","03-201.59.70","info@st-lucaskso.be"]
[29231,"Israelitische Middenschool Jesode-H-B-J","Lange Van Ruusbroecstraat 12",2018,"ANTWERPEN","03-239.25.35","info@jhbj.be"]
[29281,"Koninklijke Balletschool Antwerpen","Maria Pijpelincxstraat 1",2000,"ANTWERPEN","03-202.83.28","laura.baaijens@so.antwerpen.be"]
[29306,"Stedelijk Lyceum Linkeroever","Gloriantlaan 60",2050,"ANTWERPEN","03-292.90.50","suzzy.vanlaer@so.antwerpen.be"]
[29331,"Stedelijk Lyceum Lange Beeldekens","Lange Beeldekensstraat 264",2060,"ANTWERPEN","03-289.10.40","nadia.michielsen@so.antwerpen.be"]
[29348,"Stedelijk Lyceum Quellin","Quellinstraat 31",2018,"ANTWERPEN","03-201.62.80","tinne.avonds@so.antwerpen.be"]
[29421,"Sint-Lievenscollege Middenschool","Amerikalei 32",2000,"ANTWERPEN","03-201.48.80","middenschool@sintlievensantwerpen.be"]
[29447,"Instituut Maris Stella - Sint-Agnes","Turnhoutsebaan 226",2140,"BORGERHOUT","03-236.91.07","info@ims-borgerhout.be"]
[29454,"Sint-Claracollege","Kloosterbaan 5",2370,"ARENDONK","014-67.85.72","info@sintclara.kobart.be"]
[29521,"Sec. Ond. Schoonheidszorgen D. Grésiac","Koninklijkelaan 9",2600,"BERCHEM","03-230.03.84","info@denisegresiac.be"]
[29553,"Hiberniaschool Mid Steinersch Antwerpen","Volkstraat 40",2000,"ANTWERPEN","03-293.28.98","info@hiberniaschool.be"]
[29751,"Xaveriuscollege","Collegelaan 36",2140,"BORGERHOUT","03-217.44.10","Secretariaat@xaco.be"]
[29777,"Onze-Lieve-Vrouw-Presentatie","Kardinaal Cardijnplein 11",2880,"BORNEM","03-361.41.10","greet.de.smedt@olvpbornem.be"]
[29785,"Onze-Lieve-Vrouw-Presentatie -Middensch.","Driesstraat 10",2880,"BORNEM","03-361.41.10","inge.cools@olvpbornem.be"]
[29793,"Sint-Jozefsinstituut","Lucien Hendrickxlei 2_B",2150,"BORSBEEK","03-321.53.51","info@sji-borsbeek.be"]
[29827,"Mater Dei Instituut","Bredabaan 394",2930,"BRASSCHAAT","03-651.86.51","secretariaat@materdeibrasschaat.be"]
[29843,"Sint-Michielscollege Brasschaat","Kapelsesteenweg 72",2930,"BRASSCHAAT","03-640.30.30","algdir@smcb.be"]
[29851,"Mater Dei-Instituut","Bredabaan 394",2930,"BRASSCHAAT","03-651.86.51","secretariaat@materdeibrasschaat.be"]
[29868,"Gemeentelijk Inst. Brasschaat Sec. Ond.","Door Verstraetelei 50",2930,"BRASSCHAAT","03-650.00.70","directie.bovenschool@gibbrasschaat.be"]
[29876,"Gemeentelijke Middenschool","Miksebaan 47",2930,"BRASSCHAAT","03-650.00.70","directie.middenschool@gibbrasschaat.be"]
[29901,"Stedelijk Lyceum Lakbors","Confortalei 173",2100,"DEURNE","03-360.50.20","leen.vantongerloo@so.antwerpen.be"]
[29942,"Stedelijk Lyceum Waterbaan","Waterbaan 159",2100,"DEURNE","03-292.66.70","chantal.martiny@so.antwerpen.be"]
[29983,"Gemeentelijk Technisch Instituut","Rooienberg 20",2570,"DUFFEL","015-31.34.37","info@gtiduffel.be"]
[30007,"Moretus 3","Oorderseweg 8",2180,"EKEREN","03-541.03.05","info@moretus-ekeren.be"]
[30015,"Moretus 1","Kloosterstraat 82",2180,"EKEREN","03-541.01.36","info@moretus-ekeren.be"]
[30023,"Moretus 4","Kloosterstraat 82",2180,"EKEREN","03-541.01.36","info@moretus-ekeren.be"]
[30031,"College van het Eucharistisch Hart","Rouwmoer 7_B",2910,"ESSEN","03-667.20.51","directie@CollegeEssen.be"]
[30049,"Sint-Jozefinstituut ASO","Hofstraat 56",2910,"ESSEN","03-667.22.88","directie@stjozefasoessen.be"]
[30056,"Don Bosco-Mariaberginstituut","Kloosterstraat 70",2910,"ESSEN","03-690.19.10","info@dbm-essen.be"]
[30098,"KOGEKA 5","Schuttershof 2_B",2440,"GEEL","014-56.26.50","sdg.college@kogeka.be"]
[30155,"Sint-Lambertusinstituut","Kerkplein 14",2220,"HEIST-OP-DEN-BERG","015-24.12.42","sintlambertus@sintlambertus.be"]
[30163,"Heilig Hart - Middenschool 1","Biekorfstraat 8",2220,"HEIST-OP-DEN-BERG","015-22.10.10","middenschool@heilig-hartcollege.be"]
[30171,"Heilig Hart - Bovenbouw 1","Biekorfstraat 8",2220,"HEIST-OP-DEN-BERG","015-22.10.10","bovenbouw@heilig-hartcollege.be"]
[30189,"Heilig Hart - Middenschool 2","Biekorfstraat 10",2220,"HEIST-OP-DEN-BERG","015-22.10.10","middenschool@heilig-hartcollege.be"]
[30197,"Heilig Hart - Bovenbouw 2","Biekorfstraat 10",2220,"HEIST-OP-DEN-BERG","015-22.10.10","bovenbouw@heilig-hartcollege.be"]
[30205,"kOsh A","Scheppersstraat 9",2200,"HERENTALS","014-24.85.20","scheppersstraat@kosh.be"]
[30213,"kOsh B","Scheppersstraat 9",2200,"HERENTALS","014-24.85.20","scheppersstraat@kosh.be"]
[30221,"kOsh C","Scheppersstraat 9",2200,"HERENTALS","014-24.85.20","scheppersstraat@kosh.be"]
[30239,"kOsh D","Collegestraat 46",2200,"HERENTALS","014-25.45.00","collegestraat@kosh.be"]
[30262,"kOsh E","Collegestraat 46",2200,"HERENTALS","014-25.45.00","collegestraat@kosh.be"]
[30312,"Don Bosco Technisch Instituut","Salesianenlaan 1",2660,"HOBOKEN","03-828.00.95","info@donboscohoboken.be"]
[30361,"Vrij Instituut voor Technisch Onderwijs","Gravin Elisabethlaan 30",2320,"HOOGSTRATEN","03-340.40.30","alex.mensch@vitohoogstraten.be"]
[30379,"V.T.I. Spijker","Gelmelstraat 62",2320,"HOOGSTRATEN","03-340.22.80","info@vti-spijker.be"]
[30395,"Klein Seminarie","Vrijheid 234",2320,"HOOGSTRATEN","03-340.40.40","info@klein-seminarie.be"]
[30403,"ASO Spijker","Lindendreef 37",2320,"HOOGSTRATEN","03-314.55.36","info@asospijker.be"]
[30411,"Regina Pacisinstituut - ASO","Boechoutsesteenweg 87_A",2540,"HOVE","03-455.68.58","Regina.Pacis.Hove@regpacho.be"]
[30437,"Gitok Bovenbouw","Kapellensteenweg 112",2920,"KALMTHOUT","03-666.86.57","info@gitokbovenbouw.be"]
[30445,"Instituut Heilig Hart","Kapellensteenweg 190",2920,"KALMTHOUT","03-666.94.51","directie@hhartkalmthout.be"]
[30478,"Mater Salvatorisinstituut","Dorpsstraat 40",2950,"KAPELLEN","03-664.23.55","info@matersalvatoris.be"]
[30486,"Instituut Mater Salvatoris","Dorpsstraat 40",2950,"KAPELLEN","03-664.23.55","info@matersalvatoris.be"]
[30494,"KOGEKA 1","Mgr. Heylenstraat 37",2460,"KASTERLEE","014-85.00.46","smik@kogeka.be"]
[30502,"V.T.I.","Edegemsesteenweg 129",2550,"KONTICH","03-457.01.38","info@vtikontich.be"]
[30511,"Sint-Jozefinstituut","Gemeenteplein 8",2550,"KONTICH","03-457.77.97","secretariaat@sji.be"]
[30528,"Sint-Ritacollege zesjarige school","Pierstraat 1",2550,"KONTICH","03-457.12.51","info@ritacollege.be"]
[30544,"V.T.I.","Kruisbogenhofstraat 7",2500,"LIER","03-480.01.62","vtilier@vtilier.be"]
[30569,"Sint-Ursula-instituut","Kanunnik Davidlaan 15",2500,"LIER","03-491.92.10","instituut@campussintursula.be"]
[30577,"Sint-Aloysiusinstituut vr. Verpleegkunde","Kolveniersvest 24",2500,"LIER","03-480.17.66","directie@sal.be"]
[30585,"Sint-Gummaruscollege","Kanunnik Davidlaan 10",2500,"LIER","03-489.24.56","directie@sgclier.be"]
[30593,"Sint-Ursulalyceum","Kanunnik Davidlaan 15",2500,"LIER","03-491.92.21","lyceum@campussintursula.be"]
[30635,"Ursulinen Mechelen 2","Hoogstraat 35",2800,"MECHELEN","015-42.35.42","mieke.acke@ursulinenmechelen.be"]
[30742,"Scheppersinstituut","Melaan 16",2800,"MECHELEN","015-28.79.10","aso@scheppers-mechelen.be"]
[30759,"Sint-Romboutscollege","Veemarkt 56",2800,"MECHELEN","015-20.24.10","post@srco.be"]
[30858,"Colomaplus eerste graad 1","Tervuursesteenweg 2",2800,"MECHELEN","015-42.27.03","hilde.wildiers@colomaplus.be"]
[30866,"Colomaplus bovenbouw 2","Tervuursesteenweg 2",2800,"MECHELEN","015-42.27.03","eric.berghmans@colomaplus.be"]
[30924,"Groenendaal 2","Stella Marisstraat 2",2170,"MERKSEM","03-644.29.30","groenendaal@knmc.be"]
[30941,"Sint-Eduardusinstituut","Broeder Frederikstraat 3",2170,"MERKSEM","03-645.84.08","secundair@sint-eduardus.be"]
[30965,"Sint-Ludgardisschool","Du Chastellei 48",2170,"MERKSEM","03-645.88.27","JohanVanStaeyen@slm.be"]
[31054,"KSOM 10","Gasthuisstraat 3",2400,"MOL","014-20.20.20","jana.syen@sintlutgardis.be"]
[31062,"KSOM 5","Jakob Smitslaan 36",2400,"MOL","014-31.18.41","info@sjbmol.be"]
[31161,"Gesubsidieerd Technisch Instituut","Dieseghemlei 60",2640,"MORTSEL","03-459.83.78","info@gtimortsel.be"]
[31179,"githo nijlen","Gemeentestraat 41",2560,"NIJLEN","03-410.03.20","info@githonijlen.be"]
[31187,"Sint-Calasanzinstituut","Nonnenstraat 21",2560,"NIJLEN","03-410.12.54","info@calasanz.be"]
[31245,"Immaculata Instituut","Hoogstraatsebaan 2",2390,"OOSTMALLE","03-309.23.00","info@immalle.be"]
[31252,"Maris Stella Instituut","Antwerpsesteenweg 67",2390,"MALLE","03-312.02.33","directie@marisstella.be"]
[31311,"Vita et Pax College","Victor Frislei 18",2900,"SCHOTEN","03-658.52.33","directie@vitaetpax.be"]
[31328,"Sint-Michielscollege","Papenaardekenstraat 53",2900,"SCHOTEN","03-658.54.68","persadmin@sintmichiel-schoten.be"]
[31336,"Sint-Jozefinstituut","Jozef Hendrickxstraat 153",2900,"SCHOTEN","03-680.15.80","info@sjs.be"]
[31344,"Sint-Cordula Instituut","Wilgendaalstraat 7",2900,"SCHOTEN","03-658.94.49","directie@sintcordula.be"]
[31351,"Heilig Hart van Maria-Instituut","Oudaen 76_2",2970,"SCHILDE","03-658.12.62","secretariaat@hhvm.be"]
[31427,"Heilig Graf 031427","Patersstraat 28",2300,"TURNHOUT","014-41.54.68","info@heilig-graf.be"]
[31435,"Heilig Graf 031435","Apostoliekenstraat 26",2300,"TURNHOUT","014-41.06.23","info@heilig-graf.be"]
[31468,"H.Inst.voor Verpleegkunde Sint-Elisabeth","Herentalsstraat 70",2300,"TURNHOUT","014-47.13.00","daniel.leeten@hivset.be"]
[31476,"Sint-Victorinstituut","Kasteelplein 20",2300,"TURNHOUT","014-41.16.80","info@sint-victor.be"]
[31492,"Heilig Graf 031492","Patersstraat 28",2300,"TURNHOUT","014-41.54.68","info@heilig-graf.be"]
[31559,"Heilig Graf 031559","Apostoliekenstraat 26",2300,"TURNHOUT","014-41.06.23","info@heilig-graf.be"]
[31583,"Kardinaal van Roey-Instituut ASO","Mgr. Donchelei 7",2290,"VORSELAAR","014-50.93.11","kvri@kvri.be"]
[31591,"Kardinaal van Roey-Instituut","Mgr. Donchelei 7",2290,"VORSELAAR","014-50.93.11","kvri@kvri.be"]
[31666,"Mariagaarde Instituut","Oude Molenstraat 13",2390,"WESTMALLE","03-312.02.56","secretariaat@mariagaarde.be"]
[31674,"Sint-Jan Berchmanscollege","Kasteellaan 18",2390,"WESTMALLE","03-312.98.98","college@sjbmalle.be"]
[31682,"Annuntia-Instituut","Turnhoutsebaan 430_A",2110,"WIJNEGEM","03-355.15.00","directie@annuntia.be"]
[31807,"Stella Matutina-Instituut","Kloosterstraat 7",2990,"WUUSTWEZEL","03-669.62.63","philippe.vandenplas@stella-matutina.be"]
[31815,"V.T.I.","Langestraat 199",2240,"ZANDHOVEN","03-484.33.34","kristien.boonen@vtiz.be"]
[31849,"Sint-Jozefscollege 1","Schaluin 28",3200,"AARSCHOT","016-55.11.11","sintjozefscollege@sjca.be"]
[31856,"Damiaaninstituut C","Pastoor Dergentlaan 220",3200,"AARSCHOT","016-56.70.59","myriam.borremans@damiaaninstituut.be"]
[31864,"Damiaaninstituut B","Pastoor Dergentlaan 220",3200,"AARSCHOT","016-56.70.59","guy.prenen@damiaaninstituut.be"]
[31881,"GO! SIBA Aarschot","Pastoor Dergentlaan 62",3200,"AARSCHOT","016-55.35.20","onthaal@siba.be"]
[31906,"GO! SIMA Aarschot","Pastoor Dergentlaan 62_A",3200,"AARSCHOT","016-68.96.89","onthaal@sima-aarschot.be"]
[31922,"Sint-Victorinstituut - Bovenbouw","Brusselsesteenweg 20",1652,"ALSEMBERG","02-380.15.89","info@sintvictor.be"]
[31931,"A.E.G. - Sint-Victorinstituut","Brusselsesteenweg 20",1652,"ALSEMBERG","02-380.15.89","info@sintvictor.be"]
[31963,"GO! atheneum Anderlecht","Sint-Guidostraat 73",1070,"ANDERLECHT","02-522.71.12","info@atheneumanderlecht.be"]
[31997,"COOVISecundaironderwijs","Emile Grysonlaan 1",1070,"ANDERLECHT","02-526.56.00","secundair@coovi.be"]
[32052,"Sint-Guido-Instituut","Dokter Jacobsstraat 67",1070,"ANDERLECHT","02-521.60.10","directie@sintguido.be"]
[32061,"Sint-Martinusscholen Asse Walfergem","Petrus Ascanusplein 1",1730,"ASSE","02-454.06.30","directie.aso@martinusasse.be"]
[32078,"Sint-Martinusscholen Asse Koensborre","Koensborre 1",1730,"ASSE","02-452.92.82","info.tso-bso@martinusasse.be"]
[32086,"Sint-Martinusscholen - Middenschool","Parklaan 17",1730,"ASSE","02-452.64.38","directie.ms@martinusasse.be"]
[32094,"Lutgardiscollege","de Wahalaan 11",1160,"OUDERGEM","02-672.38.67","info@lutgardiscollege.be"]
[32102,"Sint-Jozefsinstituut - Bovenbouw","Pastoor Pitetlaan 24",3130,"BETEKOM","016-56.96.44","sjib.bovenbouw@sjib.be"]
[32111,"Sint-Jozefsinstituut - Middenschool","Pastoor Pitetlaan 28",3130,"BETEKOM","016-56.81.27","directie.middenschool@sjib.be"]
[32136,"Maria Assumptalyceum ASO-TSO-BSO","Stalkruidlaan 1",1020,"LAKEN","02-268.29.77","info@mariaassumptalyceum.be"]
[32144,"Sint-Jan Berchmanscollege","Ursulinenstraat 4",1000,"BRUSSEL","02-512.03.70","adedecker@sint-jan-brussel.be"]
[32151,"Maria-Boodschaplyceum","Moutstraat 22",1000,"BRUSSEL","02-506.89.20","info@mabobrussel.be"]
[32177,"Hoofdstedelijk Atheneum Karel Buls","Bonekruidlaan 88",1020,"LAKEN","02-266.11.00","sec.karelbuls@brucity.education"]
[32185,"Regina Pacisinstituut","Magnolialaan 2",1020,"LAKEN","02-479.28.59","directie@sec.reginapacis.eu"]
[32284,"Hoofdstedelijk Instituut AnneessensFunck","Groot Eiland 39",1000,"BRUSSEL","02-510.07.50","laurent.neyens@brucity.education"]
[32342,"Jan-van-Ruusbroeckollege","Forumlaan 4",1020,"LAKEN","02-268.10.36","philip.cobbaert@ruusbroec.be"]
[32409,"Sint-Jan Berchmanscollege","Peetersstraat 14",3290,"DIEST","013-33.45.84","ken.vanmechelen@ksdiest.be"]
[32417,"V.T.I. Mariëndaal","Rozengaard z/n",3290,"DIEST","013-33.45.84","hugo.celis@ksdiest.be"]
[32425,"Diocesane Middenschool","Mariëndaalstraat 44",3290,"DIEST","013-33.45.84","rogier.paeps@ksdiest.be"]
[32458,"Regina-Caelilyceum","Rozenlaan 45",1700,"DILBEEK","02-568.18.18","hugo.dewulf@erce.be"]
[32524,"Don Bosco-instituut TSO/BSO","Stationsstraat 89",3150,"HAACHT","016-61.79.70","info@dbhaacht.be"]
[32532,"Don Bosco-instituut ASO","Stationsstraat 89",3150,"HAACHT","016-61.79.60","info@dbhaacht.be"]
[32541,"Middenschool Don Bosco","Stationsstraat 91",3150,"HAACHT","016-61.79.50","info@dbhaacht.be"]
[32557,"Sint-Albertuscollege - Haasrode","Geldenaaksebaan 277",3001,"HEVERLEE","016-40.50.60","Ilona.Hawrijk@salco-haasrode.be"]
[32573,"Heilig-Hart&College 3","Parklaan 7",1500,"HALLE","02-363.80.20","dirk.hoornaert@hhchalle.be"]
[32607,"Don Bosco Technisch Instituut","Lenniksesteenweg 2",1500,"HALLE","02-356.29.49","info@donboscohalle.be"]
[32623,"Heilig-Hart&College 2","Parklaan 7",1500,"HALLE","02-363.80.20","goedele.deserrano@hhchalle.be"]
[32631,"Heilig-Hart&College 1","Parklaan 7",1500,"HALLE","02-363.80.20","miet.vanhilderson@hhchalle.be"]
[32664,"Pedagogische Humaniora H. Hartinstituut","Naamsesteenweg 355",3001,"HEVERLEE","016-39.90.51","walter.dhoore@hhscholen.be"]
[32672,"Heilig Hartinstituut - Technisch Onderw.","Naamsesteenweg 355",3001,"HEVERLEE","016-39.90.51","walter.dhoore@hhscholen.be"]
[32722,"Heilig Hartinstituut Lyceum","Naamsesteenweg 355",3001,"HEVERLEE","016-39.90.51","walter.dhoore@hhscholen.be"]
[32797,"Sint-Pieterscollege","Léon Theodorstraat 167",1090,"JETTE","02-426.85.15","ASO@sint-pieterscollege.be"]
[32813,"KOBOS Secundair II","Veldstraat 11",1880,"KAPELLE-OP-DEN-BOS","015-71.93.70","info@KOBOS.be"]
[32821,"KOBOS Secundair III","Veldstraat 11",1880,"KAPELLE-OP-DEN-BOS","015-71.14.42","info@KOBOS.be"]
[32839,"Sint-Michielsinstituut","Tremelobaan 4",3140,"KEERBERGEN","015-51.10.35","info@smiks.be"]
[32847,"GO! technisch atheneum Keerbergen","Molenstraat 2",3140,"KEERBERGEN","015-51.25.94","directie@technischatheneumkeerbergen.be"]
[32854,"Heilig Hartinstituut Kessel-Lo","Jozef Pierrestraat 56",3010,"KESSEL-LO","016-25.22.51","walter.dhoore@hhscholen.be"]
[32871,"Sancta Mariainstituut","Heerweg 77",1502,"LEMBEEK","02-356.68.68","info@sanctamarialembeek.be"]
[32904,"Miniemeninstituut","Diestsestraat 163",3000,"LEUVEN","016-31.90.00","greet.cauwenberghs@min.ksleuven.be"]
[32921,"Vrije Technische School Leuven","Dekenstraat 3",3000,"LEUVEN","016-31.97.70","personeel@vti-leuven.be"]
[32938,"De Wijnpers - Provinciaal onderw. Leuven","Mechelsevest 72",3000,"LEUVEN","016-23.69.51","dewijnpers@vlaamsbrabant.be"]
[32946,"Stfran.","Herestraat 49",3000,"LEUVEN","016-23.07.66","katrien.staessens@stfran.be"]
[32987,"Sint-Pieterscollege","Minderbroedersstraat 13",3000,"LEUVEN","016-22.44.64","chris.croes@spc.ksleuven.be"]
[32995,"Heilige-Drievuldigheidscollege","Oude Markt 28",3000,"LEUVEN","016-22.27.92","frank.baeyens@hdc.ksleuven.be"]
[33076,"Vrije Middenschool Leuven","Dekenstraat 3",3000,"LEUVEN","016-31.97.71","personeel@vti-leuven.be"]
[33134,"Virgo Sapiensinstituut","Heldenplein 6",1840,"LONDERZEEL","052-30.14.19","info@virgosapiens.be"]
[33142,"Gemeentelijk Technisch Instituut","Daalkouter 30",1840,"LONDERZEEL","052-30.98.24","info@gtil.be"]
[33183,"Gemeentelijk Instituut voor Sec. Onderw.","Watermolenstraat 33",1831,"DIEGEM","02-251.53.50","welkom@gisomachelen.be"]
[33209,"Sint-Donatusinstituut","Marktstraat 1",1785,"MERCHTEM","052-37.39.67","directeur@sintdonatus.be"]
[33217,"Gemeentelijke Technische & Beroepsschool","Stationsstraat 55",1785,"MERCHTEM","052-37.16.47","directie@gtsm.be"]
[33225,"Gemeentelijke Technische Tuinbouwschool","Molenbaan 54",1785,"MERCHTEM","052-37.27.37","willem.vanschuerbeeck@tuinbouwschool.be"]
[33241,"Sint-Donatusinstituut - Middenschool","Dendermondestraat 26",1785,"MERCHTEM","052-37.06.00","directeur.middenschool@sintdonatus.be"]
[33258,"Imelda-Instituut","Picardstraat 170",1080,"SINT-JANS-MOLENBEEK","02-511.06.53","info@imelda-instituut.be"]
[33291,"Vrij Katholiek Onderwijs Opwijk","Karenveldstraat 23",1745,"OPWIJK","052-35.71.22","vko@vko.be"]
[33308,"Vrij Kath. Ond. Opwijk - Middenschool","Karenveldstraat 23",1745,"OPWIJK","052-35.71.21","vko.middenschool@vko.be"]
[33316,"Gemeentelijk Instituut voor Techn. Ond.","Stationsplein 4",3090,"OVERIJSE","02-687.84.19","directie@gito-overijse.be"]
[33341,"Montfortaans Seminarie","Aarschotsesteenweg 39",3110,"ROTSELAAR","016-35.91.20","info@montfort.be"]
[33449,"Onze-Lieve-Vrouwinstituut","Kloosterweg 1",1640,"SINT-GENESIUS-RODE","02-380.10.15","jeroen.degreef@olvrode.be"]
[33514,"Sint-Jozefsinstituut","Statiestraat 37",1740,"TERNAT","02-582.13.11","directie@sint-jozef-ternat.be"]
[33522,"Katholiek Sec. Ond. Ternat - Sint-Angela","Statiestraat 35",1740,"TERNAT","02-582.15.38","els.debrael@sint-angela-ternat.be"]
[33548,"Gemeentelijk Instituut voor Techn. Ond.","Pater Dupierreuxlaan 1 bus B",3080,"TERVUREN","02-766.53.62","info@gito-tervuren.be"]
[33571,"Provinciaal Instituut voor Secundair Ond","Alexianenweg 2",3300,"TIENEN","016-81.45.11","koen.kempeneers@vlaamsbrabant.be"]
[33671,"Sint-Angela-Instituut","Kruineikestraat 5",3150,"TILDONK","016-60.19.50","info@satildonk.be"]
[33704,"Het College","Mechelsestraat 7",1800,"VILVOORDE","02-257.10.40","info.college@kov.be"]
[33712,"Virgo Plus","Rooseveltlaan (Franklin) 98",1800,"VILVOORDE","02-254.88.20","info.virgoplus@kov.be"]
[33721,"TechnOV","Zennelaan 51_53",1800,"VILVOORDE","02-251.34.28","Marc.deldime@kov.be"]
[33746,"Het College EG","Mechelsestraat 7",1800,"VILVOORDE","02-257.10.40","vera.maes@kov.be"]
[33803,"Mater Dei-Instituut","Luchtvaartlaan 70",1150,"SINT-PIETERS-WOLUWE","02-771.08.69","info@materdei-spw.be"]
[33811,"Sint-Jozefscollege","Woluwelaan 20",1150,"SINT-PIETERS-WOLUWE","02-761.03.80","info@sjcwoluwe.be"]
[33829,"Don Bosco Technisch Instituut","Guldendallaan 90",1150,"SINT-PIETERS-WOLUWE","02-771.99.62","directie@donboscobrussel.be"]
[33886,"Sint-Tarcisiusinstituut","Predikherenstraat 1",3440,"ZOUTLEEUW","011-78.13.71","college.zoutleeuw@korzo.be"]
[33894,"Sint-Leonardusinstituut","Bethaniastraat 1_A",3440,"ZOUTLEEUW","011-78.12.82","middenschool@stleonardus.be"]
[33928,"Bovenbouw Sint-Gertrudis","Molenbergstraat 25",3400,"LANDEN","011-88.17.55","nancysnoekx@kolanden.be"]
[33936,"Middenschool Sint-Gertrudis","Groenendael 2_A",3400,"LANDEN","011-88.35.02","middenschool@kolanden.be"]
[33944,"Immaculata Maria Instituut","Kapelleweide 5",1760,"ROOSDAAL","054-32.31.01","alg-directie.secundair@imi.be"]
[33951,"Sint-Janscollege","Waversesteenweg 1",3320,"HOEGAARDEN","016-76.62.71","info.sint-janscollege@telenet.be"]
[33969,"Sint-Paulusschool campus Sint-Vincentius","Kerkstraat 86",8570,"ANZEGEM","056-69.45.30","info.campussintvincentius@sintpaulus.eu"]
[33993,"Sint-Paulusschool campus Sint-Jan B. 2","Kasteelstraat 12",8580,"AVELGEM","056-64.42.12","info.campussintjanberchmans@sintpaulus.eu"]
[34009,"Sint-Paulusschool campus Sint-Jan B. 1","Kasteelstraat 12",8580,"AVELGEM","056-64.42.12","info.campussintjanberchmans@sintpaulus.eu"]
[34017,"Sint-Lutgartinstituut","Rollebaanstraat 10",8730,"BEERNEM","050-78.11.70","directie@middenschoolbeernem.be"]
[34025,"Sint-Jozef Sint-Pieter","Molenstraat 1 bus E",8370,"BLANKENBERGE","050-41.79.91","info@sjsp.be"]
[34033,"Sint-Jozef Sint-Pieter","Molenstraat 1 bus E",8370,"BLANKENBERGE","050-41.79.91","info@sjsp.be"]
[34041,"Sint-Jozef Sint-Pieter","Molenstraat 1 bus E",8370,"BLANKENBERGE","050-41.79.91","info@sjsp.be"]
[34058,"Sint-Jozefsinstituut","Zilverstraat 26",8000,"BRUGGE","050-33.19.43","info@sintjozefbrugge.be"]
[34074,"Vrij Technisch Instituut Brugge","Vaartdijkstraat 3",8200,"SINT-MICHIELS","050-33.35.02",""]
[34082,"Technisch Instituut Heilige Familie","Oude Zak 38",8000,"BRUGGE","050-44.59.59","info@tihf.be"]
[34124,"Hotel- en Toerismeschool Spermalie","Snaggaardstraat 15",8000,"BRUGGE","050-33.52.19","info@spermalie.be"]
[34165,"Sint-Franciscus-Xaveriusinstituut","Mariastraat 7",8000,"BRUGGE","050-33.63.47","info@sfxbrugge.be"]
[34181,"Sint-Andreasinstituut","Garenmarkt 8",8000,"BRUGGE","050-47.09.47","info@sabraso.be"]
[34207,"Sint-Jozefsinstituut - ASO","Noordzandstraat 76",8000,"BRUGGE","050-47.17.17","sjh@sintjozefhumaniora.be"]
[34231,"Onze-Lieve-Vrouwecollege","Collegestraat 24",8310,"ASSEBROEK","050-35.26.10","directie@olva.be"]
[34249,"Abdijschool van Zevenkerken","Zevenkerken 4",8200,"SINT-ANDRIES","050-40.61.97","administratie@abdijschool.be"]
[34256,"Onze-Lieve-Vrouw-Hemelvaart Instituut","Doornstraat 3",8200,"SINT-ANDRIES","050-40.68.70","directie@olvh-brugge.be"]
[34272,"Sint-Andreaslyceum","Fortuinstraat 29",8310,"SINT-KRUIS","050-28.85.10","humaniora@sask.be"]
[34306,"MAST","Veldstraat 2",8200,"SINT-MICHIELS","050-40.45.00","info@mastbrugge.be"]
[34314,"Hotelschool Ter Groene Poorte","Spoorwegstraat 14",8200,"SINT-MICHIELS","050-40.30.20","info@tergroenepoorte.be"]
[34331,"Vrij Handels- en Sportinst. St.-Michiels","Spoorwegstraat 14",8200,"SINT-MICHIELS","050-40.68.68","vhsi@vhsi.be"]
[34355,"'T SAAM","Wilgendijk 30",8600,"DIKSMUIDE","051-50.00.75","info@tsaam.be"]
[34363,"'T SAAM","Cardijnlaan 2",8600,"DIKSMUIDE","051-50.10.27","info@tsaam.be"]
[34389,"Sint-Godelievecollege","St-Jans-Gasthuisstraat 20",8470,"GISTEL","059-27.08.80","info@sigo.be"]
[34397,"Guldensporencollege 8","Beekstraat 21",8500,"KORTRIJK","056-41.27.93","engineering@guldensporencollege.be"]
[34447,"Spes Nostra 2","Heulsekasteelstraat 2_A",8501,"HEULE","056-35.39.54","spesnostra-tso@snh.be"]
[34454,"Spes Nostra 1","Heulsekasteelstraat 2_A",8501,"HEULE","056-35.39.53","spesnostra-aso@snh.be"]
[34462,"VTI Ieper","Augustijnenstraat 58",8900,"IEPER","057-20.12.13","vti@smsi.be"]
[34471,"Heilige Familie Ieper","Eigenheerdstraat 8",8900,"IEPER","057-20.05.41","hf@smsi.be"]
[34496,"Immaculata Ieper","Rijselstraat 83",8900,"IEPER","057-20.45.74","immaculata@smsi.be"]
[34512,"Lyceum Ieper","Maloulaan 2",8900,"IEPER","057-20.00.62","lyceum@smsi.be"]
[34521,"College Ieper","Gezelleplein 11",8900,"IEPER","057-20.05.59","college@smsi.be"]
[34538,"Prizma - Middenschool Ingelmunster","Schoolstraat 8",8770,"INGELMUNSTER","051-30.96.65","middenschool.ingelmunster@prizma.be"]
[34553,"Prizma - Campus VTI","Italianenlaan 30",8870,"IZEGEM","051-33.65.30","campus.vti@prizma.be"]
[34561,"Prizma - Campus IdP","Dirk Martenslaan 16",8870,"IZEGEM","051-33.79.10","campus.idp@prizma.be"]
[34579,"Prizma - Campus College","Burgemeester Vandenbogaerdelaan 53",8870,"IZEGEM","051-33.59.33","campus.college@prizma.be"]
[34587,"Prizma - Middenschool Izegem 1","Kasteelstraat 28",8870,"IZEGEM","051-30.42.25","middenschool.izegem@prizma.be"]
[34611,"Sint-Jozefsinstituut Lyceum","Van Rysselberghestraat 12",8300,"KNOKKE-HEIST","050-60.23.03","ldevloo-casier@sintjozefslyceum.be"]
[34629,"Sint-Bernardusinstituut","Sportlaan 4",8300,"KNOKKE","050-60.79.27","directie@sibe.be"]
[34661,"Instituut Sint-Martinus","Ichtegemstraat 14_2",8680,"KOEKELARE","051-58.85.45","smik@sint-rembert.be"]
[34678,"Hotelschool Ter Duinen","Houtsaegerlaan 40",8670,"KOKSIJDE","058-51.11.98","peter.verbeke@hotelschoolkoksijde.be"]
[34686,"Margareta-Maria-Instituut - TSO-BSO","Handzamestraat 18",8610,"KORTEMARK","051-56.77.33","administratie@mmikortemark.be"]
[34694,"Margareta-Maria-Inst. - ASO","Handzamestraat 18",8610,"KORTEMARK","051-56.77.33","administratie@mmikortemark.be"]
[34793,"Don Boscocollege","Don Boscolaan 30",8500,"KORTRIJK","056-26.50.50","info@donboscokortrijk.be"]
[34835,"RHIZO 1","Beverlaai 75",8500,"KORTRIJK","056-82.82.10","lyceum@rhizo.be"]
[34868,"RHIZO 3","Deken Camerlyncklaan 76",8500,"KORTRIJK","056-82.82.50","lifestyleschool@rhizo.be"]
[34934,"Spes Nostra Instituut","Koning Albertstraat 50",8520,"KUURNE","056-72.74.04","secretariaat@spesnostra.be"]
[34942,"Prizma - Middenschool Lendelede","Dorpsplein 2",8860,"LENDELEDE","051-30.20.53","middenschool.lendelede@prizma.be"]
[34959,"Technisch Instituut Sint-Lucas","Oude Leielaan 15",8930,"MENEN","056-51.12.63","info@vtimenen.be"]
[34975,"Sint-Aloysiuscollege","Grote Markt 13",8930,"MENEN","056-51.13.32","info@collegemenen.be"]
[35022,"Sportschool Meulebeke","Ingelmunstersteenweg 1_A",8760,"MEULEBEKE","051-48.88.91","sportschool@sportschool-meulebeke.be"]
[35097,"Land- en Tuinbouwinstituut","Bruggestraat 190",8730,"OEDELEM","050-35.09.84","kimara.goethals@lti-oedelem.be"]
[35139,"GO! Ensorinstituut Oostende","Generaal Jungbluthlaan 4",8400,"OOSTENDE","059-50.09.31","oostende@ensorinstituut.be"]
[35154,"Sint-Andreasinstituut","Steensedijk 151",8400,"OOSTENDE","059-50.89.70","directie@saoo.be"]
[35162,"College Petrus & Paulus","Vindictivelaan 9",8400,"OOSTENDE","059-70.10.22","college@petrusenpaulus.be"]
[35188,"VTI Petrus en Paulus","Stuiverstraat 108",8400,"OOSTENDE","059-55.64.74","west@petrusenpaulus.be"]
[35212,"Sint-Jozef","Alfons Pieterslaan 21",8400,"OOSTENDE","059-80.24.23","sjo@petrusenpaulus.be"]
[35238,"Middenschool Sint-Pieters","Kortrijksestraat 47",8020,"OOSTKAMP","050-82.68.22","info@middenschoolsint-pieter.be"]
[35253,"Immaculata-instituut","Koninklijke Baan 28",8660,"DE PANNE","058-41.15.79","info@immaculatainstituut.be"]
[35295,"Sint-Janscollege 2","Burgemeester Bertenplein 32",8970,"POPERINGE","057-33.31.39","sjc2@vsop.be"]
[35311,"V.T.I.","Boeschepestraat 44",8970,"POPERINGE","057-34.65.50","vti.poperinge@vsop.be"]
[35345,"Burgerschool","Kattenstraat 7",8800,"ROESELARE","051-26.46.66","burgerschool@sint-michiel.be"]
[35378,"VABI","Zuidstraat 27",8800,"ROESELARE","051-26.47.14","vabi@sint-michiel.be"]
[35394,"HBO Verpleegkunde Ic Dien","Westlaan 99",8800,"ROESELARE","051-20.73.54","info@icdien.be"]
[35527,"SJI","Kroonstraat 19",8700,"TIELT","051-40.03.30","sji@molenland.be"]
[35535,"Regina Pacis","Patersdreef 5",8700,"TIELT","051-40.40.17","reginapacis@molenland.be"]
[35584,"Vrij Technisch Instituut","Grote Hulststraat 28",8700,"TIELT","051-40.05.68","vti@molenland.be"]
[35592,"Technisch Instituut Sint-Vincentius","Spinneschoolstraat 10",8820,"TORHOUT","050-22.03.00","hilde.maertens@sint-rembert.be"]
[35601,"Vrij Land- en Tuinbouwinstituut","Conscienceplein 12",8820,"TORHOUT","050-23.15.14","silke.deschoemaeker@sint-rembert.be"]
[35618,"Sint-Jozefsinstituut-College","Bruggestraat 23",8820,"TORHOUT","050-23.15.10","martine.dezutter@sint-rembert.be"]
[35626,"Sint-Jozefscollege","Bruggestraat 23",8820,"TORHOUT","050-23.15.10","ann.stael@sint-rembert.be"]
[35634,"V.T.I. Sint-Aloysius","Papebrugstraat 8_A",8820,"TORHOUT","050-23.15.15","stijn.debruyne@sint-rembert.be"]
[35659,"V.T.I. Veurne","Ieperse Steenweg 90",8630,"VEURNE","058-31.15.09","franky.dorme@vtiveurne.be"]
[35667,"Bissch. College Onbevlekte Ontvangenis","Karel Coggelaan 8",8630,"VEURNE","058-31.14.74","directie@cove.be"]
[35675,"Annuntiata-Instituut","Vleeshouwersstraat 22",8630,"VEURNE","058-31.13.45","info@annuntiata.be"]
[35691,"Sint-Paulusschool campus College 3","Stationsstraat 85",8790,"WAREGEM","056-60.17.07","info.campuscollege@sintpaulus.eu"]
[35709,"Sint-Paulusschool campus VTI 1","Toekomststraat 75",8790,"WAREGEM","056-60.14.62","info.campusvti@sintpaulus.eu"]
[35717,"Sint-Paulusschool campus Hemelvaart 2","Keukeldam 17",8790,"WAREGEM","056-60.63.43","info.campushemelvaart@sintpaulus.eu"]
[35741,"Sint-Paulusschool campus College 1","Stationsstraat 85",8790,"WAREGEM","056-60.17.07","info.campuscollege@sintpaulus.eu"]
[35758,"Sint-Paulusschool campus Hemelvaart 1","Keukeldam 17",8790,"WAREGEM","056-60.63.43","info.campushemelvaart@sintpaulus.eu"]
[35766,"Vives Waregem-Tielt","Vijfseweg 2",8790,"WAREGEM","056-60.24.68","hilde.vanderdonckt@sgsintpaulus.eu"]
[35824,"Spes Nostra Instituut","Pastoor Staelensstraat 4",8210,"ZEDELGEM","050-20.96.15","stefaan.vanhollebeke@sint-rembert.be"]
[35899,"DVM Handels-, Techn. en Beroepsonderwijs","Onderwijsstraat 5",9300,"AALST","053-72.96.80","kimredant@dvmhtbaalst.be"]
[35907,"Sint-Augustinusinstituut","Leopoldlaan 9",9300,"AALST","053-70.33.79","info@sai-aalst.be"]
[35915,"Sint-Jozefscollege","Pontstraat 7",9300,"AALST","053-79.04.41","arie.derijck@sjcaalst.be"]
[35931,"DVM - Humaniora","Onderwijsstraat 2",9300,"AALST","053-60.58.50","directeur@dvmhumaniora.be"]
[35964,"Sint-Maarteninstituut 3","Esplanadeplein 6",9300,"AALST","053-76.95.70","kristof.dossche@smi-aalst.be"]
[36053,"Sint-Jorisinstituut","Kruibekestraat 55 bus a",9150,"BAZEL","03-740.03.30","sint.joris@sintjorisbazel.be"]
[36111,"Gemeentelijk Technisch Instituut","Europalaan 1",9120,"BEVEREN-WAAS","03-750.19.00","gawein.verlot@beveren.be"]
[36152,"Sint-Vincentiuscollege","Kloosterstraat 15",9255,"BUGGENHOUT","052-33.30.09","directie@sivibu.be"]
[36202,"V.T.I. Deinze","Leon Declercqstraat 1",9800,"DEINZE","09-381.60.80","vti.deinze@vtideinze.be"]
[36228,"Leiepoort Deinze campus Sint-Theresia","Gentpoortstraat 37",9800,"DEINZE","09-381.51.21","sinttheresia@leiepoort.be"]
[36285,"Óscar Romerocollege 2","Kerkstraat 60",9200,"DENDERMONDE","052-25.88.79","algemene.directie@romerocollege.be"]
[36301,"Óscar Romerocollege 3","Kerkstraat 60",9200,"DENDERMONDE","052-21.17.96","algemene.directie@romerocollege.be"]
[36335,"Óscar Romerocollege 4","Kerkstraat 60",9200,"DENDERMONDE","052-25.88.79","algemene.directie@romerocollege.be"]
[36343,"Óscar Romerocollege 5","Kerkstraat 60",9200,"DENDERMONDE","052-25.88.79","algemene.directie@romerocollege.be"]
[36418,"O.-L.-V.-ten-Doorn","Zuidmoerstraat 125",9900,"EEKLO","09-377.13.26","info@coltd.be"]
[36467,"Richtpunt Campus Eeklo","Roze 131",9900,"EEKLO","09-370.73.73","info@richtpunteeklo.be"]
[36475,"Sint-Leoinstituut","Zuidmoerstraat 125",9900,"EEKLO","09-377.13.26","info@coltd.be"]
[36483,"Sint-Annainstituut","Zuidmoerstraat 125",9900,"EEKLO","09-377.13.26","info@coltd.be"]
[36491,"VLOT!","Eksaarde-dorp 1_A",9160,"EKSAARDE","09-346.81.50","sint-teresia@vlot.be"]
[36517,"Sint-Franciscus Evergem","Schepenhuisstraat 4",9940,"EVERGEM","09-253.71.76","directie@sfevergem.be"]
[36566,"Sint-Catharinacollege2","Kleine Karmelietenstraat 3",9500,"GERAARDSBERGEN","054-43.30.82","info@sintcatharinacollege.be"]
[36608,"Sint-Catharinacollege1","Collegestraat 11",9500,"GERAARDSBERGEN","054-41.24.37","info@sintcatharinacollege.be"]
[36616,"Sint-Jozefsinstituut","Karmelietenstraat 57",9500,"GERAARDSBERGEN","054-41.24.12","infosec@sint-jozefsinstituut.be"]
[36624,"Richtpunt campus Gent Henleykaai","Henleykaai 83",9000,"GENT","09-267.12.10","infocampushenley@richtpuntgent.be"]
[36699,"Richtpunt campus Gent Godshuizenlaan","Godshuizenlaan 65",9000,"GENT","09-267.12.60","infocampusgodshuizen@richtpuntgent.be"]
[36715,"Hoger Technisch Instituut Sint-Antonius","Holstraat 66",9000,"GENT","09-235.04.20","katleen.immesoete@htisa.be"]
[36764,"Hotelschool Gent","Lange Violettestraat 12",9000,"GENT","09-323.57.50","hotelschool.directeur@onderwijs.gent.be"]
[36913,"Sint-Lievenscollege Business","Steendam 27",9000,"GENT","09-225.89.07","business@sintlievenscollege.be"]
[36939,"Vrij Instituut voor Sec. Onderwijs -Gent","Industrieweg 230",9030,"MARIAKERKE","09-216.36.36","info@viso.be"]
[36954,"Sint-Pietersinstituut bovenbouw","Koning Albertlaan 70",9000,"GENT","09-222.14.52","renata.janssens@sintpietersgent.be"]
[36962,"Sint-Barbaracollege","Savaanstraat 33",9000,"GENT","09-235.72.50","info@sint-barbara.be"]
[36996,"Sint-Bavohumaniora","Reep 4",9000,"GENT","09-267.96.11","sint.bavohumaniora@sbhg.be"]
[37028,"Humaniora Nieuwen Bosch","Lange Violettestraat 65",9000,"GENT","09-223.96.08","ulrik.deroover@nieuwenbosch.be"]
[37069,"Instituut vr Verpleegk. Sint-Vincentius","Molenaarsstraat 30",9000,"GENT","09-235.82.40","ivv@ivv-gent.be"]
[37085,"IVG School","Nederkouter 112",9000,"GENT","09-265.70.60","info@ivgschool.be"]
[37259,"Instituut Sint-Vincentius a Paulo","Pachthofstraat 3",9308,"GIJZEGEM","053-72.93.40","info@svi-gijzegem.be"]
[37275,"Richtpunt Campus Hamme","Meulenbroekstraat 15",9220,"HAMME","052-47.83.54","info@richtpunthamme.be"]
[37309,"KOHa Sint-Jozef","Jagerstraat 5",9220,"HAMME","052-47.92.84","sintjozef@kohamme.be"]
[37317,"KOHa Heilig Hart","Slangstraat 12",9220,"HAMME","052-47.24.81","heilighart@kohamme.be"]
[37325,"Sint-Paulusinstituut","Burgemeester Matthysstraat 5",9550,"HERZELE","053-62.33.82","info@sint-paulus.be"]
[37499,"VLOT!","Prosper Thuysbaertlaan 1",9160,"LOKEREN","09-348.17.09","sint-laurentius@vlot.be"]
[37523,"VLOT!","Markt 48",9160,"LOKEREN","09-340.57.70","sint-lodewijk@vlot.be"]
[37531,"VLOT!","H.-Hartlaan 1_A",9160,"LOKEREN","09-348.61.39",""]
[37556,"Virgo Sapientiae Instituut","Marktstraat 15",9990,"MALDEGEM","050-72.98.82","bovenbouw@maricolen.be"]
[37581,"Visitatie","Zandloperstraat 8",9030,"MARIAKERKE","09-226.76.83","christine.desmaele@visitatie.be"]
[37598,"Sint-Franciscusinstituut","Tuinstraat 105",9090,"MELLE","09-230.79.11","contact@sfimelle.be"]
[37606,"College der Paters Jozefieten","Brusselsesteenweg 459",9090,"MELLE","09-252.11.09","dir.SO@collegemelle.be"]
[37614,"Sint-Franciscusinstituut","Tuinstraat 105",9090,"MELLE","09-230.79.11","contact@sfimelle.be"]
[37648,"Sint-Jozefschool","Kloosterstraat 31",9420,"MERE","053-83.22.98","info@sintjozefschoolmere.be"]
[37655,"GO! atheneum Merelbeke","Potaardeberg 59",9820,"MERELBEKE","09-230.76.96","info@atheneummerelbeke.be"]
[37705,"Hartencollege Sec . Onderwijslaan","Onderwijslaan 4",9400,"NINOVE","054-31.06.60","karin.couck@hartencollege.be"]
[37747,"Richtpunt campus Ninove","Centrumlaan 160",9400,"NINOVE","054-31.78.50","info@richtpuntninove.be"]
[37821,"Bernardusscholen 6","Hoogstraat 30",9700,"OUDENAARDE","055-31.33.63","info@bernardustechnicum.be"]
[37846,"Bernardusscholen 4","Hoogstraat 30",9700,"OUDENAARDE","055-23.22.10","info@bernardustechnicum.be"]
[37853,"Bernardusscholen 5","Hoogstraat 30",9700,"OUDENAARDE","055-33.46.80","p.vansteenbrugge@gmail.com"]
[37879,"Bernardusscholen 1","Hoogstraat 30",9700,"OUDENAARDE","055-33.46.70","info@bernarduscollege.be"]
[37887,"Bernardusscholen 2","Hoogstraat 30",9700,"OUDENAARDE","055-33.46.70","info@bernarduscollege.be"]
[37903,"Richtpunt campus Oudenaarde","Minderbroedersstraat 6",9700,"OUDENAARDE","055-31.32.87","info@richtpuntoudenaarde.be"]
[38083,"Don Bosco Technisch Instituut","Kortrijksesteenweg 1025",9051,"SINT-DENIJS-WESTREM","09-221.31.11","desseinhannelore@donboscosdw.be"]
[38158,"Sint-Franciscusinstituut","Kasteeldreef 2",9660,"BRAKEL","055-42.60.16","directiesfo@sintfranciscusinstituut.be"]
[38182,"weTech academy","Breedstraat 152",9100,"SINT-NIKLAAS","03-777.07.06","fleur.hofman@wetech.be"]
[38208,"PORTUS berkenboom","Kalkstraat 26",9100,"SINT-NIKLAAS","03-760.41.00","info@portusberkenboom.be"]
[38216,"Sint-Carolus Secundair Onderwijs","Hospitaalstraat 2",9100,"SINT-NIKLAAS","03-780.51.23","kris.demunck@sint-carolus.be"]
[38224,"Broederscholen Hiëronymus 2","Weverstraat 23",9100,"SINT-NIKLAAS","03-760.10.90","info@bio.broeders.be"]
[38257,"Broederscholen Hiëronymus 1","Nieuwstraat 75",9100,"SINT-NIKLAAS","03-780.92.00","info@humaniora.broeders.be"]
[38265,"Instituut Heilige Familie - Secundair","Hofstraat 15",9100,"SINT-NIKLAAS","03-776.68.38","directie@hfamilie.com"]
[38273,"Sint-Jozef - Klein-Seminarie","Collegestraat 31",9100,"SINT-NIKLAAS","03-780.71.50","info@sjks.be"]
[38281,"Onze-Lieve-Vrouw-Presentatie sec ond","Plezantstraat 135",9100,"SINT-NIKLAAS","03-760.08.60","info@olvp.be"]
[38299,"Berkenboom Humaniora","Kleine Peperstraat 16",9100,"SINT-NIKLAAS","03-760.41.20","elke.deridder@berkenboomhum.be"]
[38307,"Onze-Lieve-Vrouw-Presentatie SecundOnd 1","Plezantstraat 135",9100,"SINT-NIKLAAS","03-760.08.60","info@olvp.be"]
[38381,"Scheppersinstituut","Cooppallaan 128",9230,"WETTEREN","09-369.20.72","info@scheppers-wetteren.be"]
[38422,"Mariagaard","Oosterzelesteenweg 80",9230,"WETTEREN","09-365.73.00","directie@mariagaard.be"]
[38471,"OLVI-PIUS X Collegestraat","Collegestraat 1",9240,"ZELE","052-44.41.99","olvi@olvi-piusx.be"]
[38489,"OLVI-PIUS X Kapellestraat","Kapellestraat 7",9240,"ZELE","052-44.92.26","piusx@olvi-piusx.be"]
[38562,"Onze-Lieve-Vrouwcollege I","Ooststraat 44",9620,"ZOTTEGEM","09-360.13.07","stefaan.delanghe@olvczottegem.be"]
[38596,"Richtpunt campus Zottegem","Sabina van Beierenlaan 35",9620,"ZOTTEGEM","09-360.19.93","info@richtpuntzottegem.be"]
[38604,"Don Boscocollege","Grotesteenweg-Noord 113",9052,"ZWIJNAARDE","09-221.46.48","info@dbz.be"]
[38653,"Instituut Stella Matutina","Groenstraat 15",9660,"BRAKEL","055-42.30.67","katty.vandesteene@stellamatutina.be"]
[38695,"Spectrumcollege Beringen Bovenbouw S","Bogaarsveldstraat 13",3580,"BERINGEN","011-49.34.00","campus.beringen.bovenbouw@spectrumcollege.be"]
[38703,"Spectrumcollege Beringen Bovenbouw E","Bogaarsveldstraat 13",3580,"BERINGEN","011-49.34.00","campus.beringen.bovenbouw@spectrumcollege.be"]
[38711,"Spectrumcollege Beringen Bovenbouw D","Bogaarsveldstraat 13",3580,"BERINGEN","011-49.34.00","campus.beringen.bovenbouw@spectrumcollege.be"]
[38729,"Spectrumcollege Beringen Middenschool","Bogaarsveldstraat 14",3580,"BERINGEN","011-45.02.50","campus.beringen.middenschool@spectrumcollege.be"]
[38761,"Technisch Instituut Sint-Jozef","Wijerstraat 28",3740,"BILZEN","089-41.17.60","tisj.info@sgsj.be"]
[38844,"Sint-Augustinusinstituut BSO/TSO","Sint-Jacobstraat 12",3960,"BREE","089-46.19.26","info@augustinus-bree.be"]
[38851,"Middenschool Heilig Hartinstituut","Sint-Jacobstraat 10",3960,"BREE","089-46.91.70","info@hhartbree.be"]
[38885,"Provinciale Secundaire School","Stationsstraat 36",3590,"DIEPENBEEK","011-35.04.21","karel.schiepers@psdiepenbeek.be"]
[38919,"Provinciale Middenschool","Stationsstraat 36",3590,"DIEPENBEEK","011-35.04.20","info@psdiepenbeek.be"]
[38927,"Stedelijke Humaniora","Europalaan 10",3650,"DILSEN-STOKKEM","089-79.08.66","ivo.aerts@sh-dilsen.be"]
[38935,"Instituut Maria Koningin","Rijksweg 168",3650,"DILSEN-STOKKEM","089-75.60.84","info@instituutmariakoningin.be"]
[38951,"Atlas College Genk 6","Collegelaan 19",3600,"GENK","089-33.36.00","techniekinnovatie@atlascollege.be"]
[39057,"Don Bosco Genk","Berm 12",3600,"GENK","089-35.24.16","info@dbgenk.be"]
[39073,"WICO - 039073","Collegestraat 27",3930,"HAMONT-ACHEL","011-44.02.00","hamont@wico.be"]
[39099,"Provinciale Middenschool Hasselt","Gouverneur Verwilghensingel 1_A",3500,"HASSELT","011-26.72.51","heidi.melotte@limburg.be"]
[39107,"Hast Katholiek Onderwijs Hasselt","Kleine Breemstraat 7",3500,"HASSELT","011-25.33.58","info@campushast.be"]
[39115,"HastKatholiekOnderwijsHasselt","Kleine Breemstraat 7",3500,"HASSELT","011-25.33.58","info@campushast.be"]
[39263,"Provinciale Handelsschool Hasselt","Gouverneur Verwilghensingel 1",3500,"HASSELT","011-26.72.11","peter.annaert@limburg.be"]
[39271,"Humaniora Kindsheid Jesu","Kempische steenweg 400",3500,"HASSELT","011-27.84.60","werner.nevels@kjhasselt.be"]
[39289,"Don Bosco-College","Don Boscostraat 72",3940,"HECHTEL","011-73.40.27","info@dbhechtel.be"]
[39305,"Don Bosco Technisch Instituut","Don Boscostraat 6",3530,"HELCHTEREN","011-52.14.19","info@donboscohelchteren.be"]
[39313,"Sint-Martinusscholen 039313","Sint-Truidersteenweg 18",3540,"HERK-DE-STAD","013-55.13.13","adeferm@st-martinus.be"]
[39321,"Sint-Martinusscholen 039321","Sint-Truidersteenweg 18",3540,"HERK-DE-STAD","013-55.13.13","adeferm@st-martinus.be"]
[39479,"Mosa-RT Instituut H. Graf","Weertersteenweg 135 bus A",3680,"MAASEIK","089-56.30.59","info@mosa-rt.be"]
[39503,"Pyxiscollege3","Stationsstraat 232",3620,"LANAKEN","089-71.41.29","sven.vanvlierden@pyxiscollege.be"]
[39511,"Pyxiscollege2","Bessemerstraat 443",3620,"LANAKEN","089-71.46.38","frank.deen@pyxiscollege.be"]
[39529,"Pyxiscollege1","Koning Albertlaan 26",3620,"LANAKEN","089-71.46.47","dieter.hermans@pyxiscollege.be"]
[39545,"Bovenbouw Sint-Michiel","Diestersteenweg 3",3970,"LEOPOLDSBURG","011-34.31.35","bovenbouw@sintmichiel.be"]
[39552,"Sint-Michiel Middenschool","Diestersteenweg 11",3970,"LEOPOLDSBURG","011-34.14.03","middenschool@sintmichiel.be"]
[39561,"Prov. Inst. Secundair Onderwijs PROVIL","Duinenstraat 1",3920,"LOMMEL","011-79.93.30","ludo.vanbaelen@limburg.be"]
[39611,"Spectrumcollege Campus Lummen Bovenbouw","Pastoor Frederickxstraat 9",3560,"LUMMEN","011-49.33.80","campus.lummen@spectrumcollege.be"]
[39628,"Spectrumcollege Lummen Middenschool","Pastoor Frederickxstraat 9",3560,"LUMMEN","011-49.33.80","campus.lummen@spectrumcollege.be"]
[39636,"Mosa-RT T.I.St.-Jansberg A","Sint-Jansberg 39",3680,"MAASEIK","089-56.30.59","info@mosa-rt.be"]
[39669,"campus de helix³","Rijksweg 357",3630,"MAASMECHELEN","089-77.99.50","thieu.sijbers@campusdehelix.be"]
[39677,"campus de helix²","Rijksweg 357",3630,"MAASMECHELEN","089-77.99.50","sabine.vanstraelen@campusdehelix.be"]
[39719,"Provinciale Technische School","Europaplein 36",3630,"MAASMECHELEN","089-77.09.40","jean-marie.slangen@limburg.be"]
[39743,"Provinciale Secundaire School Bilzen","Appelboomgaardstraat 2",3740,"MUNSTERBILZEN","089-62.92.21","info@campusbilzen.be"]
[39826,"Spectrumcollege Campus Paal","Schaffensesteenweg 2",3583,"PAAL","011-49.33.90","campus.paal@spectrumcollege.be"]
[39842,"Agnetencollege","Collegelaan 24",3990,"PEER","011-38.38.00","info@agnetencollege.be"]
[39859,"Hasp-O Centrum 4","Gildestraat 22",3800,"SINT-TRUIDEN","011-68.22.34","info.centrum-gildestraat@hasp-o.be"]
[39925,"Instituut Mariaburcht - Secundair Onderw","Stevoortse kiezel 425",3512,"STEVOORT","011-31.15.17","info@i-mas.be"]
[39941,"Campus MAX STEM","H. Hartlaan 16",3980,"TESSENDERLO","013-67.02.76","stem@campusmax.be"]
[40055,"Provinciaal Inst. Biotechnisch Onderwijs","Sint-Truidersteenweg 323",3700,"TONGEREN","012-39.80.40","pibo@pibo.be"]
[40097,"Vrije Middenschool 1","Engstegenseweg 1",3520,"ZONHOVEN","011-81.91.11","info@vmszonhoven.be"]
[40105,"Sint-Jan Berchmansinstituut","Kleine Hemmenweg 4_A",3520,"ZONHOVEN","011-55.99.90","info@sjbzonhoven.be"]
[40113,"Vrije Middenschool 2","Engstegenseweg 1",3520,"ZONHOVEN","011-81.91.11","info@vmszonhoven.be"]
[40121,"Provinciale Secundaire School Voeren","Hoeneveldje 2",3798,"'S GRAVENVOEREN","04-381.91.00","pssvoeren@limburg.be"]
[40204,"GO! Stamina","Daverlostraat 132",8310,"ASSEBROEK","050-34.69.46","welkom@stamina.be"]
[40253,"GO! atheneum Beveren-Waas","Donkvijverstraat 30",9120,"BEVEREN-WAAS","03-750.96.80","info@kabeveren.net"]
[40287,"GO! K.A. Antwerpen","Franklin Rooseveltplaats 11",2060,"ANTWERPEN","03-232.70.99","info@atheneumantwerpen.be"]
[40311,"GO! Koninklijk Lyceum Antwerpen","Hertoginstraat 17",2018,"ANTWERPEN","03-232.74.47","administratie@kla.be"]
[40411,"GO! atheneum Boom","Jan Baptist Davidstraat 2",2850,"BOOM","03-888.05.24","info@atheneumboom.be"]
[40428,"GO! middenschool Den Brandt","Hollezijp 11",2850,"BOOM","03-888.15.99","directeur@msdenbrandt.be"]
[40469,"GO! atheneum Brasschaat","Augustijnslei 54",2930,"BRASSCHAAT","03-651.59.90","ka.brasschaat@inventoscholen.be"]
[40477,"GO! technisch atheneum Brasschaat","Prins Kavellei 98",2930,"BRASSCHAAT","03-651.55.71","info@ktabrasschaat.be"]
[40485,"GO! middenschool Brasschaat","Augustijnslei 54",2930,"BRASSCHAAT","03-651.59.90","ms.brasschaat@sgr3.be"]
[40519,"GO! K.A. Deurne","Frank Craeybeckxlaan 22",2100,"DEURNE","03-328.18.40","info@kadeurne.be"]
[40584,"GO! technisch atheneum Da Vinci Edegem","Monseigneur Cardijnlaan 1",2650,"EDEGEM","03-443.71.30","info@ktadavinci.be"]
[40601,"GO! Middenschool Ekeren","Pastoor De Vosstraat 19",2180,"EKEREN","03-541.14.28","directie@ka-ekeren.be"]
[40618,"GO! atheneum Ekeren","Pastoor De Vosstraat 19",2180,"EKEREN","03-541.14.28","directie@ka-ekeren.be"]
[40626,"GO! Erasmusatheneum Essen-Kalmthout","Hofstraat 14",2910,"ESSEN","03-667.25.64","directie@erasmusatheneumkalmthout.be"]
[40634,"GO! middenschool Geel","Technische-Schoolstraat 15",2440,"GEEL","014-58.00.31","nancy.verbeke@gogeel.be"]
[40642,"GO! atheneum Geel","Technische-Schoolstraat 15",2440,"GEEL","014-58.00.31","an.pijnaerts@gogeel.be"]
[40709,"GO! SO De Vesten Herentals eerste graad","Augustijnenlaan 32",2200,"HERENTALS","014-21.16.88","info@campusdevesten.be"]
[40717,"GO! SO De Vesten Herentals","Augustijnenlaan 31",2200,"HERENTALS","014-21.11.44","info@campusdevesten.be"]
[40774,"GO! atheneum Irishof","Streepstraat 16",2950,"KAPELLEN","03-660.13.00","directieteamka@atheneumkapellen.be"]
[40782,"GO! technisch atheneum Kapellen","Pastoor Vandenhoudtstraat 8",2950,"KAPELLEN","03-664.43.00","directie@gotakapellen.be"]
[40791,"GO! middenschool Kapellen","Streepstraat 16",2950,"KAPELLEN","03-660.13.02","directieteamms@atheneumkapellen.be"]
[40808,"GO! ath.Lier campus Arthur Vanderpoorten","Arthur Vanderpoortenlaan 35",2500,"LIER","03-480.01.28","ilsedb@atheneumlier.be"]
[40816,"GO! atheneum Lier campus Anton Bergmann","Anton Bergmannlaan 24",2500,"LIER","03-480.08.83","anton@atheneumlier.be"]
[40832,"GO! atheneum Lier campus Louis Zimmer","Predikherenlaan 18",2500,"LIER","03-480.27.07","louis@atheneumlier.be"]
[40857,"GO! Busleyden Atheneum-campus Pitzemburg","Bruul 129",2800,"MECHELEN","015-20.21.13","info@bapitzemburg.be"]
[40873,"GO! Busleyden Atheneum-campus Caputsteen","Caputsteenstraat 51",2800,"MECHELEN","015-20.21.74","directie@bacaputsteen.be"]
[40907,"GO! Busleyden Atheneum-campus Botaniek","Augustijnenstraat 92",2800,"MECHELEN","015-29.01.36","info@BAbotaniek.be"]
[40923,"GO! Koninklijk Atheneum MXM","Melgesdreef 113",2170,"MERKSEM","03-645.75.68","directeur@kamerksem.be"]
[40949,"GO! Atheneum Het Spoor","Begonialaan 34",2400,"MOL","014-31.27.48","info@campushetspoor.be"]
[40956,"GO! Middenschool Het Spoor","Begonialaan 34",2400,"MOL","014-31.27.48","info@campushetspoor.be"]
[40964,"GO! Technisch Atheneum Het Spoor","Begonialaan 34",2400,"MOL","014-31-27-48","info@campushetspoor.be"]
[40972,"GO! atheneum Mortsel","Mechelsesteenweg 194",2640,"MORTSEL","03-449.88.93","directie@kamortsel.be"]
[41004,"GO! technischAtheneum Den Biezerd","Wirixstraat 56",2845,"NIEL","03-888.22.61","info@denbiezerd.be"]
[41021,"GO! middenschool Malle","Herentalsebaan 56",2390,"MALLE","03-311.72.85","info@gomalle.net"]
[41038,"GO! atheneum Malle","Herentalsebaan 56",2390,"MALLE","03-312.39.11","info@gomalle.net"]
[41137,"GO! Talentenschool Turnhout Campus Zenit","de Merodelei 220",2300,"TURNHOUT","014-47.14.40","campuszenit@talentenschoolturnhout.be"]
[41145,"GO! Talentenschool Turnhout Boomgaard TA","Boomgaardstraat 56",2300,"TURNHOUT","014-47.05.13","peter.deceuster@talentenschoolturnhout.be"]
[41152,"GO! Talentenschool Turnhout BoomgaardMS","Boomgaardstraat 56",2300,"TURNHOUT","014-47.05.13","peter.deceuster@talentenschoolturnhout.be"]
[41178,"GO! Daltonatheneum Het Leerlabo","Spikdorenveld 22",2260,"WESTERLO","014-53.86.53","info@hetleerlabo.be"]
[41194,"GO! atheneum Willebroek","Eduard Anseelestraat 46",2830,"WILLEBROEK","03-860.98.98","directeur@atheneumwillebroek.be"]
[41202,"GO! Atheneum Klein-Brabant","Lindestraat 123 bus A",2880,"BORNEM","03-897.98.13","info@atheneumkleinbrabant.be"]
[41301,"GO! atheneum campus Vijverbeek","Nieuwstraat 124_C",1730,"ASSE","02-451.61.00","atheneum@vijverbeek.be"]
[41319,"GO! middenschool campus Vijverbeek","Nieuwstraat 124_B",1730,"ASSE","02-451.61.01","middenschool@vijverbeek.be"]
[41368,"GO! 4 CITy","Picardstraat 172",1080,"SINT-JANS-MOLENBEEK","02-474.06.00","info@go4city.be"]
[41426,"GO! De Prins Diest Antwerpsestraat","Antwerpsestraat 36",3290,"DIEST","013-35.05.33","onthaal@deprinsdiest.be"]
[41467,"GO! De Prins Diest Boudewijnvest","Boudewijnvest 5",3290,"DIEST","013-35.05.33","onthaal@deprinsdiest.be"]
[41475,"GO! De Prins Diest Antwerpsestraat","Antwerpsestraat 36",3290,"DIEST","013-35.05.33","onthaal@deprinsdiest.be"]
[41483,"GO! atheneum Etterbeek","Edmond Mesenslaan 2",1040,"ETTERBEEK","02-738.70.40","directie@kaetterbeek.be"]
[41533,"GO! atheneum Halle","Auguste Demaeghtlaan 40",1500,"HALLE","02-363.82.40","Secretariaat.ka.halle@ringscholen.be"]
[41541,"GO! middenschool Halle","Auguste Demaeghtlaan 40",1500,"HALLE","02-363.82.44","Directie.ms.halle@ringscholen.be"]
[41558,"GO! technisch atheneum Halle","Kluisstraat 1",1500,"HALLE","02-361.59.59","info@go-tahalle.be"]
[41574,"GO! technisch atheneum Jette","Léon Theodorstraat 80",1090,"JETTE","02-425.92.33","info@tajette.be"]
[41591,"GO! middenschool Keerbergen","Vlieghavenlaan 18",3140,"KEERBERGEN","015-23.52.41","directie@middenschool-keerbergen.be"]
[41608,"GO! atheneum Keerbergen","Vlieghavenlaan 18",3140,"KEERBERGEN","015-23.49.33","directie@atheneum-keerbergen.be"]
[41632,"GO! atheneum Unescoschool","Klein-Berchemstraat 1",1081,"KOEKELBERG","02-468.20.40","info@atheneum-koekelberg.be"]
[41665,"GO! middenschool 1 Leuven","Redingenstraat 90",3000,"LEUVEN","016-31.97.12","info@karedingenhof.be"]
[41673,"GO! Atheneum Liedekerke","Kleemputtenstraat 20",1770,"LIEDEKERKE","053-46.73.00","directie@atheneumliedekerke.be"]
[41699,"atheneum GO! for Business","Toverfluitstraat 21",1080,"SINT-JANS-MOLENBEEK","02-411.77.07","info@campustoverfluit.be"]
[41756,"GO! atheneum Emanuel Hiel","Charles Gilisquetlaan 34",1030,"SCHAARBEEK","02-241.31.08","info@kahiel.be"]
[41764,"GO! technisch atheneum Zavelenberg","Oscar Ruelensplein 13",1082,"SINT-AGATHA-BERCHEM","02-482.01.01","info@kta-zavelenberg.be"]
[41781,"GO! middenschool Lennik","Karel Keymolenstraat 35",1750,"LENNIK","02-532.45.18","fanny.detroyer@go-campuslennik.be"]
[41863,"GO! atheneum Kalevoet","Nekkersgatlaan 17",1180,"UKKEL","02-370.64.40","katrien.houben@campus-kalevoet.be"]
[41871,"GO! middenschool Kalevoet","Nekkersgatlaan 17",1180,"UKKEL","02-370.64.40","katrien.houben@campus-kalevoet.be"]
[41897,"GO! technisch atheneum Horteco","de Bavaylei 116",1800,"VILVOORDE","02-251.04.48","info@horteco.be"]
[41921,"GO! technisch atheneum Campus Wemmel","Zijp 14",1780,"WEMMEL","02-456.01.01","sanne.huygens@campuswemmel.be"]
[41939,"GO! middenschool Campus Wemmel","Zijp 14",1780,"WEMMEL","02-456.01.10","sanne.huygens@campuswemmel.be"]
[41954,"GO! atheneum Sint-Pieters-Woluwe","Grote Prijzenlaan 59",1150,"SINT-PIETERS-WOLUWE","02-771.37.42","helena.van.driessche@atheneumwoluwe.be"]
[42002,"GO! atheneum D'Hek","Tiensestraat 57",3400,"LANDEN","011-88.13.74","info@dheklanden.net"]
[42011,"GO! middenschool D'Hek","Tiensestraat 57",3400,"LANDEN","011-88.13.74","info@dheklanden.net"]
[42036,"GO! atheneum Avelgem","Oudenaardsesteenweg 20",8580,"AVELGEM","056-65.01.11","leerlingensecretariaat@go-atheneumavelgem.be"]
[42044,"GO! middenschool Avelgem","Oudenaardsesteenweg 20",8580,"AVELGEM","056-65.01.11","leerlingensecretariaat@go-atheneumavelgem.be"]
[42069,"GO! middenschool Maerlant","Van Maerlantstraat 1",8370,"BLANKENBERGE","050-43.25.25","shirley.adam@maerlantatheneum.be"]
[42085,"GO! atheneum Maerlant","Van Maerlantstraat 1",8370,"BLANKENBERGE","050-43.25.25","jurgen.balbaert@maerlantatheneum.be"]
[42119,"Atheneum Brugge","Sint-Clarastraat 46_B",8000,"BRUGGE","050-33.20.19","info@atheneumbrugge.be"]
[42151,"GO! Stamina","Daverlostraat 132 bus B",8310,"ASSEBROEK","050-36.68.80","welkom@stamina.be"]
[42201,"GO! technisch atheneum Brugge","Rijselstraat 7",8200,"SINT-MICHIELS","050-38.82.88","lhautekeete@ktabrugge.be"]
[42218,"GO! middenschool Brugge-centrum","Sint-Clarastraat 46_A",8000,"BRUGGE","050-33.09.64","info@msbruggecentrum.be"]
[42267,"GO! technisch atheneum Diksmuide","Kaaskerkestraat 22",8600,"DIKSMUIDE","051-51.92.51","dir.atheneumdiksmuide@go-scholengroepwesthoek.be"]
[42283,"GO! Atlas atheneum Gistel","Callaertswalledreef 8",8470,"GISTEL","059-27.89.44","info@atlas-atheneum.be"]
[42325,"GO! athena campus Heule","Guido Gezellelaan 10",8501,"HEULE","056-35.13.82","info@athena-heule.be"]
[42333,"GO! atheneum Ieper","Plumerlaan 26",8900,"IEPER","057-20.07.29","info@atheneumieper.be"]
[42341,"GO! middenschool Ieper","Plumerlaan 24",8900,"IEPER","057-20.00.38","info.ms@campusminneplein.be"]
[42366,"GO! technisch atheneum Ieper","Minneplein Z/N",8900,"IEPER","057-20.16.20","dir.ktaieper@go-scholengroepwesthoek.be"]
[42374,"GO! Atheneum Bellevue","Bellevuestraat 28",8870,"IZEGEM","051-30.15.44","info@campusbellevue.be"]
[42408,"GO! atheneum Zwinstede","Alfred Verweeplein 25",8300,"KNOKKE-HEIST","050-63.17.70","directeurka@demakz.be"]
[42416,"GO! middenschool Zwinstede Knokke","Alfred Verweeplein 25",8300,"KNOKKE-HEIST","050-63.17.70","ms.directie@demakz.be"]
[42441,"GO!Da Vinci Atheneum Koekelare","Moerestraat 20",8680,"KOEKELARE","051-59.12.10","info@davinci-atheneum.be"]
[42465,"GO! Atheneum Pottelberg 2de en 3de graad","Pottelberg 4",8500,"KORTRIJK","056-22.25.33","info@athena-pottelberg.be"]
[42499,"GO!athena Drie Hofsteden 2/3grd Kortrijk","Minister De Taeyelaan 13",8500,"KORTRIJK","056-22.34.81","kelly.desimpelaere@athena-driehofsteden.be"]
[42515,"GO! Athena Campus Pottelberg 1ste graad","Burgemeester Felix de Bethunelaa 4",8500,"KORTRIJK","056-22.18.20","info@athena-pottelberg.be"]
[42523,"GO! athena Drie Hofsteden 1egrd Kortrijk","Hugo Verriestlaan 155",8500,"KORTRIJK","056-21.40.79","charlotte.de.buysere@athena-school.be"]
[42531,"GO! Futura 2de en 3de graad","Vander Merschplein 54",8930,"MENEN","056-51.14.55","els@futurascholen.be"]
[42556,"GO! Futura 1ste graad","Vander Merschplein 54",8930,"MENEN","056-51.14.55","kevin@futurascholen.be"]
[42581,"GO! Atheneum Nieuwpoort","Arsenaalstraat 20",8620,"NIEUWPOORT","058-23.33.50","dir.msnieuwpoort@sgw28.be"]
[42622,"GO! technisch atheneum Vesaliusinstituut","Leffingestraat 1",8400,"OOSTENDE","059-70.68.70","guy.ghysels@vesaliusinstituut.be"]
[42648,"GO! Atheneum Oostende","Steensedijk 495",8400,"OOSTENDE","059-50.52.61","info@athenaoostende.be"]
[42689,"GO!Atheneum Calmeyn De Panne","St.-Elisabethlaan 4",8660,"DE PANNE","058-41.26.71","info@calmeyn.be"]
[42739,"GO!MSKA Roeselare","Groenestraat 170",8800,"ROESELARE","051-27.27.70","info@mskaroeselare.be"]
[42754,"GO! MSKA Roeselare","Hugo Verrieststraat 68",8800,"ROESELARE","051-22.62.39","infotant@mskaroeselare.be"]
[42762,"GO! atheneum Campus De Reynaert","Stationstraat 67",8700,"TIELT","051-42.63.63","directie@campusdereynaert.be"]
[42796,"GO! Atheneum Eureka","Rijselstraat 110",8820,"TORHOUT","050-21.33.21","coucke.i@go-eureka.be"]
[42812,"GO! atheneum Veurne Centrum","Smissestraat 3",8630,"VEURNE","058-31.10.89","dir.atheneumveurne@go-scholengroepwesthoek.be"]
[42846,"GO! secundair onderwijs Groenhove CMS","Jozef Duthoystraat 34",8790,"WAREGEM","056-60.37.09","info.cms@groenhoveschool.be"]
[42853,"GO! secundair onderwijs Groenhove CAT","Westerlaan 69",8790,"WAREGEM","056-60.73.74","info.cat@groenhoveschool.be"]
[42929,"GO! Atheneum Aalst","Graanmarkt 14",9300,"AALST","053-46.64.00","directie@atheneumaalst.be"]
[42952,"GO! lyceum Aalst","Pontstraat 51",9300,"AALST","053-46.65.00","inlichtingen@lyceum-aalst.be"]
[42961,"GO! Handelsschool Aalst","Keizersplein 19",9300,"AALST","053-46.72.00","directie@handelsschoolaalst.be"]
[42994,"TechniGO! campus De Voorstad Aalst","Welvaartstraat 70_1",9300,"AALST","053-46.70.00","pedagogischdirecteur@technigo.be"]
[43018,"TechniGO! middenschool Aalst","Ledebaan 101",9300,"AALST","053-46.70.00","personeelsdirecteur@technigo.be"]
[43026,"TechniGO! campus Ledebaan Aalst","Ledebaan 101",9300,"AALST","053-46.70.00","financieeldirecteur@technigo.be"]
[43042,"GO! Secundaire School De Beuk Aalter","Stationsstraat 128",9880,"AALTER","09-374.12.15","info@campusdebeuk.be"]
[43117,"GO! atheneum Denderleeuw","Kouterbaan 20",9470,"DENDERLEEUW","053-64.59.50","kad@kadenderleeuw.be"]
[43141,"GO! atheneum Dendermonde","Zuidlaan 3",9200,"DENDERMONDE","052-25.17.86","secretariaat.ka@kad.be"]
[43166,"GO! talent Dendermonde","Begijnhoflaan 1",9200,"DENDERMONDE","052-25.88.10","info@go-talent.be"]
[43174,"GO! Middenschool Athenea Dendermonde","Zuidlaan 3",9200,"DENDERMONDE","052-25.17.76","info@go-mad.be"]
[43182,"GO! middenschool Athenea Dendermonde","Begijnhoflaan 1",9200,"DENDERMONDE","052-25.17.76","info@go-mad.be"]
[43216,"Einstein Atheneum,ASO Talen,Wet.& Kunst","Hofbilkstraat 21",9940,"EVERGEM","09-394.30.70","info@einsteinatheneum.be"]
[43241,"GO! atheneum Geraardsbergen","Papiermolenstraat 103",9500,"GERAARDSBERGEN","054-43.34.40","info@ka-geraardsbergen.be"]
[43257,"GO! middenschool Geraardsbergen","Wegvoeringstraat 7",9500,"GERAARDSBERGEN","054-41.31.37","betty.gierts@middenschool-geraardsbergen.be"]
[43273,"GO! atheneum Voskenslaan","Voskenslaan 60",9000,"GENT","09-240.00.60","kavoskenslaan@kavoskenslaan.be"]
[43299,"GO! lyceum Gent","Kortrijksesteenweg 12",9000,"GENT","09-220.10.70","info@lyceumgent.be"]
[43307,"Tectura Gent-centrum","Coupure Rechts 312",9000,"GENT","09-225.33.04","info@gentcentrum.tectura.be"]
[43356,"GO! Middenschool Lyceum Gent","Kortrijksesteenweg 32",9000,"GENT","09-222.16.02","info@lyceumgent.be"]
[43406,"GO! middenschool MIRA","Loystraat 70",9220,"HAMME","052-49.99.70","info@gomira.be"]
[43513,"GO! technisch atheneum Lokeren","Azalealaan 21",9160,"LOKEREN","09-348.22.12","info@gotalok.be"]
[43521,"GO! middenschool Mevrouw Courtmans","Mevrouw Courtmanslaan 80",9990,"MALDEGEM","050-72.88.80","info@couma.be"]
[43539,"GO! atheneum Courtmanslaan Maldegem","Mevrouw Courtmanslaan 80",9990,"MALDEGEM","050-72.88.80","info@couma.be"]
[43554,"GO! atheneum Mariakerke","Amand Casier de ter Bekenlaan 26",9030,"MARIAKERKE","09-216.84.44","info@atheneummariakerke.be"]
[43562,"Tectura Tuinbouwschool Melle","Brusselsesteenweg 165",9090,"MELLE","09-210.45.40","info@melle.tectura.be"]
[43588,"GO! middenschool De Moerbei","Hospicestraat 16",9180,"MOERBEKE-WAAS","09-346.82.04","info@moerbei.be"]
[43596,"GO! atheneum Ninove","Dreefstraat 31",9400,"NINOVE","054-33.26.93","atheneum@kaninove.be"]
[43604,"GO! middenschool Ninove","Astridlaan 33",9400,"NINOVE","054-33.28.96","directie@middenschool-ninove.be"]
[43729,"Scholen Da Vinci","Parklaan 89",9100,"SINT-NIKLAAS","03-780.79.00","info@scholendavinci.be"]
[43786,"Terra","Theo De Deckerlaan 2",9140,"TEMSE","03-771.03.56","info@terratemse.be"]
[43802,"GO! atheneum Campus Kompas Wetteren","Noordlaan 10",9230,"WETTEREN","09-365.60.60","atheneum@campuskompas.be"]
[43836,"GO! middenschool Campus Kompas Wetteren","Noordlaan 10",9230,"WETTEREN","09-365.60.25","middenschool@campuskompas.be"]
[43869,"GO! atheneum Zelzate","Onteigeningsstraat 41_B",9060,"ZELZATE","09-345.59.10","ka@go-zelzate.be"]
[43885,"GO! middenschool Zelzate","Onteigeningsstraat 41_D",9060,"ZELZATE","09-345.70.24","ms@go-zelzate.be"]
[43927,"GO! atheneum Brakel","Kasteelstraat 32",9660,"BRAKEL","055-42.34.08","info@atheneum-brakel.be"]
[43968,"GO! Atheneum Martinus Bilzen","Sint Martinusstraat 3",3740,"BILZEN","089-41.16.18","info@atheneumbilzen.be"]
[43992,"GO! Atheneum Bree","Millenstraat 14",3960,"BREE","089-46.16.22","info@goatheneumbree.be"]
[44016,"GO! Nikola Tesla middenschool","Daalstraat 4",3630,"MAASMECHELEN","089-73.93.45","vannitsen.tilly@scholengroep14.be"]
[44041,"GO! campus Genk Middenschool","Mosselerlaan 62",3600,"GENK","089-35.16.31","info.middenschool@gocampusgenk.be"]
[44057,"GO! Campus Genk ALTEA","Sint-Lodewijkstraat 26",3600,"GENK","089-32.38.39","directie.altea@gocampusgenk.be"]
[44073,"GO! campus Genk Techn Atheneum De Wijzer","Mosselerlaan 94",3600,"GENK","089-32.38.32","directie.tadewijzer@gocampusgenk.be"]
[44081,"GO! Next het atheneum","Capucienenstraat 28",3500,"HASSELT","011-28.64.40","v.oeyen@ka1hasselt.be"]
[44107,"GO! Next sportschool 1ste graad","Elfde-Liniestraat 14",3500,"HASSELT","011-85.05.20","info@sportschoolhasselt.be"]
[44123,"GO! Next Level X","Vildersstraat 28",3500,"HASSELT","011-21.10.10","info@levelx.be"]
[44156,"GO! Next Level X","Vildersstraat 3",3500,"HASSELT","011-21.10.10","directie@levelx.be"]
[44172,"GO! Next sportschool 2de en 3de graad","Elfde-Liniestraat 14",3500,"HASSELT","011-21.03.64","info@sportschoolhasselt.be"]
[44181,"GO! Next van Veldeke - Herx","Dokter Vanweddingenlaan 10",3540,"HERK-DE-STAD","011-93.32.77","secretariaat@vvx.go-next.be"]
[44263,"GO! atheneum Alicebourg Lanaken","Koning Albertlaan 58",3620,"LANAKEN","089-71.49.49","info@alicebourg.be"]
[44289,"Campus FLX","Atheneumstraat 2",3970,"LEOPOLDSBURG","011-34.11.49","evelien.degros@campusflx.be"]
[44297,"Campus FLX middenschool","Atheneumstraat 2",3970,"LEOPOLDSBURG","011-34.11.49","johan.schepkens@campusflx.be"]
[44313,"X plus Lommel","Mudakkers 25",3920,"LOMMEL","011-54.41.94","carine.lhomme@xpluslommel.be"]
[44321,"X plus","Mudakkers 25",3920,"LOMMEL","011-54.41.94","tamara.vandeweijer@xpluslommel.be"]
[44347,"GO! Atheneum Campus Van Eyck Maaseik","Burgemeester Philipslaan 19_A",3680,"MAASEIK","089-56.04.80","directie@kamaaseik.be"]
[44362,"GO! Technisch Atheneum Campus Van Eyck","Burgemeester Philipslaan 19_B",3680,"MAASEIK","089-56.04.95","infotamaaseik@campusvaneyck.be"]
[44371,"GO! Middenschool Campus Van Eyck Maaseik","Burgemeester Philipslaan 20",3680,"MAASEIK","089-56.04.85","secrmsmsk@scholengroep14.be"]
[44388,"GO! Maxwell","Onderwijsstraat 19",3630,"MAASMECHELEN","089-76.42.21","personeel.maxwell@scholengroep14.be"]
[44412,"GO! atheneum VOX Pelt","Leopoldlaan 45",3900,"PELT","011-80.05.84","info@voxpelt.be"]
[44438,"GO! Tienerschool VOX Pelt","Leopoldlaan 45",3900,"PELT","011-80.05.84","info@voxpelt.be"]
[44446,"GO! atheneum Sint-Truiden","Tichelrijlaan 1",3800,"SINT-TRUIDEN","011-68.21.24","evelien.boonen@methodehetkompas.be"]
[44453,"GO! Middenschool Tongeren","Moerenstraat 4",3700,"TONGEREN","012-39.89.30","petra.cleeren@atheneumtungrorum.be"]
[44487,"GO! technisch atheneum Domein Speelhof","Speelhoflaan 9",3800,"SINT-TRUIDEN","011-68.43.47","ninie.coemans@atheneumsinttruiden.be"]
[44495,"GO! middenschool Borgloon","Stationsstraat 32",3840,"BORGLOON","012-67.14.35","info@atheneumborgloon.be"]
[44537,"GO! atheneum Borgloon","Stationsstraat 32",3840,"BORGLOON","012-67.14.35","info@atheneumborgloon.be"]
[44552,"GO! Atheneum Tungrorum Campus Plinius","Keversstraat 26",3700,"TONGEREN","012-23.24.26","plinius@atheneumtungrorum.be"]
[44669,"GO! middenschool Voskenslaan","Voskenslaan 60",9000,"GENT","09-240.00.57","info@msvoskenslaan.be"]
[44727,"Virgo Plus EG","Rooseveltlaan (Franklin) 98",1800,"VILVOORDE","02-254.88.20","nadine.cornette@kov.be"]
[46003,"Buso Blijdorp","Blijdorpstraat 3",9255,"BUGGENHOUT","0491 72 23 62","anke.dereuse@blijdorp.be"]
[46391,"GO! atheneum Schoten","Emiel Blangenoisstraat 2",2900,"SCHOTEN","03-658.52.31","info@atheneumschoten.be"]
[46409,"GO! De Prins Diest Weerstandsplein","Weerstandsplein 1",3290,"DIEST","013-35.05.33","onthaal@deprinsdiest.be"]
[46417,"GO! SBSO Zonnegroen","Sint-Truidensesteenweg 44",3440,"ZOUTLEEUW","011-78.92.90","info@zonnegroen.be"]
[46813,"Sint-Annacollege -Middenschool","Willem Gijsselsstraat 1",2050,"ANTWERPEN","03-219.02.60","middenschool@sint-annacollege.be"]
[46821,"Vrije Israelitische school Sec.On. Yavne","Lamorinièrestraat 150",2018,"ANTWERPEN","03-281.25.35","yavne@yavne.be"]
[46854,"Prizma - Middenschool Izegem 2","Kasteelstraat 28",8870,"IZEGEM","051-30.42.25","middenschool.izegem@prizma.be"]
[46862,"Richtpunt campus Gent Abdisstraat","Abdisstraat 56",9000,"GENT","09-267.12.40","infocampusabdis@richtpuntgent.be"]
[46871,"IVG-School","Nederkouter 112",9000,"GENT","09-265.70.60","info@ivgschool.be"]
[47209,"Instituut Sint-Lutgardis","Dreef 47",9930,"LIEVEGEM","09-372.77.18","sl@svsl.be"]
[47217,"Sint-Vincentiuscollege - Middenschool","Luitenant Dobbelaerestraat 16",9930,"LIEVEGEM","09-372.78.38","sv@svsl.be"]
[47225,"Sint-Jozefinstituut","Hasseltweg 383",3600,"GENK","011-26.40.30","mail@sint-jozefinstituut.be"]
[47258,"Scheppersinstituut 1 Deurne & Antwerpen","Van Helmontstraat 29",2060,"ANTWERPEN","03-217.42.42","sec.2@scheppersinstituut.be"]
[47282,"Sint-Annacollege","Oscar De Gruyterlaan 4",2050,"ANTWERPEN","03-219.01.13","info@sint-annacollege.be"]
[47316,"Middelbare Steinerschool Vlaanderen","Priemstraat 53",1000,"BRUSSEL","09-235.78.10","info@msv-vzw.be"]
[47589,"Sint-Jozefinstituut","Wegvoeringstraat 59_A",9230,"WETTEREN","09-369.04.09","info@sjiwetteren.be"]
[47597,"Moretus 2","Oorderseweg 8",2180,"EKEREN","03-541.01.36","info@moretus-ekeren.be"]
[47886,"Biotechnicum","Kaulillerweg 3",3950,"BOCHOLT","089-46.14.90","info@biotechnicum.be"]
[47894,"Berthoutinstituut - Klein Seminarie 2","Bleekstraat 3",2800,"MECHELEN","015-20.35.30","info@bimsem.be"]
[47944,"GO! atheneum en leefschool De Tandem","Eikelstraat 41",9900,"EEKLO","09-377.13.66","info@atheneumdetandem.be"]
[48025,"Leonardo College","Middenstraat 10",9470,"DENDERLEEUW","053-66.60.29","info@leonardocollege.be"]
[48033,"Instituut Zusters Maricolen - Middensch.","Marktstraat 15",9990,"MALDEGEM","050-72.98.86","middenschool@maricolen.be"]
[48066,"Campus MAX Middenschool","Stationsstraat 38",3980,"TESSENDERLO","013-66.22.27","middenschool@campusmax.be"]
[48074,"Campus MAX College","Stationsstraat 125",3980,"TESSENDERLO","013-67.03.90","college@campusmax.be"]
[48091,"CAMPOS","Parklaan 52",2300,"TURNHOUT","014-43.80.00","CAMPOS@turnhout.be"]
[48108,"H. Pius X-instituut - Middenschool","VIIde-Olympiadelaan 25",2020,"ANTWERPEN","03-820.66.00","info@piustien.net"]
[48397,"Sint-Lambertus 5","Denis Voetsstraat 21",2260,"WESTERLO","014-54.50.75","dirk.tormans@silawesterlo.anker.be"]
[48652,"GO! Next Hotelschool","Elfde-Liniestraat 22",3500,"HASSELT","011-30.77.30","directeur@hotelschoolhasselt.be"]
[48728,"Sint-Willebrord-H.Familie","Jan Moorkensstraat 95",2600,"BERCHEM","03-239.17.88","info@wilfam.be"]
[48769,"Ter Groene Poorte (brood- & banketbakk.)","Groene-Poortdreef 17",8200,"SINT-MICHIELS","050-40.30.20","info@tergroenepoorte.be"]
[48967,"Campus Glorieux Secundair","Stefaan Modest Glorieuxlaan 30",9600,"RONSE","055-61.25.20","directie.secundair@koronse.be"]
[48975,"Vrij Instituut voor Sec. Ond. Cor Mariae","Kasteelstraat 44",9660,"BRAKEL","055-42.23.20","info@viso-cor-mariae.be"]
[48991,"Gitok eerste graad","Kapellensteenweg 501",2920,"KALMTHOUT","03-666.48.86","info@gitokeerstegraad.be"]
[49023,"GO! kunsthumaniora Brussel-Stad","Chrysantenstraat 26",1020,"LAKEN","02-502.05.04","info@kunsthumaniorabrussel.be"]
[49189,"Sint-Lukas Kunsthumaniora","Groenstraat 156",1030,"SCHAARBEEK","02-217.77.00","info@sintlukas.brussels"]
[49445,"de! Kunsthumaniora van het GO!","Karel Oomsstraat 24",2018,"ANTWERPEN","03-216.02.36","info@kunsthumaniora.be"]
[50096,"Provinciale Secundaire School Hasselt","Gouverneur Verwilghensingel 3",3500,"HASSELT","011-26.72.72","kunsthumaniora@limburg.be"]
[50161,"Atlas College Genk 4","Collegelaan 9",3600,"GENK","089-33.35.00","kunstvormgeving@atlascollege.be"]
[50336,"Stedelijke Academie voor Schone Kunsten","Katelijnestraat 86",8000,"BRUGGE","050-44.11.60","info@kunsthumaniorabrugge.be"]
[50609,"GO! MUDA Kunstsecundair","Hofbilkstraat 21",9940,"EVERGEM","09-394.30.80","koen.bollaert@muda.be"]
[50633,"Secundair Kunstinstituut","Ottogracht 4",9000,"GENT","09-269.43.51","ski.dir@stad.gent"]
[50658,"Kunsthumaniora Sint-Lucas","Oude Houtlei 44",9000,"GENT","09-224.08.76","secretariaat@lucasgent.be"]
[51003,"Lemmensinstituut Secundair Onderwijs","Lemmensberg 3",3000,"LEUVEN","016-79.90.05","info.kso@lemmens.be"]
[51086,"Sted.Academie vr Beeldende Kunsten (KSO)","Capucienenlaan 8",9300,"AALST","053-72.39.65","els.talloen@aalst.be"]
[53124,"Koninklijk Werk IBIS","Prinses Elisabethlaan 1",8450,"BREDENE","059-32.24.84","info@ibiswerk.be"]
[53173,"OLV Pulhof","Grotesteenweg 489",2600,"BERCHEM","03-230.12.78","secretariaat@pulhof.be"]
[53331,"H. Pius X-instituut - Bovenbouw","VIIde-Olympiadelaan 25",2020,"ANTWERPEN","03-820.66.00","info@piustien.net"]
[55913,"Secundaire Handelsschool Sint-Lodewijk","Lombardenvest 52",2000,"ANTWERPEN","03-231.83.46","info@sintlodewijkantwerpen.be"]
[60831,"GO! Busleyden Atheneum-campus Stassart","Wollemarkt 36",2800,"MECHELEN","015-28.62.60","info@BAstassart.be"]
[60848,"Instituut Sancta Maria","Pensionaatstraat 10",8755,"RUISELEDE","051-68.94.43","sanctamaria@molenland.be"]
[61085,"Buso Secundaire School Spermalie","Potterierei 46",8000,"BRUGGE","050-47.19.85","buso-spermalie@de-kade.be"]
[61929,"JOMA 2","Stella Marisstraat 2",2170,"MERKSEM","03-644.29.30","joma@knmc.be"]
[61937,"Stella Matutinacollege","Bellaertstraat 11",9340,"LEDE","053-80.16.56","info@smclede.be"]
[62091,"GO! K.A. Hoboken","Distelvinklaan 22",2660,"HOBOKEN","03-827.27.99","info@atheneumhoboken.be"]
[62141,"Sint-Maarten Middenschool","Kallobaan 3_A",9120,"BEVEREN-WAAS","03-775.83.08","middenschool@sintmaartencampus.be"]
[62158,"Sint-Maarten Bovenschool","Kallobaan 1",9120,"BEVEREN-WAAS","03-750.94.94","bovenschool@sintmaartencampus.be"]
[104141,"ZOWE Verpleegkunde","Barrièrestraat 2_D",8200,"SINT-MICHIELS","050-97.75.55","info@zowe.be"]
[104166,"Sint-Jan Berchmansinstituut ASO-TSO-BSO","Begijnhofstraat 3",2870,"PUURS-SINT-AMANDS","03-890.63.30","bovenbouw@sjabi.be"]
[104174,"Sint-Jan Berchmansinstituut 1ste graad","Kerkplein 15",2870,"PUURS-SINT-AMANDS","03-890.63.20","eerste.graad@sjabi.be"]
[104182,"ZAVO","Groenstraat 13",1930,"ZAVENTEM","02-720.00.91","personeel@zavo.be"]
[104257,"GO! Maritiem Instituut Mercator Oostende","Mercatorlaan 15",8400,"OOSTENDE","059-70.40.19","mercator@maritiemonderwijs.be"]
[105395,"Onze-Lieve-Vrouwe-Instituut","Tweebruggenstraat 55",9000,"GENT","09-225.46.44","directie@olvigent.be"]
[105403,"Groenendaal 1","Gagelveldenstraat 71",2170,"MERKSEM","03-645.74.40","groenendaal@knmc.be"]
[105411,"Sint-Bernarduscollege","Marktplein 5",8620,"NIEUWPOORT","058-23.31.03","info@sintbernarduscollege.be"]
[105486,"Sint-Laurens secundair onderwijs 2","Patronagestraat 51",9060,"ZELZATE","09-345.53.19","info@sint-laurens.be"]
[105494,"Sint-Laurens secundair onderwijs 1","Patronagestraat 51",9060,"ZELZATE","09-345.53.19","info@sint-laurens.be"]
[107581,"Hartencollege Sec . Weggevoerdenstraat","Weggevoerdenstraat 55",9400,"NINOVE","054-31.74.90","benjamin.destaercke@hartencollege.be"]
[107599,"Sint-Gertrudiscollege","Wegvoeringstraat 21",9230,"WETTEREN","09-369.10.63","sophie.denil@sgw.be"]
[107607,"Leiepoort Deinze campus Sint-Vincentius","Peter Benoitlaan 40",9800,"DEINZE","09-381.63.63","sintvincentius@leiepoort.be"]
[107615,"Leiepoort Deinze Sint-Hendrik, bovenbouw","Guido Gezellelaan 105",9800,"DEINZE","09-386.13.76","sinthendrik@leiepoort.be"]
[107664,"Mosa-RT Coll.H.Kr.St-Ursula A","Weertersteenweg 135 bus A",3680,"MAASEIK","089-56.41.73","info@mosa-rt.be"]
[107672,"Mosa-RT E.G.S.1","Pelserstraat 33",3680,"MAASEIK","089-56.32.32","egs.maaseik@mosa-rt.be"]
[107706,"GO! atheneum Tervuren","Hippolyte Boulengerlaan 7",3080,"TERVUREN","02-766.11.11","info@katervuren.be"]
[109843,"Sint-Ursula-Instituut","Sint-Bavostraat 41",2610,"WILRIJK","03-828.03.86","st-ursulawilrijk@suiwil.be"]
[109892,"Technische Scholen Mechelen","Jef Denynplein 2",2800,"MECHELEN","015-64.69.00","info@tsmmechelen.be"]
[109942,"BuSO Hasp-O 7","Naamsesteenweg 167",3800,"SINT-TRUIDEN","011-68.09.47","info.zuid@hasp-o.be"]
[109959,"Sint-Lievenscollege","Kasteelpleinstraat 31",2000,"ANTWERPEN","03-201.48.80","humaniora@sintlievensantwerpen.be"]
[109975,"kOsh F","Collegestraat 46",2200,"HERENTALS","014-25.45.00","collegestraat@kosh.be"]
[109983,"JOMA 1","Maantjessteenweg 130",2170,"MERKSEM","03-645.59.60","directie@jomasecundair.be"]
[109991,"campus de helix¹","Rijksweg 357",3630,"MAASMECHELEN","089-77.99.50","jo.buekers@campusdehelix.be"]
[110007,"MIA-Brugge","Boogschutterslaan 25",8310,"SINT-KRUIS","050-35.11.69","info@miabrugge.be"]
[110015,"RHIZO 5","Sint-Niklaasstraat 22",8550,"ZWEVEGEM","056-82.82.20","college@rhizo.be"]
[110031,"Stedelijk Lyceum Meir","Eikenstraat 8",2000,"ANTWERPEN","03-212.19.40","tijl.ooms@so.antwerpen.be"]
[110247,"Atlas College Genk 7","Mosselerlaan 110",3600,"GENK","089-33.37.00","ronny.vrijsen@atlascollege.be"]
[110312,"GO! De scheepvaartschool Cenflumarin","Gloriantlaan 75",2050,"ANTWERPEN","03-570.97.30","info@descheepvaartschool.be"]
[110321,"VIA-3","Waaibergstraat 45",3300,"TIENEN","016-81.14.09","derdegraad@viatienen.be"]
[110338,"VIA-1","Waaibergstraat 43",3300,"TIENEN","016-81.28.15","tweedegraad@viatienen.be"]
[110346,"EDUGO campus Glorieux Techn.Instituut","Sint-Jozefstraat 7",9041,"OOSTAKKER","09-255.91.15","info.glorieux@edugo.be"]
[110379,"TSM Middenschool","Onder-den-Toren 13",2800,"MECHELEN","015-64.69.02","marc.steemans@tsmmechelen.be"]
[110395,"V.T.I.-2","Sinte Annalaan 99_B",9300,"AALST","053-73.92.11","info@vtiaalst.be"]
[111278,"Buso De Ark","Manchesterlaan 50",2030,"ANTWERPEN","03-542.39.98","bart.heylen@cksa.be"]
[111741,"Sint-Agnesinstituut","Kloosterstraat 72",2660,"HOBOKEN","03-830.08.81","peter.verlee@koho.be"]
[111757,"Sint-Agnesinstituut MS","Dokter Coenstraat 24",2660,"HOBOKEN","03-827.54.26","wendy.meysmans@koho.be"]
[111765,"Technicum Noord-Antwerpen Bovenbouw","August Michielsstraat 19",2000,"ANTWERPEN","03-202.45.30","sarah.vriens@so.tna.be"]
[111807,"Virga Jessecollege","Guffenslaan 27",3500,"HASSELT","011-22.79.13","guido.voets@virgajessecollege.be"]
[111823,"Mosa-RT E.G.S.3","Kloosterstraat 14",3640,"KINROOI","089-70.25.43","egs.kinrooi@mosa-rt.be"]
[111831,"Atlas College Genk 5","Collegelaan 19",3600,"GENK","089-33.32.00","junior@atlascollege.be"]
[111906,"V.T.I. 2","Leenstraat 32",8800,"ROESELARE","051-20.02.88","kurt.lecompte@sint-michiel.be"]
[111948,"Guldensporencollege 10","Beekstraat 21",8500,"KORTRIJK","056-21.23.01","engineering@guldensporencollege.be"]
[112011,"De Bron","Hulstplein 32",8700,"TIELT","051-42.49.00","debron@molenland.be"]
[112052,"MS Sint-Rembert 1","Bruggestraat 23",8820,"TORHOUT","050-23.15.13","middenschool@sint-rembert.be"]
[112061,"VTI Ieper eerste graad","Augustijnenstraat 58",8900,"IEPER","057-20.12.13","vti@smsi.be"]
[112078,"Vrij Technisch Instituut-Brugge MS","Vaartdijkstraat 3",8200,"SINT-ANDRIES","050-33.35.02","info@vtibrugge.be"]
[112086,"Sint-Paulusschool campus VTI 2","Toekomststraat 75",8790,"WAREGEM","056-60.14.62","info.campusvti@sintpaulus.eu"]
[112094,"KOBOS Secundair I","Veldstraat 11",1880,"KAPELLE-OP-DEN-BOS","015-71.93.70","info@KOBOS.be"]
[112102,"Atheneum Wispelberg","Wispelbergstraat 2",9000,"GENT","09-268.72.10","wispelberg@onderwijs.gent.be"]
[112136,"Leiepoort Deinze camp. St-Hendrik,1e gr.","Guido Gezellelaan 105",9800,"DEINZE","09-386.13.76","sinthendrik@leiepoort.be"]
[112144,"Don Boscocollege Eerste graad","Grotesteenweg-Noord 113",9052,"ZWIJNAARDE","09-221.46.48","info@dbz.be"]
[112169,"Sint-Bavohumaniora MS","Reep 4",9000,"GENT","09-267.96.11","sint.bavohumaniora@sbhg.be"]
[112292,"GO! atheneum Leuven","Redingenstraat 90",3000,"LEUVEN","016-31.97.10","info@karedingenhof.be"]
[112301,"De Nova","Rerum Novarumlaan 1",3010,"KESSEL-LO","016-25.32.12","info@denova.school"]
[112318,"Provinciaal Technisch Instituut","Graaf Karel de Goedelaan 7",8500,"KORTRIJK","056-22.13.41","info@pti.be"]
[112789,"RHIZO 7 BuSO De Lage Kouter","Beekstraat 113_B",8500,"KORTRIJK","056-23.07.80","lage@kouterkortrijk.be"]
[112797,"avAnt Provinciaal Onderwijs","Brialmontlei 45",2018,"ANTWERPEN","03-286.41.40","info.avant@provincieantwerpen.be"]
[115221,"Regina-Caelilyceum E.G.","Rozenlaan 45",1700,"DILBEEK","02-568.18.18","maria.kestens@erce.be"]
[115238,"GO! atheneum Zottegem","Meerlaan 25",9620,"ZOTTEGEM","09-326.78.40","info@kaz.be"]
[115253,"Sint-Franciscuscollege 1","Minderbroedersstraat 11",3550,"HEUSDEN-ZOLDER","011-52.07.20","info@sfc.be"]
[115261,"Sint-Franciscuscollege 2","Minderbroedersstraat 11",3550,"HEUSDEN-ZOLDER","011-52.07.20","info@sfc.be"]
[115279,"Sint-Franciscuscollege 3","Minderbroedersstraat 11",3550,"HEUSDEN-ZOLDER","011-52.07.20","info@sfc.be"]
[115287,"Sint-Franciscuscollege 4","Minderbroedersstraat 11",3550,"HEUSDEN-ZOLDER","011-52.07.20","info@sfc.be"]
[115295,"Sint-Franciscuscollege 5","Minderbroedersstraat 11",3550,"HEUSDEN-ZOLDER","011-52.07.20","info@sfc.be"]
[115303,"Scheppersinstituut 2 Deurne & Antwerpen","Van Helmontstraat 27",2060,"ANTWERPEN","03-217.42.42","sec.2@scheppersinstituut.be"]
[115311,"Scheppersinstituut 3 Deurne & Antwerpen","Van Helmontstraat 27",2060,"ANTWERPEN","03-217.42.42","sec.2@scheppersinstituut.be"]
[115329,"Don Bosco-Instituut EG","Brusselstraat 283",1702,"GROOT-BIJGAARDEN","02-466.55.79","administratie@donboscogb.be"]
[115337,"Don Bosco-Instituut ASO/TSO/BSO","Brusselstraat 283",1702,"GROOT-BIJGAARDEN","02-466.55.79","administratie@donboscogb.be"]
[115352,"Sint-Janscollege","Visitatiestraat 5",9040,"SINT-AMANDSBERG","09-228.34.62","visitatie@sjc-gent.be"]
[115361,"Sint-Janscollege eerste graad","Visitatiestraat 5",9040,"SINT-AMANDSBERG","09-228.32.40","heiveld@sjc-gent.be"]
[115378,"Sint-Andreas Middenschool","Steensedijk 151",8400,"OOSTENDE","059-50.89.70","directie@saoo.be"]
[115394,"GO! atheneum Gentbrugge","Ooievaarsnest 3",9050,"GENTBRUGGE","09-210.51.51","info@atheneumgentbrugge.be"]
[115411,"Middenschool Sint-Rembert 2","Bruggestraat 23",8820,"TORHOUT","050-23.15.10","middenschool@sint-rembert.be"]
[116749,"Het Spectrum Gent","Martelaarslaan 13",9000,"GENT","09-269.23.00","spectrum@stad.gent"]
[116756,"GO! atheneum Da Vinci Campus","Gustave Royerslaan 39",9600,"RONSE","055-23.06.60","info@davincicampus.be"]
[116764,"GO! Spectrumschool","Ruggeveldlaan 496",2100,"DEURNE","03-328.05.00","info@spectrumschool.be"]
[116781,"Sint-Vincentius","Zuidmoerstraat 125",9900,"EEKLO","09-377.13.26","info@coltd.be"]
[116806,"College Hagelstein 2","Berlaarbaan 229",2860,"SINT-KATELIJNE-WAVER","015-55.19.79","info@collegehagelstein.be"]
[116831,"GO! atheneum De Ring","Tiensevest 62",3000,"LEUVEN","016-27.03.90","info@deringleuven.be"]
[116855,"KOGEKA 2","Technische-Schoolstraat 52",2440,"GEEL","014-57.85.50","sjg@kogeka.be"]
[116871,"KOGEKA 4","Technische-Schoolstraat 52",2440,"GEEL","014-57.85.50","sjg@kogeka.be"]
[116913,"Onze-Lieve-Vrouwe-instituut","Boeschepestraat 20",8970,"POPERINGE","057-33.46.45","info@olvi.be"]
[116921,"Sint-Janscollege 1","Burgemeester Bertenplein 32",8970,"POPERINGE","057-33.31.39","sjc1@bertinuscollectief.be"]
[116947,"Óscar Romerocollege 1","Kerkstraat 60",9200,"DENDERMONDE","052-69.01.40","algemene.directie@romerocollege.be"]
[116971,"STM","Zandstraat 101",2300,"TURNHOUT","014-41.69.51","info@ht2o.be"]
[116988,"STM","Zandstraat 101",2300,"TURNHOUT","014-41.69.51","info@pt2o.be"]
[117036,"Onze-Lieve-Vrouwinstituut MS 1","Brandstraat 44",2850,"BOOM","03-880.26.70","info.eerstegraad@olviboom.be"]
[117044,"Onze-Lieve-Vrouwinstituut MS 2","Brandstraat 44",2850,"BOOM","03-880.26.70","info.eerstegraad@olviboom.be"]
[117051,"Onze-Lieve-Vrouwinstituut Bovenbouw ASO","O.L. Vrouwstraat 9",2850,"BOOM","03-880.27.30","carla.triest@olviboom.be"]
[117069,"Onze-Lieve-Vrouwinstituut Bovenb.TSO-BSO","Bassinstraat 15",2850,"BOOM","03-880.27.35","info.derdegraad@olviboom.be"]
[117093,"Sint-Willebrord-H.Familie 1e graad","Jan Moorkensstraat 95",2600,"BERCHEM","03-239.17.88","info@wilfam.be"]
[117101,"MS Sint-Rembert 3","Bruggestraat 23",8820,"TORHOUT","050-23.15.13","middenschool@sint-rembert.be"]
[117754,"GO! Atheneum Heist","Boudewijnlaan 61",2220,"HEIST-OP-DEN-BERG","015-24.18.45","info@atheneumheist.be"]
[117762,"GO! atheneum Herzele","De Tramzate 9",9550,"HERZELE","053-62.23.71","info@atheneum-herzele.be"]
[117771,"avAnt Provinciale Middenschool","Turnhoutsebaan 250",2100,"DEURNE","03-360.59.00","info.avant@provincieantwerpen.be"]
[117812,"GO! atheneum Vilvoorde","Van Helmontstraat 6",1800,"VILVOORDE","02-251.06.76","info@hetatheneum.be"]
[117821,"GO! atheneum Grimbergen","Lagesteenweg 77",1850,"GRIMBERGEN","02-269.03.61","info@campusfenix.be"]
[117838,"GO! technisch atheneum Campus De Brug","Vaartstraat 1",1800,"VILVOORDE","02-257.03.90","directeur@campusdebrug.be"]
[117846,"Heilig-Grafinstituut","Jazz Bilzenplein 5",3740,"BILZEN","089-41.32.01","hgi.directie@sgsj.be"]
[117853,"Instituut voor Katholiek Secundair Ond.","Bruiloftstraat 10",3730,"HOESELT","089-41.44.24","ikso.info@sgsj.be"]
[117861,"Sint-Lambertuscollege 1","Sint Lambertuslaan 15",3740,"BILZEN","089-41.11.05","slc.directie@sgsj.be"]
[118257,"Sint-Pauluscollege","Deken Jonckheerestraat 16 bus 1",8560,"WEVELGEM","056-41.42.76","h.millecamp@spwe.be"]
[118265,"viio 1","Grootloonstraat 1 bus A",3840,"BORGLOON","012-67.06.70","borgloon@viio.be"]
[118281,"Scheppersinstituut 1","Cooppallaan 128",9230,"WETTEREN","09-369.20.72","info@scheppers-wetteren.be"]
[118299,"Sint-Gertrudiscollege Eerste Graad","Wegvoeringstraat 21",9230,"WETTEREN","09-369.10.63","ilse.degelder@sgw.be"]
[118307,"Klein Seminarie Hoogstraten eerste graad","Vrijheid 234",2320,"HOOGSTRATEN","03-340.40.40","info@klein-seminarie.be"]
[118315,"Sint-Martinusscholen 118315","Veearts Strauvenlaan 5",3540,"HERK-DE-STAD","013-55.11.78","lpluymers@st-martinus.be"]
[118323,"Sint-Martinusscholen 118323","Sint-Truidersteenweg 18",3540,"HERK-DE-STAD","013-55.13.13","lpluymers@st-martinus.be"]
[118331,"Sint-Martinusscholen 118331","Ursulinenstraat 2",3540,"HERK-DE-STAD","013-35.54.30","ursula@st-martinus.be"]
[118349,"Sint-Martinusscholen 118349","Ursulinenstraat 2",3540,"HERK-DE-STAD","013-35.54.30","ursula@st-martinus.be"]
[118356,"Heilig Hart van Maria Berlaar","Sollevelden 3_A",2590,"BERLAAR","03-482.41.94","bovenbouw@hhvmb.be"]
[118364,"Heilig Hart van Maria Berlaar","Sollevelden 3_A",2590,"BERLAAR","03-482.15.50","middenschool@hhvmb.be"]
[118372,"KSOM 6","Jakob Smitslaan 36",2400,"MOL","014-31.18.41","info@sjbmol.be"]
[118381,"KSOM 7","Jakob Smitslaan 36",2400,"MOL","014-31.18.41","info@sjbmol.be"]
[118398,"Atlas College Genk 1","Collegelaan 1",3600,"GENK","089-33.32.00","junior@atlascollege.be"]
[118406,"Atlas College Genk 3","Collegelaan 1",3600,"GENK","089-33.34.00","myriam.yzermans@atlascollege.be"]
[122382,"Vrije Nederlandst.school Lucerna College","Industrielaan 31",1070,"ANDERLECHT","02-520.95.50","info@lucerna.be"]
[122671,"GO! atheneum Oudenaarde","Fortstraat 47",9700,"OUDENAARDE","055-31.11.34","info@go-atheneumoudenaarde.be"]
[122705,"Onze-Lieve-Vrouwcollege II","Zavel 19",9620,"ZOTTEGEM","09-360.12.29","wim.verhaeghe@olvczottegem.be"]
[122713,"Onze-Lieve-Vrouwcollege III","Parkstraat 2",9620,"ZOTTEGEM","09-361.31.32","grotenberge-info@olvczottegem.be"]
[122721,"Mariagaarde Instituut MS","Oude Molenstraat 13",2390,"WESTMALLE","03-312.02.56","secretariaat@mariagaarde.be"]
[122739,"Ursulinen Mechelen 1","Hoogstraat 35",2800,"MECHELEN","015-42.35.42","diane.dewachter@ursulinenmechelen.be"]
[122747,"Sint-Carolus Secundair Onderwijs - 1","Hospitaalstraat 2",9100,"SINT-NIKLAAS","03-780.51.23","elsje.vanlysebettens@sint-carolus.be"]
[122754,"Sint-Jozef","Collegestraat 31",9100,"SINT-NIKLAAS","03-780.71.50","info@sjks.be"]
[122762,"Kardinaal van Roey-Instituut AEG","Mgr. Donchelei 7",2290,"VORSELAAR","014-50.93.11","kvri@kvri.be"]
[122771,"RHIZO 6","Sint-Niklaasstraat 22",8550,"ZWEVEGEM","056-82.82.20","college@rhizo.be"]
[122788,"Heilig Graf 122788","Patersstraat 28",2300,"TURNHOUT","014-41.54.68","info@heilig-graf.be"]
[122796,"Berthoutinstituut - Klein Seminarie 1","Bleekstraat 3",2800,"MECHELEN","015-20.35.30","info@bimsem.be"]
[122861,"V.T.I. Spijker eerste graad","Gelmelstraat 62",2320,"HOOGSTRATEN","03-340.22.80","info@vti-spijker.be"]
[122879,"Don Bosco Instituut eerste graad","Lenniksesteenweg 2",1500,"HALLE","02-356.29.49","info@donboscohalle.be"]
[123265,"Sint-Ritacollege eerste graad","Pierstraat 1",2550,"KONTICH","03-457.12.51","info@ritacollege.be"]
[123273,"Sint-Gummaruscollege EG-1","Kanunnik Davidlaan 10",2500,"LIER","03-489.24.56","directie@sgclier.be"]
[123281,"Sint-Jozefinstituut eerste graad","Gemeenteplein 8",2550,"KONTICH","03-457.77.97","secretariaat@sji.be"]
[123554,"Sint-Jorisschool","Fabiolalaan 2",8930,"MENEN","056-51.36.82","pieterjan.veldeman@sijo.be"]
[123571,"Sint-Pietersinstituut","Jubileumlaan 1",2300,"TURNHOUT","014-63.99.11","info@sint-pietersinstituut.be"]
[123588,"Sint-Pietersinstituut H.S.O.","Jubileumlaan 1",2300,"TURNHOUT","014-63.99.11","info@sint-pietersinstituut.be"]
[123612,"Sint-Jozef-2","Collegestraat 31",9100,"SINT-NIKLAAS","03-780.71.50","info@sjks.be"]
[123621,"Damiaaninstituut A","Pastoor Dergentlaan 220",3200,"AARSCHOT","016-56.70.59","dominique.vansant@damiaaninstituut.be"]
[123638,"Sint-Jozefscollege 2","Bekaflaan 65",3200,"AARSCHOT","016-55.11.30","sintjozefscollege@sjca.be"]
[123646,"Sint-Jozefscollege 3","Bekaflaan 65",3200,"AARSCHOT","016-55.11.30","sintjozefscollege@sjca.be"]
[123653,"Sint-Gummaruscollege EG-2","Kanunnik Davidlaan 10",2500,"LIER","03-489.24.56","directie@sgclier.be"]
[123661,"KOGEKA 3","Schuttershof 2_B",2440,"GEEL","014-56.26.50","sag@kogeka.be"]
[123679,"KOGEKA 6","Gasthuisstraat 2",2440,"GEEL","014-58.02.04","sdg.college@kogeka.be"]
[123687,"KOGEKA 7","Technische-Schoolstraat 52",2440,"GEEL","014-57.85.50","sjg@kogeka.be"]
[123695,"KOGEKA 8","Pas 110",2440,"GEEL","014-58.86.72","smg@kogeka.be"]
[123703,"Guldensporencollege 4","Ballingenweg 34",8530,"HARELBEKE","056-36.12.80","harelbeke@guldensporencollege.be"]
[123711,"Guldensporencollege 3","Diksmuidekaai 6",8500,"KORTRIJK","056-36.12.11","kaai@guldensporencollege.be"]
[123761,"Sint-Gabriëlcollege","Lange Kroonstraat 72",2530,"BOECHOUT","03-460.32.00","dir.roelstraete@st-gabriel.be"]
[123778,"Sint-Gabriëlcollege-Middenschool 1","Lange Kroonstraat 72",2530,"BOECHOUT","03-460.32.00","dir.goossens@st-gabriel.be"]
[123786,"KSOM 8","Kruisven 25",2400,"MOL","014-20.20.07","info@tisp.be"]
[123794,"KSOM 9","Kruisven 25",2400,"MOL","014-20.20.07","info@tisp.be"]
[123802,"Sint-Lodewijkscollege","Magdalenastraat 30",8200,"SINT-ANDRIES","050-40.68.40","humaniora@sint-lodewijkscollege.be"]
[123811,"Sint-Lodewijkscollege Eerste Graad","Magdalenastraat 30",8200,"SINT-ANDRIES","050-40.68.40","humaniora@sint-lodewijkscollege.be"]
[123828,"Hasp-O 5","Diestersteenweg 146",3800,"SINT-TRUIDEN","011-68.23.39","info.stadsrand@hasp-o.be"]
[123836,"Hasp-O 6","Diestersteenweg 146",3800,"SINT-TRUIDEN","011-68.23.39","info.stadsrand@hasp-o.be"]
[123844,"Sint-Lambertus 3","Denis Voetsstraat 21",2260,"WESTERLO","014-54.50.75","tinne.mertens@silawesterlo.be"]
[123851,"Sint-Lambertus 1","Sint-Lambertusstraat 8",2260,"WESTERLO","014-54.50.74","niels.vermeulen@silawesterlo.anker.be"]
[123869,"Sint-Lambertus 2","Sint-Lambertusstraat 8",2260,"WESTERLO","014-54.50.74","mieke.baelus@silawesterlo.be"]
[123877,"Sint-Lambertus 4","Denis Voetsstraat 21",2260,"WESTERLO","014-54.50.75","hilde.heynickx@silawesterlo.be"]
[123935,"Klein Seminarie","Zuidstraat 27",8800,"ROESELARE","051-26.47.26","kleinseminarie@sint-michiel.be"]
[123943,"Klein Seminarie eerste graad","Zuidstraat 27",8800,"ROESELARE","051-26.47.26","kleinseminarie@sint-michiel.be"]
[123951,"BARNUM","Stokerijstraat 9",8800,"ROESELARE","051-21.05.02","barnum@sint-michiel.be"]
[123968,"Barnum eerste graad","Stokerijstraat 9",8800,"ROESELARE","051-21.05.02","koen.germonprez@sint-michiel.be"]
[123976,"VISO","Polenplein 23",8800,"ROESELARE","051-20.14.57","viso.polenplein@sint-michiel.be"]
[123984,"VISO eerste graad","Polenplein 23",8800,"ROESELARE","051-20.14.57","viso.polenplein@sint-michiel.be"]
[125187,"Mariagaard Eerste Graad","Oosterzelesteenweg 80",9230,"WETTEREN","09-365.73.00","directie@mariagaard.be"]
[125195,"Sint-Jan Berchmanscollege MS","Kasteellaan 18",2390,"WESTMALLE","03-312.98.98","college@sjbmalle.be"]
[125203,"Sint-Gabriëlcollege-Middenschool 2","Lange Kroonstraat 72",2530,"BOECHOUT","03-460.32.00","dir.gyselinckx@st-gabriel.be"]
[125211,"Sint-Godelieve-Instituut ASO","Schapenstraat 39",1750,"SINT-MARTENS-LENNIK","02-532.58.36","sint.godelieve.instituut@skynet.be"]
[125229,"Sint-Godelieve-Instituut AEG","Schapenstraat 39",1750,"SINT-MARTENS-LENNIK","02-532.58.36","sint.godelieve.instituut@skynet.be"]
[125252,"Instituut Sancta Maria - A","Kard. Mercierstraat 10",3200,"AARSCHOT","016-56.61.04","directie@sanctamaria-aarschot.be"]
[125261,"Instituut Sancta Maria - B","Kard. Mercierstraat 10",3200,"AARSCHOT","016-56.61.04","directie@sanctamaria-aarschot.be"]
[125278,"viio 4","Sint-Truidersteenweg 17",3700,"TONGEREN","012-24.20.70","tongeren@viio.be"]
[125286,"viio 3","Sint-Truidersteenweg 17",3700,"TONGEREN","012-24.20.70","tongeren@viio.be"]
[125294,"viio 5","Rode Kruislaan 27",3700,"TONGEREN","012-24.20.75","tongeren@viio.be"]
[125302,"viio 2","Rode Kruislaan 27",3700,"TONGEREN","012-24.20.75","tongeren@viio.be"]
[125328,"Stedelijk Lyceum Zuid","August Leyweg 3",2020,"ANTWERPEN","03-241.07.50","andy.dorrine@so.antwerpen.be"]
[125344,"Sint-Lambertuscollege 2","Sint Lambertuslaan 15",3740,"BILZEN","089-41.11.05","slc.directie@sgsj.be"]
[125351,"Guldensporencollege 5","Plein 14",8500,"KORTRIJK","056-36.12.50","plein@guldensporencollege.be"]
[125377,"Guldensporencollege 6","Diksmuidekaai 6",8500,"KORTRIJK","056-36.12.11","kaai@guldensporencollege.be"]
[125393,"Onze-Lieve-Vrouwlyceum - eerste graad","Collegelaan 30",3600,"GENK","089-35.22.30","olv@lyceumgenk.be"]
[125401,"Onze-Lieve-Vrouwlyceum","Collegelaan 30",3600,"GENK","089-35.22.30","olv@lyceumgenk.be"]
[125427,"VLOT!","Stommestraat 2",9160,"LOKEREN","09-348.61.39","info@vlot.be"]
[125435,"Hasp-O Centrum 1","Diesterstraat 1",3800,"SINT-TRUIDEN","011-70.50.00","christine.menten@hasp-o.be"]
[125443,"Hasp-O Centrum 2","Diesterstraat 1",3800,"SINT-TRUIDEN","011-70.50.00","johnny.jans@hasp-o.be"]
[125451,"Hasp-O Centrum 3","Diesterstraat 1",3800,"SINT-TRUIDEN","011-70.50.00","ann.ruppol@hasp-o.be"]
[125799,"KSOM 1","Rozenberg 2",2400,"MOL","014-31.33.43","info@rozenbergmol.be"]
[125807,"KSOM 2","Rozenberg 2",2400,"MOL","014-31.33.43","info@rozenbergmol.be"]
[125823,"KSOM 3","Rozenberg 2",2400,"MOL","014-31.33.43","info@rozenbergmol.be"]
[125831,"KSOM 4","Rozenberg 2",2400,"MOL","014-31.33.43","info@rozenbergmol.be"]
[125849,"Atlas College Genk 2","Collegelaan 1",3600,"GENK","089-33.32.00","junior@atlascollege.be"]
[125914,"Buso VIBO De Ring","Noord-Brabantlaan 79",2300,"TURNHOUT","014-43.83.96","directieov2-3@vibo-dering.be"]
[125922,"GO! techn. Atheneum Victor Hortaschool","Oud-Strijderslaan 200",1140,"EVERE","02-726.18.89","dany.van.bossuyt@vhorta.be"]
[125948,"GO! atheneum Lokeren","Azalealaan 2",9160,"LOKEREN","09-348.18.18","info@atheneumlokeren.be"]
[125963,"GO! K.A. Berchem","Uitbreidingstraat 246",2600,"BERCHEM","03-239.00.23","directie@kaberchem.be"]
[125971,"Talentenschool Turnhout camp BoomgaardKA","Boomgaardstraat 56",2300,"TURNHOUT","014-47.05.10","wesley.wouters@talentenschoolturnhout.be"]
[125997,"Sint-Jozefscollege 1","Pontstraat 7",9300,"AALST","053-79.04.41","humaniora@sjcaalst.be"]
[126003,"Sint-Norbertusinstituut 1","Stationsstraat 6",2570,"DUFFEL","015-30.38.58","info@snorduffel.be"]
[126011,"Sint-Norbertusinstituut 2","Stationsstraat 6",2570,"DUFFEL","015-30.38.58","info@snorduffel.be"]
[126029,"Sint-Niklaasinstituut","Bergense Steenweg 1421",1070,"ANDERLECHT","02-523.15.20","directie.sni@gmail.com"]
[126037,"Sint-Niklaasinstituut autonome 1e graad","Bergense Steenweg 1421",1070,"ANDERLECHT","02-523.15.20","directie.sni@gmail.com"]
[126045,"Guldensporencollege 2","Diksmuidekaai 6",8500,"KORTRIJK","056-36.12.11","kaai@guldensporencollege.be"]
[126052,"Guldensporencollege 1","Diksmuidekaai 6",8500,"KORTRIJK","056-36.12.11","zuid@guldensporencollege.be"]
[126061,"Broederscholen Hiëronymus 3","Nieuwstraat 91",9100,"SINT-NIKLAAS","03-780.92.20","info@handel.broeders.be"]
[126094,"H. Drievuldigheidscollege Eerstegrschool","Oude Markt 28",3000,"LEUVEN","016-22.27.92","frank.baeyens@hdc.ksleuven.be"]
[126102,"Heilig Hart van Maria Berlaar","Sollevelden 3_A",2590,"BERLAAR","03-482.15.50","middenschool@hhvmb.be"]
[126111,"Don Bosco Technisch Instituut 1","Don Boscostraat 6",3530,"HELCHTEREN","011-52.14.19","info@donboscohelchteren.be"]
[126151,"Instituut Sint-Vincentius a Paulo 1","Pachthofstraat 3",9308,"GIJZEGEM","053-72.93.40","info@svi-gijzegem.be"]
[126169,"Sint-Pieterscollege Eerste graadschool","Minderbroedersstraat 13",3000,"LEUVEN","016-22.44.64","jo.beelen@spc.ksleuven.be"]
[126177,"Don Bosco Technisch Instituut E.G.","Kortrijksesteenweg 1025",9051,"SINT-DENIJS-WESTREM","09-221.31.11","demuynckpeter@donboscosdw.be"]
[126185,"TSM-Bovenbouw","Jef Denynplein 2",2800,"MECHELEN","015-64.69.00","info@tsmmechelen.be"]
[126193,"WICO - 126193","Dorpsstraat 91",3900,"PELT","011-60.91.60","info@wico.be"]
[126201,"WICO - 126201","Dorpsstraat 91",3900,"PELT","011-60.91.60","info@wico.be"]
[126219,"WICO - 126219","Pieter Breugheldreef 4",3920,"LOMMEL","011-54.44.34","lommel@wico.be"]
[126227,"WICO - 126227","Pieter Breugheldreef 4",3920,"LOMMEL","011-54.44.34","lommel@wico.be"]
[126235,"WICO - 126235","Stationsstraat 25",3910,"PELT","011-64.07.01","junior@wico.be"]
[126243,"WICO - 126243","Stationsstraat 25",3910,"PELT","011-64.07.01","info@wico.be"]
[126251,"WICO - 126251","Stationsstraat 74",3910,"PELT","011-64.21.13","info@wico.be"]
[126268,"WICO - 126268","Stationsstraat 74",3910,"PELT","011-64.21.13","info@wico.be"]
[126276,"Eerste graad Voorzienigheid","Demerstraat 12",3290,"DIEST","013-33.45.84","sophie.tits@ksdiest.be"]
[126284,"Humaniora Voorzienigheid","Demerstraat 12",3290,"DIEST","013-33.45.84","luc.peirelinck@ksdiest.be"]
[126292,"V.T.I. Voorzienigheid","Demerstraat 12",3290,"DIEST","013-33.45.84","renilde.verboven@ksdiest.be"]
[126383,"GO! BuSO Egmont & Hoorn OV1","Broeckstraat 37",9890,"GAVERE","09-384.17.55","info@egmontenhoorn.be"]
[126409,"CLW Kortrijk","Scheutistenlaan 8",8500,"KORTRIJK","056-25.92.08","wolf.vlaeminck@cdokortrijk.be"]
[126433,"BenedictusPoort campus De Deyne","Hundelgemsesteenweg 93",9050,"LEDEBERG","09-222.37.82","dirk.flamant@benedictuspoort.be"]
[126441,"BenedictusPoort campus Ledeberg","Hundelgemsesteenweg 93",9050,"LEDEBERG","09-231.23.48","nele.demol@benedictuspoort.be"]
[126466,"Heilig Hartcollege","Albertlaan 44",1970,"WEZEMBEEK-OPPEM","02-767.35.49","directie@hhc.world"]
[126474,"Heilig Hartcollege","Albertlaan 44",1970,"WEZEMBEEK-OPPEM","02-767.35.49","directiems@hhc.world"]
[126491,"Centrum voor Leren en Werken Antwerpen","Prins Leopoldstraat 51",2140,"BORGERHOUT","03-270.01.90","marita.vanlooveren@clw-antwerpen.be"]
[126649,"Sint-Barbaracollege I","Savaanstraat 33",9000,"GENT","09-235.72.50","info@sint-barbara.be"]
[126656,"Pedagogische Human. H.Hartinstituut MS","Naamsesteenweg 355",3001,"HEVERLEE","016-39.90.51","walter.dhoore@hhscholen.be"]
[126664,"Heilig Hartinstituut TO MS","Naamsesteenweg 355",3001,"HEVERLEE","016-39.90.51","walter.dhoore@hhscholen.be"]
[126672,"H.-Hartinstituut Lyceum MS","Naamsesteenweg 355",3001,"HEVERLEE","016-39.90.51","walter.dhoore@hhscholen.be"]
[126706,"Sint-Godelievecollege MS","St-Jans-Gasthuisstraat 20",8470,"GISTEL","059-27.08.80","info@sigo.be"]
[126714,"Sint-Jozefscollege 2","Pontstraat 7",9300,"AALST","053-79.04.41","rob.dewinter@sjcaalst.be"]
[126731,"Sint-Martinuscollege","Waversesteenweg 96",3090,"OVERIJSE","02-687.82.46","directie@sintmartinusscholen.be"]
[126748,"Sint-Martinuscollege 1e graad","Waversesteenweg 96",3090,"OVERIJSE","02-687.82.46","directie@sintmartinusscholen.be"]
[126797,"Sint-Augustinusinstituut ASO","Sint-Jacobstraat 12",3960,"BREE","089-46.19.26","info@augustinus-bree.be"]
[126805,"College Middenschool","Vindictivelaan 9",8400,"OOSTENDE","059-70.10.22","college@petrusenpaulus.be"]
[126847,"Bernardusscholen 3","Hoogstraat 30",9700,"OUDENAARDE","055-33.46.70","info@bernarduscollege.be"]
[126854,"Stedelijk Lyceum Pestalozzi II","Jan De Voslei 6",2020,"ANTWERPEN","03-293.24.00","chantal.vanhove@so.antwerpen.be"]
[126871,"College Hagelstein 1","Berlaarbaan 229",2860,"SINT-KATELIJNE-WAVER","015-55.19.79","katrien.goetelen@collegehagelstein.be"]
[126888,"Paridaensinstituut SO","Janseniusstraat 2",3000,"LEUVEN","016-20.26.55","secundair@paridaens.be"]
[126896,"Paridaensinstituut Eerstegraadsschool","Janseniusstraat 2",3000,"LEUVEN","016-20.26.55","secundair@paridaens.be"]
[126904,"Don Bosco Groenveld","Groenveldstraat 44",3001,"HEVERLEE","016-23.16.35","kathleen.degoignies@dbgroenveld.be"]
[126921,"V.T.I.-3","Vakschoolstraat 41",9300,"AALST","053-73.92.11","info@vtiaalst.be"]
[126938,"V.T.I.-1","Sinte Annalaan 198",9300,"AALST","053-73.92.11","info@vtiaalst.be"]
[126946,"Sint-Ursula-Instituut 1","Bosstraat 9",2861,"ONZE-LIEVE-VROUW-WAVER","015-76.78.60","info@sui.be"]
[126953,"Sint-Ursula-Instituut 2","Bosstraat 9",2861,"ONZE-LIEVE-VROUW-WAVER","015-76.78.60","info@sui.be"]
[126961,"Sint-Ursula-Instituut 3","Bosstraat 9",2861,"ONZE-LIEVE-VROUW-WAVER","015-76.78.60","info@sui.be"]
[126987,"Sint-Maarteninstituut 1","Esplanadeplein 6",9300,"AALST","053-76.95.70","kolva.smi@smi-aalst.be"]
[126995,"Sint-Maarteninstituut 2","Esplanadeplein 6",9300,"AALST","053-76.95.70","an.decordier@smi-aalst.be"]
[127001,"Werkend Leren Antwerpen Noord","Bredastraat 35",2060,"ANTWERPEN","03-201.25.10","Tom.Verlent@So.Antwerpen.be"]
[127019,"Werkend Leren Antwerpen Zuid","Grotesteenweg 226",2600,"BERCHEM","03-334.34.00","andy.dorrine@so.antwerpen.be"]
[127159,"Margareta-Maria-Instituut-TSO-BSO 1e gr","Handzamestraat 18",8610,"KORTEMARK","051-56.77.33","administratie@mmikortemark.be"]
[127423,"COLOMAplus 3","Tervuursesteenweg 2",2800,"MECHELEN","015-42.27.03","astrid.degroeve@colomaplus.be"]
[127431,"Sint-Jorisschool eerste graad","Fabiolalaan 2",8930,"MENEN","056-51.36.82","directie@sijo.be"]
[127449,"Xaveriuscollege2","Collegelaan 36",2140,"BORGERHOUT","03-217.44.10","Secretariaat@xaco.be"]
[127456,"Onze-Lieve-Vrouwecollege Plus","Frankrijklei 91",2000,"ANTWERPEN","03-232.88.28","info@olvcplus.be"]
[127464,"Jan-van-Ruusbroeckollege Eerste Graad","Forumlaan 4",1020,"LAKEN","02-268.10.36","philip.cobbaert@ruusbroec.be"]
[127472,"Sint-Ludgardis Belpaire","Maarschalk Gérardstraat 18",2000,"ANTWERPEN","03-233.93.20","elien.depaep@stludgardis.be"]
[127481,"Sint-Ludgardisschool","Maarschalk Gérardstraat 18",2000,"ANTWERPEN","03-233.93.20","katelijne.pickery@stludgardis.be"]
[127514,"Sint-Jozefcollege Turnhout","Koningin Astridlaan 33",2300,"TURNHOUT","014-41.30.21","info@sjt.be"]
[127522,"Sint-Jozefcollege Turnhout 1","Koningin Astridlaan 33",2300,"TURNHOUT","014-41.30.21","info@sjt.be"]
[127531,"Sint-Paulusinstituut 1","Patijntjestraat 45",9000,"GENT","09-222.38.22","info@sintpaulusgent.be"]
[127548,"Sint-Paulusinstituut 2","Patijntjestraat 45",9000,"GENT","09-222.38.22","info@sintpaulusgent.be"]
[127563,"Inspirocollege","Herebaan-West 41",3530,"HOUTHALEN-HELCHTEREN","011-52.22.10","info@inspirocollege.be"]
[127571,"Inspirocollege","Herebaan-West 41",3530,"HOUTHALEN-HELCHTEREN","011-52.22.10","info@inspirocollege.be"]
[127597,"Maris Stella Instituut 1","Antwerpsesteenweg 67",2390,"MALLE","03-312.02.33","directie1gr@marisstella.be"]
[127605,"Sint-Paulusschool campus College 2","Stationsstraat 85",8790,"WAREGEM","056-60.17.07","info.campuscollege@sintpaulus.eu"]
[127613,"Virga-Jessecollege - eerste graad 1","Guffenslaan 27",3500,"HASSELT","011-22.79.13","ulrike.geusens@virgajessecollege.be"]
[127621,"Virga-Jessecollege - eerste graad 2","Guffenslaan 27",3500,"HASSELT","011-22.79.13","stijn.vandevelde@virgajessecollege.be"]
[127639,"Middenschool Kindsheid Jesu","Kempische steenweg 400",3500,"HASSELT","011-27.84.60","tom.cox@kjhasselt.be"]
[127647,"Mosa-RT E.G.S.2","Pelserstraat 33",3680,"MAASEIK","089-56.32.32","egs.maaseik@mosa-rt.be"]
[127654,"Mosa-RT Coll.H.Kr.St-Ursula B","Weertersteenweg 135 bus A",3680,"MAASEIK","089-56.30.59","info@mosa-rt.be"]
[127662,"Mosa-RT T.I. St-Jansberg B","Sint-Jansberg 39",3680,"MAASEIK","089-56.30.59","info@mosa-rt.be"]
[127671,"Mosa-RT E.G.S.4","Kloosterstraat 14",3640,"KINROOI","089-70.25.43","egs.kinrooi@mosa-rt.be"]
[127688,"Sint-Lievenscollege 1","Zilverenberg 1",9000,"GENT","09-225.11.47","directie@sintlievenscollege.be"]
[127696,"Sint-Lievenscollege","Zilverenberg 1",9000,"GENT","09-225.11.47","koen.vandamme@sintlievenscollege.be"]
[127704,"EDUGO campus De Toren","Sint-Jozefstraat 10",9041,"OOSTAKKER","09-255.91.14","info.toren@edugo.be"]
[127712,"EDUGO campus De Brug 1","Eksaardserijweg 24",9041,"OOSTAKKER","09-255.91.13","info.brug@edugo.be"]
[127721,"EDUGO campus De Brug 2","Eksaardserijweg 24",9041,"OOSTAKKER","09-255.91.13","info.brug@edugo.be"]
[127738,"O.L.V. van Vreugde","Mandellaan 170",8800,"ROESELARE","051-20.03.03","lisa.deruyck@sint-michiel.be"]
[127746,"O.L.V. van Vreugde eerste graad","Mandellaan 170",8800,"ROESELARE","051-20.03.03","vincent.claerhoudt@sint-michiel.be"]
[127753,"VMS","Arme-Klarenstraat 40",8800,"ROESELARE","051-20.42.48","nele.goethals@sint-michiel.be"]
[127761,"VMS eerste graad","Arme-Klarenstraat 40",8800,"ROESELARE","051-20.42.48","dries.vandergunst@sint-michiel.be"]
[127779,"V.T.I. 1","Leenstraat 32",8800,"ROESELARE","051-20.02.88","paul.debrabander@sint-michiel.be"]
[127787,"V.T.I. eerste graad","Leenstraat 32",8800,"ROESELARE","051-20.02.88","annick.vackier@sint-michiel.be"]
[127795,"H. Kindsheid","Wezestraat 2",8850,"ARDOOIE","051-74.46.84","jo.willemyns@sint-michiel.be"]
[127803,"H. Kindsheid eerste graad","Wezestraat 2",8850,"ARDOOIE","051-74.46.84","dirk.declercq@sint-michiel.be"]
[127811,"Sancta Maria Leuven","Charles Deberiotstraat 14",3000,"LEUVEN","016-23.56.77","adm@sml.be"]
[127829,"Sancta Maria Instituut","Charles Deberiotstraat 14",3000,"LEUVEN","016-23.56.77","adm@sml.be"]
[127837,"WICO - 127837","Ursulinenstraat 17",3900,"PELT","011-64.26.42","info@wico.be"]
[127845,"WICO - 127845","Ursulinenstraat 13",3900,"PELT","011-64.26.42","info@wico.be"]
[127852,"Sint-Michielscollege Brasschaat 1","Kapelsesteenweg 72",2930,"BRASSCHAAT","03-640.30.30","algdir@smcb.be"]
[127861,"Sint-Norbertusinstituut 3","Stationsstraat 6",2570,"DUFFEL","015-30.38.58","info@snorduffel.be"]
[127878,"Maria Assumptalyceum","Stalkruidlaan 9",1020,"LAKEN","02-268.29.77","info@mariaassumptalyceum.be"]
[127886,"VIA-2","Waaibergstraat 45",3300,"TIENEN","016-81.14.09","derdegraad@viatienen.be"]
[127894,"Tectura Groenkouter","Sint-Baafskouterstraat 129",9040,"SINT-AMANDSBERG","09-228.42.22","inlichtingen@groenkouter.tectura.be"]
[127902,"DuO²-Gent","Wittemolenstraat 9",9040,"SINT-AMANDSBERG","09-224.48.93","clw.directeur@onderwijs.gent.be"]
[127911,"Berkenboom Humaniora eerste graad","Kleine Peperstraat 16",9100,"SINT-NIKLAAS","03-760.41.20","elke.deridder@berkenboomhum.be"]
[127928,"Sint-Michielscollege 1","Papenaardekenstraat 53",2900,"SCHOTEN","03-658.54.68","persadmin@sintmichiel-schoten.be"]
[127936,"Sint-Pieterscollege","Léon Theodorstraat 167",1090,"JETTE","02-426.85.15","ASO@sint-pieterscollege.be"]
[127944,"Onze-Lieve-Vrouw van Lourdescollege","Rombaut Keldermansstraat 33",2650,"EDEGEM","03-449.56.25","veerle.borremans@olve.be"]
[127951,"Onze-Lieve-Vrouw van Lourdescollege MS","Rombaut Keldermansstraat 33",2650,"EDEGEM","03-449.56.25","marc.vaneester@olve.be"]
[127969,"Emmaüsinstituut@1","Sint-Gerolflaan 20",9880,"AALTER","09-398.78.00","emmaussecundair@op-weg.be"]
[127977,"Emmaüsinstituut@2","Sint-Gerolflaan 20",9880,"AALTER","09-398.78.00","emmaussecundair@op-weg.be"]
[127985,"GO! Erasmusatheneum Deinze","Volhardingslaan 11",9800,"DEINZE","09-381.56.00","directie@erasmusatheneum.be"]
[127993,"GO! atheneum Erasmus De Pinte","Polderdreef 42",9840,"DE PINTE","09-321.21.70","directie@erasmusdepinte.be"]
[128017,"Lyceum Ieper eerste graad","Maloulaan 2",8900,"IEPER","057-20.00.62","lyceum@smsi.be"]
[128025,"Sint-Pietersinstituut eerstegraadsschool","Koning Albertlaan 70",9000,"GENT","09-222.14.52","renata.janssens@sintpietersgent.be"]
[128108,"GO! Kompaz","Parklaan 39",1930,"ZAVENTEM","02-720.00.58","directeur@kompaz-zaventem.be"]
[128447,"Guldensporencollege 7","Diksmuidekaai 6",8500,"KORTRIJK","056-36.12.11","kaai@guldensporencollege.be"]
[128538,"PTS,Prov.Scholen vr Tuinbouw en Techniek","Antwerpsesteenweg 145",2800,"MECHELEN","015-28.53.20","info.ptsmechelen@provincieantwerpen.be"]
[128546,"Provinciale Middenschool","Antwerpsesteenweg 145",2800,"MECHELEN","015-28.53.20","info.ptsboom@provincieantwerpen.be"]
[128553,"TISM","Baron de Taxislaan 4",3960,"BREE","089-46.11.63","lucevens@tismbree.eu"]
[128561,"TISM 1e gr","Baron de Taxislaan 4",3960,"BREE","089-46.11.63","info@tismbree.eu"]
[128967,"GO! SBSO Nautica","Kleiryt 5",2330,"MERKSPLAS","014-63.10.65","info@go-nautica.be"]
[128975,"Buso VIBO Het Kasteelpark","Steenweg op Mol 154",2360,"OUD-TURNHOUT","014-63.85.27","directie@hetkasteelpark.be"]
[128983,"GO! atheneum Tienen","Gilainstraat 70",3300,"TIENEN","016-78.18.30","info@atheneumtienen.be"]
[129411,"Onze-Lieve-Vrouw-van-Lourdescollege 2","Eduard Arsenstraat 40",2640,"MORTSEL","03-449.95.53","directie@kaso-mortsel.be"]
[129429,"BuSO De Tjalk","Tjalkstraat 11",2030,"ANTWERPEN","03-541.32.80","secretariaat@busodetjalk.be"]
[129916,"Sint-Jozefscollege","Koestraat 26",8940,"WERVIK","056-31.16.38","info@sint-jozefscollege.be"]
[129957,"Buso Spermalie Secundaire School","Potterierei 45",8000,"BRUGGE","050-47.19.60","buso-spermalie@de-kade.be"]
[129965,"BuSO Bernardusscholen 8","Vlaanderenstraat 6",9700,"OUDENAARDE","055-30.19.99","frank.pieters@bernardusscholen.be"]
[130773,"De Leerexpert Ziekenhuisschool","Lindendreef 1",2020,"ANTWERPEN","03-280.49.07","ziekenhuisschool.secundair@leerexpert.be"]
[130781,"Ziekenhuisschool UZ Leuven SO","Herestraat 49",3000,"LEUVEN","016-34.39.62","ziekenhuisschool@uzleuven.be"]
[130799,"Gemeentelijke Ziekenhuisschool","Corneel Heymanslaan 10",9000,"GENT","09-332.24.05","ziekenhuisschool@onderwijs.gent.be"]
[130807,"GO! Atheneum Oostende","Leon Spilliaertstraat 31",8400,"OOSTENDE","059-70.16.92","berlinda.willaert@athenaoostende.be"]
[131268,"GO! SBSO De Passer","Vijverhoflaan 13",8200,"SINT-MICHIELS","050-80.00.79","onthaal@de-passer.be"]
[131276,"BuSO Don Bosco Groenveld plus","Groenveldstraat 44",3001,"HEVERLEE","016-23.16.35","helene.melle@dbgroenveld.be"]
[131326,"GO! atheneum KAMSA Aarschot","Pastoor Dergentlaan 47",3200,"AARSCHOT","016-55.34.00","onthaal@kamsa.be"]
[131334,"GO! Ath. Russelberg Tessenderlo","Gerhagenstraat 58",3980,"TESSENDERLO","013-66.14.41","onthaal@russelberg.be"]
[131342,"VTI Zeebrugge","Ploegstraat 38",8380,"ZEEBRUGGE","050-55.96.10","joke.knockaert@vtizeebrugge.be"]
[131391,"SLHD - Bovenbouw","Potterierei 11",8000,"BRUGGE","050-44.59.33","bruno.overbergh@slhd.be"]
[131409,"SLHD - Eerste graad","Potterierei 11",8000,"BRUGGE","050-44.59.33","pascal.craeye@slhd.be"]
[131805,"CDO Newton","Slachthuisstraat 64",9100,"SINT-NIKLAAS","03-500.20.01","directeur@cdo-newton.be"]
[131813,"BuSO Sint-Elisabeth (OV1 & OV3)","Steenovenstraat 20",3990,"WIJCHMAAL","011-52.03.60","info@elisa.be"]
[131821,"BuSO KOCA Secundair Onderwijs(t9OV1&OV4)","Van Schoonbekestraat 131",2018,"ANTWERPEN","03-240.01.33","secundaironderwijs@koca.be"]
[131839,"Secundaire scholen St-Ferdinand OV4","St.-Ferdinandstraat 1",3560,"LUMMEN","013-53.06.30","mark.crombeen@ferdinand.broedersvanliefde.be"]
[131847,"VLOT!","Prosper Thuysbaertlaan 1",9160,"LOKEREN","09-348.61.39","info@vlot.be"]
[131854,"Guldensporencollege 11","Beekstraat 21",8500,"KORTRIJK","056-21.23.01","engineering@guldensporencollege.be"]
[131862,"Guldensporencollege 9","Beekstraat 21",8500,"KORTRIJK","056-21.23.01","engineering@guldensporencollege.be"]
[132175,"Spermalie Secundair Onderwijs","Potterierei 46",8000,"BRUGGE","050-47.19.60","buso-spermalie@de-kade.be"]
[132183,"BuSO Cardijnschool - Anderlecht","Verheydenstraat 39",1070,"ANDERLECHT","02-520.05.72","administratie@cardijnschool.be"]
[132191,"RHIZO 4","Beheerstraat 10",8500,"KORTRIJK","056-82.82.30","zorgkrachtschool@rhizo.be"]
[132209,"RHIZO 2","Senator Coolestraat 1",8500,"KORTRIJK","056-82.82.60","hotelschool@rhizo.be"]
[132225,"LAB","Hekkestraat 26",2890,"PUURS-SINT-AMANDS","03-369.59.57","info@labonderwijs.be"]
[133331,"Stroom Leuven","Jan-Pieter Minckelersstraat 192",3000,"LEUVEN","016-79.79.35","willem.schoors@stroom.ksleuven.be"]
[133348,"GO! middenschool Sint-Truiden","Tichelrijlaan 1",3800,"SINT-TRUIDEN","011-68.21.24","info.tichelrij@atheneumsinttruiden.be"]
[137349,"GO! SBSO De Branding","Maurits Sabbestraat 8",8400,"OOSTENDE","059-29.54.45","bram.de.wasch@busoaanzee.be"]
[137364,"De Met","Tiensesteenweg 2",3390,"SINT-JORIS-WINGE","0456-30.30.53","info@demet.eu"]
[137381,"Freinetschool Keerpunt","de Haveskerckelaan 25",1190,"VORST","0485-58.85.05","administratie@keerpuntscholen.be"]
[137398,"VLOT!","H.-Hartlaan 1_A",9160,"LOKEREN","09-348.61.39","creo@vlot.be"]
[137422,"ziekenhuisschool De Radar","Liefdestraat 10",3300,"TIENEN","016-80.79.50","info@deradar.be"]
[137431,"BuSO Ganspoel","Georges Henrilaan 278",1200,"SINT-LAMBRECHTS-WOLUWE","02-735 40 85","buso.ganspoel@kiwoluwe.be"]
[137448,"BuSO VTS 3 OV4A","Breedstraat 104",9100,"SINT-NIKLAAS","03-780.53.61","ov4@vts3.be"]
[137455,"GO! SBSO Element","Oorlogsvrijwilligerslaan 2",8200,"SINT-ANDRIES","050-711887","directeur@element.be"]
[137778,"BuSO VTS 3 OV4B","Breedstraat 104",9100,"SINT-NIKLAAS","03-780.53.61","ov4@vts3.be"]
[138248,"Provinciaal Instituut voor Techn. Onderw","Laageind 19",2940,"STABROEK","03-561.05.00","info.pito@provincieantwerpen.be"]
[138255,"Broederscholen Hiëronymus 4","Kroonmolenstraat 8",9100,"SINT-NIKLAAS","03-361.16.61","info@eerstegraad.broeders.be"]
[138263,"Middenschool Lucerna","Industrielaan 31",1070,"ANDERLECHT","0484-14.80.65","ozkan.cetin@lucerna.be"]
[138271,"Buso Het Kompas","Bethaniënlei 5",2960,"SINT-JOB-IN-'T-GOOR","03-217.03.50","bart.janssens@busokristuskoning.be"]
[138289,"GO! BuSO Egmont & Hoorn OV4","Broeckstraat 37",9890,"GAVERE","09-3841755","info@egmontenhoorn.be"]
[138321,"VLOT!","H.-Hartlaan 1_A",9160,"LOKEREN","09-348.61.39","creo@vlot.be"]
[138354,"Prov. Buso Richtpunt campus Buggenhout","Platteput 4",9255,"BUGGENHOUT","052-40.94.40","info@richtpuntbuggenhout.net"]
[138362,"CDO Noorderkempen","Prins Boudewijnlaan 9 bus 3",2300,"TURNHOUT","014-61.15.73",""]
[138669,"IVIO Binnenhof 2","Koningstraat 12",9000,"GENT","09-228.45.90","sarah.verslijcke@ivio-binnenhof.be"]
[138677,"Sec. Ond. Dominiek Savio (OV1 & OV2)","Koolskampstraat 24",8830,"GITS","051-23.07.15","pieter.stock@dominiek-savio.be"]
[138743,"RHIZO 8 BuSO De Hoge Kouter","Bad Godesberglaan 21",8500,"KORTRIJK","056-24.38.60","hoge@kouterkortrijk.be"]
[143628,"Eerstegraadsschool Heilige Familie","Hofstraat 15",9100,"SINT-NIKLAAS","03-776.68.38","directie@hfamilie.com"]
[143644,"Broederscholen Hiëronymus 5","Nieuwstraat 17",9190,"STEKENE","03-779.67.94","directeur@stekene.broeders.be"]
[143651,"Onze-Lieve-Vrouw-Presentatie SecundOnd 2","Plezantstraat 135",9100,"SINT-NIKLAAS","03-760.08.60","info@olvp.be"]
[143669,"Sint-Carolus Secundair Onderwijs - 2","Hospitaalstraat 2",9100,"SINT-NIKLAAS","03-780.51.23","info@sint-carolus.be"]
[143677,"Stella Matutinacollege","Bellaertstraat 11",9340,"LEDE","053-80.16.56","info@smclede.be"]
[143685,"ZAVO brede eerste graad","Groenstraat 13",1930,"ZAVENTEM","02-720.00.91","info@zavo.be"]
[143693,"Campus Kompas","Gallaitstraat 58_60",1030,"SCHAARBEEK","02-521.60.10","directie@campuskompas.brussels"]
[143701,"Óscar Romerocollege 6","Kerkstraat 60",9200,"DENDERMONDE","052-25.88.79","algemene.directie@romerocollege.be"]
[143719,"ZALMscholen","Douaneplein",2800,"MECHELEN","0494-25.17.04","info@zalmscholen.eu"]
[143801,"Twoape","Boterstraat 6",8740,"PITTEM","051 46 70 41",""]
[143818,"GO! athena OV4","Bruyningstraat 20",8510,"MARKE","056 22 59 20","info@athena-OV4.be"]
[143826,"Berkenbeek SO 2 (buso)","Nieuwmoerse Steenweg 113 bus c",2990,"WUUSTWEZEL","03-669.67.73","secundaireschool@berkenbeek.be"]
[143909,"LAB Sint-Niklaas","Kleibeekstraat 138",9100,"SINT-NIKLAAS","0498-46.37.78","info@labsintniklaas.be"]
[144584,"Stella Matutinacollege","Bellaertstraat 11",9340,"LEDE","053-80.16.56",""]
[144592,"Heilig Hartinstituut eerste graad","Pastoor De Clerckstraat 1",3020,"HERENT","016-39.90.51",""]
[144601,"Hast Katholiek Onderwijs Hasselt","Kleine Breemstraat 7",3500,"HASSELT","011-25.33.58",""]
[144618,"Don Bosco TI Hoboken Middenschool","Salesianenlaan 1",2660,"HOBOKEN","03-828.00.95",""]
[144626,"Don Bosco","Don Boscostraat 72",3940,"HECHTEL","011-73.40.27",""]
[144642,"GO! SBSO Atelier B","Jeruzalemstraat 34",8000,"BRUGGE","050-17.01.70",""]
[144659,"IVIO Binnenhof 3 (BuSO)","Peperstraat 27",9000,"GENT","09 223 98 71","sarah.verslijcke@ivio-binnenhof.be"]
[145151,"GO! atheneum Comenius","Félix Vande Sandestraat 11   ",1081,"Koekelberg","02-361.65.43","ruud.stroobants@comeniusbrussel.be"]
[145193,"Virgo Sapiens Secundair","Heldenplein 6    ",1840,"Londerzeel","052-30.14.19","info@virgosapiens.be"]
[145235,"Sint-Jan Berchmansc. eerstegraadsschool","Ursulinenstraat 4    ",1000,"Brussel","02-512.03.70",""]
[145681,"Campus Glorieux Secundair 2","Stefaan Modest Glorieuxlaan 30   ",9600,"Ronse","055-61.25.29","info.secundair@koronse.be"]
[145698,"Safe College","Frederik de Merodestraat 18   ",2800,"Mechelen","015-29.84.38",""]
[145722,"Richtpunt campus Ninove-Zottegem","Sabina van Beierenlaan 35   ",9620,"Zottegem","09-360.19.93",""]
[145731,"Berkenboom eerste graad","Kalkstraat 28   ",9100,"Sint-Niklaas","03-760.41.00",""]
[145748,"Broederscholen Hiëronymus 6","Weverstraat 23   ",9100,"Sint-Niklaas","03-779.67.94",""]
[145755,"Sint-Claracollege","Kloosterbaan 5    ",2370,"Arendonk","014-67.85.72",""]
[145763,"OLVI-PIUS X Collegestraat","Collegestraat 1    ",9240,"Zele","052-44.41.99",""]
[145771,"ASO Spijker1","Lindendreef 37   ",2320,"Hoogstraten","03-314.55.36",""]
[145789,"Sint-Jozef 3","Collegestraat 31   ",9100,"Sint-Niklaas","03-780.71.50",""]
[145797,"VLOT!","Eksaarde-dorp 1_A  ",9160,"Lokeren","09-346.81.50",""]
[145805,"VITO eerstegraad","Gravin Elisabethlaan 30   ",2320,"Hoogstraten","03-340.40.30",""]
[145813,"Campus De Opstroom Vilvoorde","Mechelsesteenweg 255  ",1800,"Vilvoorde","0486-47.57.81",""]
[145821,"Hartencollege Sec . Eerste graad 1","Weggevoerdenstraat 55   ",9400,"Ninove","054-31.74.90","liesbet.wauters@hartencollege.be"]
[145839,"Hartencollege Sec . Eerste Graad 2","Onderwijslaan 4    ",9400,"Ninove","054-31.06.60","sarah.desaeger@hartencollege.be"]
[145847,"Leonardo College 1","Nieuwstraat 1    ",9470,"Denderleeuw","053-66.60.29",""]
[145854,"DVM Humaniora - Eerste Graad","Onderwijsstraat 2    ",9300,"Aalst","053-60.58.50",""]
[145862,"Sint-Maarten Middenschool","Kallobaan 3_A  ",9120,"Beveren","03-775.83.08",""]
[145871,"Sint-Maarten Middenschool","Kallobaan 3_A  ",9120,"Beveren","03-775.83.08",""]
[145888,"Maria-Boodschaplyceum","Moutstraat 22   ",1000,"Brussel","02-506.89.20",""]
[145896,"Óscar Romerocollege 7","Kerkstraat 60   ",9200,"Dendermonde","052-25.88.79",""]
[145904,"Sint-Gabriëlcollege-Middenschool 3","Lange Kroonstraat 72   ",2530,"Boechout","03-460.32.00",""]
[145912,"Sint-Jan Berchmansinstituut 1ste Graad 2","Kerkplein 15   ",2870,"Puurs-Sint-Amands","03-890.63.20",""]
[145921,"Middenschool Heilig Hart CSF","Sint-Jacobstraat 10   ",3960,"Bree","089-46.91.70",""]
[145938,"Middenschool Kindsheid Jesu","Kempische steenweg 400  ",3500,"Hasselt","011-27.84.60",""]
[145946,"Hast Katholiek Onderwijs Hasselt","Kleine Breemstraat 7    ",3500,"Hasselt","011-25.33.58",""]
[145979,"Leerexpert Capitan","Columbiastraat 8    ",2030,"Antwerpen","03 334 44 70","leerexpert.columbiastraat@stedelijkonderwijs.be"]
[145987,"Ponton43","Klein Park 4    ",3360,"Bierbeek","0492 09 63 79","david.bruyninckx@ponton43.be"]

{"sheet":"km-vergoeding","index":27,"n_rows":28,"n_cols":5,"rows_kept":28,"hidden":true}
["tarieven km-vergoeding"]
[]
["2023-01-01","tot en met","2023-12-31",0.21,"fiets"]
["2022-07-01","tot en met","2023-06-30",{"v":0.417,"d":"0.4170"},"auto"]
["2023-07-01","tot en met","2024-06-30",{"v":0.428,"d":"0.4280"},"auto"]
[]
[]
[]
[1]
[2]
[3]
[4]
[5]
[6]
[7]
[8]
[9]
[10]
[11]
[12]
[13]
[14]
[15]
[16]
[17]
[18]
[19]
[20]